{"text_format":"1","workbook":"xlsx","n_sheets":9,"sheets":["INSTRUCTIVO","CARATULA","PRESUPUESTO","DATOS SGO","CRONOGRAMA","VERIFICACION INICIAL","COMPARACIÓN INE","PRECIOS UNITARIOS (PRESTAMO)","Hoja1"],"not_rendered":{"charts":0,"images":18,"macros":1,"external_links":0,"defined_names":9,"comments":4,"pivot_tables":0},"unopened":[],"bounds":{"document_bytes":16777216,"sheet_cells":100000,"rows_first":2000,"rows_last":500,"rows_between":2000,"halvings":0,"cell_chars":16384,"cell_head_chars":4096},"cells_cut":0,"cells_raw":0,"read":"whole","date_system":"1900"}

{"sheet":"INSTRUCTIVO","index":0,"n_rows":86,"n_cols":4,"rows_kept":86,"cut":false,"hidden":false,"merged":[[85,3,85,10]]}
[]
[]
[]
[]
[]
[]
[]
[]
[]
[]
[null,"PRESUPUESTO Y CRONOGRAMAS DE COOPERATIVAS"]
[]
[]
[]
[]
[]
[]
[]
[]
[]
[]
[]
[]
[]
[]
[]
[]
[]
[]
[]
[]
[]
[]
[]
[]
[null,"INSTRUCTIVO"]
[]
[]
[]
[]
[]
[]
[]
[]
[]
[]
[]
[]
[]
[]
[]
[]
[]
[]
[]
[]
[]
[]
[]
[]
[]
[]
[]
[]
[]
[]
[]
[]
[]
[]
[]
[]
[]
[]
[]
[]
[]
[null,"Control de versiones"]
[null,"V.02","2016-08-15","Corrige error en subtotal de aporte del rubro ascensor. Corrige y mejora funcionalidades de Cronograma"]
[null,"V.03","2016-08-18","Correcciones de formato"]
[null,"V.04","2016-09-05","Agrega filas, corrige formulas de verificación y formato condicional en Cronograma. "]
[null,"V.05","2017-05-03","Actualiza sistemas constructivos en la carátula"]
[null,"V.06","2017-08-28","Corrige error en la función Limpiar Cronograma"]
[null,"V.07","2019-03-22","Se modifican valores de tasación y se actualizan SCNT"]
[null,"V.08","2021-07-27","Se modifican valores de tasación y se actualizan SCNT. Actualiza logo MVOT."]
[null,"V.09","2022-07-06","Se modifican valores de tasación y se actualizan SCNT"]

{"sheet":"CARATULA","index":1,"n_rows":54,"n_cols":16,"rows_kept":54,"cut":false,"hidden":false,"merged":[[22,15,22,16],[23,15,23,16],[24,15,24,16],[25,15,25,16],[16,15,16,16],[17,15,17,16],[18,15,18,16],[20,15,20,16],[21,15,21,16],[11,15,11,16],[12,15,12,16],[13,15,13,16],[14,15,14,16],[15,15,15,16],[6,1,6,2],[7,1,7,2],[6,3,6,6],[7,3,7,6],[34,2,34,5],[13,1,13,2],[14,1,14,2],[15,1,15,2],[24,1,24,5],[25,1,25,5],[26,1,26,5],[27,1,27,5],[28,1,28,5],[8,1,8,2],[8,3,8,6],[17,3,17,5],[18,3,18,5],[19,3,19,5],[15,4,15,6],[13,4,13,6],[14,4,14,6],[43,6,51,6],[53,1,60,6],[20,3,20,5],[21,1,21,5],[35,2,35,5],[36,2,36,5],[37,2,37,5],[38,2,38,5],[39,2,39,5],[32,2,32,5],[33,2,33,5],[22,1,22,5]]}
[]
[]
[]
[]
[null,null,null,null,null,null,null,null,null,null,null,null,null,"--"]
[null,null,null,null,null,null,null,null,null,null,null,null,null,"ANTEPROYECTO"]
[null,"FECHA:",null,null,null,null,null,null,null,null,null,null,null,"ANTEPROYECTO POR DECLARATORIA"]
[null,"ETAPA:",null,null,null,null,null,null,null,null,null,null,null,"PROYECTO  DEFINITIVO"]
[null,"SISTEMA CONSTRUCTIVO:",null,null,null,null,null,null,null,null,null,null,null,"PROYECTO AJUSTADO PARA ESCRITURACIÓN"]
[]
[null,null,null,null,null,null,null,null,null,null,null,null,null,"--"]
[null,"DATOS GENERALES",null,null,null,null,null,null,null,null,null,null,null,"TRADICIONAL",null,"TRADICIONAL"]
[null,null,null,null,null,null,null,null,null,null,null,null,null,"MONTFRIO",null,"MONTFRIO"]
[null,"PROPUESTA",null,"REGISTRO",null,null,null,null,null,null,null,null,null,"GREEN INTELLIGENT WALL",null,"GREEN INTELLIGENT WALL"]
[null,"NOMBRE",null,null,null,null,null,null,null,null,null,null,null,"DE FLORENCIA",null,"DE FLORENCIA"]
[null,"IAT",null,null,null,null,null,null,null,null,null,null,null,"SISTEMA INTELITEC VUDATER",null,"SISTEMA INTELITEC VUDATER"]
[null,null,null,null,null,null,null,null,null,null,null,null,null,"CASA FACIL",null,"CASA FACIL"]
[null,"CANTIDAD DE VIVIENDAS",null,"2 DORM.",null,null,null,null,null,null,null,null,null,"EXACTA",null,"EXACTA DAT"]
[null,null,null,"3 DORM.",null,null,null,null,null,null,null,null,null,"ÑANDE",null,"ÑANDE"]
[null,null,null,"4 DORM.",null,null,null,null,null,null,null,null,null,"ROYAL BUILDING SYSTEM",null,"ROYAL BUILDING SYSTEM"]
[null,null,null,"TOTAL",null,null,{"$f":"SUM(G18:G20)","v":0},null,null,null,null,null,null,"CONCRESPUMA",null,"ETERNOPANEL - CONILAR SA"]
[null,"CANTIDAD DE GARAGES CON PRESTAMO",null,null,null,null,null,null,null,null,null,null,null,null,null,"VOLFER 01 - CIGROL SA"]
[null,"CANTIDAD DE VIVIENDAS RECICLADAS",null,null,null,null,null,null,null,null,null,null,null,null,null,"EXACTA CIR"]
[null,null,null,null,null,null,null,null,null,null,null,null,null,"--",null,"CASA ALVA - KEIMER SA"]
[null,"PRESTAMO (1)",null,null,null,null,null,null,null,null,null,null,null,"PMV",null,"CASAS FISCHER"]
[null,"SUBSIDIO (2)",null,null,null,null,null,null,null,null,null,null,null,"REGISTRO",null,"SINGULAR HOUS FRAY BENTOS"]
[null,"APORTE (3)"]
[null,"VALOR DE TASACIÒN (1)+(2)+(3)",null,null,null,null,{"$f":"SUM(G25:G27)","v":0}]
[null,"% RETENCIÓN (4)"]
[]
[]
[null,"COSTOS FIJOS"]
[null,null,"TOTAL COSTOS FIJOS Y RETENCIÓN",null,null,null,{"$f":"SUM(G35:G40)","v":0}]
[null,"UU.CC.","DESCRIPCIÓN UU.CC.",null,null,null,"INVERSIÓN"]
[null,"CAF001","GASTOS Y HONORARIOS DE ESCRITURA"]
[null,"A00001","TERRENO"]
[null,"CAC001","HONORARIOS (PROYECTO)"]
[null,"CAE001","HONORARIOS (ASESORES)"]
[null,"CAG001","PERMISO DE CONSTRUCCIÓN"]
[null,"DAA001","RETENCIONES ",null,null,null,{"$f":"+G25*G29","v":0}]
[]
[]
[]
[null,"FIRMA PRESIDENTE",null,null,null,null,"TIMBRE"]
[]
[]
[null,"FIRMA SECRETARIO"]
[]
[]
[null,"FIRMA ARQUITECTO IAT"]
[]
[]
[]
[null,"PENALIDADES.- En caso de FALSEDAD OCULTAMIENTO o ADULTERACIÒN de la Declaración Jurada, incurre en responsabilidad civil y penal, castigada con 3 a24 meses de prisión, o 2 a 6 años de Penitenciaría, según lo dispuesto por los artículos 237 y 239 del Código Penal. ARTÍCULO 237 del Código Penal: “El particular o funcionario público que, fuera del ejercicio de sus funciones, hiciere un documento público falso o alterare un documento público verdadero, será castigado con 2 a 6 años de penitenciaría”. ARTÌCULO 239 del Código Penal: “El que, con motivo del otorgamiento o formalización de un documento público, ante un funcionario público, prestare una declaración falsa sobre su identidad o estado, o cualquiera otra circunstancia de hecho, será castigado con tres a veinticuatro meses de prisión”.  "]

{"sheet":"PRESUPUESTO","index":2,"n_rows":545,"n_cols":11,"rows_kept":545,"cut":false,"hidden":false,"merged":[[1,2,1,3],[2,2,2,3],[537,2,537,6],[544,9,544,10],[539,1,539,10],[540,1,542,10]]}
[]
[null,null,"TOTAL DE OBRA (SIN DESCONTAR RETENCIÓN)",null,null,null,null,{"$f":"+J2+K2","v":0},null,{"$f":"+'DATOS SGO'!D12+'DATOS SGO'!D13-'DATOS SGO'!D20+'DATOS SGO'!D27","v":0},{"$f":"+'DATOS SGO'!D14","v":0}]
[null,null,"VERIFICACIÓN",null,null,null,null,{"$f":"+H538","v":0},null,{"$f":"+J538","v":0},{"$f":"+K538","v":0}]
[]
[]
[]
[]
[]
[]
[]
[]
[null,"Codigo","Descripción Ampliada","Unidad","Metraje","PREC. UNIT. (U.R.)","SUB TOTAL  (U.R.)","TOTAL (U.R.)",null,"INVERSIÓN (U.R.)","APORTE  (U.R.)"]
[null,null,"PROPORCIONALES",null,null,null,{"$f":"+H13","v":0},{"$f":"SUM(G14:G15)","v":0},null,{"$f":"SUM(J14:J15)","v":0},{"$f":"SUM(K14:K15)","v":0}]
[null,"CAA002","HONORARIOS DIRECCION DE OBRA","GLOBAL",null,null,{"$f":"ROUND(E14*F14,2)","v":0},null,null,{"$f":"+G14-K14","v":0}]
[null,"ZZX241","LEYES SOCIALES","GLOBAL",null,null,0,null,null,{"$f":"+G15-K15","v":0}]
[null,null,"RUBROS FIJOS (APORTE)",null,null,null,{"$f":"+H16","v":0},{"$f":"SUM(G17:G21)","v":0},null,null,{"$f":"SUM(K17:K21)","v":0}]
[null,"A00001","TERRENO","GLOBAL",null,null,0,null,null,null,{"$f":"+G17","v":0}]
[null,"CAC001","HONORARIOS (PROYECTO)","GLOBAL",null,null,0,null,null,null,{"$f":"+G18","v":0}]
[null,"CAE001","HONORARIOS (ASESORES)","GLOBAL",null,null,0,null,null,null,0]
[null,"CAG001","PERMISO DE CONSTRUCCIÓN","GLOBAL",null,null,0,null,null,null,0]
[null,"ZZX249","AVANCE TOTAL DE OBRA","GLOBAL",null,null,0,null,null,null,0]
[null,null,"VIVIENDAS",null,null,null,{"$f":"SUM(G23:G461)","v":0},{"$f":"SUM(H23:H461)","v":0},null,{"$f":"+J23+J34+J36+J47+J52+J88+J95+J101+J278+J327+J349+J371+J393+J399+J401+J421+J427+J442+J446+J454","v":0},{"$f":"+K23+K34+K36+K47+K52+K88+K95+K101+K278+K327+K349+K371+K393+K399+K401+K421+K427+K442+K446+K454","v":0}]
[null,null,"IMPLANTACIÓN",null,null,null,{"$f":"+H23","v":0},{"$f":"SUM(G24:G33)","v":0},null,{"$f":"SUM(J24:J33)","v":0},{"$f":"SUM(K24:K33)","v":0}]
[null,"AAA001","LIMPIEZA DEL TERRENO","GLOBAL",null,null,{"$f":"ROUND(E24*F24,2)","v":0},null,null,{"$f":"+G24-K24","v":0}]
[null,"AAA002","EXTRACCIÓN DE ÁRBOLES","GLOBAL",null,null,0,null,null,0]
[null,"AAA003","RETIRO DE MATERIALES","GLOBAL",null,null,0,null,null,0]
[null,"AAA004","MEDIANERAS, RELEVAMIENTO (ACTA)","GLOBAL",null,null,0,null,null,0]
[null,"AAA005","REPLANTEO","GLOBAL",null,null,0,null,null,0]
[null,"AAB001","CERCADO DEL PREDIO","GLOBAL",null,null,0,null,null,0]
[null,"AAB002","CARTEL DE OBRA","UN",null,null,0,null,null,0]
[null,"AAB003","OFICINA-SERVICIO","UN",null,null,0,null,null,0]
[null,"AAB004","BAÑO QUÍMICO","UN",null,null,0,null,null,0]
[null,"AAC001","INSTALACIONES PROVISORIAS (AGUA, LUZ ,TELÉFONO)","UN",null,null,0,null,null,0]
[null,null,"DEMOLICIONES",null,null,null,{"$f":"+H34","v":0},{"$f":"SUM(G35:G35)","v":0},null,{"$f":"SUM(J35)","v":0},{"$f":"SUM(K35)","v":0}]
[null,"AAD001","DEMOLICIONES Y RETIROS","GLOBAL",null,null,{"$f":"ROUND(E35*F35,2)","v":0},null,null,{"$f":"+G35-K35","v":0}]
[null,null,"MOVIMIENTO DE TERRENO",null,null,null,{"$f":"+H36","v":0},{"$f":"SUM(G37:G46)","v":0},null,{"$f":"SUM(J37:J46)","v":0},{"$f":"SUM(K37:K46)","v":0}]
[null,"ABA001","DESMONTES CON RETIRO (C/OPERARIOS)","M3",null,null,{"$f":"ROUND(E37*F37,2)","v":0},null,null,{"$f":"+G37-K37","v":0}]
[null,"ABA002","DESMONTE A MÁQUINA, EN TIERRA SIN APORTE","M3",null,null,0,null,null,0]
[null,"ABA003","DESMONTE A MÁQUINA, EN TOSCA SIN APORTE","M3",null,null,0,null,null,0]
[null,"ABA005","RELLENOS CON APORTES","M3",null,null,0,null,null,0]
[null,"ABB001","EXCAVACIONES CIMIENTOS","M3",null,null,{"$f":"ROUND(E41*F41,2)","v":0},null,null,{"$f":"+G41-K41","v":0}]
[null,"ABB002","DESCALCE DE VIGAS DE FUNDACIÓN","M",null,null,{"$f":"ROUND(E42*F42,2)","v":0},null,null,0]
[null,"ABB003","TERRAPLÉN PARA PLATEA","M3",null,null,0,null,null,0]
[null,"BAA001","DESMONTE A TERRAPLÉN","M3",null,null,{"$f":"ROUND(E44*F44,2)","v":0},null,null,0]
[null,"BAA002","DESMONTE A RETIRO","M3",null,null,{"$f":"ROUND(E45*F45,2)","v":0},null,null,0]
[null,"BAA003","TERRAPLÉN CON PRÉSTAMO","M3",null,null,{"$f":"ROUND(E46*F46,2)","v":0},null,null,0]
[null,null,"HORMIGÓN CICLÓPEO",null,null,null,{"$f":"+H47","v":0},{"$f":"SUM(G48:G51)","v":0},null,{"$f":"SUM(J48:J51)","v":0},{"$f":"SUM(K48:K51)","v":0}]
[null,"ACA001","DADOS (HORM.C.)","M3",null,null,0,null,null,{"$f":"+G48-K48","v":0}]
[null,"ACA002","BAJO PATINES (HORM.C.)","M3",null,null,0,null,null,{"$f":"+G49-K49","v":0}]
[null,"ACA003","MUROS CONTENCIÓN HORM.C.","M3",null,null,0,null,null,{"$f":"+G50-K50","v":0}]
[null,"ACA004","CIMENTACION CORRIDA (HORM.CICLOPEO)","M3",null,null,0,null,null,{"$f":"+G51-K51","v":0}]
[null,null,"HORMIGÓN ARMADO",null,null,null,{"$f":"+H52","v":0},{"$f":"+G53+G64+G69+G78+G82+G86","v":0},null,{"$f":"SUM(J53:J87)","v":0},{"$f":"SUM(K53:K87)","v":0}]
[null,null,"FUNDACIONES",null,null,null,{"$f":"SUM(G54:G63)","v":0}]
[null,"ACB001","PILOTES IN SITU (PERFORADOS Y/O ENTUBADOS)","UN",null,null,{"$f":"ROUND(E54*F54,2)","v":0},null,null,{"$f":"+G54-K54","v":0}]
[null,"ACB002","PILOTINES PERFORADOS","UN",null,null,0,null,null,0]
[null,"ACB003","PILOTES PREFABRICADOS","UN",null,null,0,null,null,0]
[null,"ACC001","PATINES","M3",null,null,0,null,null,0]
[null,"ACC002","ZAPATA CORRIDA","M3",null,null,0,null,null,0]
[null,"ACC006","PLATEAS","M3",null,null,0,null,null,{"$f":"+G59-K59","v":0}]
[null,"ACC007","CABEZALES DE PILOTES","M3",null,null,0,null,null,{"$f":"+G60-K60","v":0}]
[null,"ACC008","MUROS H.A.-FUNDACIONES","M3",null,null,0,null,null,{"$f":"+G61-K61","v":0}]
[null,"ACC009","MUROS DE CONTENCIÓN HA - FUNDACIONES","M3",null,null,0,null,null,{"$f":"+G62-K62","v":0}]
[null,"ACC010","MUROS BLOQUE ARMADO - FUNDACIONES","M2",null,null,0,null,null,{"$f":"+G63-K63","v":0}]
[null,null,"PILARES",null,null,null,{"$f":"SUM(G65:G68)","v":0}]
[null,"ACC003","PILARES - FUNDACIONES","M3",null,null,{"$f":"ROUND(E65*F65,2)","v":0},null,null,0]
[null,"ADA001","PILARES RECTANGULARES H.A.","M3",null,null,0,null,null,{"$f":"+G66-K66","v":0}]
[null,"ADA002","PILARES CIRCULARES H.A.","M3",null,null,0,null,null,{"$f":"+G67-K67","v":0}]
[null,"ADA003","PANTALLAS H.A.","M3",null,null,0,null,null,{"$f":"+G68-K68","v":0}]
[null,null,"VIGAS",null,null,null,{"$f":"SUM(G70:G77)","v":0}]
[null,"ACC004","VIGAS - FUNDACIONES","M3",null,null,{"$f":"ROUND(E70*F70,2)","v":0},null,null,0]
[null,"ACC005","RIOSTRAS - FUNDACIONES","M3",null,null,0,null,null,0]
[null,"ADA005","VIGAS H.A. S/NIVEL P.B.","M3",null,null,0,null,null,0]
[null,"ADA006","VIGAS H.A.AZOTEA (C/PRETIL)","M3",null,null,0,null,null,0]
[null,"ADA007","CANALONES DE TECHO H.A","M3",null,null,0,null,null,0]
[null,"ADA008","ANTEPECHOS H.A.","M3",null,null,0,null,null,0]
[null,"ADA009","CARRERAS H.A.","M3",null,null,0,null,null,0]
[null,"ADA010","DINTELES H.A.","M3",null,null,0,null,null,0]
[null,null,"LOSAS",null,null,null,{"$f":"SUM(G79:G81)","v":0}]
[null,"ADB001","LOSAS S/S.SUELO","M3",null,null,{"$f":"ROUND(E79*F79,2)","v":0},null,null,0]
[null,"ADB002","LOSAS S/P.B (INTERMEDIAS)","M3",null,null,0,null,null,0]
[null,"ADB003","LOSAS AZOTEA","M3",null,null,0,null,null,0]
[null,null,"ESCALERAS",null,null,null,{"$f":"SUM(G83:G85)","v":0}]
[null,"ADC001","ESCALERAS H.A","M3",null,null,{"$f":"ROUND(E83*F83,2)","v":0},null,null,0]
[null,"ADC003","ESTRUCTURA HA C/ESCALONES INDEPENDIENTES","GLOBAL",null,null,0,null,null,0]
[null,"ADC004","ESCALERAS HORMIGÓN PREFABRICADO","GLOBAL",null,null,0,null,null,0]
[null,null,"TANQUE DE AGUA",null,null,null,{"$f":"SUM(G87:G87)","v":0}]
[null,"ADD001","TANQUE DE AGUA H.A.","M3",null,null,{"$f":"ROUND(E87*F87,2)","v":0},null,null,0]
[null,null,"ESTRUCTURAS METÁLICAS",null,null,null,{"$f":"+H88","v":0},{"$f":"SUM(G89:G94)","v":0},null,{"$f":"SUM(J89:J94)","v":0},{"$f":"SUM(K89:K94)","v":0}]
[null,"ADG001","PILARES METÁLICOS C/ PERFILES CONFORMADOS","GLOBAL",null,null,{"$f":"ROUND(E89*F89,2)","v":0},null,null,{"$f":"+G89-K89","v":0}]
[null,"ADG002","PILARES METÁLICOS RETICULADOS","GLOBAL",null,null,0,null,null,0]
[null,"ADG003","VIGAS METÁLICAS C/PERFILES CONFORMADOS","GLOBAL",null,null,0,null,null,0]
[null,"ADG004","VIGAS METÁLICAS ELEMENTOS RETICULADOS","GLOBAL",null,null,0,null,null,0]
[null,"ADG005","ESTRUCTURA DE PERFILES CONFORMADOS PARA ESCALERA","GLOBAL",null,null,0,null,null,0]
[null,"AFA001","ESTRUCTURA SOPORTE METÁLICA P/CERRAM. LIVIANO","GLOBAL",null,null,0,null,null,0]
[null,null,"ESTRUCTURAS MADERA",null,null,null,{"$f":"+H95","v":0},{"$f":"SUM(G96:G100)","v":0},null,{"$f":"SUM(J96:J100)","v":0},{"$f":"SUM(K96:K100)","v":0}]
[null,"ADH001","PILARES MADERA","GLOBAL",null,null,{"$f":"ROUND(E96*F96,2)","v":0},null,null,{"$f":"+G96-K96","v":0}]
[null,"ADH002","VIGAS, CORREAS MADERA","GLOBAL",null,null,0,null,null,{"$f":"+G97-K97","v":0}]
[null,"ADH005","PANELES ESTRUCTURALES MADERA CERRAMIENTO VERTICAL","M2",null,null,0,null,null,{"$f":"+G98-K98","v":0}]
[null,"ADH007","CERAM. HORIZONTALES EN MADERA (ENTREPISOS, ALEROS)","M2",null,null,0,null,null,{"$f":"+G99-K99","v":0}]
[null,"AFA002","ESTRUCTURA SOPORTE MADERA P/CERRAM. LIVIANO","GLOBAL",null,null,0,null,null,{"$f":"+G100-K100","v":0}]
[null,null,"ALBAÑILERÍA",null,null,null,{"$f":"+H101","v":0},{"$f":"+G102+G132+G136+G144+G170+G175+G178+G181+G186+G193+G214+G224+G229+G236+G240+G257+G270","v":0},null,{"$f":"SUM(J102:J277)","v":0},{"$f":"SUM(K102:K277)","v":0}]
[null,null,"MUROS / LOSETAS CERÁMICAS",null,null,null,{"$f":"SUM(G103:G131)","v":0}]
[null,"ADF002","REJILLON PORTANTE (ESP.MURO=17CM)","M2",null,null,{"$f":"ROUND(E103*F103,2)","v":0},null,null,{"$f":"+G103-K103","v":0}]
[null,"ADF003","LOSETAS CERÁMICA ARMADA","M2",null,null,0,null,null,{"$f":"+G104-K104","v":0}]
[null,"AEA001","LADRILLO DE CAMPO (ESP.MURO <10)","M2",null,null,0,null,null,{"$f":"+G105-K105","v":0}]
[null,"AEA002","LADRILLO DE PRENSA (ESP.MURO<10CM)","M2",null,null,0,null,null,0]
[null,"AEA003","LADRILLO CHORIZO (ESP.MURO<10CM)","M2",null,null,0,null,null,0]
[null,"AEA004","CERÁMICA HUECA (ESP.MURO<10CM)","M2",null,null,0,null,null,0]
[null,"AEA005","BLOQUE DE (HORMIGÓN) CEMENTO (ESP.MURO<10CM)","M2",null,null,0,null,null,0]
[null,"AEA006","LADRILLO DE CAMPO (ESP.MURO=12CM)","M2",null,null,0,null,null,0]
[null,"AEA007","LADRILLO DE CAMPO (ESP.MURO=12CM)","M2",null,null,0,null,null,0]
[null,"AEA008","LADRILLO DE CAMPO UNA CARA VISTA (ESP. MURO=12CM)","M2",null,null,0,null,null,0]
[null,"AEA009","LADRILLO DE PRENSA UNA CARA VISTA (ESP. MURO=12CM)","M2",null,null,0,null,null,0]
[null,"AEA010","CERÁMICA HUECA (ESP.MURO=12CM)","M2",null,null,0,null,null,0]
[null,"AEA011","BLOQUES HORMIGÓN (ESP.MURO=12CM)","M2",null,null,0,null,null,0]
[null,"AEA012","LADRILLO DE CAMPO (ESP.MURO=17CM)","M2",null,null,0,null,null,0]
[null,"AEA013","LADRILLO DE PRENSA (ESP.MURO=17CM)","M2",null,null,0,null,null,0]
[null,"AEA014","CERÁMICA HUECA (ESP.MURO=17CM)","M2",null,null,0,null,null,0]
[null,"AEA015","BLOQUES HORMIGÓN (ESP.MURO=20CM)","M2",null,null,0,null,null,0]
[null,"AEA016","LADRILLO DE CAMPO C/UN LADO VISTO (ESP.MURO=17CM)","M2",null,null,0,null,null,0]
[null,"AEA017","LADRILLO DE PRENSA C/UN LADO VISTO (ESP.MURO=17CM)","M2",null,null,0,null,null,0]
[null,"AEA018","LADRILLO DE CAMPO (ESP.MURO=25CM)","M2",null,null,0,null,null,0]
[null,"AEA019","LADRILLO DE PRENSA (ESP.MURO=25CM)","M2",null,null,0,null,null,0]
[null,"AEA020","CERÁMICA HUECA (ESP.MURO=25CM)","M2",null,null,0,null,null,0]
[null,"AEA021","LADRILLO DE CAMPO, C/UN LADO VISTO (ESP.MURO=25CM)","M2",null,null,0,null,null,0]
[null,"AEA022","LADRILLO DE PRENSA, C/UN LADO VISTO (ESP.MURO=25CM)","M2",null,null,0,null,null,{"$f":"+G126-K126","v":0}]
[null,"AEB001","LADRILLO CHORIZO CALADO(ESP.MURO<10CM)","M2",null,null,0,null,null,0]
[null,"AEB002","LADRILLO CALADO (ESP.MURO=12)","M2",null,null,0,null,null,0]
[null,"AEB003","CERÁMICA HUECA MURO CALADO E=12","M2",null,null,0,null,null,0]
[null,"AEB004","BLOQUE CALADO (ESP.MURO= 12CM)","M2",null,null,0,null,null,0]
[null,"AEF005","DUCTOS MAMPOSTERÍA","GLOBAL",null,null,0,null,null,{"$f":"+G131-K131","v":0}]
[null,null,"AISLACIÓN TÉRMICA MUROS",null,null,null,{"$f":"SUM(G133:G135)","v":0}]
[null,"AEC001","POLIESTIRENO EXPANDIDO (AISL.MUROS)","M2",null,null,{"$f":"ROUND(E133*F133,2)","v":0},null,null,0]
[null,"AEC002","POLIURETANO PROYECTADO (AISL.MUROS)","M2",null,null,0,null,null,0]
[null,"AEC003","LANA DE VIDRIO (AISL.MUROS)","M2",null,null,0,null,null,0]
[null,null,"PANELES DE YESO Y MADERA",null,null,null,{"$f":"SUM(G137:G143)","v":0}]
[null,"AFA003","PANELES MADERA CERRAM. VERTICAL","GLOBAL",null,null,{"$f":"ROUND(E137*F137,2)","v":0},null,null,0]
[null,"AFA004","PLACAS YESO CERRAM. VERTICAL","GLOBAL",null,null,0,null,null,0]
[null,"AFB001","POLIURETANO PROYECTADO (CERRAM. LIVIANOS)","GLOBAL",null,null,0,null,null,0]
[null,"AFB002","POLIESTIRENO EXPANDIDO (CERRAM. LIVIANOS)","GLOBAL",null,null,0,null,null,0]
[null,"AFB003","POLIETILENO (CERRAM. LIVIANOS)","GLOBAL",null,null,0,null,null,0]
[null,"AFB004","TYVEK (CERRAM. LIVIANOS)","GLOBAL",null,null,0,null,null,0]
[null,"AFB005","MEMBRANAS ASFÁLTICAS (CERRAM.LIVIANOS)","GLOBAL",null,null,0,null,null,0]
[null,null,"REVOQUES",null,null,null,{"$f":"SUM(G145:G169)","v":0}]
[null,"AED001","AYP C/HIDRÓFUGO 1AS HILADAS EN MUROS","M2",null,null,{"$f":"ROUND(E145*F145,2)","v":0},null,null,{"$f":"+G145-K145","v":0}]
[null,"AED002","AYP C/HIDRÓFUGO EN ANTEPECHOS","M2",null,null,0,null,null,{"$f":"+G146-K146","v":0}]
[null,"AHA001","AZOTADA Y GRUESA CIELORRASOS","M2",null,null,0,null,null,{"$f":"+G147-K147","v":0}]
[null,"AHA002","AZOTADA Y GRUESA EN ESCALERAS","M2",null,null,0,null,null,0]
[null,"AHA003","FINA CIELORRASOS","M2",null,null,0,null,null,0]
[null,"AHA004","FINA EN ESCALERAS","M2",null,null,0,null,null,0]
[null,"AHA005","BALAI COMÚN CIELORRASOS","M2",null,null,0,null,null,0]
[null,"AHA006","BALAI FRETAZADO CIELORRASOS","M2",null,null,0,null,null,0]
[null,"AHA007","CIELORRASO S/METAL DESPLEGADO","M2",null,null,0,null,null,0]
[null,"AHB001","AZOTADA Y GRUESA MUROS INT.","M2",null,null,0,null,null,0]
[null,"AHB002","GRUESA MUROS INT.","M2",null,null,0,null,null,0]
[null,"AHB003","FINA MUROS INT.","M2",null,null,0,null,null,0]
[null,"AHB004","BALAI COMÚN MUROS INT.","M2",null,null,0,null,null,0]
[null,"AHB005","BALAI FRETAZADO MUROS INT.","M2",null,null,0,null,null,0]
[null,"AHB006","REVOQUE BOLSEADO MUROS INT.","M2",null,null,0,null,null,0]
[null,"AHB007","REVOQUE SOBRE METAL DESPLEGADO (MUROS INT)","M2",null,null,0,null,null,0]
[null,"AHB009","REVOQUE A UNA CAPA (MUROS INT)","M2",null,null,0,null,null,0]
[null,"AHC001","AYP C/HIDRÓFUGO CARA EXT.MUROS","M2",null,null,0,null,null,0]
[null,"AHC002","AYP C/HIDRÓFUGO EN TANQUES DE AGUA","M2",null,null,0,null,null,0]
[null,"AHD001","AZOTADA Y GRUESA MUROS EXT.","M2",null,null,0,null,null,0]
[null,"AHD002","FINA MUROS EXT.","M2",null,null,0,null,null,0]
[null,"AHD003","BALAI COMÚN MUROS EXT.","M2",null,null,0,null,null,0]
[null,"AHD004","BALAI FRETAZADO MUROS EXT.","M2",null,null,0,null,null,0]
[null,"AHD005","REVOQUE BOLSEADO MUROS EXT.","M2",null,null,0,null,null,0]
[null,"AHD006","MOCHETAS (EXTERIORES)","ML",null,null,0,null,null,0]
[null,null,"REVESTIMIENTOS EXTERIORES",null,null,null,{"$f":"SUM(G171:G174)","v":0}]
[null,"AHE001","APLACADO DE LADRILLO DE CAMPO","M2",null,null,{"$f":"ROUND(E171*F171,2)","v":0},null,null,{"$f":"+G171-K171","v":0}]
[null,"AHE002","APLACADO DE LADRILLO DE PRENSA","M2",null,null,0,null,null,0]
[null,"AHE003","APLACADO LADRILLO CHORIZO (CAMPO/PRENSA)","M2",null,null,0,null,null,0]
[null,"AHE011","REVEST.EXT. PIEZAS CERÁMICAS","M2",null,null,0,null,null,{"$f":"+G174-K174","v":0}]
[null,null,"ANTEPECHOS",null,null,null,{"$f":"SUM(G176:G177)","v":0}]
[null,"AHE008","ANTEPECHOS AYP","ML",null,null,{"$f":"ROUND(E176*F176,2)","v":0},null,null,0]
[null,"AHE013","ANTEPECHOS CERAMICA","M2",null,null,0,null,null,{"$f":"+G177-K177","v":0}]
[null,null,"REVESTIMIENTOS INTERIORES",null,null,null,{"$f":"SUM(G179:G180)","v":0}]
[null,"AHF003","CERÁMICA ESMALTADA BAÑOS/COCINAS","M2",null,null,{"$f":"ROUND(E179*F179,2)","v":0},null,null,{"$f":"+G179-K179","v":0}]
[null,"AHF004","PORCELANATO BAÑOS/COCINAS","M2",null,null,0,null,null,0]
[null,null,"CIELORRASOS",null,null,null,{"$f":"SUM(G182:G185)","v":0}]
[null,"AHA008","YESO (CIELORRASOS)","M2",null,null,{"$f":"ROUND(E182*F182,2)","v":0},null,null,{"$f":"+G182-K182","v":0}]
[null,"AHH001","PLACAS ESPUMA POLIESTIRENO (CIELORRASOS)","M2",null,null,{"$f":"ROUND(E183*F183,2)","v":0},null,null,{"$f":"+G183-K183","v":0}]
[null,"AHH002","MADERA (CIELORRASOS)","M2",null,null,0,null,null,0]
[null,"AHH003","PLACAS YESO (CIELORRASOS)","M2",null,null,0,null,null,0]
[null,null,"CONTRAPISOS Y RELLENOS",null,null,null,{"$f":"SUM(G187:G192)","v":0}]
[null,"AIA001","CONTRAPISO INTERIOR COMÚN SOBRE TERRENO","M2",null,null,{"$f":"ROUND(E187*F187,2)","v":0},null,null,0]
[null,"AIA002","CONTRAPISO INTERIOR ARMADO SOBRE TERRENO","M2",null,null,0,null,null,0]
[null,"AIA003","CONTRAPISO EXTERIOR COMÚN SOBRE TERRENO","M2",null,null,0,null,null,0]
[null,"AIA004","CONTRAPISO EXTERIOR ARMADO SOBRE TERRENO","M2",null,null,0,null,null,0]
[null,"AIA005","CONTRAPISO INTERIOR EN ENTREPISOS","M2",null,null,0,null,null,0]
[null,"AIA006","CONTRAPISO EN BAÑOS","M2",null,null,0,null,null,0]
[null,null,"PISOS",null,null,null,{"$f":"SUM(G194:G213)","v":0}]
[null,"AIB001","ARENA Y PORTLAND LUSTRADO IN SITU (PISOS)","M2",null,null,{"$f":"ROUND(E194*F194,2)","v":0},null,null,0]
[null,"AIB002","ADOQUINES HORMIGÓN (PISOS)","M2",null,null,0,null,null,0]
[null,"AIB003","HORMIGÓN FRETAZADO (PISOS)","M2",null,null,0,null,null,0]
[null,"AIB004","BALDOSA DE VEREDA (20*20)","M2",null,null,0,null,null,0]
[null,"AIB005","BALDOSA CALCÁREA","M2",null,null,0,null,null,0]
[null,"AIB006","HORMIGON C JUNTAS LADRILLO (PISOS)","M2",null,null,0,null,null,0]
[null,"AIB007","ALISADO DE ARENA Y PORTLAND (PISOS)","M2",null,null,{"$f":"ROUND(E200*F200,2)","v":0},null,null,{"$f":"+G200-K200","v":0}]
[null,"AIC001","BALDOSA MONOLITICA 20*20 PULIDA EN FÁBRICA","M2",null,null,0,null,null,0]
[null,"AID001","PARQUÉ ENGRAMPADO","M2",null,null,0,null,null,{"$f":"+G202-K202","v":0}]
[null,"AID002","PARQUÉ PEGADO","M2",null,null,0,null,null,0]
[null,"AID003","PISO FLOTANTE","M2",null,null,0,null,null,0]
[null,"AID004","TABLA (PISOS)","M2",null,null,0,null,null,0]
[null,"AIE001","CERÁMICA ESMALTADA (PISOS)","M2",null,null,0,null,null,0]
[null,"AIE004","LAYOTA COMÚN (PISOS)","M2",null,null,0,null,null,0]
[null,"AIE005","LAYOTA ESMALTADA (PISOS)","M2",null,null,0,null,null,0]
[null,"AIE006","LADRILLO, TEJUELA (PISOS)","M2",null,null,0,null,null,0]
[null,"AIE007","PAVIMIENTO CERAMICA G3 y G4","M2",null,null,0,null,null,0]
[null,"AIF001","PIEDRA LAJA PIEZAS IRREGULARES (PISOS)","M2",null,null,{"$f":"ROUND(E211*F211,2)","v":0},null,null,{"$f":"+G211-K211","v":0}]
[null,"AIF002","PIEDRA LAJA PIEZAS RECTAS (PISOS)","M2",null,null,0,null,null,0]
[null,"AIG001","PORCELANATO (PISOS)","M2",null,null,0,null,null,0]
[null,null,"ESCALONES Y NARICES",null,null,null,{"$f":"SUM(G215:G223)","v":0}]
[null,"AIH001","ARENA Y PORTLAND LUSTRADO (ESCALONES)","ML",null,null,{"$f":"ROUND(E215*F215,2)","v":0},null,null,0]
[null,"AIH002","BALDOSA MONOLÍTICA PULIDA (ESCALONES)","ML",null,null,0,null,null,0]
[null,"AIH006","LAJOTA (ESCALONES)","ML",null,null,0,null,null,0]
[null,"AIH007","LADRILLO (ESCALONES)","ML",null,null,0,null,null,0]
[null,"AIH009","CERÁMICA ESMALTADA (ESCALONES)","ML",null,null,0,null,null,0]
[null,"AIH011","MADERA (ESCALONES)","ML",null,null,0,null,null,0]
[null,"AIH012","NARIZ MADERA DURA","ML",null,null,0,null,null,0]
[null,"AIH014","NARIZ HORMIGÓN PREFABRICADO","ML",null,null,0,null,null,0]
[null,"AIH015","NARIZ HIERRO","ML",null,null,0,null,null,0]
[null,null,"ZÓCALOS Y ENTEPUERTAS",null,null,null,{"$f":"SUM(G225:G228)","v":0}]
[null,"AII006","ZÓCALOS CERÁMICA","ML",null,null,{"$f":"ROUND(E225*F225,2)","v":0},null,null,{"$f":"+G225-K225","v":0}]
[null,"AII007","ZÓCALOS PORCELANATO","ML",null,null,0,null,null,0]
[null,"AII008","ZÓCALOS MADERA","ML",null,null,0,null,null,0]
[null,"AIJ002","ENTREPUERTAS","ML",null,null,0,null,null,0]
[null,null,"MESADAS",null,null,null,{"$f":"SUM(G230:G235)","v":0}]
[null,"AJA001","LOSAS HORMIGÓN (MESADAS)","M3",null,null,{"$f":"ROUND(E230*F230,2)","v":0},null,null,{"$f":"+G230-K230","v":0}]
[null,"AJA002","MESADAS MÁRMOL O GRANITO","M2",null,null,{"$f":"ROUND(E231*F231,2)","v":0},null,null,0]
[null,"AJA003","MESADAS MONOLÍTICO","M2",null,null,0,null,null,0]
[null,"AJA004","MESADAS C/ESCALLAS DE MARMOL","M2",null,null,0,null,null,0]
[null,"AND011","SUMINISTRO DE MESADAS DE COCINA (incluye piletas)","GLOBAL",null,null,0,null,null,{"$f":"+G234-K234","v":0}]
[null,"AND012","COLOCACION DE MESADAS DE COCINA","GLOBAL",null,null,0,null,null,{"$f":"+G235-K235","v":0}]
[null,null,"JUNTAS",null,null,null,{"$f":"SUM(G237:G239)","v":0}]
[null,"AEF002","JUNTAS DILATACIÓN/TRABAJO EN MUROS","ML",null,null,{"$f":"ROUND(E237*F237,2)","v":0},null,null,{"$f":"+G237-K237","v":0}]
[null,"AIJ003","JUNTAS DE TRABAJO/DILATACIÓN EN PB/ENTREPISOS","ML",null,null,0,null,null,{"$f":"+G238-K238","v":0}]
[null,"AKA011","JUNTAS DILATACIÓN/TRABAJO (AZOTEAS)","ML",null,null,0,null,null,{"$f":"+G239-K239","v":0}]
[null,null,"BALCONES Y AZOTEAS",null,null,null,{"$f":"SUM(G241:G256)","v":0}]
[null,"AKA001","ALISADO ARENA Y PORTLAND (AZOTEAS)","M2",null,null,{"$f":"ROUND(E241*F241,2)","v":0},null,null,0]
[null,"AKA002","RELLENOS Y PENDIENTES C/HORMIGÓN CASCOTE (AZOTEAS, TERR.)","M2",null,null,0,null,null,0]
[null,"AKA003","RELLENOS Y PENDIENTES C/HGON. ALIVIANADO (AZOTEAS, TERR.)","M2",null,null,0,null,null,0]
[null,"AKA004","TEJUELA (AZOTEAS)","M2",null,null,0,null,null,0]
[null,"AKA005","ALISADO ARENA Y PORTLAND C/JUNTAS (AZOTEAS)","M2",null,null,0,null,null,0]
[null,"AKA007","TEJAS S/CUBIERTA PESADA","M2",null,null,0,null,null,0]
[null,"AKA008","SOBRETECHO FIBROCEMENTO","M2",null,null,0,null,null,0]
[null,"AKA012","ARENA Y PORTLAND DE PRETILES Y GARGANTAS","M2",null,null,0,null,null,0]
[null,"AKA013","CANTO RODADO (TERMINACIÓN AZOTEAS)","M3",null,null,0,null,null,0]
[null,"AKB001","POLIETILENO (AZOTEAS/BALCONES)","M2",null,null,0,null,null,0]
[null,"AKB002","POLIESTIRENO EXPANDIDO EN PLACAS (AZOTEAS Y BALCONES)","M2",null,null,0,null,null,0]
[null,"AKB003","POLIURETANO PROYECTADO (AZOTEAS/BALCONES)","M2",null,null,0,null,null,{"$f":"+G252-K252","v":0}]
[null,"AKB004","EMULSIÓN ASFALTICA C/VELO DE VIDRIO (AZOTEAS/BALCONES)","M2",null,null,0,null,null,0]
[null,"AKB005","MEMBRANA SOLDABLE (AZOTEAS/BALCONES)","M2",null,null,0,null,null,0]
[null,"AKB007","PINTURA ALUMINIO ASFALTICO (AZOTEAS)","M2",null,null,0,null,null,0]
[null,"AKB008","PINTURA IMPERMEABILIZANTE","M2",null,null,0,null,null,0]
[null,null,"CUBIERTA LIVIANA",null,null,null,{"$f":"SUM(G258:G269)","v":0}]
[null,"ALA001","ENTABLONADO S/CORREAS MADERA (CUBIERTA LIV.)","M2",null,null,{"$f":"ROUND(E258*F258,2)","v":0},null,null,{"$f":"+G258-K258","v":0}]
[null,"ALA002","POLIETILENO S/ENTABLONADO (CUBIERTA LIV.)","M2",null,null,0,null,null,0]
[null,"ALA003","POLIURETANO PROYECTADO (CUBIERTA LIV.)","M2",null,null,0,null,null,0]
[null,"ALA004","ESPUMA POLIESTIRENO EN PLACAS (CUBIERTA LIV.)","M2",null,null,0,null,null,0]
[null,"ALA005","TYVEC (CUBIERTA LIV.)","M2",null,null,0,null,null,0]
[null,"ALA006","MEMBRANA ASFALTICA (CUBIERTA LIV.)","M2",null,null,0,null,null,0]
[null,"ALA007","CUMBRERAS, LIMAHOYAS","ML",null,null,0,null,null,0]
[null,"ALA008","CANALONES","ML",null,null,0,null,null,0]
[null,"ALB001","CUBIERTA HIERRO GALVANIZADO","M2",null,null,0,null,null,0]
[null,"ALB002","PANELES AUTOPORTANTES DE CHAPA, MULTICAPA","M2",null,null,0,null,null,0]
[null,"ALC001","CUBIERTA FIBROCEMENTO","M2",null,null,0,null,null,0]
[null,"ALD001","TEJAS S/ENTRAMADO MADERA","M2",null,null,0,null,null,0]
[null,null,"VARIOS",null,null,null,{"$f":"SUM(G271:G277)","v":0}]
[null,"AEF003","CANTONERAS (COLOCACIÓN)","ML",null,null,{"$f":"ROUND(E271*F271,2)","v":0},null,null,{"$f":"+G271-K271","v":0}]
[null,"ANA001","AYUDA A ELÉCTRICA","GLOBAL",null,null,0,null,null,{"$f":"+G272-K272","v":0}]
[null,"ANA002","AYUDA A SANITARIA","GLOBAL",null,null,0,null,null,0]
[null,"ANA003","AYUDA ASCENSOR","GLOBAL",null,null,0,null,null,0]
[null,"ANB001","NICHOS DE MEDIDORES","GLOBAL",null,null,0,null,null,0]
[null,"ANB002","NICHOS DE MANGUERAS DE INCENDIO","GLOBAL",null,null,0,null,null,0]
[null,"AJC001","EXTRACTORES","UN",null,null,0,null,null,0]
[null,null,"SISTEMAS NO TRADICIONALES",null,null,null,{"$f":"+H278","v":0},{"$f":"+G279+G290+G299+G311+G314+G323","v":0},null,{"$f":"SUM(J279:J326)","v":0},{"$f":"SUM(K279:K326)","v":0}]
[null,null,"HORMIGÓN",null,null,null,{"$f":"SUM(G280:G289)","v":0}]
[null,"ADE001","PILARES/VIGAS HORM.PREFABRICADO","GLOBAL",null,null,{"$f":"ROUND(E280*F280,2)","v":0},null,null,{"$f":"+G280-K280","v":0}]
[null,"ADE002","PANELES (MUROS) HORM.PREFABRICADO","M2",null,null,0,null,null,0]
[null,"ADE003","LOSAS HORM.PREFABRICADO","M2",null,null,0,null,null,0]
[null,"ADE005","ANTEPECHOS HORM.PREFABRICADO","ML",null,null,0,null,null,0]
[null,"ADE006","DINTELES HORM.PREFABRICADO","ML",null,null,0,null,null,0]
[null,"ADE007","SISTEMAS C/BOVEDILLAS (HORM.PREFABRICADO)","M2",null,null,0,null,null,0]
[null,"ADE008","ESCALONES DE HORMIGON PREFABRICADO","ML",null,null,0,null,null,0]
[null,"AND015","SUMINISTRO DE VIGUETAS PREFABRICADAS","M2",null,null,0,null,null,0]
[null,"AND016","COLOCACION DE VIGUETAS PREFABRICADAS","UN",null,null,0,null,null,0]
[null,"AKA006","LOSETAS PREFABICADAS HORMIGÓN (AZOTEAS)","M2",null,null,0,null,null,{"$f":"+G289-K289","v":0}]
[null,null,"SISTEMA EMMEDUE",null,null,null,{"$f":"SUM(G291:G298)","v":0}]
[null,"APA001","M2 PANELES VERTICALES","M2",null,null,{"$f":"ROUND(E291*F291,2)","v":0},null,null,{"$f":"+G291-K291","v":0}]
[null,"APA002","M2 PANELES HORIZONTALES","M2",null,null,0,null,null,0]
[null,"APB001","M2 ESCALERA","UN",null,null,0,null,null,0]
[null,"APC001","M2 REVOQUE ESTRUCTURAL EN MUROS","M2",null,null,0,null,null,0]
[null,"APC002","M2 REVOQUE TERMINACION MUROS","M2",null,null,0,null,null,0]
[null,"APC003","M2 REVOQUE CIELORASOS PRIMERA CAPA","M2",null,null,0,null,null,0]
[null,"APC004","M2 REVOQUE CIELORRASOS TERMINACION","M2",null,null,0,null,null,0]
[null,"APD001","M2 CARPETA DE COMPRESION LOSAS","M3",null,null,0,null,null,0]
[null,null,"SISTEMA CRUPE",null,null,null,{"$f":"SUM(G300:G310)","v":0}]
[null,"AQA001","CRUPE ESTRUCTURA METALICA EN MUROS","M2",null,null,{"$f":"ROUND(E300*F300,2)","v":0},null,null,{"$f":"+G300-K300","v":0}]
[null,"AQA002","CRUPE VIGAS RETICULADAS ENTREPISOS","M",null,null,0,null,null,0]
[null,"AQA003","CRUPE ESTRUCTURA METALICA CUBIERTA","M2",null,null,0,null,null,0]
[null,"AQB001","CRUPE PROTECT MUROS","M2",null,null,0,null,null,0]
[null,"AQB002","CRUPE PROTECT ENTREPISOS","M2",null,null,0,null,null,0]
[null,"AQB003","CRUPE PROTECT CUBIERTA","M2",null,null,0,null,null,0]
[null,"AQC001","CRUPE TERMINACION EXTERIOR MUROS","M2",null,null,0,null,null,0]
[null,"AQC002","CRUPE TERMINACION INTERIOR MUROS","M2",null,null,0,null,null,0]
[null,"AQC003","CRUPE TERMINACION INFERIOR ENTREPISOS","M2",null,null,0,null,null,0]
[null,"AQC004","CRUPE TERMINACION INFERIOR CUBIERTA","M2",null,null,0,null,null,0]
[null,"AQD001","CRUPE ESCALERAS","UN",null,null,0,null,null,0]
[null,null,"SISTEMA ROYAL BUILDING",null,null,null,{"$f":"SUM(G312:G313)","v":0}]
[null,"ARA001","RBS PANELES VERTICALES EXTERIORES C/ AISLACION","M2",null,null,{"$f":"ROUND(E312*F312,2)","v":0},null,null,{"$f":"+G312-K312","v":0}]
[null,"ARA002","RBS PANELES VERTICALES INTERIORES","M2",null,null,0,null,null,0]
[null,null,"SISTEMA DEFLORENCIA",null,null,null,{"$f":"SUM(G315:G322)","v":0}]
[null,"ASA001","DEFLORENCIA MUROS EXTERIORES","M2",null,null,0,null,null,0]
[null,"ASA002","DEFLORENCIA MUROS INTERIORES","M2",null,null,0,null,null,0]
[null,"ASA003","DEFLORENCIA MUROS MEDIANEROS","M2",null,null,0,null,null,0]
[null,"ASB001","DEFLORENCIA LOSAS HORIZONTALES H.A.","M2",null,null,0,null,null,0]
[null,"ASB002","DEFLORENCIA LOSETA CORTAFUEGO H.A.","M2",null,null,0,null,null,0]
[null,"ASB003","DEFLORENCIA ENTREPISO H.A.","M2",null,null,0,null,null,0]
[null,"ASB004","DEFLORENCIA LOSAS DE CUBIERTA H.A.","M2",null,null,0,null,null,0]
[null,"ASC001","DEFLORENCIA ESCALERAS H.A.","UN",null,null,0,null,null,0]
[null,null,"SISTEMA MONTFRIO",null,null,null,{"$f":"SUM(G324:G326)","v":0}]
[null,"ATA001","MONTFRIO (SPM) PARED EXTERIOR","M2",null,null,0,null,null,0]
[null,"ATA002","MONTFRIO (SPM) PARED INTERIOR","M2",null,null,0,null,null,0]
[null,"ATB001","MONTFRIO (SPM) CUBIERTA","M2",null,null,0,null,null,0]
[null,null,"CARPINTERÍA DE ALUMINIO",null,null,null,{"$f":"+H327","v":0},{"$f":"SUM(G328:G348)","v":0},null,{"$f":"SUM(J328:J348)","v":0},{"$f":"SUM(K328:K348)","v":0}]
[null,"AGB010","AL1 CARPINTERIA DE ALUMINIO","UN",null,null,{"$f":"ROUND(E328*F328,2)","v":0},null,null,{"$f":"+G328-K328","v":0}]
[null,"AGB011","AL2 CARPINTERIA DE ALUMINIO","UN",null,null,0,null,null,0]
[null,"AGB012","AL3 CARPINTERIA DE ALUMINIO","UN",null,null,0,null,null,0]
[null,"AGB013","AL4 CARPINTERIA DE ALUMINIO","UN",null,null,0,null,null,0]
[null,"AGB014","AL5 CARPINTERIA DE ALUMINIO","UN",null,null,0,null,null,0]
[null,"AGB015","AL6 CARPINTERIA DE ALUMINIO","UN",null,null,0,null,null,0]
[null,"AGB016","AL7 CARPINTERIA DE ALUMINIO","UN",null,null,0,null,null,0]
[null,"AGB017","AL8 CARPINTERIA DE ALUMINIO","UN",null,null,0,null,null,0]
[null,"AGB018","AL9 CARPINTERIA DE ALUMINIO","UN",null,null,0,null,null,0]
[null,"AGB019","AL10 CARPINTERIA DE ALUMINIO","UN",null,null,0,null,null,0]
[null,"AGB020","AL11 CARPINTERIA DE ALUMINIO","UN",null,null,0,null,null,0]
[null,"AGB021","AL12 CARPINTERIA DE ALUMINIO","UN",null,null,0,null,null,0]
[null,"AGB022","AL13 CARPINTERIA DE ALUMINIO","UN",null,null,0,null,null,0]
[null,"AGB023","AL14 CARPINTERIA DE ALUMINIO","UN",null,null,0,null,null,0]
[null,"AGB024","AL15 CARPINTERIA DE ALUMINIO","UN",null,null,0,null,null,0]
[null,"AGB025","AL16 CARPINTERIA DE ALUMINIO","UN",null,null,0,null,null,0]
[null,"AGB026","AL17 CARPINTERIA DE ALUMINIO","UN",null,null,0,null,null,0]
[null,"AGB027","AL18 CARPINTERIA DE ALUMINIO","UN",null,null,0,null,null,0]
[null,"AGB028","AL19 CARPINTERIA DE ALUMINIO","UN",null,null,0,null,null,0]
[null,"AGB029","AL20 CARPINTERIA DE ALUMINIO","UN",null,null,0,null,null,0]
[null,"AND002","COLOCACION DE ABERTURAS DE ALUMINIO","GLOBAL",null,null,0,null,null,{"$f":"+G348-K348","v":0}]
[null,null,"CARPINTERÍA DE MADERA",null,null,null,{"$f":"+H349","v":0},{"$f":"SUM(G350:G370)","v":0},null,{"$f":"SUM(J350:J370)","v":0},{"$f":"SUM(K350:K370)","v":0}]
[null,"AGA008","C1 CARPINTERIA DE MADERA","UN",null,null,{"$f":"ROUND(E350*F350,2)","v":0},null,null,{"$f":"+G350-K350","v":0}]
[null,"AGA009","C2 CARPINTERIA DE MADERA","UN",null,null,0,null,null,0]
[null,"AGA010","C3 CARPINTERIA DE MADERA","UN",null,null,0,null,null,0]
[null,"AGA011","C4 CARPINTERIA DE MADERA","UN",null,null,0,null,null,0]
[null,"AGA012","C5 CARPINTERIA DE MADERA","UN",null,null,0,null,null,0]
[null,"AGA013","C6 CARPINTERIA DE MADERA","UN",null,null,0,null,null,0]
[null,"AGA014","C7 CARPINTERIA DE MADERA","UN",null,null,0,null,null,0]
[null,"AGA015","C8 CARPINTERIA DE MADERA","UN",null,null,0,null,null,0]
[null,"AGA016","C9 CARPINTERIA DE MADERA","UN",null,null,0,null,null,0]
[null,"AGA017","C10 CARPINTERIA DE MADERA","UN",null,null,0,null,null,0]
[null,"AGA018","C11 CARPINTERIA DE MADERA","UN",null,null,0,null,null,0]
[null,"AGA019","C12 CARPINTERIA DE MADERA","UN",null,null,0,null,null,0]
[null,"AGA020","C13 CARPINTERIA DE MADERA","UN",null,null,0,null,null,0]
[null,"AGA021","C14 CARPINTERIA DE MADERA","UN",null,null,0,null,null,0]
[null,"AGA022","C15 CARPINTERIA DE MADERA","UN",null,null,0,null,null,0]
[null,"AGA023","C16 CARPINTERIA DE MADERA","UN",null,null,0,null,null,0]
[null,"AGA024","C17 CARPINTERIA DE MADERA","UN",null,null,0,null,null,0]
[null,"AGA025","C18 CARPINTERIA DE MADERA","UN",null,null,0,null,null,0]
[null,"AGA026","C19 CARPINTERIA DE MADERA","UN",null,null,0,null,null,0]
[null,"AGA027","C20 CARPINTERIA DE MADERA","UN",null,null,0,null,null,0]
[null,"AND004 ","COLOCACION DE ABERTURAS DE MADERA","GLOBAL",null,null,0,null,null,{"$f":"+G370-K370","v":0}]
[null,null,"HERRERÍA",null,null,null,{"$f":"+H371","v":0},{"$f":"SUM(G372:G392)","v":0},null,{"$f":"SUM(J372:J392)","v":0},{"$f":"SUM(K372:K392)","v":0}]
[null,"AGC011","H1 CARPINTERIA DE HIERRO","UN",null,null,{"$f":"ROUND(E372*F372,2)","v":0},null,null,{"$f":"+G372-K372","v":0}]
[null,"AGC012","H2 CARPINTERIA DE HIERRO","UN",null,null,0,null,null,0]
[null,"AGC013","H3 CARPINTERIA DE HIERRO","UN",null,null,0,null,null,0]
[null,"AGC014","H4 CARPINTERIA DE HIERRO","UN",null,null,0,null,null,0]
[null,"AGC015","H5 CARPINTERIA DE HIERRO","UN",null,null,0,null,null,0]
[null,"AGC016","H6 CARPINTERIA DE HIERRO","UN",null,null,0,null,null,0]
[null,"AGC017","H7 CARPINTERIA DE HIERRO","UN",null,null,0,null,null,0]
[null,"AGC018","H8 CARPINTERIA DE HIERRO","UN",null,null,0,null,null,0]
[null,"AGC019","H9 CARPINTERIA DE HIERRO","UN",null,null,0,null,null,0]
[null,"AGC020","H10 CARPINTERIA DE HIERRO","UN",null,null,0,null,null,0]
[null,"AGC021","H11 CARPINTERIA DE HIERRO","UN",null,null,0,null,null,0]
[null,"AGC022","H12 CARPINTERIA DE HIERRO","UN",null,null,0,null,null,0]
[null,"AGC023","H13 CARPINTERIA DE HIERRO","UN",null,null,0,null,null,0]
[null,"AGC024","H14 CARPINTERIA DE HIERRO","UN",null,null,0,null,null,0]
[null,"AGC025","H15 CARPINTERIA DE HIERRO","UN",null,null,0,null,null,0]
[null,"AGC026","H16 CARPINTERIA DE HIERRO","UN",null,null,0,null,null,0]
[null,"AGC027","H17 CARPINTERIA DE HIERRO","UN",null,null,0,null,null,0]
[null,"AGC028","H18 CARPINTERIA DE HIERRO","UN",null,null,0,null,null,0]
[null,"AGC029","H19 CARPINTERIA DE HIERRO","UN",null,null,0,null,null,0]
[null,"AGC030","H20 CARPINTERIA DE HIERRO","UN",null,null,0,null,null,0]
[null,"AND006","COLOCACION DE ABERTURAS DE HIERRO","GLOBAL",null,null,0,null,null,{"$f":"+G392-K392","v":0}]
[null,null,"PVC",null,null,null,{"$f":"+H393","v":0},{"$f":"SUM(G394:G398)","v":0},null,{"$f":"SUM(J394:J398)","v":0},{"$f":"SUM(K394:K398)","v":0}]
[null,"AGD010","PVC1 CORTINA DE ENROLLAR","UN",null,null,{"$f":"ROUND(E394*F394,2)","v":0},null,null,{"$f":"+G394-K394","v":0}]
[null,"AGD011","PVC2 CORTINA DE ENROLLAR","UN",null,null,0,null,null,0]
[null,"AGD012","PVC3 CORTINA DE ENROLLAR","UN",null,null,0,null,null,0]
[null,"AGD013","PVC4 CORTINA DE ENROLLAR","UN",null,null,0,null,null,0]
[null,"AGD014","PVC5 CORTINA DE ENROLLAR","UN",null,null,0,null,null,0]
[null,null,"VIDRIOS",null,null,null,{"$f":"+H399","v":0},{"$f":"SUM(G400:G400)","v":0},null,{"$f":"SUM(J400)","v":0},{"$f":"SUM(K400)","v":0}]
[null,"AGE010","VIDRIOS (GLOBAL)","GLOBAL",null,null,{"$f":"ROUND(E400*F400,2)","v":0},null,null,{"$f":"+G400-K400","v":0}]
[null,null,"INSTALACIÓN SANITARIA",null,null,null,{"$f":"+H401","v":0},{"$f":"G402+G403+G404+G409+G417","v":0},null,{"$f":"SUM(J402:J420)","v":0},{"$f":"SUM(K402:K420)","v":0}]
[null,"BBA008","CONEXIONES DOMICILIARIAS A SANEAMIENTO","GLOBAL",null,null,{"$f":"ROUND(E402*F402,2)","v":0},null,null,{"$f":"+G402-K402","v":0}]
[null,"BBB009","CONEXIONES DOMICILIARIAS (AGUA POTABLE)","GLOBAL",null,null,{"$f":"ROUND(E403*F403,2)","v":0},null,null,{"$f":"+G403-K403","v":0}]
[null,null,"ABASTECIMIENTO",null,null,null,{"$f":"SUM(G405:G408)","v":0}]
[null,"AMA004","RED AGUA POLIPROPILENO ROSCADO","GLOBAL",null,null,{"$f":"ROUND(E405*F405,2)","v":0},null,null,{"$f":"+G405-K405","v":0}]
[null,"AMA005","RED AGUA POLIPROPILENO TERMOFUSIONADO","GLOBAL",null,null,0,null,null,0]
[null,"AMA010","EQUIPOS DE BOMBEO","GLOBAL",null,null,0,null,null,{"$f":"+G407-K407","v":0}]
[null,"AMA011","INSTALACIONES EN DEPÓSITOS AGUA POTABLE","GLOBAL",null,null,0,null,null,{"$f":"+G408-K408","v":0}]
[null,null,"APARATOS Y GRIFERÍAS",null,null,null,{"$f":"SUM(G410:G416)","v":0}]
[null,"AMA006","CONEXIONES APARATOS SANITARIOS Y GRIFERÍA","GLOBAL",null,null,{"$f":"ROUND(E410*F410,2)","v":0},null,null,0]
[null,"AMA007","COLOCACIÓN CISTERNAS","UN",null,null,0,null,null,0]
[null,"AMA008","ACCESORIOS BAÑOS","GLOBAL",null,null,0,null,null,0]
[null,"AND007","SUMINISTRO DE ARTEFACTOS SANITARIOS (incluye cisternas)","GLOBAL",null,null,0,null,null,0]
[null,"AND008","COLOCACION DE ARTEFACTOS SANITARIOS","GLOBAL",null,null,0,null,null,0]
[null,"AND009","SUMINISTRO DE GRIFERIA","GLOBAL",null,null,0,null,null,0]
[null,"AND010","COLOCACION DE GRIFERIA","GLOBAL",null,null,0,null,null,0]
[null,null,"DESGÜES",null,null,null,{"$f":"SUM(G418:G420)","v":0}]
[null,"AMA001","DESAGÜES P.V.C.","GLOBAL",null,null,{"$f":"ROUND(E418*F418,2)","v":0},null,null,{"$f":"+G418-K418","v":0}]
[null,"AMA002","DESAGÜES FF","GLOBAL",null,null,0,null,null,{"$f":"+G419-K419","v":0}]
[null,"AMA003","DESAGÜES PPL CON JUNTAS DE GOMA","GLOBAL",null,null,0,null,null,{"$f":"+G420-K420","v":0}]
[null,null,"INSTALACIÓN CONTRA INCENDIOS",null,null,null,{"$f":"+H421","v":0},{"$f":"SUM(G422:G426)","v":0},null,{"$f":"SUM(J422:J426)","v":0},{"$f":"SUM(K422:K426)","v":0}]
[null,"AMB001","MANGUERAS Y GRIFOS","UN",null,null,{"$f":"ROUND(E422*F422,2)","v":0},null,null,0]
[null,"AMB002","EXTINGUIDORES","UN",null,null,0,null,null,0]
[null,"AMB004","INSTALACIÓN AGUA POR MEDIDAS CONTRA INCENDIO, RED,TANQUE, GRIFOS, BOCAS INCENDIO","UN",null,null,0,null,null,{"$f":"+G424-K424","v":0}]
[null,"AMB005","SEÑALIZACION MEDIDAS CONTRA INCENDIO","UN",null,null,0,null,null,0]
[null,"AMB006","INSTALACIÓN ELECTRICA POR MEDIDAS CONTRA INCENDIO, ALARMAS, BOMBAS,","UN",null,null,0,null,null,0]
[null,null,"INSTALACIÓN ELÉCTRICA",null,null,null,{"$f":"+H427","v":0},{"$f":"SUM(G428:G441)","v":0},null,{"$f":"SUM(J428:J441)","v":0},{"$f":"SUM(K428:K441)","v":0}]
[null,"AMC001","CANALIZACIONES EN LOSAS ( INST. ELÉCTRICA)","GLOBAL",null,null,{"$f":"ROUND(E428*F428,2)","v":0},null,null,0]
[null,"AMC002","CANALIZACIONES EN MUROS ( INST. ELÉCTRICA)","GLOBAL",null,null,0,null,null,0]
[null,"AMC003","CANALIZACIONES SUBTERRÁNEAS (INST. ELÉCTRICA)","GLOBAL",null,null,0,null,null,0]
[null,"AMC004","ENHEBRADOS","GLOBAL",null,null,0,null,null,0]
[null,"AMC005","TERMINACIONES ENTABLEROS","GLOBAL",null,null,0,null,null,0]
[null,"AMC006","COLOCACIÓN DE MÓDULOS Y PLACAS","GLOBAL",null,null,0,null,null,0]
[null,"AMC007","SUMINISTRO Y COLOCACIÓN DE LUMINARIAS","GLOBAL",null,null,0,null,null,0]
[null,"AMC008","INSTALACIÓN PARARRAYOS","GLOBAL",null,null,0,null,null,0]
[null,"AMD001","CANLIZACIONES EN LOSAS (TELEFÓNO)","GLOBAL",null,null,0,null,null,0]
[null,"AMD002","CANALIZACIONES EN MUROS (TELEFÓNO)","GLOBAL",null,null,0,null,null,0]
[null,"AMD003","ENHEBRADOS (TELEFÓNO)","GLOBAL",null,null,0,null,null,0]
[null,"AMD004","CAJA TERMINAL (TELEFÓNO)","GLOBAL",null,null,0,null,null,0]
[null,"AMF001","PORTERO ELÉCTRICO","UN",null,null,0,null,null,{"$f":"+G440-K440","v":0}]
[null,"BCB006","TASAS DE CONEXIÓN Y CARGA (UTE)","GLOBAL",null,null,0,null,null,{"$f":"+G441-K441","v":0}]
[null,null,"ASCENSOR",null,null,null,{"$f":"+H442","v":0},{"$f":"SUM(G443:G445)","v":0},null,{"$f":"SUM(J443:J445)","v":0},{"$f":"SUM(K443:K445)","v":0}]
[null,"AME001","MOTOR (ASCENSORES)","GLOBAL",null,null,{"$f":"ROUND(E443*F443,2)","v":0},null,null,{"$f":"+G443-K443","v":0}]
[null,"AME002","ESTRUCTURA DE CABINA ASCENSOR Y COM. PARCIAL","GLOBAL",null,null,0,null,null,0]
[null,"AME003","TERMINACIÓN DE CABINA ASCENSOR Y COMANDOS","GLOBAL",null,null,0,null,null,0]
[null,null,"PINTURA",null,null,null,{"$f":"+H446","v":0},{"$f":"SUM(G447:G453)","v":0},null,{"$f":"SUM(J447:J453)","v":0},{"$f":"SUM(K447:K453)","v":0}]
[null,"AHG001","PINTURA A LA CAL CON FIJADOR EN PARAMENTOS","M2",null,null,{"$f":"ROUND(E447*F447,2)","v":0},null,null,{"$f":"+G447-K447","v":0}]
[null,"AHG002","PINTURA A LA CAL CON FIJADOR EN CIELORRASOS","M2",null,null,0,null,null,0]
[null,"AHG003","PINTURA AL AGUA EN PARAMENTOS/CIELORRASOS","M2",null,null,0,null,null,0]
[null,"AHG004","PINTURAS CEMENTICIAS (EXTERIORES)","M2",null,null,0,null,null,0]
[null,"AHG005","PINTURA LATEX ACRILICA (EXTERIORES)","M2",null,null,0,null,null,0]
[null,"AHG010","ESMALTES SINTÉTICOS (S/MADERA/HERRERÍA)","M2",null,null,0,null,null,0]
[null,"AHG011","BARNIZ MARINO","M2",null,null,0,null,null,0]
[null,null,"SALÓN USOS MULTIPLES",null,null,null,{"$f":"+H454","v":0},{"$f":"SUM(G455:G461)","v":0},null,{"$f":"SUM(J455:J461)","v":0},{"$f":"SUM(K455:K461)","v":0}]
[null,"AOA001","FUNDACIONES PARA SUM","GLOBAL",null,null,{"$f":"ROUND(E455*F455,2)","v":0},null,null,{"$f":"+G455-K455","v":0}]
[null,"AOA005","ESTRUCTURA PARA SUM","GLOBAL",null,null,0,null,null,0]
[null,"AOA010","ALBAÑILERIA PARA SUM","GLOBAL",null,null,0,null,null,0]
[null,"AOA015","SANITARIA PARA SUM","GLOBAL",null,null,0,null,null,0]
[null,"AOA020","ELECTRICA PARA SUM","GLOBAL",null,null,0,null,null,0]
[null,"AOA025","ABERTURAS PARA SUM","GLOBAL",null,null,0,null,null,0]
[null,"AOA030","CUBIERTA PARA SUM","GLOBAL",null,null,0,null,null,0]
[null,null,"INFRAESTRUCTURA",null,null,null,{"$f":"SUM(G463:G536)","v":0},{"$f":"SUM(H463:H536)","v":0},null,{"$f":"+J463+J472+J491+J524+J534","v":0},{"$f":"+K463+K472+K491+K524+K534","v":0}]
[null,null,"OBRAS EXTERIORES",null,null,null,{"$f":"+H463","v":0},{"$f":"SUM(G464:G471)","v":0},null,{"$f":"SUM(J464:J471)","v":0},{"$f":"SUM(K464:K471)","v":0}]
[null,"ANB003","REJAS EXTERIORES","ML",null,null,{"$f":"ROUND(E464*F464,2)","v":0},null,null,{"$f":"+G464-K464","v":0}]
[null,"ANB004","PLANTACIÓN DE ÁRBOLES","UN",null,null,0,null,null,0]
[null,"ANB006","SUELO PASTO","M2",null,null,0,null,null,0]
[null,"ANB007","CERCOS METALICOS/MADERA","ML",null,null,0,null,null,0]
[null,"ANB008","CIMENTACIÓN,BANCOS Y MURETES","GLOBAL",null,null,0,null,null,0]
[null,"ANB009","MUROS/MURETES ALBAÑILERIA","M2",null,null,0,null,null,0]
[null,"ANB013","OBRAS EXTERIORES VARIAS (PARRILLERO, ESPACIO MEDIDORES, OTRAS)","GLOBAL",null,null,0,null,null,0]
[null,"ANB014","CANTO RODADO, PIEDRA PARTIDA, SOBRE BASE COMPACTADA","M2",null,null,0,null,null,0]
[null,null,"INFRAESTRUCTURA ELÉCTRICA",null,null,null,{"$f":"+H472","v":0},{"$f":"SUM(G473:G490)","v":0},null,{"$f":"SUM(J473:J490)","v":0},{"$f":"SUM(K473:K490)","v":0}]
[null,"AND017","SUMINISTRO DE COLUMNAS DE ALUMBRADOS PREFABRICADAS","UN",null,null,{"$f":"ROUND(E473*F473,2)","v":0},null,null,{"$f":"+G473-K473","v":0}]
[null,"AND018","COLOCACION DE COLUMNAS DE ALUMBRADOS PREFABRICADAS","UN",null,null,0,null,null,0]
[null,"BCA003","DUCTOS (BT SUBTERRÁNEA)","M",null,null,0,null,null,0]
[null,"BCA005","CAÑOS DE HORMIGÓN (BT SUBTERRÁNEA)","M",null,null,{"$f":"ROUND(E476*F476,2)","v":0},null,null,{"$f":"+G476-K476","v":0}]
[null,"BCA006","CÁMARAS (BT SUBTERRÁNEA)","GLOBAL",null,null,0,null,null,0]
[null,"BCA007","CABLEADO (RED BT)","M",null,null,0,null,null,0]
[null,"BCB001","SUMINISTRO Y MONTAJE DE COLUMNAS (RED BT)","GLOBAL",null,null,0,null,null,0]
[null,"BCB003","CABLEADO (RED BT)","M",null,null,0,null,null,0]
[null,"BCC002","SUMINISTRO Y MONTAJE DE COLUMNAS (RED ALUMBRADO)","GLOBAL",null,null,0,null,null,0]
[null,"BCC004","CÁMARAS (RED ALUMBRADO)","GLOBAL",null,null,0,null,null,0]
[null,"BCC005","CAÑOS P.V.C (RED ALUMBRADO)","M",null,null,0,null,null,0]
[null,"BCC006","CONDUCTORES (RED ALUMBRADO)","M",null,null,0,null,null,0]
[null,"BCC007","ARTEFACTOS ILUMINACIÓN COMPLETOS","UN",null,null,0,null,null,0]
[null,"BCC008","TABLERO DE ILUMINACIÓN EXTERIOR","UN",null,null,0,null,null,0]
[null,"BDA002","DUCTOS (RED TELEFÓNICA)","GLOBAL",null,null,{"$f":"ROUND(E487*F487,2)","v":0},null,null,{"$f":"+G487-K487","v":0}]
[null,"BDA003","CÁMARAS (RED TELEFÓNICA)","GLOBAL",null,null,0,null,null,0]
[null,"BDA004","CAÑOS P.V.C (RED TELEFÓNICA)","ML",null,null,0,null,null,0]
[null,"BDA005","COLUMNAS (RED TELEFÓNICA)","GLOBAL",null,null,0,null,null,0]
[null,null,"INFRAESTRUCTURA SANITARIA",null,null,null,{"$f":"+H491","v":0},{"$f":"SUM(G492:G523)","v":0},null,{"$f":"SUM(J492:J523)","v":0},{"$f":"SUM(K492:K523)","v":0}]
[null,"BAB001","ALCANTARILLAS HORMIGÓN","M",null,null,{"$f":"ROUND(E492*F492,2)","v":0},null,null,{"$f":"+G492-K492","v":0}]
[null,"BAB002","BADENES HORMIGÓN","M",null,null,0,null,null,0]
[null,"BAB003","CUNETA LADRILLO","M",null,null,0,null,null,0]
[null,"BAB004","CUNETA HORMIGON","M",null,null,0,null,null,0]
[null,"BAB005","CORDON CUNETA","M",null,null,0,null,null,0]
[null,"BAB006","ENTUBAMIENTO DE HORMIGÓN","M",null,null,0,null,null,0]
[null,"BBA001","SUMINISTRO Y COLOCACIÓN PVC 110 MM","M",null,null,0,null,null,0]
[null,"BBA002","SUMINISTRO Y COLOCACIÓN PVC 160 MM","M",null,null,0,null,null,0]
[null,"BBA003","SUMINISTRO Y COLOCACIÓN PVC 200 MM","M",null,null,0,null,null,0]
[null,"BBA004","CÁMARAS DE INSPECCIÓN 60X60","UN",null,null,0,null,null,{"$f":"+G501-K501","v":0}]
[null,"BBA005","CÁMARAS DE INSPECCIÓN 60X110","UN",null,null,0,null,null,0]
[null,"BBA006","CÁMARAS TERMINALES","UN",null,null,0,null,null,0]
[null,"BBA009","CAMARAS DE LIMPIA (SANEAMIENTO)","UN",null,null,0,null,null,0]
[null,"BBA010","EXCAVACION Y TAPADO ZANJAS (SANEAMIENTO INTERNO)","M",null,null,0,null,null,0]
[null,"BBA011","POZO DE BOMBEO","GLOBAL",null,null,0,null,null,0]
[null,"BBA014","CONEXION TIPO MONTURA A SANEAMIENTO","GLOBAL",null,null,0,null,null,0]
[null,"BBA015","DEPOSITO IMPERMEABLE INDIVIDUAL","UN",null,null,0,null,null,0]
[null,"BBA016","DEPOSITO IMPERMEABLE COLECTIVO","GLOBAL",null,null,0,null,null,0]
[null,"BBA017","FOSA SEPTICA INDIVIDUAL","UN",null,null,0,null,null,0]
[null,"BBA018","FOSA SEPTICA COLECTIVA","GLOBAL",null,null,0,null,null,0]
[null,"BBA019","HUMEDAL","GLOBAL",null,null,0,null,null,0]
[null,"BBB001","SUMINISTRO Y COLOCACIÓN DE PVC DIÁMETRO 63 (AGUA POTABLE)","M",null,null,0,null,null,0]
[null,"BBB002","SUMINISTRO Y COLOCACIÓN DE PVC DIÁMETRO 75 (AGUA POTABLE)","M",null,null,0,null,null,0]
[null,"BBB007","HIDRANTES","UN",null,null,0,null,null,0]
[null,"BBB012","EXCAVACION Y TAPADO ZANJAS (RED INTERNA AGUA)","ML",null,null,0,null,null,0]
[null,"BBC001","DOBLE EQUIPO BOMBEO AGUA","GLOBAL",null,null,0,null,null,0]
[null,"BBC002","LLAVES Y PROTECCIONES ELECTROMAGNÉTICAS","GLOBAL",null,null,0,null,null,0]
[null,"BBC003","CONEXIÓN ELÉCTRICA BOMBAS","GLOBAL",null,null,0,null,null,0]
[null,"BBC004","CAÑERÍA SUBIDA Y BAJADA (A TANQUES DE AGUA)","GLOBAL",null,null,0,null,null,0]
[null,"BBC005","TANQUES ELEVADOS","GLOBAL",null,null,{"$f":"ROUND(E521*F521,2)","v":0},null,null,{"$f":"+G521-K521","v":0}]
[null,"AND013","SUMINISTRO DE TANQUES DE AGUA DE PVC","UN",null,null,0,null,null,0]
[null,"AND014","COLOCACION DE TANQUES DE AGUA DE PVC","GLOBAL",null,null,0,null,null,0]
[null,null,"CAMINERÍA",null,null,null,{"$f":"+H524","v":0},{"$f":"SUM(G525:G533)","v":0},null,{"$f":"SUM(J525:J533)","v":0},{"$f":"SUM(K525:K533)","v":0}]
[null,"BAC001","BASE/SUBBASE GRANULAR (P/PAVIMENTO VEH./PEATONAL)","M3",null,null,{"$f":"ROUND(E525*F525,2)","v":0},null,null,{"$f":"+G525-K525","v":0}]
[null,"BAC002","PAVIMENTO HORMIGÓN (VEHICULAR)","M2",null,null,0,null,null,0]
[null,"BAC003","PAVIMENTO HORMIGÓN (PEATONAL)","M2",null,null,0,null,null,{"$f":"+G527-K527","v":0}]
[null,"BAC004","TRATAMIENTO BITUMINOSO","M2",null,null,0,null,null,{"$f":"+G528-K528","v":0}]
[null,"BAC005","MEZCLA ASFÁLTICA","M2",null,null,0,null,null,{"$f":"+G529-K529","v":0}]
[null,"BAC006","BALDOSONES HORMIGÓN","M2",null,null,0,null,null,0]
[null,"BAC007","ADOQUINES DE HORMIGÓN","M2",null,null,0,null,null,{"$f":"+G531-K531","v":0}]
[null,"ZZX246","PAVIMENTOS VEHICULARES","M2",null,null,0,null,null,{"$f":"+G532-K532","v":0}]
[null,"ZZX247","CAMINERIA Y JARDINERIA","M2",null,null,0,null,null,0]
[null,null,"SUBESTACIÓN TRANSFORMADORA",null,null,null,{"$f":"+H534","v":0},{"$f":"SUM(G535:G536)","v":0},null,{"$f":"SUM(J535:J536)","v":0},{"$f":"SUM(K535:K536)","v":0}]
[null,"BCB005","SUBESTACIÓN TRANSFORMADORA","UN",null,null,{"$f":"ROUND(E535*F535,2)","v":0},null,null,{"$f":"+G535-K535","v":0}]
[]
[]
[null,null,"TOTALES",null,null,null,null,{"$f":"+H462+H22+H16+H13","v":0},null,{"$f":"+J462+J22+J16+J13","v":0},{"$f":"+K462+K22+K16+K13","v":0}]
[]
[null,"OBSERVACIONES:"]
[]
[]
[]
[]
[null,null,null,null,null,null,null,"FECHA:"]

{"sheet":"DATOS SGO","index":3,"n_rows":65278,"n_cols":18,"rows_kept":65278,"cut":false,"hidden":false,"merged":[[135,2,135,3],[136,2,136,3],[152,2,152,3],[153,2,153,3],[154,2,154,3],[155,2,155,3],[123,2,123,3],[124,2,124,3],[125,2,125,3],[126,2,126,3],[127,2,127,3],[128,2,128,3],[129,2,129,3],[130,2,130,3],[131,2,131,3],[137,2,137,3],[138,2,138,3],[139,2,139,3],[140,2,140,3],[141,2,141,3],[142,2,142,3],[143,2,143,3],[144,2,144,3],[145,2,145,3],[180,2,180,3],[181,2,181,3],[182,2,182,3],[183,2,183,3],[184,2,184,3],[185,2,185,3],[174,2,174,3],[175,2,175,3],[176,2,176,3],[177,2,177,3],[178,2,178,3],[179,2,179,3],[186,2,186,3],[187,2,187,3],[31,11,31,15],[165,2,165,3],[166,2,166,3],[167,2,167,3],[168,2,168,3],[169,2,169,3],[170,2,170,3],[171,2,171,3],[172,2,172,3],[173,2,173,3],[156,2,156,3],[157,2,157,3],[158,2,158,3],[159,2,159,3],[160,2,160,3],[161,2,161,3],[162,2,162,3],[163,2,163,3],[164,2,164,3],[132,2,132,3],[133,2,133,3],[134,2,134,3],[114,2,114,3],[115,2,115,3],[116,2,116,3],[117,2,117,3],[118,2,118,3],[119,2,119,3],[120,2,120,3],[121,2,121,3],[122,2,122,3],[105,2,105,3],[106,2,106,3],[107,2,107,3],[108,2,108,3],[109,2,109,3],[110,2,110,3],[111,2,111,3],[112,2,112,3],[113,2,113,3],[96,2,96,3],[97,2,97,3],[98,2,98,3],[99,2,99,3],[100,2,100,3],[101,2,101,3],[102,2,102,3],[103,2,103,3],[104,2,104,3],[87,2,87,3],[88,2,88,3],[89,2,89,3],[90,2,90,3],[91,2,91,3],[92,2,92,3],[93,2,93,3],[94,2,94,3],[95,2,95,3],[78,2,78,3],[79,2,79,3],[80,2,80,3],[81,2,81,3],[82,2,82,3],[83,2,83,3],[84,2,84,3],[85,2,85,3],[86,2,86,3],[69,2,69,3],[70,2,70,3],[71,2,71,3],[72,2,72,3],[73,2,73,3],[74,2,74,3],[75,2,75,3],[76,2,76,3],[77,2,77,3],[49,2,49,3],[50,2,50,3],[59,2,59,3],[60,2,60,3],[64,2,64,3],[65,2,65,3],[66,2,66,3],[67,2,67,3],[28,11,28,15],[29,11,29,15],[32,11,32,15],[57,2,57,3],[58,2,58,3],[61,2,61,3],[62,2,62,3],[51,2,51,3],[52,2,52,3],[53,2,53,3],[54,2,54,3],[55,2,55,3],[56,2,56,3],[63,2,63,3],[146,2,146,3],[147,2,147,3],[148,2,148,3],[149,2,149,3],[150,2,150,3],[151,2,151,3],[190,1,190,2],[31,2,31,3],[32,2,32,3],[34,2,34,3],[35,2,35,3],[36,2,36,3],[37,2,37,3],[38,2,38,3],[39,2,39,3],[40,2,40,3],[41,2,41,3],[42,2,42,3],[43,2,43,3],[44,2,44,3],[45,2,45,3],[46,2,46,3],[47,2,47,3],[48,2,48,3]]}
[]
[null,"FECHA:",{"$f":"IF(CARATULA!D7=0,\"\",CARATULA!D7)","v":""}]
[null,"ETAPA:",{"$f":"CARATULA!D8","v":0}]
[]
[null,"DATOS GENERALES"]
[]
[null,"PROPUESTA",{"$f":"+CARATULA!D14","v":"REGISTRO"}]
[null,"NOMBRE",{"$f":"+CARATULA!E15","v":0}]
[null,"IAT",{"$f":"+CARATULA!E16","v":0}]
[]
[null,"CANTIDAD DE VIVIENDAS",null,{"$f":"+CARATULA!G21","v":0}]
[null,"PRESTAMO (1)",null,{"$f":"+CARATULA!G25","v":0}]
[null,"SUBSIDIO (2)",null,{"$f":"+CARATULA!G26","v":0}]
[null,"APORTE (3)",null,{"$f":"+CARATULA!G27","v":0}]
[null,"VALOR DE TASACIÒN (1)+(2)+(3)",null,{"$f":"SUM(D12:D14)","v":0}]
[null,"% RETENCIÓN (4)",null,{"$f":"+CARATULA!G29","v":0}]
[]
[null,"COSTOS FIJOS"]
[]
[null,null,"TOTAL COSTOS FIJOS Y RETENCIÓN",{"$f":"SUM(D22:D27)","v":0}]
[null,"UU.CC.","DESCRIPCIÓN UU.CC.","INVERSIÓN"]
[null,"CAF001","GASTOS Y HONORARIOS DE ESCRITURA",{"$f":"+CARATULA!G35","v":0}]
[null,"A00001","TERRENO",{"$f":"+CARATULA!G36","v":0}]
[null,"CAC001","HONORARIOS (PROYECTO)",{"$f":"+CARATULA!G37","v":0}]
[null,"CAE001","HONORARIOS (ASESORES)",{"$f":"+CARATULA!G38","v":0}]
[null,"CAG001","PERMISO DE CONSTRUCCIÓN",{"$f":"+CARATULA!G39","v":0}]
[null,"DAA001","RETENCIONES ",{"$f":"+D12*D16","v":0}]
[]
[null,null,null,null,null,null,null,null,null,null,null,"FACTOR PARA TRABAJO 2 (PRÉSTAMO)",null,null,null,null,{"$f":"IF(H32=0, \"\",+(D12-D20)/H32)","v":""}]
["UU.CC. DE OBRA",null,null,null,null,null,null,null,null,null,null,"FACTOR PARA TRABAJO 3 (SUBSIDIO)",null,null,null,null,{"$f":"IF(H32=0, \"\",+D13/H32)","v":""}]
[]
[null,null,"TOTAL DE OBRA (SIN DESCONTAR RETENCIÓN)",null,null,null,null,{"$f":"+D12+D13-D20+D27","v":0},{"$f":"+D14","v":0},{"$f":"+H32+I32","v":0},null,"MONTOS TOTALES ASIGNADOS A TRABAJOS 2 Y 3",null,null,null,null,{"$f":"+D12-D20","v":0},{"$f":"+D13","v":0}]
[null,null,"VERIFICACIÓN",null,null,null,null,{"$f":"SUM(H36:H188)","v":0},{"$f":"SUM(I36:I188)","v":0},{"$f":"SUM(J36:J188)","v":0},null,"VERIFICACIÓN DE MONTOS UNITARIOS",null,null,null,null,{"$f":"SUM(Q36:Q188)*100","v":0},{"$f":"SUM(R36:R188)*100","v":0}]
[]
[null,"UU.CC.","DESCRIPCIÓN UU.CC.",null,"METRAJE","UNIDAD","PREC. UNIT. (U.R.)","INVERSIÓN (U.R.)","APORTE  (U.R.)","MONTO TOTAL  (U.R.)",null,null,null,null,null,null,"TRABAJO 2","TRABAJO 3"]
[null,"CAA002","HONORARIOS DIRECCION DE OBRA",null,1,{"$f":"IF(ISTEXT(B36), VLOOKUP(B36, PRESUPUESTO!$B$14:$D$4211, 3, FALSE),\"\")","v":"GLOBAL"},{"$f":"+J36","v":0},{"$f":"+PRESUPUESTO!J14","v":0},{"$f":"+PRESUPUESTO!K14","v":0},{"$f":"+H36+I36","v":0},null,null,null,null,null,null,{"$f":"IF(AND(ISNUMBER($Q$29),ISTEXT(B36)),+H36*$Q$29/100, \"\")","v":""},{"$f":"IF(ISNUMBER($Q$30),H36*$Q$30/100,\"\")","v":""}]
[null,"ZZX241","LEYES SOCIALES",null,1,{"$f":"IF(ISTEXT(B37), VLOOKUP(B37, PRESUPUESTO!$B$14:$D$4211, 3, FALSE),\"\")","v":"GLOBAL"},{"$f":"+J37","v":0},{"$f":"+PRESUPUESTO!J15","v":0},{"$f":"+PRESUPUESTO!K15","v":0},0,null,null,null,null,null,null,"",{"$f":"IF(ISNUMBER($Q$30),H37*$Q$30/100,\"\")","v":""}]
[1,null,{"$f":"IF(ISBLANK(B38), \"\",VLOOKUP(B38,PRESUPUESTO!$B$17:$C$4211, 2, FALSE))","v":""},null,{"$f":"IF(ISTEXT(B38), VLOOKUP(B38, PRESUPUESTO!$B$14:$F$4211, 4, FALSE),\"\")","v":""},{"$f":"IF(ISTEXT(B38), VLOOKUP(B38, PRESUPUESTO!$B$17:$D$4211, 3, FALSE),\"\")","v":""},{"$f":"IF(ISTEXT(B38), VLOOKUP(B38, PRESUPUESTO!$B$14:$F$4211, 5, FALSE),\"\")","v":""},{"$f":"IF(ISTEXT(B38), VLOOKUP(B38, PRESUPUESTO!$B$14:$J$4211, 9, FALSE),\"\")","v":""},{"$f":"IF(ISTEXT(B38), VLOOKUP(B38, PRESUPUESTO!$B$14:$K$4211, 10, FALSE),\"\")","v":""},{"$f":"IF(ISBLANK(B38),B38,(H38+I38))","v":0},null,null,null,null,null,null,""]
[2,null,{"$f":"IF(ISBLANK(B39), \"\",VLOOKUP(B39,PRESUPUESTO!$B$17:$C$4211, 2, FALSE))","v":""},null,{"$f":"IF(ISTEXT(B39), VLOOKUP(B39, PRESUPUESTO!$B$14:$F$4211, 4, FALSE),\"\")","v":""},{"$f":"IF(ISTEXT(B39), VLOOKUP(B39, PRESUPUESTO!$B$17:$D$4211, 3, FALSE),\"\")","v":""},{"$f":"IF(ISTEXT(B39), VLOOKUP(B39, PRESUPUESTO!$B$14:$F$4211, 5, FALSE),\"\")","v":""},{"$f":"IF(ISTEXT(B39), VLOOKUP(B39, PRESUPUESTO!$B$14:$J$4211, 9, FALSE),\"\")","v":""},{"$f":"IF(ISTEXT(B39), VLOOKUP(B39, PRESUPUESTO!$B$14:$K$4211, 10, FALSE),\"\")","v":""},{"$f":"IF(ISBLANK(B39),B39,(H39+I39))","v":0},null,null,null,null,null,null,""]
[3,null,{"$f":"IF(ISBLANK(B40), \"\",VLOOKUP(B40,PRESUPUESTO!$B$17:$C$4211, 2, FALSE))","v":""},null,{"$f":"IF(ISTEXT(B40), VLOOKUP(B40, PRESUPUESTO!$B$14:$F$4211, 4, FALSE),\"\")","v":""},{"$f":"IF(ISTEXT(B40), VLOOKUP(B40, PRESUPUESTO!$B$17:$D$4211, 3, FALSE),\"\")","v":""},{"$f":"IF(ISTEXT(B40), VLOOKUP(B40, PRESUPUESTO!$B$14:$F$4211, 5, FALSE),\"\")","v":""},{"$f":"IF(ISTEXT(B40), VLOOKUP(B40, PRESUPUESTO!$B$14:$J$4211, 9, FALSE),\"\")","v":""},{"$f":"IF(ISTEXT(B40), VLOOKUP(B40, PRESUPUESTO!$B$14:$K$4211, 10, FALSE),\"\")","v":""},0,null,null,null,null,null,null,""]
[4,null,{"$f":"IF(ISBLANK(B41), \"\",VLOOKUP(B41,PRESUPUESTO!$B$17:$C$4211, 2, FALSE))","v":""},null,{"$f":"IF(ISTEXT(B41), VLOOKUP(B41, PRESUPUESTO!$B$14:$F$4211, 4, FALSE),\"\")","v":""},{"$f":"IF(ISTEXT(B41), VLOOKUP(B41, PRESUPUESTO!$B$17:$D$4211, 3, FALSE),\"\")","v":""},{"$f":"IF(ISTEXT(B41), VLOOKUP(B41, PRESUPUESTO!$B$14:$F$4211, 5, FALSE),\"\")","v":""},{"$f":"IF(ISTEXT(B41), VLOOKUP(B41, PRESUPUESTO!$B$14:$J$4211, 9, FALSE),\"\")","v":""},{"$f":"IF(ISTEXT(B41), VLOOKUP(B41, PRESUPUESTO!$B$14:$K$4211, 10, FALSE),\"\")","v":""},0,null,null,null,null,null,null,""]
[5,null,{"$f":"IF(ISBLANK(B42), \"\",VLOOKUP(B42,PRESUPUESTO!$B$17:$C$4211, 2, FALSE))","v":""},null,{"$f":"IF(ISTEXT(B42), VLOOKUP(B42, PRESUPUESTO!$B$14:$F$4211, 4, FALSE),\"\")","v":""},{"$f":"IF(ISTEXT(B42), VLOOKUP(B42, PRESUPUESTO!$B$17:$D$4211, 3, FALSE),\"\")","v":""},{"$f":"IF(ISTEXT(B42), VLOOKUP(B42, PRESUPUESTO!$B$14:$F$4211, 5, FALSE),\"\")","v":""},{"$f":"IF(ISTEXT(B42), VLOOKUP(B42, PRESUPUESTO!$B$14:$J$4211, 9, FALSE),\"\")","v":""},{"$f":"IF(ISTEXT(B42), VLOOKUP(B42, PRESUPUESTO!$B$14:$K$4211, 10, FALSE),\"\")","v":""},0,null,null,null,null,null,null,""]
[6,null,{"$f":"IF(ISBLANK(B43), \"\",VLOOKUP(B43,PRESUPUESTO!$B$17:$C$4211, 2, FALSE))","v":""},null,{"$f":"IF(ISTEXT(B43), VLOOKUP(B43, PRESUPUESTO!$B$14:$F$4211, 4, FALSE),\"\")","v":""},{"$f":"IF(ISTEXT(B43), VLOOKUP(B43, PRESUPUESTO!$B$17:$D$4211, 3, FALSE),\"\")","v":""},{"$f":"IF(ISTEXT(B43), VLOOKUP(B43, PRESUPUESTO!$B$14:$F$4211, 5, FALSE),\"\")","v":""},{"$f":"IF(ISTEXT(B43), VLOOKUP(B43, PRESUPUESTO!$B$14:$J$4211, 9, FALSE),\"\")","v":""},{"$f":"IF(ISTEXT(B43), VLOOKUP(B43, PRESUPUESTO!$B$14:$K$4211, 10, FALSE),\"\")","v":""},0,null,null,null,null,null,null,""]
[7,null,{"$f":"IF(ISBLANK(B44), \"\",VLOOKUP(B44,PRESUPUESTO!$B$17:$C$4211, 2, FALSE))","v":""},null,{"$f":"IF(ISTEXT(B44), VLOOKUP(B44, PRESUPUESTO!$B$14:$F$4211, 4, FALSE),\"\")","v":""},{"$f":"IF(ISTEXT(B44), VLOOKUP(B44, PRESUPUESTO!$B$17:$D$4211, 3, FALSE),\"\")","v":""},{"$f":"IF(ISTEXT(B44), VLOOKUP(B44, PRESUPUESTO!$B$14:$F$4211, 5, FALSE),\"\")","v":""},{"$f":"IF(ISTEXT(B44), VLOOKUP(B44, PRESUPUESTO!$B$14:$J$4211, 9, FALSE),\"\")","v":""},{"$f":"IF(ISTEXT(B44), VLOOKUP(B44, PRESUPUESTO!$B$14:$K$4211, 10, FALSE),\"\")","v":""},0,null,null,null,null,null,null,""]
[8,null,{"$f":"IF(ISBLANK(B45), \"\",VLOOKUP(B45,PRESUPUESTO!$B$17:$C$4211, 2, FALSE))","v":""},null,{"$f":"IF(ISTEXT(B45), VLOOKUP(B45, PRESUPUESTO!$B$14:$F$4211, 4, FALSE),\"\")","v":""},{"$f":"IF(ISTEXT(B45), VLOOKUP(B45, PRESUPUESTO!$B$17:$D$4211, 3, FALSE),\"\")","v":""},{"$f":"IF(ISTEXT(B45), VLOOKUP(B45, PRESUPUESTO!$B$14:$F$4211, 5, FALSE),\"\")","v":""},{"$f":"IF(ISTEXT(B45), VLOOKUP(B45, PRESUPUESTO!$B$14:$J$4211, 9, FALSE),\"\")","v":""},{"$f":"IF(ISTEXT(B45), VLOOKUP(B45, PRESUPUESTO!$B$14:$K$4211, 10, FALSE),\"\")","v":""},0,null,null,null,null,null,null,""]
[9,null,{"$f":"IF(ISBLANK(B46), \"\",VLOOKUP(B46,PRESUPUESTO!$B$17:$C$4211, 2, FALSE))","v":""},null,{"$f":"IF(ISTEXT(B46), VLOOKUP(B46, PRESUPUESTO!$B$14:$F$4211, 4, FALSE),\"\")","v":""},{"$f":"IF(ISTEXT(B46), VLOOKUP(B46, PRESUPUESTO!$B$17:$D$4211, 3, FALSE),\"\")","v":""},{"$f":"IF(ISTEXT(B46), VLOOKUP(B46, PRESUPUESTO!$B$14:$F$4211, 5, FALSE),\"\")","v":""},{"$f":"IF(ISTEXT(B46), VLOOKUP(B46, PRESUPUESTO!$B$14:$J$4211, 9, FALSE),\"\")","v":""},{"$f":"IF(ISTEXT(B46), VLOOKUP(B46, PRESUPUESTO!$B$14:$K$4211, 10, FALSE),\"\")","v":""},0,null,null,null,null,null,null,""]
[10,null,{"$f":"IF(ISBLANK(B47), \"\",VLOOKUP(B47,PRESUPUESTO!$B$17:$C$4211, 2, FALSE))","v":""},null,{"$f":"IF(ISTEXT(B47), VLOOKUP(B47, PRESUPUESTO!$B$14:$F$4211, 4, FALSE),\"\")","v":""},{"$f":"IF(ISTEXT(B47), VLOOKUP(B47, PRESUPUESTO!$B$17:$D$4211, 3, FALSE),\"\")","v":""},{"$f":"IF(ISTEXT(B47), VLOOKUP(B47, PRESUPUESTO!$B$14:$F$4211, 5, FALSE),\"\")","v":""},{"$f":"IF(ISTEXT(B47), VLOOKUP(B47, PRESUPUESTO!$B$14:$J$4211, 9, FALSE),\"\")","v":""},{"$f":"IF(ISTEXT(B47), VLOOKUP(B47, PRESUPUESTO!$B$14:$K$4211, 10, FALSE),\"\")","v":""},0,null,null,null,null,null,null,""]
[11,null,{"$f":"IF(ISBLANK(B48), \"\",VLOOKUP(B48,PRESUPUESTO!$B$17:$C$4211, 2, FALSE))","v":""},null,{"$f":"IF(ISTEXT(B48), VLOOKUP(B48, PRESUPUESTO!$B$14:$F$4211, 4, FALSE),\"\")","v":""},{"$f":"IF(ISTEXT(B48), VLOOKUP(B48, PRESUPUESTO!$B$17:$D$4211, 3, FALSE),\"\")","v":""},{"$f":"IF(ISTEXT(B48), VLOOKUP(B48, PRESUPUESTO!$B$14:$F$4211, 5, FALSE),\"\")","v":""},{"$f":"IF(ISTEXT(B48), VLOOKUP(B48, PRESUPUESTO!$B$14:$J$4211, 9, FALSE),\"\")","v":""},{"$f":"IF(ISTEXT(B48), VLOOKUP(B48, PRESUPUESTO!$B$14:$K$4211, 10, FALSE),\"\")","v":""},0,null,null,null,null,null,null,""]
[12,null,{"$f":"IF(ISBLANK(B49), \"\",VLOOKUP(B49,PRESUPUESTO!$B$17:$C$4211, 2, FALSE))","v":""},null,{"$f":"IF(ISTEXT(B49), VLOOKUP(B49, PRESUPUESTO!$B$14:$F$4211, 4, FALSE),\"\")","v":""},{"$f":"IF(ISTEXT(B49), VLOOKUP(B49, PRESUPUESTO!$B$17:$D$4211, 3, FALSE),\"\")","v":""},{"$f":"IF(ISTEXT(B49), VLOOKUP(B49, PRESUPUESTO!$B$14:$F$4211, 5, FALSE),\"\")","v":""},{"$f":"IF(ISTEXT(B49), VLOOKUP(B49, PRESUPUESTO!$B$14:$J$4211, 9, FALSE),\"\")","v":""},{"$f":"IF(ISTEXT(B49), VLOOKUP(B49, PRESUPUESTO!$B$14:$K$4211, 10, FALSE),\"\")","v":""},0,null,null,null,null,null,null,""]
[13,null,{"$f":"IF(ISBLANK(B50), \"\",VLOOKUP(B50,PRESUPUESTO!$B$17:$C$4211, 2, FALSE))","v":""},null,{"$f":"IF(ISTEXT(B50), VLOOKUP(B50, PRESUPUESTO!$B$14:$F$4211, 4, FALSE),\"\")","v":""},{"$f":"IF(ISTEXT(B50), VLOOKUP(B50, PRESUPUESTO!$B$17:$D$4211, 3, FALSE),\"\")","v":""},{"$f":"IF(ISTEXT(B50), VLOOKUP(B50, PRESUPUESTO!$B$14:$F$4211, 5, FALSE),\"\")","v":""},{"$f":"IF(ISTEXT(B50), VLOOKUP(B50, PRESUPUESTO!$B$14:$J$4211, 9, FALSE),\"\")","v":""},{"$f":"IF(ISTEXT(B50), VLOOKUP(B50, PRESUPUESTO!$B$14:$K$4211, 10, FALSE),\"\")","v":""},0,null,null,null,null,null,null,""]
[14,null,{"$f":"IF(ISBLANK(B51), \"\",VLOOKUP(B51,PRESUPUESTO!$B$17:$C$4211, 2, FALSE))","v":""},null,{"$f":"IF(ISTEXT(B51), VLOOKUP(B51, PRESUPUESTO!$B$14:$F$4211, 4, FALSE),\"\")","v":""},{"$f":"IF(ISTEXT(B51), VLOOKUP(B51, PRESUPUESTO!$B$17:$D$4211, 3, FALSE),\"\")","v":""},{"$f":"IF(ISTEXT(B51), VLOOKUP(B51, PRESUPUESTO!$B$14:$F$4211, 5, FALSE),\"\")","v":""},{"$f":"IF(ISTEXT(B51), VLOOKUP(B51, PRESUPUESTO!$B$14:$J$4211, 9, FALSE),\"\")","v":""},{"$f":"IF(ISTEXT(B51), VLOOKUP(B51, PRESUPUESTO!$B$14:$K$4211, 10, FALSE),\"\")","v":""},0,null,null,null,null,null,null,""]
[15,null,{"$f":"IF(ISBLANK(B52), \"\",VLOOKUP(B52,PRESUPUESTO!$B$17:$C$4211, 2, FALSE))","v":""},null,{"$f":"IF(ISTEXT(B52), VLOOKUP(B52, PRESUPUESTO!$B$14:$F$4211, 4, FALSE),\"\")","v":""},{"$f":"IF(ISTEXT(B52), VLOOKUP(B52, PRESUPUESTO!$B$17:$D$4211, 3, FALSE),\"\")","v":""},{"$f":"IF(ISTEXT(B52), VLOOKUP(B52, PRESUPUESTO!$B$14:$F$4211, 5, FALSE),\"\")","v":""},{"$f":"IF(ISTEXT(B52), VLOOKUP(B52, PRESUPUESTO!$B$14:$J$4211, 9, FALSE),\"\")","v":""},{"$f":"IF(ISTEXT(B52), VLOOKUP(B52, PRESUPUESTO!$B$14:$K$4211, 10, FALSE),\"\")","v":""},0,null,null,null,null,null,null,""]
[16,null,{"$f":"IF(ISBLANK(B53), \"\",VLOOKUP(B53,PRESUPUESTO!$B$17:$C$4211, 2, FALSE))","v":""},null,{"$f":"IF(ISTEXT(B53), VLOOKUP(B53, PRESUPUESTO!$B$14:$F$4211, 4, FALSE),\"\")","v":""},{"$f":"IF(ISTEXT(B53), VLOOKUP(B53, PRESUPUESTO!$B$17:$D$4211, 3, FALSE),\"\")","v":""},{"$f":"IF(ISTEXT(B53), VLOOKUP(B53, PRESUPUESTO!$B$14:$F$4211, 5, FALSE),\"\")","v":""},{"$f":"IF(ISTEXT(B53), VLOOKUP(B53, PRESUPUESTO!$B$14:$J$4211, 9, FALSE),\"\")","v":""},{"$f":"IF(ISTEXT(B53), VLOOKUP(B53, PRESUPUESTO!$B$14:$K$4211, 10, FALSE),\"\")","v":""},0,null,null,null,null,null,null,""]
[17,null,{"$f":"IF(ISBLANK(B54), \"\",VLOOKUP(B54,PRESUPUESTO!$B$17:$C$4211, 2, FALSE))","v":""},null,{"$f":"IF(ISTEXT(B54), VLOOKUP(B54, PRESUPUESTO!$B$14:$F$4211, 4, FALSE),\"\")","v":""},{"$f":"IF(ISTEXT(B54), VLOOKUP(B54, PRESUPUESTO!$B$17:$D$4211, 3, FALSE),\"\")","v":""},{"$f":"IF(ISTEXT(B54), VLOOKUP(B54, PRESUPUESTO!$B$14:$F$4211, 5, FALSE),\"\")","v":""},{"$f":"IF(ISTEXT(B54), VLOOKUP(B54, PRESUPUESTO!$B$14:$J$4211, 9, FALSE),\"\")","v":""},{"$f":"IF(ISTEXT(B54), VLOOKUP(B54, PRESUPUESTO!$B$14:$K$4211, 10, FALSE),\"\")","v":""},0,null,null,null,null,null,null,""]
[18,null,{"$f":"IF(ISBLANK(B55), \"\",VLOOKUP(B55,PRESUPUESTO!$B$17:$C$4211, 2, FALSE))","v":""},null,{"$f":"IF(ISTEXT(B55), VLOOKUP(B55, PRESUPUESTO!$B$14:$F$4211, 4, FALSE),\"\")","v":""},{"$f":"IF(ISTEXT(B55), VLOOKUP(B55, PRESUPUESTO!$B$17:$D$4211, 3, FALSE),\"\")","v":""},{"$f":"IF(ISTEXT(B55), VLOOKUP(B55, PRESUPUESTO!$B$14:$F$4211, 5, FALSE),\"\")","v":""},{"$f":"IF(ISTEXT(B55), VLOOKUP(B55, PRESUPUESTO!$B$14:$J$4211, 9, FALSE),\"\")","v":""},{"$f":"IF(ISTEXT(B55), VLOOKUP(B55, PRESUPUESTO!$B$14:$K$4211, 10, FALSE),\"\")","v":""},0,null,null,null,null,null,null,""]
[19,null,{"$f":"IF(ISBLANK(B56), \"\",VLOOKUP(B56,PRESUPUESTO!$B$17:$C$4211, 2, FALSE))","v":""},null,{"$f":"IF(ISTEXT(B56), VLOOKUP(B56, PRESUPUESTO!$B$14:$F$4211, 4, FALSE),\"\")","v":""},{"$f":"IF(ISTEXT(B56), VLOOKUP(B56, PRESUPUESTO!$B$17:$D$4211, 3, FALSE),\"\")","v":""},{"$f":"IF(ISTEXT(B56), VLOOKUP(B56, PRESUPUESTO!$B$14:$F$4211, 5, FALSE),\"\")","v":""},{"$f":"IF(ISTEXT(B56), VLOOKUP(B56, PRESUPUESTO!$B$14:$J$4211, 9, FALSE),\"\")","v":""},{"$f":"IF(ISTEXT(B56), VLOOKUP(B56, PRESUPUESTO!$B$14:$K$4211, 10, FALSE),\"\")","v":""},0,null,null,null,null,null,null,""]
[20,null,{"$f":"IF(ISBLANK(B57), \"\",VLOOKUP(B57,PRESUPUESTO!$B$17:$C$4211, 2, FALSE))","v":""},null,{"$f":"IF(ISTEXT(B57), VLOOKUP(B57, PRESUPUESTO!$B$14:$F$4211, 4, FALSE),\"\")","v":""},{"$f":"IF(ISTEXT(B57), VLOOKUP(B57, PRESUPUESTO!$B$17:$D$4211, 3, FALSE),\"\")","v":""},{"$f":"IF(ISTEXT(B57), VLOOKUP(B57, PRESUPUESTO!$B$14:$F$4211, 5, FALSE),\"\")","v":""},{"$f":"IF(ISTEXT(B57), VLOOKUP(B57, PRESUPUESTO!$B$14:$J$4211, 9, FALSE),\"\")","v":""},{"$f":"IF(ISTEXT(B57), VLOOKUP(B57, PRESUPUESTO!$B$14:$K$4211, 10, FALSE),\"\")","v":""},0,null,null,null,null,null,null,""]
[21,null,{"$f":"IF(ISBLANK(B58), \"\",VLOOKUP(B58,PRESUPUESTO!$B$17:$C$4211, 2, FALSE))","v":""},null,{"$f":"IF(ISTEXT(B58), VLOOKUP(B58, PRESUPUESTO!$B$14:$F$4211, 4, FALSE),\"\")","v":""},{"$f":"IF(ISTEXT(B58), VLOOKUP(B58, PRESUPUESTO!$B$17:$D$4211, 3, FALSE),\"\")","v":""},{"$f":"IF(ISTEXT(B58), VLOOKUP(B58, PRESUPUESTO!$B$14:$F$4211, 5, FALSE),\"\")","v":""},{"$f":"IF(ISTEXT(B58), VLOOKUP(B58, PRESUPUESTO!$B$14:$J$4211, 9, FALSE),\"\")","v":""},{"$f":"IF(ISTEXT(B58), VLOOKUP(B58, PRESUPUESTO!$B$14:$K$4211, 10, FALSE),\"\")","v":""},0,null,null,null,null,null,null,""]
[22,null,{"$f":"IF(ISBLANK(B59), \"\",VLOOKUP(B59,PRESUPUESTO!$B$17:$C$4211, 2, FALSE))","v":""},null,{"$f":"IF(ISTEXT(B59), VLOOKUP(B59, PRESUPUESTO!$B$14:$F$4211, 4, FALSE),\"\")","v":""},{"$f":"IF(ISTEXT(B59), VLOOKUP(B59, PRESUPUESTO!$B$17:$D$4211, 3, FALSE),\"\")","v":""},{"$f":"IF(ISTEXT(B59), VLOOKUP(B59, PRESUPUESTO!$B$14:$F$4211, 5, FALSE),\"\")","v":""},{"$f":"IF(ISTEXT(B59), VLOOKUP(B59, PRESUPUESTO!$B$14:$J$4211, 9, FALSE),\"\")","v":""},{"$f":"IF(ISTEXT(B59), VLOOKUP(B59, PRESUPUESTO!$B$14:$K$4211, 10, FALSE),\"\")","v":""},0,null,null,null,null,null,null,""]
[23,null,{"$f":"IF(ISBLANK(B60), \"\",VLOOKUP(B60,PRESUPUESTO!$B$17:$C$4211, 2, FALSE))","v":""},null,{"$f":"IF(ISTEXT(B60), VLOOKUP(B60, PRESUPUESTO!$B$14:$F$4211, 4, FALSE),\"\")","v":""},{"$f":"IF(ISTEXT(B60), VLOOKUP(B60, PRESUPUESTO!$B$17:$D$4211, 3, FALSE),\"\")","v":""},{"$f":"IF(ISTEXT(B60), VLOOKUP(B60, PRESUPUESTO!$B$14:$F$4211, 5, FALSE),\"\")","v":""},{"$f":"IF(ISTEXT(B60), VLOOKUP(B60, PRESUPUESTO!$B$14:$J$4211, 9, FALSE),\"\")","v":""},{"$f":"IF(ISTEXT(B60), VLOOKUP(B60, PRESUPUESTO!$B$14:$K$4211, 10, FALSE),\"\")","v":""},0,null,null,null,null,null,null,""]
[24,null,{"$f":"IF(ISBLANK(B61), \"\",VLOOKUP(B61,PRESUPUESTO!$B$17:$C$4211, 2, FALSE))","v":""},null,{"$f":"IF(ISTEXT(B61), VLOOKUP(B61, PRESUPUESTO!$B$14:$F$4211, 4, FALSE),\"\")","v":""},{"$f":"IF(ISTEXT(B61), VLOOKUP(B61, PRESUPUESTO!$B$17:$D$4211, 3, FALSE),\"\")","v":""},{"$f":"IF(ISTEXT(B61), VLOOKUP(B61, PRESUPUESTO!$B$14:$F$4211, 5, FALSE),\"\")","v":""},{"$f":"IF(ISTEXT(B61), VLOOKUP(B61, PRESUPUESTO!$B$14:$J$4211, 9, FALSE),\"\")","v":""},{"$f":"IF(ISTEXT(B61), VLOOKUP(B61, PRESUPUESTO!$B$14:$K$4211, 10, FALSE),\"\")","v":""},0,null,null,null,null,null,null,""]
[25,null,{"$f":"IF(ISBLANK(B62), \"\",VLOOKUP(B62,PRESUPUESTO!$B$17:$C$4211, 2, FALSE))","v":""},null,{"$f":"IF(ISTEXT(B62), VLOOKUP(B62, PRESUPUESTO!$B$14:$F$4211, 4, FALSE),\"\")","v":""},{"$f":"IF(ISTEXT(B62), VLOOKUP(B62, PRESUPUESTO!$B$17:$D$4211, 3, FALSE),\"\")","v":""},{"$f":"IF(ISTEXT(B62), VLOOKUP(B62, PRESUPUESTO!$B$14:$F$4211, 5, FALSE),\"\")","v":""},{"$f":"IF(ISTEXT(B62), VLOOKUP(B62, PRESUPUESTO!$B$14:$J$4211, 9, FALSE),\"\")","v":""},{"$f":"IF(ISTEXT(B62), VLOOKUP(B62, PRESUPUESTO!$B$14:$K$4211, 10, FALSE),\"\")","v":""},0,null,null,null,null,null,null,""]
[26,null,{"$f":"IF(ISBLANK(B63), \"\",VLOOKUP(B63,PRESUPUESTO!$B$17:$C$4211, 2, FALSE))","v":""},null,{"$f":"IF(ISTEXT(B63), VLOOKUP(B63, PRESUPUESTO!$B$14:$F$4211, 4, FALSE),\"\")","v":""},{"$f":"IF(ISTEXT(B63), VLOOKUP(B63, PRESUPUESTO!$B$17:$D$4211, 3, FALSE),\"\")","v":""},{"$f":"IF(ISTEXT(B63), VLOOKUP(B63, PRESUPUESTO!$B$14:$F$4211, 5, FALSE),\"\")","v":""},{"$f":"IF(ISTEXT(B63), VLOOKUP(B63, PRESUPUESTO!$B$14:$J$4211, 9, FALSE),\"\")","v":""},{"$f":"IF(ISTEXT(B63), VLOOKUP(B63, PRESUPUESTO!$B$14:$K$4211, 10, FALSE),\"\")","v":""},0,null,null,null,null,null,null,""]
[27,null,{"$f":"IF(ISBLANK(B64), \"\",VLOOKUP(B64,PRESUPUESTO!$B$17:$C$4211, 2, FALSE))","v":""},null,{"$f":"IF(ISTEXT(B64), VLOOKUP(B64, PRESUPUESTO!$B$14:$F$4211, 4, FALSE),\"\")","v":""},{"$f":"IF(ISTEXT(B64), VLOOKUP(B64, PRESUPUESTO!$B$17:$D$4211, 3, FALSE),\"\")","v":""},{"$f":"IF(ISTEXT(B64), VLOOKUP(B64, PRESUPUESTO!$B$14:$F$4211, 5, FALSE),\"\")","v":""},{"$f":"IF(ISTEXT(B64), VLOOKUP(B64, PRESUPUESTO!$B$14:$J$4211, 9, FALSE),\"\")","v":""},{"$f":"IF(ISTEXT(B64), VLOOKUP(B64, PRESUPUESTO!$B$14:$K$4211, 10, FALSE),\"\")","v":""},0,null,null,null,null,null,null,""]
[28,null,{"$f":"IF(ISBLANK(B65), \"\",VLOOKUP(B65,PRESUPUESTO!$B$17:$C$4211, 2, FALSE))","v":""},null,{"$f":"IF(ISTEXT(B65), VLOOKUP(B65, PRESUPUESTO!$B$14:$F$4211, 4, FALSE),\"\")","v":""},{"$f":"IF(ISTEXT(B65), VLOOKUP(B65, PRESUPUESTO!$B$17:$D$4211, 3, FALSE),\"\")","v":""},{"$f":"IF(ISTEXT(B65), VLOOKUP(B65, PRESUPUESTO!$B$14:$F$4211, 5, FALSE),\"\")","v":""},{"$f":"IF(ISTEXT(B65), VLOOKUP(B65, PRESUPUESTO!$B$14:$J$4211, 9, FALSE),\"\")","v":""},{"$f":"IF(ISTEXT(B65), VLOOKUP(B65, PRESUPUESTO!$B$14:$K$4211, 10, FALSE),\"\")","v":""},0,null,null,null,null,null,null,""]
[29,null,{"$f":"IF(ISBLANK(B66), \"\",VLOOKUP(B66,PRESUPUESTO!$B$17:$C$4211, 2, FALSE))","v":""},null,{"$f":"IF(ISTEXT(B66), VLOOKUP(B66, PRESUPUESTO!$B$14:$F$4211, 4, FALSE),\"\")","v":""},{"$f":"IF(ISTEXT(B66), VLOOKUP(B66, PRESUPUESTO!$B$17:$D$4211, 3, FALSE),\"\")","v":""},{"$f":"IF(ISTEXT(B66), VLOOKUP(B66, PRESUPUESTO!$B$14:$F$4211, 5, FALSE),\"\")","v":""},{"$f":"IF(ISTEXT(B66), VLOOKUP(B66, PRESUPUESTO!$B$14:$J$4211, 9, FALSE),\"\")","v":""},{"$f":"IF(ISTEXT(B66), VLOOKUP(B66, PRESUPUESTO!$B$14:$K$4211, 10, FALSE),\"\")","v":""},0,null,null,null,null,null,null,""]
[30,null,{"$f":"IF(ISBLANK(B67), \"\",VLOOKUP(B67,PRESUPUESTO!$B$17:$C$4211, 2, FALSE))","v":""},null,{"$f":"IF(ISTEXT(B67), VLOOKUP(B67, PRESUPUESTO!$B$14:$F$4211, 4, FALSE),\"\")","v":""},{"$f":"IF(ISTEXT(B67), VLOOKUP(B67, PRESUPUESTO!$B$17:$D$4211, 3, FALSE),\"\")","v":""},{"$f":"IF(ISTEXT(B67), VLOOKUP(B67, PRESUPUESTO!$B$14:$F$4211, 5, FALSE),\"\")","v":""},{"$f":"IF(ISTEXT(B67), VLOOKUP(B67, PRESUPUESTO!$B$14:$J$4211, 9, FALSE),\"\")","v":""},{"$f":"IF(ISTEXT(B67), VLOOKUP(B67, PRESUPUESTO!$B$14:$K$4211, 10, FALSE),\"\")","v":""},0,null,null,null,null,null,null,""]
[31,null,{"$f":"IF(ISBLANK(B68), \"\",VLOOKUP(B68,PRESUPUESTO!$B$17:$C$4211, 2, FALSE))","v":""},null,{"$f":"IF(ISTEXT(B68), VLOOKUP(B68, PRESUPUESTO!$B$14:$F$4211, 4, FALSE),\"\")","v":""},{"$f":"IF(ISTEXT(B68), VLOOKUP(B68, PRESUPUESTO!$B$17:$D$4211, 3, FALSE),\"\")","v":""},{"$f":"IF(ISTEXT(B68), VLOOKUP(B68, PRESUPUESTO!$B$14:$F$4211, 5, FALSE),\"\")","v":""},{"$f":"IF(ISTEXT(B68), VLOOKUP(B68, PRESUPUESTO!$B$14:$J$4211, 9, FALSE),\"\")","v":""},{"$f":"IF(ISTEXT(B68), VLOOKUP(B68, PRESUPUESTO!$B$14:$K$4211, 10, FALSE),\"\")","v":""},0,null,null,null,null,null,null,""]
[32,null,{"$f":"IF(ISBLANK(B69), \"\",VLOOKUP(B69,PRESUPUESTO!$B$17:$C$4211, 2, FALSE))","v":""},null,{"$f":"IF(ISTEXT(B69), VLOOKUP(B69, PRESUPUESTO!$B$14:$F$4211, 4, FALSE),\"\")","v":""},{"$f":"IF(ISTEXT(B69), VLOOKUP(B69, PRESUPUESTO!$B$17:$D$4211, 3, FALSE),\"\")","v":""},{"$f":"IF(ISTEXT(B69), VLOOKUP(B69, PRESUPUESTO!$B$14:$F$4211, 5, FALSE),\"\")","v":""},{"$f":"IF(ISTEXT(B69), VLOOKUP(B69, PRESUPUESTO!$B$14:$J$4211, 9, FALSE),\"\")","v":""},{"$f":"IF(ISTEXT(B69), VLOOKUP(B69, PRESUPUESTO!$B$14:$K$4211, 10, FALSE),\"\")","v":""},0,null,null,null,null,null,null,""]
[33,null,{"$f":"IF(ISBLANK(B70), \"\",VLOOKUP(B70,PRESUPUESTO!$B$17:$C$4211, 2, FALSE))","v":""},null,{"$f":"IF(ISTEXT(B70), VLOOKUP(B70, PRESUPUESTO!$B$14:$F$4211, 4, FALSE),\"\")","v":""},{"$f":"IF(ISTEXT(B70), VLOOKUP(B70, PRESUPUESTO!$B$17:$D$4211, 3, FALSE),\"\")","v":""},{"$f":"IF(ISTEXT(B70), VLOOKUP(B70, PRESUPUESTO!$B$14:$F$4211, 5, FALSE),\"\")","v":""},{"$f":"IF(ISTEXT(B70), VLOOKUP(B70, PRESUPUESTO!$B$14:$J$4211, 9, FALSE),\"\")","v":""},{"$f":"IF(ISTEXT(B70), VLOOKUP(B70, PRESUPUESTO!$B$14:$K$4211, 10, FALSE),\"\")","v":""},0,null,null,null,null,null,null,""]
[34,null,{"$f":"IF(ISBLANK(B71), \"\",VLOOKUP(B71,PRESUPUESTO!$B$17:$C$4211, 2, FALSE))","v":""},null,{"$f":"IF(ISTEXT(B71), VLOOKUP(B71, PRESUPUESTO!$B$14:$F$4211, 4, FALSE),\"\")","v":""},{"$f":"IF(ISTEXT(B71), VLOOKUP(B71, PRESUPUESTO!$B$17:$D$4211, 3, FALSE),\"\")","v":""},{"$f":"IF(ISTEXT(B71), VLOOKUP(B71, PRESUPUESTO!$B$14:$F$4211, 5, FALSE),\"\")","v":""},{"$f":"IF(ISTEXT(B71), VLOOKUP(B71, PRESUPUESTO!$B$14:$J$4211, 9, FALSE),\"\")","v":""},{"$f":"IF(ISTEXT(B71), VLOOKUP(B71, PRESUPUESTO!$B$14:$K$4211, 10, FALSE),\"\")","v":""},0,null,null,null,null,null,null,""]
[35,null,{"$f":"IF(ISBLANK(B72), \"\",VLOOKUP(B72,PRESUPUESTO!$B$17:$C$4211, 2, FALSE))","v":""},null,{"$f":"IF(ISTEXT(B72), VLOOKUP(B72, PRESUPUESTO!$B$14:$F$4211, 4, FALSE),\"\")","v":""},{"$f":"IF(ISTEXT(B72), VLOOKUP(B72, PRESUPUESTO!$B$17:$D$4211, 3, FALSE),\"\")","v":""},{"$f":"IF(ISTEXT(B72), VLOOKUP(B72, PRESUPUESTO!$B$14:$F$4211, 5, FALSE),\"\")","v":""},{"$f":"IF(ISTEXT(B72), VLOOKUP(B72, PRESUPUESTO!$B$14:$J$4211, 9, FALSE),\"\")","v":""},{"$f":"IF(ISTEXT(B72), VLOOKUP(B72, PRESUPUESTO!$B$14:$K$4211, 10, FALSE),\"\")","v":""},0,null,null,null,null,null,null,""]
[36,null,{"$f":"IF(ISBLANK(B73), \"\",VLOOKUP(B73,PRESUPUESTO!$B$17:$C$4211, 2, FALSE))","v":""},null,{"$f":"IF(ISTEXT(B73), VLOOKUP(B73, PRESUPUESTO!$B$14:$F$4211, 4, FALSE),\"\")","v":""},{"$f":"IF(ISTEXT(B73), VLOOKUP(B73, PRESUPUESTO!$B$17:$D$4211, 3, FALSE),\"\")","v":""},{"$f":"IF(ISTEXT(B73), VLOOKUP(B73, PRESUPUESTO!$B$14:$F$4211, 5, FALSE),\"\")","v":""},{"$f":"IF(ISTEXT(B73), VLOOKUP(B73, PRESUPUESTO!$B$14:$J$4211, 9, FALSE),\"\")","v":""},{"$f":"IF(ISTEXT(B73), VLOOKUP(B73, PRESUPUESTO!$B$14:$K$4211, 10, FALSE),\"\")","v":""},0,null,null,null,null,null,null,""]
[37,null,{"$f":"IF(ISBLANK(B74), \"\",VLOOKUP(B74,PRESUPUESTO!$B$17:$C$4211, 2, FALSE))","v":""},null,{"$f":"IF(ISTEXT(B74), VLOOKUP(B74, PRESUPUESTO!$B$14:$F$4211, 4, FALSE),\"\")","v":""},{"$f":"IF(ISTEXT(B74), VLOOKUP(B74, PRESUPUESTO!$B$17:$D$4211, 3, FALSE),\"\")","v":""},{"$f":"IF(ISTEXT(B74), VLOOKUP(B74, PRESUPUESTO!$B$14:$F$4211, 5, FALSE),\"\")","v":""},{"$f":"IF(ISTEXT(B74), VLOOKUP(B74, PRESUPUESTO!$B$14:$J$4211, 9, FALSE),\"\")","v":""},{"$f":"IF(ISTEXT(B74), VLOOKUP(B74, PRESUPUESTO!$B$14:$K$4211, 10, FALSE),\"\")","v":""},0,null,null,null,null,null,null,""]
[38,null,{"$f":"IF(ISBLANK(B75), \"\",VLOOKUP(B75,PRESUPUESTO!$B$17:$C$4211, 2, FALSE))","v":""},null,{"$f":"IF(ISTEXT(B75), VLOOKUP(B75, PRESUPUESTO!$B$14:$F$4211, 4, FALSE),\"\")","v":""},{"$f":"IF(ISTEXT(B75), VLOOKUP(B75, PRESUPUESTO!$B$17:$D$4211, 3, FALSE),\"\")","v":""},{"$f":"IF(ISTEXT(B75), VLOOKUP(B75, PRESUPUESTO!$B$14:$F$4211, 5, FALSE),\"\")","v":""},{"$f":"IF(ISTEXT(B75), VLOOKUP(B75, PRESUPUESTO!$B$14:$J$4211, 9, FALSE),\"\")","v":""},{"$f":"IF(ISTEXT(B75), VLOOKUP(B75, PRESUPUESTO!$B$14:$K$4211, 10, FALSE),\"\")","v":""},0,null,null,null,null,null,null,""]
[39,null,{"$f":"IF(ISBLANK(B76), \"\",VLOOKUP(B76,PRESUPUESTO!$B$17:$C$4211, 2, FALSE))","v":""},null,{"$f":"IF(ISTEXT(B76), VLOOKUP(B76, PRESUPUESTO!$B$14:$F$4211, 4, FALSE),\"\")","v":""},{"$f":"IF(ISTEXT(B76), VLOOKUP(B76, PRESUPUESTO!$B$17:$D$4211, 3, FALSE),\"\")","v":""},{"$f":"IF(ISTEXT(B76), VLOOKUP(B76, PRESUPUESTO!$B$14:$F$4211, 5, FALSE),\"\")","v":""},{"$f":"IF(ISTEXT(B76), VLOOKUP(B76, PRESUPUESTO!$B$14:$J$4211, 9, FALSE),\"\")","v":""},{"$f":"IF(ISTEXT(B76), VLOOKUP(B76, PRESUPUESTO!$B$14:$K$4211, 10, FALSE),\"\")","v":""},0,null,null,null,null,null,null,""]
[40,null,{"$f":"IF(ISBLANK(B77), \"\",VLOOKUP(B77,PRESUPUESTO!$B$17:$C$4211, 2, FALSE))","v":""},null,{"$f":"IF(ISTEXT(B77), VLOOKUP(B77, PRESUPUESTO!$B$14:$F$4211, 4, FALSE),\"\")","v":""},{"$f":"IF(ISTEXT(B77), VLOOKUP(B77, PRESUPUESTO!$B$17:$D$4211, 3, FALSE),\"\")","v":""},{"$f":"IF(ISTEXT(B77), VLOOKUP(B77, PRESUPUESTO!$B$14:$F$4211, 5, FALSE),\"\")","v":""},{"$f":"IF(ISTEXT(B77), VLOOKUP(B77, PRESUPUESTO!$B$14:$J$4211, 9, FALSE),\"\")","v":""},{"$f":"IF(ISTEXT(B77), VLOOKUP(B77, PRESUPUESTO!$B$14:$K$4211, 10, FALSE),\"\")","v":""},0,null,null,null,null,null,null,""]
[41,null,{"$f":"IF(ISBLANK(B78), \"\",VLOOKUP(B78,PRESUPUESTO!$B$17:$C$4211, 2, FALSE))","v":""},null,{"$f":"IF(ISTEXT(B78), VLOOKUP(B78, PRESUPUESTO!$B$14:$F$4211, 4, FALSE),\"\")","v":""},{"$f":"IF(ISTEXT(B78), VLOOKUP(B78, PRESUPUESTO!$B$17:$D$4211, 3, FALSE),\"\")","v":""},{"$f":"IF(ISTEXT(B78), VLOOKUP(B78, PRESUPUESTO!$B$14:$F$4211, 5, FALSE),\"\")","v":""},{"$f":"IF(ISTEXT(B78), VLOOKUP(B78, PRESUPUESTO!$B$14:$J$4211, 9, FALSE),\"\")","v":""},{"$f":"IF(ISTEXT(B78), VLOOKUP(B78, PRESUPUESTO!$B$14:$K$4211, 10, FALSE),\"\")","v":""},0,null,null,null,null,null,null,""]
[42,null,{"$f":"IF(ISBLANK(B79), \"\",VLOOKUP(B79,PRESUPUESTO!$B$17:$C$4211, 2, FALSE))","v":""},null,{"$f":"IF(ISTEXT(B79), VLOOKUP(B79, PRESUPUESTO!$B$14:$F$4211, 4, FALSE),\"\")","v":""},{"$f":"IF(ISTEXT(B79), VLOOKUP(B79, PRESUPUESTO!$B$17:$D$4211, 3, FALSE),\"\")","v":""},{"$f":"IF(ISTEXT(B79), VLOOKUP(B79, PRESUPUESTO!$B$14:$F$4211, 5, FALSE),\"\")","v":""},{"$f":"IF(ISTEXT(B79), VLOOKUP(B79, PRESUPUESTO!$B$14:$J$4211, 9, FALSE),\"\")","v":""},{"$f":"IF(ISTEXT(B79), VLOOKUP(B79, PRESUPUESTO!$B$14:$K$4211, 10, FALSE),\"\")","v":""},0,null,null,null,null,null,null,""]
[43,null,{"$f":"IF(ISBLANK(B80), \"\",VLOOKUP(B80,PRESUPUESTO!$B$17:$C$4211, 2, FALSE))","v":""},null,{"$f":"IF(ISTEXT(B80), VLOOKUP(B80, PRESUPUESTO!$B$14:$F$4211, 4, FALSE),\"\")","v":""},{"$f":"IF(ISTEXT(B80), VLOOKUP(B80, PRESUPUESTO!$B$17:$D$4211, 3, FALSE),\"\")","v":""},{"$f":"IF(ISTEXT(B80), VLOOKUP(B80, PRESUPUESTO!$B$14:$F$4211, 5, FALSE),\"\")","v":""},{"$f":"IF(ISTEXT(B80), VLOOKUP(B80, PRESUPUESTO!$B$14:$J$4211, 9, FALSE),\"\")","v":""},{"$f":"IF(ISTEXT(B80), VLOOKUP(B80, PRESUPUESTO!$B$14:$K$4211, 10, FALSE),\"\")","v":""},0,null,null,null,null,null,null,""]
[44,null,{"$f":"IF(ISBLANK(B81), \"\",VLOOKUP(B81,PRESUPUESTO!$B$17:$C$4211, 2, FALSE))","v":""},null,{"$f":"IF(ISTEXT(B81), VLOOKUP(B81, PRESUPUESTO!$B$14:$F$4211, 4, FALSE),\"\")","v":""},{"$f":"IF(ISTEXT(B81), VLOOKUP(B81, PRESUPUESTO!$B$17:$D$4211, 3, FALSE),\"\")","v":""},{"$f":"IF(ISTEXT(B81), VLOOKUP(B81, PRESUPUESTO!$B$14:$F$4211, 5, FALSE),\"\")","v":""},{"$f":"IF(ISTEXT(B81), VLOOKUP(B81, PRESUPUESTO!$B$14:$J$4211, 9, FALSE),\"\")","v":""},{"$f":"IF(ISTEXT(B81), VLOOKUP(B81, PRESUPUESTO!$B$14:$K$4211, 10, FALSE),\"\")","v":""},0,null,null,null,null,null,null,""]
[45,null,{"$f":"IF(ISBLANK(B82), \"\",VLOOKUP(B82,PRESUPUESTO!$B$17:$C$4211, 2, FALSE))","v":""},null,{"$f":"IF(ISTEXT(B82), VLOOKUP(B82, PRESUPUESTO!$B$14:$F$4211, 4, FALSE),\"\")","v":""},{"$f":"IF(ISTEXT(B82), VLOOKUP(B82, PRESUPUESTO!$B$17:$D$4211, 3, FALSE),\"\")","v":""},{"$f":"IF(ISTEXT(B82), VLOOKUP(B82, PRESUPUESTO!$B$14:$F$4211, 5, FALSE),\"\")","v":""},{"$f":"IF(ISTEXT(B82), VLOOKUP(B82, PRESUPUESTO!$B$14:$J$4211, 9, FALSE),\"\")","v":""},{"$f":"IF(ISTEXT(B82), VLOOKUP(B82, PRESUPUESTO!$B$14:$K$4211, 10, FALSE),\"\")","v":""},0,null,null,null,null,null,null,""]
[46,null,{"$f":"IF(ISBLANK(B83), \"\",VLOOKUP(B83,PRESUPUESTO!$B$17:$C$4211, 2, FALSE))","v":""},null,{"$f":"IF(ISTEXT(B83), VLOOKUP(B83, PRESUPUESTO!$B$14:$F$4211, 4, FALSE),\"\")","v":""},{"$f":"IF(ISTEXT(B83), VLOOKUP(B83, PRESUPUESTO!$B$17:$D$4211, 3, FALSE),\"\")","v":""},{"$f":"IF(ISTEXT(B83), VLOOKUP(B83, PRESUPUESTO!$B$14:$F$4211, 5, FALSE),\"\")","v":""},{"$f":"IF(ISTEXT(B83), VLOOKUP(B83, PRESUPUESTO!$B$14:$J$4211, 9, FALSE),\"\")","v":""},{"$f":"IF(ISTEXT(B83), VLOOKUP(B83, PRESUPUESTO!$B$14:$K$4211, 10, FALSE),\"\")","v":""},0,null,null,null,null,null,null,""]
[47,null,{"$f":"IF(ISBLANK(B84), \"\",VLOOKUP(B84,PRESUPUESTO!$B$17:$C$4211, 2, FALSE))","v":""},null,{"$f":"IF(ISTEXT(B84), VLOOKUP(B84, PRESUPUESTO!$B$14:$F$4211, 4, FALSE),\"\")","v":""},{"$f":"IF(ISTEXT(B84), VLOOKUP(B84, PRESUPUESTO!$B$17:$D$4211, 3, FALSE),\"\")","v":""},{"$f":"IF(ISTEXT(B84), VLOOKUP(B84, PRESUPUESTO!$B$14:$F$4211, 5, FALSE),\"\")","v":""},{"$f":"IF(ISTEXT(B84), VLOOKUP(B84, PRESUPUESTO!$B$14:$J$4211, 9, FALSE),\"\")","v":""},{"$f":"IF(ISTEXT(B84), VLOOKUP(B84, PRESUPUESTO!$B$14:$K$4211, 10, FALSE),\"\")","v":""},0,null,null,null,null,null,null,""]
[48,null,{"$f":"IF(ISBLANK(B85), \"\",VLOOKUP(B85,PRESUPUESTO!$B$17:$C$4211, 2, FALSE))","v":""},null,{"$f":"IF(ISTEXT(B85), VLOOKUP(B85, PRESUPUESTO!$B$14:$F$4211, 4, FALSE),\"\")","v":""},{"$f":"IF(ISTEXT(B85), VLOOKUP(B85, PRESUPUESTO!$B$17:$D$4211, 3, FALSE),\"\")","v":""},{"$f":"IF(ISTEXT(B85), VLOOKUP(B85, PRESUPUESTO!$B$14:$F$4211, 5, FALSE),\"\")","v":""},{"$f":"IF(ISTEXT(B85), VLOOKUP(B85, PRESUPUESTO!$B$14:$J$4211, 9, FALSE),\"\")","v":""},{"$f":"IF(ISTEXT(B85), VLOOKUP(B85, PRESUPUESTO!$B$14:$K$4211, 10, FALSE),\"\")","v":""},0,null,null,null,null,null,null,""]
[49,null,{"$f":"IF(ISBLANK(B86), \"\",VLOOKUP(B86,PRESUPUESTO!$B$17:$C$4211, 2, FALSE))","v":""},null,{"$f":"IF(ISTEXT(B86), VLOOKUP(B86, PRESUPUESTO!$B$14:$F$4211, 4, FALSE),\"\")","v":""},{"$f":"IF(ISTEXT(B86), VLOOKUP(B86, PRESUPUESTO!$B$17:$D$4211, 3, FALSE),\"\")","v":""},{"$f":"IF(ISTEXT(B86), VLOOKUP(B86, PRESUPUESTO!$B$14:$F$4211, 5, FALSE),\"\")","v":""},{"$f":"IF(ISTEXT(B86), VLOOKUP(B86, PRESUPUESTO!$B$14:$J$4211, 9, FALSE),\"\")","v":""},{"$f":"IF(ISTEXT(B86), VLOOKUP(B86, PRESUPUESTO!$B$14:$K$4211, 10, FALSE),\"\")","v":""},0,null,null,null,null,null,null,""]
[50,null,{"$f":"IF(ISBLANK(B87), \"\",VLOOKUP(B87,PRESUPUESTO!$B$17:$C$4211, 2, FALSE))","v":""},null,{"$f":"IF(ISTEXT(B87), VLOOKUP(B87, PRESUPUESTO!$B$14:$F$4211, 4, FALSE),\"\")","v":""},{"$f":"IF(ISTEXT(B87), VLOOKUP(B87, PRESUPUESTO!$B$17:$D$4211, 3, FALSE),\"\")","v":""},{"$f":"IF(ISTEXT(B87), VLOOKUP(B87, PRESUPUESTO!$B$14:$F$4211, 5, FALSE),\"\")","v":""},{"$f":"IF(ISTEXT(B87), VLOOKUP(B87, PRESUPUESTO!$B$14:$J$4211, 9, FALSE),\"\")","v":""},{"$f":"IF(ISTEXT(B87), VLOOKUP(B87, PRESUPUESTO!$B$14:$K$4211, 10, FALSE),\"\")","v":""},0,null,null,null,null,null,null,""]
[51,null,{"$f":"IF(ISBLANK(B88), \"\",VLOOKUP(B88,PRESUPUESTO!$B$17:$C$4211, 2, FALSE))","v":""},null,{"$f":"IF(ISTEXT(B88), VLOOKUP(B88, PRESUPUESTO!$B$14:$F$4211, 4, FALSE),\"\")","v":""},{"$f":"IF(ISTEXT(B88), VLOOKUP(B88, PRESUPUESTO!$B$17:$D$4211, 3, FALSE),\"\")","v":""},{"$f":"IF(ISTEXT(B88), VLOOKUP(B88, PRESUPUESTO!$B$14:$F$4211, 5, FALSE),\"\")","v":""},{"$f":"IF(ISTEXT(B88), VLOOKUP(B88, PRESUPUESTO!$B$14:$J$4211, 9, FALSE),\"\")","v":""},{"$f":"IF(ISTEXT(B88), VLOOKUP(B88, PRESUPUESTO!$B$14:$K$4211, 10, FALSE),\"\")","v":""},0,null,null,null,null,null,null,""]
[52,null,{"$f":"IF(ISBLANK(B89), \"\",VLOOKUP(B89,PRESUPUESTO!$B$17:$C$4211, 2, FALSE))","v":""},null,{"$f":"IF(ISTEXT(B89), VLOOKUP(B89, PRESUPUESTO!$B$14:$F$4211, 4, FALSE),\"\")","v":""},{"$f":"IF(ISTEXT(B89), VLOOKUP(B89, PRESUPUESTO!$B$17:$D$4211, 3, FALSE),\"\")","v":""},{"$f":"IF(ISTEXT(B89), VLOOKUP(B89, PRESUPUESTO!$B$14:$F$4211, 5, FALSE),\"\")","v":""},{"$f":"IF(ISTEXT(B89), VLOOKUP(B89, PRESUPUESTO!$B$14:$J$4211, 9, FALSE),\"\")","v":""},{"$f":"IF(ISTEXT(B89), VLOOKUP(B89, PRESUPUESTO!$B$14:$K$4211, 10, FALSE),\"\")","v":""},0,null,null,null,null,null,null,""]
[53,null,{"$f":"IF(ISBLANK(B90), \"\",VLOOKUP(B90,PRESUPUESTO!$B$17:$C$4211, 2, FALSE))","v":""},null,{"$f":"IF(ISTEXT(B90), VLOOKUP(B90, PRESUPUESTO!$B$14:$F$4211, 4, FALSE),\"\")","v":""},{"$f":"IF(ISTEXT(B90), VLOOKUP(B90, PRESUPUESTO!$B$17:$D$4211, 3, FALSE),\"\")","v":""},{"$f":"IF(ISTEXT(B90), VLOOKUP(B90, PRESUPUESTO!$B$14:$F$4211, 5, FALSE),\"\")","v":""},{"$f":"IF(ISTEXT(B90), VLOOKUP(B90, PRESUPUESTO!$B$14:$J$4211, 9, FALSE),\"\")","v":""},{"$f":"IF(ISTEXT(B90), VLOOKUP(B90, PRESUPUESTO!$B$14:$K$4211, 10, FALSE),\"\")","v":""},0,null,null,null,null,null,null,""]
[54,null,{"$f":"IF(ISBLANK(B91), \"\",VLOOKUP(B91,PRESUPUESTO!$B$17:$C$4211, 2, FALSE))","v":""},null,{"$f":"IF(ISTEXT(B91), VLOOKUP(B91, PRESUPUESTO!$B$14:$F$4211, 4, FALSE),\"\")","v":""},{"$f":"IF(ISTEXT(B91), VLOOKUP(B91, PRESUPUESTO!$B$17:$D$4211, 3, FALSE),\"\")","v":""},{"$f":"IF(ISTEXT(B91), VLOOKUP(B91, PRESUPUESTO!$B$14:$F$4211, 5, FALSE),\"\")","v":""},{"$f":"IF(ISTEXT(B91), VLOOKUP(B91, PRESUPUESTO!$B$14:$J$4211, 9, FALSE),\"\")","v":""},{"$f":"IF(ISTEXT(B91), VLOOKUP(B91, PRESUPUESTO!$B$14:$K$4211, 10, FALSE),\"\")","v":""},0,null,null,null,null,null,null,""]
[55,null,{"$f":"IF(ISBLANK(B92), \"\",VLOOKUP(B92,PRESUPUESTO!$B$17:$C$4211, 2, FALSE))","v":""},null,{"$f":"IF(ISTEXT(B92), VLOOKUP(B92, PRESUPUESTO!$B$14:$F$4211, 4, FALSE),\"\")","v":""},{"$f":"IF(ISTEXT(B92), VLOOKUP(B92, PRESUPUESTO!$B$17:$D$4211, 3, FALSE),\"\")","v":""},{"$f":"IF(ISTEXT(B92), VLOOKUP(B92, PRESUPUESTO!$B$14:$F$4211, 5, FALSE),\"\")","v":""},{"$f":"IF(ISTEXT(B92), VLOOKUP(B92, PRESUPUESTO!$B$14:$J$4211, 9, FALSE),\"\")","v":""},{"$f":"IF(ISTEXT(B92), VLOOKUP(B92, PRESUPUESTO!$B$14:$K$4211, 10, FALSE),\"\")","v":""},0,null,null,null,null,null,null,""]
[56,null,{"$f":"IF(ISBLANK(B93), \"\",VLOOKUP(B93,PRESUPUESTO!$B$17:$C$4211, 2, FALSE))","v":""},null,{"$f":"IF(ISTEXT(B93), VLOOKUP(B93, PRESUPUESTO!$B$14:$F$4211, 4, FALSE),\"\")","v":""},{"$f":"IF(ISTEXT(B93), VLOOKUP(B93, PRESUPUESTO!$B$17:$D$4211, 3, FALSE),\"\")","v":""},{"$f":"IF(ISTEXT(B93), VLOOKUP(B93, PRESUPUESTO!$B$14:$F$4211, 5, FALSE),\"\")","v":""},{"$f":"IF(ISTEXT(B93), VLOOKUP(B93, PRESUPUESTO!$B$14:$J$4211, 9, FALSE),\"\")","v":""},{"$f":"IF(ISTEXT(B93), VLOOKUP(B93, PRESUPUESTO!$B$14:$K$4211, 10, FALSE),\"\")","v":""},0,null,null,null,null,null,null,""]
[57,null,{"$f":"IF(ISBLANK(B94), \"\",VLOOKUP(B94,PRESUPUESTO!$B$17:$C$4211, 2, FALSE))","v":""},null,{"$f":"IF(ISTEXT(B94), VLOOKUP(B94, PRESUPUESTO!$B$14:$F$4211, 4, FALSE),\"\")","v":""},{"$f":"IF(ISTEXT(B94), VLOOKUP(B94, PRESUPUESTO!$B$17:$D$4211, 3, FALSE),\"\")","v":""},{"$f":"IF(ISTEXT(B94), VLOOKUP(B94, PRESUPUESTO!$B$14:$F$4211, 5, FALSE),\"\")","v":""},{"$f":"IF(ISTEXT(B94), VLOOKUP(B94, PRESUPUESTO!$B$14:$J$4211, 9, FALSE),\"\")","v":""},{"$f":"IF(ISTEXT(B94), VLOOKUP(B94, PRESUPUESTO!$B$14:$K$4211, 10, FALSE),\"\")","v":""},0,null,null,null,null,null,null,""]
[58,null,{"$f":"IF(ISBLANK(B95), \"\",VLOOKUP(B95,PRESUPUESTO!$B$17:$C$4211, 2, FALSE))","v":""},null,{"$f":"IF(ISTEXT(B95), VLOOKUP(B95, PRESUPUESTO!$B$14:$F$4211, 4, FALSE),\"\")","v":""},{"$f":"IF(ISTEXT(B95), VLOOKUP(B95, PRESUPUESTO!$B$17:$D$4211, 3, FALSE),\"\")","v":""},{"$f":"IF(ISTEXT(B95), VLOOKUP(B95, PRESUPUESTO!$B$14:$F$4211, 5, FALSE),\"\")","v":""},{"$f":"IF(ISTEXT(B95), VLOOKUP(B95, PRESUPUESTO!$B$14:$J$4211, 9, FALSE),\"\")","v":""},{"$f":"IF(ISTEXT(B95), VLOOKUP(B95, PRESUPUESTO!$B$14:$K$4211, 10, FALSE),\"\")","v":""},0,null,null,null,null,null,null,""]
[59,null,{"$f":"IF(ISBLANK(B96), \"\",VLOOKUP(B96,PRESUPUESTO!$B$17:$C$4211, 2, FALSE))","v":""},null,{"$f":"IF(ISTEXT(B96), VLOOKUP(B96, PRESUPUESTO!$B$14:$F$4211, 4, FALSE),\"\")","v":""},{"$f":"IF(ISTEXT(B96), VLOOKUP(B96, PRESUPUESTO!$B$17:$D$4211, 3, FALSE),\"\")","v":""},{"$f":"IF(ISTEXT(B96), VLOOKUP(B96, PRESUPUESTO!$B$14:$F$4211, 5, FALSE),\"\")","v":""},{"$f":"IF(ISTEXT(B96), VLOOKUP(B96, PRESUPUESTO!$B$14:$J$4211, 9, FALSE),\"\")","v":""},{"$f":"IF(ISTEXT(B96), VLOOKUP(B96, PRESUPUESTO!$B$14:$K$4211, 10, FALSE),\"\")","v":""},0,null,null,null,null,null,null,""]
[60,null,{"$f":"IF(ISBLANK(B97), \"\",VLOOKUP(B97,PRESUPUESTO!$B$17:$C$4211, 2, FALSE))","v":""},null,{"$f":"IF(ISTEXT(B97), VLOOKUP(B97, PRESUPUESTO!$B$14:$F$4211, 4, FALSE),\"\")","v":""},{"$f":"IF(ISTEXT(B97), VLOOKUP(B97, PRESUPUESTO!$B$17:$D$4211, 3, FALSE),\"\")","v":""},{"$f":"IF(ISTEXT(B97), VLOOKUP(B97, PRESUPUESTO!$B$14:$F$4211, 5, FALSE),\"\")","v":""},{"$f":"IF(ISTEXT(B97), VLOOKUP(B97, PRESUPUESTO!$B$14:$J$4211, 9, FALSE),\"\")","v":""},{"$f":"IF(ISTEXT(B97), VLOOKUP(B97, PRESUPUESTO!$B$14:$K$4211, 10, FALSE),\"\")","v":""},0,null,null,null,null,null,null,""]
[61,null,{"$f":"IF(ISBLANK(B98), \"\",VLOOKUP(B98,PRESUPUESTO!$B$17:$C$4211, 2, FALSE))","v":""},null,{"$f":"IF(ISTEXT(B98), VLOOKUP(B98, PRESUPUESTO!$B$14:$F$4211, 4, FALSE),\"\")","v":""},{"$f":"IF(ISTEXT(B98), VLOOKUP(B98, PRESUPUESTO!$B$17:$D$4211, 3, FALSE),\"\")","v":""},{"$f":"IF(ISTEXT(B98), VLOOKUP(B98, PRESUPUESTO!$B$14:$F$4211, 5, FALSE),\"\")","v":""},{"$f":"IF(ISTEXT(B98), VLOOKUP(B98, PRESUPUESTO!$B$14:$J$4211, 9, FALSE),\"\")","v":""},{"$f":"IF(ISTEXT(B98), VLOOKUP(B98, PRESUPUESTO!$B$14:$K$4211, 10, FALSE),\"\")","v":""},0,null,null,null,null,null,null,""]
[62,null,{"$f":"IF(ISBLANK(B99), \"\",VLOOKUP(B99,PRESUPUESTO!$B$17:$C$4211, 2, FALSE))","v":""},null,{"$f":"IF(ISTEXT(B99), VLOOKUP(B99, PRESUPUESTO!$B$14:$F$4211, 4, FALSE),\"\")","v":""},{"$f":"IF(ISTEXT(B99), VLOOKUP(B99, PRESUPUESTO!$B$17:$D$4211, 3, FALSE),\"\")","v":""},{"$f":"IF(ISTEXT(B99), VLOOKUP(B99, PRESUPUESTO!$B$14:$F$4211, 5, FALSE),\"\")","v":""},{"$f":"IF(ISTEXT(B99), VLOOKUP(B99, PRESUPUESTO!$B$14:$J$4211, 9, FALSE),\"\")","v":""},{"$f":"IF(ISTEXT(B99), VLOOKUP(B99, PRESUPUESTO!$B$14:$K$4211, 10, FALSE),\"\")","v":""},0,null,null,null,null,null,null,""]
[63,null,{"$f":"IF(ISBLANK(B100), \"\",VLOOKUP(B100,PRESUPUESTO!$B$17:$C$4211, 2, FALSE))","v":""},null,{"$f":"IF(ISTEXT(B100), VLOOKUP(B100, PRESUPUESTO!$B$14:$F$4211, 4, FALSE),\"\")","v":""},{"$f":"IF(ISTEXT(B100), VLOOKUP(B100, PRESUPUESTO!$B$17:$D$4211, 3, FALSE),\"\")","v":""},{"$f":"IF(ISTEXT(B100), VLOOKUP(B100, PRESUPUESTO!$B$14:$F$4211, 5, FALSE),\"\")","v":""},{"$f":"IF(ISTEXT(B100), VLOOKUP(B100, PRESUPUESTO!$B$14:$J$4211, 9, FALSE),\"\")","v":""},{"$f":"IF(ISTEXT(B100), VLOOKUP(B100, PRESUPUESTO!$B$14:$K$4211, 10, FALSE),\"\")","v":""},0,null,null,null,null,null,null,{"$f":"IF(AND(ISNUMBER($Q$29),ISTEXT(B100)),+H100*$Q$29/100, \"\")","v":""}]
[64,null,{"$f":"IF(ISBLANK(B101), \"\",VLOOKUP(B101,PRESUPUESTO!$B$17:$C$4211, 2, FALSE))","v":""},null,{"$f":"IF(ISTEXT(B101), VLOOKUP(B101, PRESUPUESTO!$B$14:$F$4211, 4, FALSE),\"\")","v":""},{"$f":"IF(ISTEXT(B101), VLOOKUP(B101, PRESUPUESTO!$B$17:$D$4211, 3, FALSE),\"\")","v":""},{"$f":"IF(ISTEXT(B101), VLOOKUP(B101, PRESUPUESTO!$B$14:$F$4211, 5, FALSE),\"\")","v":""},{"$f":"IF(ISTEXT(B101), VLOOKUP(B101, PRESUPUESTO!$B$14:$J$4211, 9, FALSE),\"\")","v":""},{"$f":"IF(ISTEXT(B101), VLOOKUP(B101, PRESUPUESTO!$B$14:$K$4211, 10, FALSE),\"\")","v":""},0,null,null,null,null,null,null,""]
[65,null,{"$f":"IF(ISBLANK(B102), \"\",VLOOKUP(B102,PRESUPUESTO!$B$17:$C$4211, 2, FALSE))","v":""},null,{"$f":"IF(ISTEXT(B102), VLOOKUP(B102, PRESUPUESTO!$B$14:$F$4211, 4, FALSE),\"\")","v":""},{"$f":"IF(ISTEXT(B102), VLOOKUP(B102, PRESUPUESTO!$B$17:$D$4211, 3, FALSE),\"\")","v":""},{"$f":"IF(ISTEXT(B102), VLOOKUP(B102, PRESUPUESTO!$B$14:$F$4211, 5, FALSE),\"\")","v":""},{"$f":"IF(ISTEXT(B102), VLOOKUP(B102, PRESUPUESTO!$B$14:$J$4211, 9, FALSE),\"\")","v":""},{"$f":"IF(ISTEXT(B102), VLOOKUP(B102, PRESUPUESTO!$B$14:$K$4211, 10, FALSE),\"\")","v":""},0,null,null,null,null,null,null,""]
[66,null,{"$f":"IF(ISBLANK(B103), \"\",VLOOKUP(B103,PRESUPUESTO!$B$17:$C$4211, 2, FALSE))","v":""},null,{"$f":"IF(ISTEXT(B103), VLOOKUP(B103, PRESUPUESTO!$B$14:$F$4211, 4, FALSE),\"\")","v":""},{"$f":"IF(ISTEXT(B103), VLOOKUP(B103, PRESUPUESTO!$B$17:$D$4211, 3, FALSE),\"\")","v":""},{"$f":"IF(ISTEXT(B103), VLOOKUP(B103, PRESUPUESTO!$B$14:$F$4211, 5, FALSE),\"\")","v":""},{"$f":"IF(ISTEXT(B103), VLOOKUP(B103, PRESUPUESTO!$B$14:$J$4211, 9, FALSE),\"\")","v":""},{"$f":"IF(ISTEXT(B103), VLOOKUP(B103, PRESUPUESTO!$B$14:$K$4211, 10, FALSE),\"\")","v":""},{"$f":"IF(ISBLANK(B103),B103,(H103+I103))","v":0},null,null,null,null,null,null,""]
[67,null,{"$f":"IF(ISBLANK(B104), \"\",VLOOKUP(B104,PRESUPUESTO!$B$17:$C$4211, 2, FALSE))","v":""},null,{"$f":"IF(ISTEXT(B104), VLOOKUP(B104, PRESUPUESTO!$B$14:$F$4211, 4, FALSE),\"\")","v":""},{"$f":"IF(ISTEXT(B104), VLOOKUP(B104, PRESUPUESTO!$B$17:$D$4211, 3, FALSE),\"\")","v":""},{"$f":"IF(ISTEXT(B104), VLOOKUP(B104, PRESUPUESTO!$B$14:$F$4211, 5, FALSE),\"\")","v":""},{"$f":"IF(ISTEXT(B104), VLOOKUP(B104, PRESUPUESTO!$B$14:$J$4211, 9, FALSE),\"\")","v":""},{"$f":"IF(ISTEXT(B104), VLOOKUP(B104, PRESUPUESTO!$B$14:$K$4211, 10, FALSE),\"\")","v":""},0,null,null,null,null,null,null,""]
[68,null,{"$f":"IF(ISBLANK(B105), \"\",VLOOKUP(B105,PRESUPUESTO!$B$17:$C$4211, 2, FALSE))","v":""},null,{"$f":"IF(ISTEXT(B105), VLOOKUP(B105, PRESUPUESTO!$B$14:$F$4211, 4, FALSE),\"\")","v":""},{"$f":"IF(ISTEXT(B105), VLOOKUP(B105, PRESUPUESTO!$B$17:$D$4211, 3, FALSE),\"\")","v":""},{"$f":"IF(ISTEXT(B105), VLOOKUP(B105, PRESUPUESTO!$B$14:$F$4211, 5, FALSE),\"\")","v":""},{"$f":"IF(ISTEXT(B105), VLOOKUP(B105, PRESUPUESTO!$B$14:$J$4211, 9, FALSE),\"\")","v":""},{"$f":"IF(ISTEXT(B105), VLOOKUP(B105, PRESUPUESTO!$B$14:$K$4211, 10, FALSE),\"\")","v":""},0,null,null,null,null,null,null,""]
[69,null,{"$f":"IF(ISBLANK(B106), \"\",VLOOKUP(B106,PRESUPUESTO!$B$17:$C$4211, 2, FALSE))","v":""},null,{"$f":"IF(ISTEXT(B106), VLOOKUP(B106, PRESUPUESTO!$B$14:$F$4211, 4, FALSE),\"\")","v":""},{"$f":"IF(ISTEXT(B106), VLOOKUP(B106, PRESUPUESTO!$B$17:$D$4211, 3, FALSE),\"\")","v":""},{"$f":"IF(ISTEXT(B106), VLOOKUP(B106, PRESUPUESTO!$B$14:$F$4211, 5, FALSE),\"\")","v":""},{"$f":"IF(ISTEXT(B106), VLOOKUP(B106, PRESUPUESTO!$B$14:$J$4211, 9, FALSE),\"\")","v":""},{"$f":"IF(ISTEXT(B106), VLOOKUP(B106, PRESUPUESTO!$B$14:$K$4211, 10, FALSE),\"\")","v":""},0,null,null,null,null,null,null,""]
[70,null,{"$f":"IF(ISBLANK(B107), \"\",VLOOKUP(B107,PRESUPUESTO!$B$17:$C$4211, 2, FALSE))","v":""},null,{"$f":"IF(ISTEXT(B107), VLOOKUP(B107, PRESUPUESTO!$B$14:$F$4211, 4, FALSE),\"\")","v":""},{"$f":"IF(ISTEXT(B107), VLOOKUP(B107, PRESUPUESTO!$B$17:$D$4211, 3, FALSE),\"\")","v":""},{"$f":"IF(ISTEXT(B107), VLOOKUP(B107, PRESUPUESTO!$B$14:$F$4211, 5, FALSE),\"\")","v":""},{"$f":"IF(ISTEXT(B107), VLOOKUP(B107, PRESUPUESTO!$B$14:$J$4211, 9, FALSE),\"\")","v":""},{"$f":"IF(ISTEXT(B107), VLOOKUP(B107, PRESUPUESTO!$B$14:$K$4211, 10, FALSE),\"\")","v":""},0,null,null,null,null,null,null,{"$f":"IF(AND(ISNUMBER($Q$29),ISTEXT(B107)),+H107*$Q$29/100, \"\")","v":""}]
[71,null,{"$f":"IF(ISBLANK(B108), \"\",VLOOKUP(B108,PRESUPUESTO!$B$17:$C$4211, 2, FALSE))","v":""},null,{"$f":"IF(ISTEXT(B108), VLOOKUP(B108, PRESUPUESTO!$B$14:$F$4211, 4, FALSE),\"\")","v":""},{"$f":"IF(ISTEXT(B108), VLOOKUP(B108, PRESUPUESTO!$B$17:$D$4211, 3, FALSE),\"\")","v":""},{"$f":"IF(ISTEXT(B108), VLOOKUP(B108, PRESUPUESTO!$B$14:$F$4211, 5, FALSE),\"\")","v":""},{"$f":"IF(ISTEXT(B108), VLOOKUP(B108, PRESUPUESTO!$B$14:$J$4211, 9, FALSE),\"\")","v":""},{"$f":"IF(ISTEXT(B108), VLOOKUP(B108, PRESUPUESTO!$B$14:$K$4211, 10, FALSE),\"\")","v":""},0,null,null,null,null,null,null,{"$f":"IF(AND(ISNUMBER($Q$29),ISTEXT(B108)),+H108*$Q$29/100, \"\")","v":""}]
[72,null,{"$f":"IF(ISBLANK(B109), \"\",VLOOKUP(B109,PRESUPUESTO!$B$17:$C$4211, 2, FALSE))","v":""},null,{"$f":"IF(ISTEXT(B109), VLOOKUP(B109, PRESUPUESTO!$B$14:$F$4211, 4, FALSE),\"\")","v":""},{"$f":"IF(ISTEXT(B109), VLOOKUP(B109, PRESUPUESTO!$B$17:$D$4211, 3, FALSE),\"\")","v":""},{"$f":"IF(ISTEXT(B109), VLOOKUP(B109, PRESUPUESTO!$B$14:$F$4211, 5, FALSE),\"\")","v":""},{"$f":"IF(ISTEXT(B109), VLOOKUP(B109, PRESUPUESTO!$B$14:$J$4211, 9, FALSE),\"\")","v":""},{"$f":"IF(ISTEXT(B109), VLOOKUP(B109, PRESUPUESTO!$B$14:$K$4211, 10, FALSE),\"\")","v":""},0,null,null,null,null,null,null,{"$f":"IF(AND(ISNUMBER($Q$29),ISTEXT(B109)),+H109*$Q$29/100, \"\")","v":""}]
[73,null,{"$f":"IF(ISBLANK(B110), \"\",VLOOKUP(B110,PRESUPUESTO!$B$17:$C$4211, 2, FALSE))","v":""},null,{"$f":"IF(ISTEXT(B110), VLOOKUP(B110, PRESUPUESTO!$B$14:$F$4211, 4, FALSE),\"\")","v":""},{"$f":"IF(ISTEXT(B110), VLOOKUP(B110, PRESUPUESTO!$B$17:$D$4211, 3, FALSE),\"\")","v":""},{"$f":"IF(ISTEXT(B110), VLOOKUP(B110, PRESUPUESTO!$B$14:$F$4211, 5, FALSE),\"\")","v":""},{"$f":"IF(ISTEXT(B110), VLOOKUP(B110, PRESUPUESTO!$B$14:$J$4211, 9, FALSE),\"\")","v":""},{"$f":"IF(ISTEXT(B110), VLOOKUP(B110, PRESUPUESTO!$B$14:$K$4211, 10, FALSE),\"\")","v":""},0,null,null,null,null,null,null,""]
[74,null,{"$f":"IF(ISBLANK(B111), \"\",VLOOKUP(B111,PRESUPUESTO!$B$17:$C$4211, 2, FALSE))","v":""},null,{"$f":"IF(ISTEXT(B111), VLOOKUP(B111, PRESUPUESTO!$B$14:$F$4211, 4, FALSE),\"\")","v":""},{"$f":"IF(ISTEXT(B111), VLOOKUP(B111, PRESUPUESTO!$B$17:$D$4211, 3, FALSE),\"\")","v":""},{"$f":"IF(ISTEXT(B111), VLOOKUP(B111, PRESUPUESTO!$B$14:$F$4211, 5, FALSE),\"\")","v":""},{"$f":"IF(ISTEXT(B111), VLOOKUP(B111, PRESUPUESTO!$B$14:$J$4211, 9, FALSE),\"\")","v":""},{"$f":"IF(ISTEXT(B111), VLOOKUP(B111, PRESUPUESTO!$B$14:$K$4211, 10, FALSE),\"\")","v":""},0,null,null,null,null,null,null,""]
[75,null,{"$f":"IF(ISBLANK(B112), \"\",VLOOKUP(B112,PRESUPUESTO!$B$17:$C$4211, 2, FALSE))","v":""},null,{"$f":"IF(ISTEXT(B112), VLOOKUP(B112, PRESUPUESTO!$B$14:$F$4211, 4, FALSE),\"\")","v":""},{"$f":"IF(ISTEXT(B112), VLOOKUP(B112, PRESUPUESTO!$B$17:$D$4211, 3, FALSE),\"\")","v":""},{"$f":"IF(ISTEXT(B112), VLOOKUP(B112, PRESUPUESTO!$B$14:$F$4211, 5, FALSE),\"\")","v":""},{"$f":"IF(ISTEXT(B112), VLOOKUP(B112, PRESUPUESTO!$B$14:$J$4211, 9, FALSE),\"\")","v":""},{"$f":"IF(ISTEXT(B112), VLOOKUP(B112, PRESUPUESTO!$B$14:$K$4211, 10, FALSE),\"\")","v":""},0,null,null,null,null,null,null,""]
[76,null,{"$f":"IF(ISBLANK(B113), \"\",VLOOKUP(B113,PRESUPUESTO!$B$17:$C$4211, 2, FALSE))","v":""},null,{"$f":"IF(ISTEXT(B113), VLOOKUP(B113, PRESUPUESTO!$B$14:$F$4211, 4, FALSE),\"\")","v":""},{"$f":"IF(ISTEXT(B113), VLOOKUP(B113, PRESUPUESTO!$B$17:$D$4211, 3, FALSE),\"\")","v":""},{"$f":"IF(ISTEXT(B113), VLOOKUP(B113, PRESUPUESTO!$B$14:$F$4211, 5, FALSE),\"\")","v":""},{"$f":"IF(ISTEXT(B113), VLOOKUP(B113, PRESUPUESTO!$B$14:$J$4211, 9, FALSE),\"\")","v":""},{"$f":"IF(ISTEXT(B113), VLOOKUP(B113, PRESUPUESTO!$B$14:$K$4211, 10, FALSE),\"\")","v":""},0,null,null,null,null,null,null,""]
[77,null,{"$f":"IF(ISBLANK(B114), \"\",VLOOKUP(B114,PRESUPUESTO!$B$17:$C$4211, 2, FALSE))","v":""},null,{"$f":"IF(ISTEXT(B114), VLOOKUP(B114, PRESUPUESTO!$B$14:$F$4211, 4, FALSE),\"\")","v":""},{"$f":"IF(ISTEXT(B114), VLOOKUP(B114, PRESUPUESTO!$B$17:$D$4211, 3, FALSE),\"\")","v":""},{"$f":"IF(ISTEXT(B114), VLOOKUP(B114, PRESUPUESTO!$B$14:$F$4211, 5, FALSE),\"\")","v":""},{"$f":"IF(ISTEXT(B114), VLOOKUP(B114, PRESUPUESTO!$B$14:$J$4211, 9, FALSE),\"\")","v":""},{"$f":"IF(ISTEXT(B114), VLOOKUP(B114, PRESUPUESTO!$B$14:$K$4211, 10, FALSE),\"\")","v":""},0,null,null,null,null,null,null,""]
[78,null,{"$f":"IF(ISBLANK(B115), \"\",VLOOKUP(B115,PRESUPUESTO!$B$17:$C$4211, 2, FALSE))","v":""},null,{"$f":"IF(ISTEXT(B115), VLOOKUP(B115, PRESUPUESTO!$B$14:$F$4211, 4, FALSE),\"\")","v":""},{"$f":"IF(ISTEXT(B115), VLOOKUP(B115, PRESUPUESTO!$B$17:$D$4211, 3, FALSE),\"\")","v":""},{"$f":"IF(ISTEXT(B115), VLOOKUP(B115, PRESUPUESTO!$B$14:$F$4211, 5, FALSE),\"\")","v":""},{"$f":"IF(ISTEXT(B115), VLOOKUP(B115, PRESUPUESTO!$B$14:$J$4211, 9, FALSE),\"\")","v":""},{"$f":"IF(ISTEXT(B115), VLOOKUP(B115, PRESUPUESTO!$B$14:$K$4211, 10, FALSE),\"\")","v":""},0,null,null,null,null,null,null,""]
[79,null,{"$f":"IF(ISBLANK(B116), \"\",VLOOKUP(B116,PRESUPUESTO!$B$17:$C$4211, 2, FALSE))","v":""},null,{"$f":"IF(ISTEXT(B116), VLOOKUP(B116, PRESUPUESTO!$B$14:$F$4211, 4, FALSE),\"\")","v":""},{"$f":"IF(ISTEXT(B116), VLOOKUP(B116, PRESUPUESTO!$B$17:$D$4211, 3, FALSE),\"\")","v":""},{"$f":"IF(ISTEXT(B116), VLOOKUP(B116, PRESUPUESTO!$B$14:$F$4211, 5, FALSE),\"\")","v":""},{"$f":"IF(ISTEXT(B116), VLOOKUP(B116, PRESUPUESTO!$B$14:$J$4211, 9, FALSE),\"\")","v":""},{"$f":"IF(ISTEXT(B116), VLOOKUP(B116, PRESUPUESTO!$B$14:$K$4211, 10, FALSE),\"\")","v":""},0,null,null,null,null,null,null,""]
[80,null,{"$f":"IF(ISBLANK(B117), \"\",VLOOKUP(B117,PRESUPUESTO!$B$17:$C$4211, 2, FALSE))","v":""},null,{"$f":"IF(ISTEXT(B117), VLOOKUP(B117, PRESUPUESTO!$B$14:$F$4211, 4, FALSE),\"\")","v":""},{"$f":"IF(ISTEXT(B117), VLOOKUP(B117, PRESUPUESTO!$B$17:$D$4211, 3, FALSE),\"\")","v":""},{"$f":"IF(ISTEXT(B117), VLOOKUP(B117, PRESUPUESTO!$B$14:$F$4211, 5, FALSE),\"\")","v":""},{"$f":"IF(ISTEXT(B117), VLOOKUP(B117, PRESUPUESTO!$B$14:$J$4211, 9, FALSE),\"\")","v":""},{"$f":"IF(ISTEXT(B117), VLOOKUP(B117, PRESUPUESTO!$B$14:$K$4211, 10, FALSE),\"\")","v":""},0,null,null,null,null,null,null,""]
[81,null,{"$f":"IF(ISBLANK(B118), \"\",VLOOKUP(B118,PRESUPUESTO!$B$17:$C$4211, 2, FALSE))","v":""},null,{"$f":"IF(ISTEXT(B118), VLOOKUP(B118, PRESUPUESTO!$B$14:$F$4211, 4, FALSE),\"\")","v":""},{"$f":"IF(ISTEXT(B118), VLOOKUP(B118, PRESUPUESTO!$B$17:$D$4211, 3, FALSE),\"\")","v":""},{"$f":"IF(ISTEXT(B118), VLOOKUP(B118, PRESUPUESTO!$B$14:$F$4211, 5, FALSE),\"\")","v":""},{"$f":"IF(ISTEXT(B118), VLOOKUP(B118, PRESUPUESTO!$B$14:$J$4211, 9, FALSE),\"\")","v":""},{"$f":"IF(ISTEXT(B118), VLOOKUP(B118, PRESUPUESTO!$B$14:$K$4211, 10, FALSE),\"\")","v":""},0,null,null,null,null,null,null,""]
[82,null,{"$f":"IF(ISBLANK(B119), \"\",VLOOKUP(B119,PRESUPUESTO!$B$17:$C$4211, 2, FALSE))","v":""},null,{"$f":"IF(ISTEXT(B119), VLOOKUP(B119, PRESUPUESTO!$B$14:$F$4211, 4, FALSE),\"\")","v":""},{"$f":"IF(ISTEXT(B119), VLOOKUP(B119, PRESUPUESTO!$B$17:$D$4211, 3, FALSE),\"\")","v":""},{"$f":"IF(ISTEXT(B119), VLOOKUP(B119, PRESUPUESTO!$B$14:$F$4211, 5, FALSE),\"\")","v":""},{"$f":"IF(ISTEXT(B119), VLOOKUP(B119, PRESUPUESTO!$B$14:$J$4211, 9, FALSE),\"\")","v":""},{"$f":"IF(ISTEXT(B119), VLOOKUP(B119, PRESUPUESTO!$B$14:$K$4211, 10, FALSE),\"\")","v":""},0,null,null,null,null,null,null,""]
[83,null,{"$f":"IF(ISBLANK(B120), \"\",VLOOKUP(B120,PRESUPUESTO!$B$17:$C$4211, 2, FALSE))","v":""},null,{"$f":"IF(ISTEXT(B120), VLOOKUP(B120, PRESUPUESTO!$B$14:$F$4211, 4, FALSE),\"\")","v":""},{"$f":"IF(ISTEXT(B120), VLOOKUP(B120, PRESUPUESTO!$B$17:$D$4211, 3, FALSE),\"\")","v":""},{"$f":"IF(ISTEXT(B120), VLOOKUP(B120, PRESUPUESTO!$B$14:$F$4211, 5, FALSE),\"\")","v":""},{"$f":"IF(ISTEXT(B120), VLOOKUP(B120, PRESUPUESTO!$B$14:$J$4211, 9, FALSE),\"\")","v":""},{"$f":"IF(ISTEXT(B120), VLOOKUP(B120, PRESUPUESTO!$B$14:$K$4211, 10, FALSE),\"\")","v":""},0,null,null,null,null,null,null,""]
[84,null,{"$f":"IF(ISBLANK(B121), \"\",VLOOKUP(B121,PRESUPUESTO!$B$17:$C$4211, 2, FALSE))","v":""},null,{"$f":"IF(ISTEXT(B121), VLOOKUP(B121, PRESUPUESTO!$B$14:$F$4211, 4, FALSE),\"\")","v":""},{"$f":"IF(ISTEXT(B121), VLOOKUP(B121, PRESUPUESTO!$B$17:$D$4211, 3, FALSE),\"\")","v":""},{"$f":"IF(ISTEXT(B121), VLOOKUP(B121, PRESUPUESTO!$B$14:$F$4211, 5, FALSE),\"\")","v":""},{"$f":"IF(ISTEXT(B121), VLOOKUP(B121, PRESUPUESTO!$B$14:$J$4211, 9, FALSE),\"\")","v":""},{"$f":"IF(ISTEXT(B121), VLOOKUP(B121, PRESUPUESTO!$B$14:$K$4211, 10, FALSE),\"\")","v":""},0,null,null,null,null,null,null,""]
[85,null,{"$f":"IF(ISBLANK(B122), \"\",VLOOKUP(B122,PRESUPUESTO!$B$17:$C$4211, 2, FALSE))","v":""},null,{"$f":"IF(ISTEXT(B122), VLOOKUP(B122, PRESUPUESTO!$B$14:$F$4211, 4, FALSE),\"\")","v":""},{"$f":"IF(ISTEXT(B122), VLOOKUP(B122, PRESUPUESTO!$B$17:$D$4211, 3, FALSE),\"\")","v":""},{"$f":"IF(ISTEXT(B122), VLOOKUP(B122, PRESUPUESTO!$B$14:$F$4211, 5, FALSE),\"\")","v":""},{"$f":"IF(ISTEXT(B122), VLOOKUP(B122, PRESUPUESTO!$B$14:$J$4211, 9, FALSE),\"\")","v":""},{"$f":"IF(ISTEXT(B122), VLOOKUP(B122, PRESUPUESTO!$B$14:$K$4211, 10, FALSE),\"\")","v":""},0,null,null,null,null,null,null,""]
[86,null,{"$f":"IF(ISBLANK(B123), \"\",VLOOKUP(B123,PRESUPUESTO!$B$17:$C$4211, 2, FALSE))","v":""},null,{"$f":"IF(ISTEXT(B123), VLOOKUP(B123, PRESUPUESTO!$B$14:$F$4211, 4, FALSE),\"\")","v":""},{"$f":"IF(ISTEXT(B123), VLOOKUP(B123, PRESUPUESTO!$B$17:$D$4211, 3, FALSE),\"\")","v":""},{"$f":"IF(ISTEXT(B123), VLOOKUP(B123, PRESUPUESTO!$B$14:$F$4211, 5, FALSE),\"\")","v":""},{"$f":"IF(ISTEXT(B123), VLOOKUP(B123, PRESUPUESTO!$B$14:$J$4211, 9, FALSE),\"\")","v":""},{"$f":"IF(ISTEXT(B123), VLOOKUP(B123, PRESUPUESTO!$B$14:$K$4211, 10, FALSE),\"\")","v":""},0,null,null,null,null,null,null,""]
[87,null,{"$f":"IF(ISBLANK(B124), \"\",VLOOKUP(B124,PRESUPUESTO!$B$17:$C$4211, 2, FALSE))","v":""},null,{"$f":"IF(ISTEXT(B124), VLOOKUP(B124, PRESUPUESTO!$B$14:$F$4211, 4, FALSE),\"\")","v":""},{"$f":"IF(ISTEXT(B124), VLOOKUP(B124, PRESUPUESTO!$B$17:$D$4211, 3, FALSE),\"\")","v":""},{"$f":"IF(ISTEXT(B124), VLOOKUP(B124, PRESUPUESTO!$B$14:$F$4211, 5, FALSE),\"\")","v":""},{"$f":"IF(ISTEXT(B124), VLOOKUP(B124, PRESUPUESTO!$B$14:$J$4211, 9, FALSE),\"\")","v":""},{"$f":"IF(ISTEXT(B124), VLOOKUP(B124, PRESUPUESTO!$B$14:$K$4211, 10, FALSE),\"\")","v":""},0,null,null,null,null,null,null,""]
[88,null,{"$f":"IF(ISBLANK(B125), \"\",VLOOKUP(B125,PRESUPUESTO!$B$17:$C$4211, 2, FALSE))","v":""},null,{"$f":"IF(ISTEXT(B125), VLOOKUP(B125, PRESUPUESTO!$B$14:$F$4211, 4, FALSE),\"\")","v":""},{"$f":"IF(ISTEXT(B125), VLOOKUP(B125, PRESUPUESTO!$B$17:$D$4211, 3, FALSE),\"\")","v":""},{"$f":"IF(ISTEXT(B125), VLOOKUP(B125, PRESUPUESTO!$B$14:$F$4211, 5, FALSE),\"\")","v":""},{"$f":"IF(ISTEXT(B125), VLOOKUP(B125, PRESUPUESTO!$B$14:$J$4211, 9, FALSE),\"\")","v":""},{"$f":"IF(ISTEXT(B125), VLOOKUP(B125, PRESUPUESTO!$B$14:$K$4211, 10, FALSE),\"\")","v":""},0,null,null,null,null,null,null,""]
[89,null,{"$f":"IF(ISBLANK(B126), \"\",VLOOKUP(B126,PRESUPUESTO!$B$17:$C$4211, 2, FALSE))","v":""},null,{"$f":"IF(ISTEXT(B126), VLOOKUP(B126, PRESUPUESTO!$B$14:$F$4211, 4, FALSE),\"\")","v":""},{"$f":"IF(ISTEXT(B126), VLOOKUP(B126, PRESUPUESTO!$B$17:$D$4211, 3, FALSE),\"\")","v":""},{"$f":"IF(ISTEXT(B126), VLOOKUP(B126, PRESUPUESTO!$B$14:$F$4211, 5, FALSE),\"\")","v":""},{"$f":"IF(ISTEXT(B126), VLOOKUP(B126, PRESUPUESTO!$B$14:$J$4211, 9, FALSE),\"\")","v":""},{"$f":"IF(ISTEXT(B126), VLOOKUP(B126, PRESUPUESTO!$B$14:$K$4211, 10, FALSE),\"\")","v":""},0,null,null,null,null,null,null,""]
[90,null,{"$f":"IF(ISBLANK(B127), \"\",VLOOKUP(B127,PRESUPUESTO!$B$17:$C$4211, 2, FALSE))","v":""},null,{"$f":"IF(ISTEXT(B127), VLOOKUP(B127, PRESUPUESTO!$B$14:$F$4211, 4, FALSE),\"\")","v":""},{"$f":"IF(ISTEXT(B127), VLOOKUP(B127, PRESUPUESTO!$B$17:$D$4211, 3, FALSE),\"\")","v":""},{"$f":"IF(ISTEXT(B127), VLOOKUP(B127, PRESUPUESTO!$B$14:$F$4211, 5, FALSE),\"\")","v":""},{"$f":"IF(ISTEXT(B127), VLOOKUP(B127, PRESUPUESTO!$B$14:$J$4211, 9, FALSE),\"\")","v":""},{"$f":"IF(ISTEXT(B127), VLOOKUP(B127, PRESUPUESTO!$B$14:$K$4211, 10, FALSE),\"\")","v":""},0,null,null,null,null,null,null,""]
[91,null,{"$f":"IF(ISBLANK(B128), \"\",VLOOKUP(B128,PRESUPUESTO!$B$17:$C$4211, 2, FALSE))","v":""},null,{"$f":"IF(ISTEXT(B128), VLOOKUP(B128, PRESUPUESTO!$B$14:$F$4211, 4, FALSE),\"\")","v":""},{"$f":"IF(ISTEXT(B128), VLOOKUP(B128, PRESUPUESTO!$B$17:$D$4211, 3, FALSE),\"\")","v":""},{"$f":"IF(ISTEXT(B128), VLOOKUP(B128, PRESUPUESTO!$B$14:$F$4211, 5, FALSE),\"\")","v":""},{"$f":"IF(ISTEXT(B128), VLOOKUP(B128, PRESUPUESTO!$B$14:$J$4211, 9, FALSE),\"\")","v":""},{"$f":"IF(ISTEXT(B128), VLOOKUP(B128, PRESUPUESTO!$B$14:$K$4211, 10, FALSE),\"\")","v":""},0,null,null,null,null,null,null,""]
[92,null,{"$f":"IF(ISBLANK(B129), \"\",VLOOKUP(B129,PRESUPUESTO!$B$17:$C$4211, 2, FALSE))","v":""},null,{"$f":"IF(ISTEXT(B129), VLOOKUP(B129, PRESUPUESTO!$B$14:$F$4211, 4, FALSE),\"\")","v":""},{"$f":"IF(ISTEXT(B129), VLOOKUP(B129, PRESUPUESTO!$B$17:$D$4211, 3, FALSE),\"\")","v":""},{"$f":"IF(ISTEXT(B129), VLOOKUP(B129, PRESUPUESTO!$B$14:$F$4211, 5, FALSE),\"\")","v":""},{"$f":"IF(ISTEXT(B129), VLOOKUP(B129, PRESUPUESTO!$B$14:$J$4211, 9, FALSE),\"\")","v":""},{"$f":"IF(ISTEXT(B129), VLOOKUP(B129, PRESUPUESTO!$B$14:$K$4211, 10, FALSE),\"\")","v":""},0,null,null,null,null,null,null,""]
[93,null,{"$f":"IF(ISBLANK(B130), \"\",VLOOKUP(B130,PRESUPUESTO!$B$17:$C$4211, 2, FALSE))","v":""},null,{"$f":"IF(ISTEXT(B130), VLOOKUP(B130, PRESUPUESTO!$B$14:$F$4211, 4, FALSE),\"\")","v":""},{"$f":"IF(ISTEXT(B130), VLOOKUP(B130, PRESUPUESTO!$B$17:$D$4211, 3, FALSE),\"\")","v":""},{"$f":"IF(ISTEXT(B130), VLOOKUP(B130, PRESUPUESTO!$B$14:$F$4211, 5, FALSE),\"\")","v":""},{"$f":"IF(ISTEXT(B130), VLOOKUP(B130, PRESUPUESTO!$B$14:$J$4211, 9, FALSE),\"\")","v":""},{"$f":"IF(ISTEXT(B130), VLOOKUP(B130, PRESUPUESTO!$B$14:$K$4211, 10, FALSE),\"\")","v":""},0,null,null,null,null,null,null,""]
[94,null,{"$f":"IF(ISBLANK(B131), \"\",VLOOKUP(B131,PRESUPUESTO!$B$17:$C$4211, 2, FALSE))","v":""},null,{"$f":"IF(ISTEXT(B131), VLOOKUP(B131, PRESUPUESTO!$B$14:$F$4211, 4, FALSE),\"\")","v":""},{"$f":"IF(ISTEXT(B131), VLOOKUP(B131, PRESUPUESTO!$B$17:$D$4211, 3, FALSE),\"\")","v":""},{"$f":"IF(ISTEXT(B131), VLOOKUP(B131, PRESUPUESTO!$B$14:$F$4211, 5, FALSE),\"\")","v":""},{"$f":"IF(ISTEXT(B131), VLOOKUP(B131, PRESUPUESTO!$B$14:$J$4211, 9, FALSE),\"\")","v":""},{"$f":"IF(ISTEXT(B131), VLOOKUP(B131, PRESUPUESTO!$B$14:$K$4211, 10, FALSE),\"\")","v":""},0,null,null,null,null,null,null,""]
[95,null,{"$f":"IF(ISBLANK(B132), \"\",VLOOKUP(B132,PRESUPUESTO!$B$17:$C$4211, 2, FALSE))","v":""},null,{"$f":"IF(ISTEXT(B132), VLOOKUP(B132, PRESUPUESTO!$B$14:$F$4211, 4, FALSE),\"\")","v":""},{"$f":"IF(ISTEXT(B132), VLOOKUP(B132, PRESUPUESTO!$B$17:$D$4211, 3, FALSE),\"\")","v":""},{"$f":"IF(ISTEXT(B132), VLOOKUP(B132, PRESUPUESTO!$B$14:$F$4211, 5, FALSE),\"\")","v":""},{"$f":"IF(ISTEXT(B132), VLOOKUP(B132, PRESUPUESTO!$B$14:$J$4211, 9, FALSE),\"\")","v":""},{"$f":"IF(ISTEXT(B132), VLOOKUP(B132, PRESUPUESTO!$B$14:$K$4211, 10, FALSE),\"\")","v":""},0,null,null,null,null,null,null,""]
[96,null,{"$f":"IF(ISBLANK(B133), \"\",VLOOKUP(B133,PRESUPUESTO!$B$17:$C$4211, 2, FALSE))","v":""},null,{"$f":"IF(ISTEXT(B133), VLOOKUP(B133, PRESUPUESTO!$B$14:$F$4211, 4, FALSE),\"\")","v":""},{"$f":"IF(ISTEXT(B133), VLOOKUP(B133, PRESUPUESTO!$B$17:$D$4211, 3, FALSE),\"\")","v":""},{"$f":"IF(ISTEXT(B133), VLOOKUP(B133, PRESUPUESTO!$B$14:$F$4211, 5, FALSE),\"\")","v":""},{"$f":"IF(ISTEXT(B133), VLOOKUP(B133, PRESUPUESTO!$B$14:$J$4211, 9, FALSE),\"\")","v":""},{"$f":"IF(ISTEXT(B133), VLOOKUP(B133, PRESUPUESTO!$B$14:$K$4211, 10, FALSE),\"\")","v":""},0,null,null,null,null,null,null,""]
[97,null,{"$f":"IF(ISBLANK(B134), \"\",VLOOKUP(B134,PRESUPUESTO!$B$17:$C$4211, 2, FALSE))","v":""},null,{"$f":"IF(ISTEXT(B134), VLOOKUP(B134, PRESUPUESTO!$B$14:$F$4211, 4, FALSE),\"\")","v":""},{"$f":"IF(ISTEXT(B134), VLOOKUP(B134, PRESUPUESTO!$B$17:$D$4211, 3, FALSE),\"\")","v":""},{"$f":"IF(ISTEXT(B134), VLOOKUP(B134, PRESUPUESTO!$B$14:$F$4211, 5, FALSE),\"\")","v":""},{"$f":"IF(ISTEXT(B134), VLOOKUP(B134, PRESUPUESTO!$B$14:$J$4211, 9, FALSE),\"\")","v":""},{"$f":"IF(ISTEXT(B134), VLOOKUP(B134, PRESUPUESTO!$B$14:$K$4211, 10, FALSE),\"\")","v":""},0,null,null,null,null,null,null,""]
[98,null,{"$f":"IF(ISBLANK(B135), \"\",VLOOKUP(B135,PRESUPUESTO!$B$17:$C$4211, 2, FALSE))","v":""},null,{"$f":"IF(ISTEXT(B135), VLOOKUP(B135, PRESUPUESTO!$B$14:$F$4211, 4, FALSE),\"\")","v":""},{"$f":"IF(ISTEXT(B135), VLOOKUP(B135, PRESUPUESTO!$B$17:$D$4211, 3, FALSE),\"\")","v":""},{"$f":"IF(ISTEXT(B135), VLOOKUP(B135, PRESUPUESTO!$B$14:$F$4211, 5, FALSE),\"\")","v":""},{"$f":"IF(ISTEXT(B135), VLOOKUP(B135, PRESUPUESTO!$B$14:$J$4211, 9, FALSE),\"\")","v":""},{"$f":"IF(ISTEXT(B135), VLOOKUP(B135, PRESUPUESTO!$B$14:$K$4211, 10, FALSE),\"\")","v":""},0,null,null,null,null,null,null,""]
[99,null,{"$f":"IF(ISBLANK(B136), \"\",VLOOKUP(B136,PRESUPUESTO!$B$17:$C$4211, 2, FALSE))","v":""},null,{"$f":"IF(ISTEXT(B136), VLOOKUP(B136, PRESUPUESTO!$B$14:$F$4211, 4, FALSE),\"\")","v":""},{"$f":"IF(ISTEXT(B136), VLOOKUP(B136, PRESUPUESTO!$B$17:$D$4211, 3, FALSE),\"\")","v":""},{"$f":"IF(ISTEXT(B136), VLOOKUP(B136, PRESUPUESTO!$B$14:$F$4211, 5, FALSE),\"\")","v":""},{"$f":"IF(ISTEXT(B136), VLOOKUP(B136, PRESUPUESTO!$B$14:$J$4211, 9, FALSE),\"\")","v":""},{"$f":"IF(ISTEXT(B136), VLOOKUP(B136, PRESUPUESTO!$B$14:$K$4211, 10, FALSE),\"\")","v":""},0,null,null,null,null,null,null,""]
[100,null,{"$f":"IF(ISBLANK(B137), \"\",VLOOKUP(B137,PRESUPUESTO!$B$17:$C$4211, 2, FALSE))","v":""},null,{"$f":"IF(ISTEXT(B137), VLOOKUP(B137, PRESUPUESTO!$B$14:$F$4211, 4, FALSE),\"\")","v":""},{"$f":"IF(ISTEXT(B137), VLOOKUP(B137, PRESUPUESTO!$B$17:$D$4211, 3, FALSE),\"\")","v":""},{"$f":"IF(ISTEXT(B137), VLOOKUP(B137, PRESUPUESTO!$B$14:$F$4211, 5, FALSE),\"\")","v":""},{"$f":"IF(ISTEXT(B137), VLOOKUP(B137, PRESUPUESTO!$B$14:$J$4211, 9, FALSE),\"\")","v":""},{"$f":"IF(ISTEXT(B137), VLOOKUP(B137, PRESUPUESTO!$B$14:$K$4211, 10, FALSE),\"\")","v":""},0,null,null,null,null,null,null,""]
[101,null,{"$f":"IF(ISBLANK(B138), \"\",VLOOKUP(B138,PRESUPUESTO!$B$17:$C$4211, 2, FALSE))","v":""},null,{"$f":"IF(ISTEXT(B138), VLOOKUP(B138, PRESUPUESTO!$B$14:$F$4211, 4, FALSE),\"\")","v":""},{"$f":"IF(ISTEXT(B138), VLOOKUP(B138, PRESUPUESTO!$B$17:$D$4211, 3, FALSE),\"\")","v":""},{"$f":"IF(ISTEXT(B138), VLOOKUP(B138, PRESUPUESTO!$B$14:$F$4211, 5, FALSE),\"\")","v":""},{"$f":"IF(ISTEXT(B138), VLOOKUP(B138, PRESUPUESTO!$B$14:$J$4211, 9, FALSE),\"\")","v":""},{"$f":"IF(ISTEXT(B138), VLOOKUP(B138, PRESUPUESTO!$B$14:$K$4211, 10, FALSE),\"\")","v":""},{"$f":"IF(ISBLANK(B138),B138,(H138+I138))","v":0},null,null,null,null,null,null,{"$f":"IF(AND(ISNUMBER($Q$29),ISTEXT(B138)),+H138*$Q$29/100, \"\")","v":""}]
[102,null,{"$f":"IF(ISBLANK(B139), \"\",VLOOKUP(B139,PRESUPUESTO!$B$17:$C$4211, 2, FALSE))","v":""},null,{"$f":"IF(ISTEXT(B139), VLOOKUP(B139, PRESUPUESTO!$B$14:$F$4211, 4, FALSE),\"\")","v":""},{"$f":"IF(ISTEXT(B139), VLOOKUP(B139, PRESUPUESTO!$B$17:$D$4211, 3, FALSE),\"\")","v":""},{"$f":"IF(ISTEXT(B139), VLOOKUP(B139, PRESUPUESTO!$B$14:$F$4211, 5, FALSE),\"\")","v":""},{"$f":"IF(ISTEXT(B139), VLOOKUP(B139, PRESUPUESTO!$B$14:$J$4211, 9, FALSE),\"\")","v":""},{"$f":"IF(ISTEXT(B139), VLOOKUP(B139, PRESUPUESTO!$B$14:$K$4211, 10, FALSE),\"\")","v":""},0,null,null,null,null,null,null,""]
[103,null,{"$f":"IF(ISBLANK(B140), \"\",VLOOKUP(B140,PRESUPUESTO!$B$17:$C$4211, 2, FALSE))","v":""},null,{"$f":"IF(ISTEXT(B140), VLOOKUP(B140, PRESUPUESTO!$B$14:$F$4211, 4, FALSE),\"\")","v":""},{"$f":"IF(ISTEXT(B140), VLOOKUP(B140, PRESUPUESTO!$B$17:$D$4211, 3, FALSE),\"\")","v":""},{"$f":"IF(ISTEXT(B140), VLOOKUP(B140, PRESUPUESTO!$B$14:$F$4211, 5, FALSE),\"\")","v":""},{"$f":"IF(ISTEXT(B140), VLOOKUP(B140, PRESUPUESTO!$B$14:$J$4211, 9, FALSE),\"\")","v":""},{"$f":"IF(ISTEXT(B140), VLOOKUP(B140, PRESUPUESTO!$B$14:$K$4211, 10, FALSE),\"\")","v":""},0,null,null,null,null,null,null,""]
[104,null,{"$f":"IF(ISBLANK(B141), \"\",VLOOKUP(B141,PRESUPUESTO!$B$17:$C$4211, 2, FALSE))","v":""},null,{"$f":"IF(ISTEXT(B141), VLOOKUP(B141, PRESUPUESTO!$B$14:$F$4211, 4, FALSE),\"\")","v":""},{"$f":"IF(ISTEXT(B141), VLOOKUP(B141, PRESUPUESTO!$B$17:$D$4211, 3, FALSE),\"\")","v":""},{"$f":"IF(ISTEXT(B141), VLOOKUP(B141, PRESUPUESTO!$B$14:$F$4211, 5, FALSE),\"\")","v":""},{"$f":"IF(ISTEXT(B141), VLOOKUP(B141, PRESUPUESTO!$B$14:$J$4211, 9, FALSE),\"\")","v":""},{"$f":"IF(ISTEXT(B141), VLOOKUP(B141, PRESUPUESTO!$B$14:$K$4211, 10, FALSE),\"\")","v":""},0,null,null,null,null,null,null,""]
[105,null,{"$f":"IF(ISBLANK(B142), \"\",VLOOKUP(B142,PRESUPUESTO!$B$17:$C$4211, 2, FALSE))","v":""},null,{"$f":"IF(ISTEXT(B142), VLOOKUP(B142, PRESUPUESTO!$B$14:$F$4211, 4, FALSE),\"\")","v":""},{"$f":"IF(ISTEXT(B142), VLOOKUP(B142, PRESUPUESTO!$B$17:$D$4211, 3, FALSE),\"\")","v":""},{"$f":"IF(ISTEXT(B142), VLOOKUP(B142, PRESUPUESTO!$B$14:$F$4211, 5, FALSE),\"\")","v":""},{"$f":"IF(ISTEXT(B142), VLOOKUP(B142, PRESUPUESTO!$B$14:$J$4211, 9, FALSE),\"\")","v":""},{"$f":"IF(ISTEXT(B142), VLOOKUP(B142, PRESUPUESTO!$B$14:$K$4211, 10, FALSE),\"\")","v":""},0,null,null,null,null,null,null,""]
[106,null,{"$f":"IF(ISBLANK(B143), \"\",VLOOKUP(B143,PRESUPUESTO!$B$17:$C$4211, 2, FALSE))","v":""},null,{"$f":"IF(ISTEXT(B143), VLOOKUP(B143, PRESUPUESTO!$B$14:$F$4211, 4, FALSE),\"\")","v":""},{"$f":"IF(ISTEXT(B143), VLOOKUP(B143, PRESUPUESTO!$B$17:$D$4211, 3, FALSE),\"\")","v":""},{"$f":"IF(ISTEXT(B143), VLOOKUP(B143, PRESUPUESTO!$B$14:$F$4211, 5, FALSE),\"\")","v":""},{"$f":"IF(ISTEXT(B143), VLOOKUP(B143, PRESUPUESTO!$B$14:$J$4211, 9, FALSE),\"\")","v":""},{"$f":"IF(ISTEXT(B143), VLOOKUP(B143, PRESUPUESTO!$B$14:$K$4211, 10, FALSE),\"\")","v":""},0,null,null,null,null,null,null,""]
[107,null,{"$f":"IF(ISBLANK(B144), \"\",VLOOKUP(B144,PRESUPUESTO!$B$17:$C$4211, 2, FALSE))","v":""},null,{"$f":"IF(ISTEXT(B144), VLOOKUP(B144, PRESUPUESTO!$B$14:$F$4211, 4, FALSE),\"\")","v":""},{"$f":"IF(ISTEXT(B144), VLOOKUP(B144, PRESUPUESTO!$B$17:$D$4211, 3, FALSE),\"\")","v":""},{"$f":"IF(ISTEXT(B144), VLOOKUP(B144, PRESUPUESTO!$B$14:$F$4211, 5, FALSE),\"\")","v":""},{"$f":"IF(ISTEXT(B144), VLOOKUP(B144, PRESUPUESTO!$B$14:$J$4211, 9, FALSE),\"\")","v":""},{"$f":"IF(ISTEXT(B144), VLOOKUP(B144, PRESUPUESTO!$B$14:$K$4211, 10, FALSE),\"\")","v":""},0,null,null,null,null,null,null,""]
[108,null,{"$f":"IF(ISBLANK(B145), \"\",VLOOKUP(B145,PRESUPUESTO!$B$17:$C$4211, 2, FALSE))","v":""},null,{"$f":"IF(ISTEXT(B145), VLOOKUP(B145, PRESUPUESTO!$B$14:$F$4211, 4, FALSE),\"\")","v":""},{"$f":"IF(ISTEXT(B145), VLOOKUP(B145, PRESUPUESTO!$B$17:$D$4211, 3, FALSE),\"\")","v":""},{"$f":"IF(ISTEXT(B145), VLOOKUP(B145, PRESUPUESTO!$B$14:$F$4211, 5, FALSE),\"\")","v":""},{"$f":"IF(ISTEXT(B145), VLOOKUP(B145, PRESUPUESTO!$B$14:$J$4211, 9, FALSE),\"\")","v":""},{"$f":"IF(ISTEXT(B145), VLOOKUP(B145, PRESUPUESTO!$B$14:$K$4211, 10, FALSE),\"\")","v":""},0,null,null,null,null,null,null,""]
[109,null,{"$f":"IF(ISBLANK(B146), \"\",VLOOKUP(B146,PRESUPUESTO!$B$17:$C$4211, 2, FALSE))","v":""},null,{"$f":"IF(ISTEXT(B146), VLOOKUP(B146, PRESUPUESTO!$B$14:$F$4211, 4, FALSE),\"\")","v":""},{"$f":"IF(ISTEXT(B146), VLOOKUP(B146, PRESUPUESTO!$B$17:$D$4211, 3, FALSE),\"\")","v":""},{"$f":"IF(ISTEXT(B146), VLOOKUP(B146, PRESUPUESTO!$B$14:$F$4211, 5, FALSE),\"\")","v":""},{"$f":"IF(ISTEXT(B146), VLOOKUP(B146, PRESUPUESTO!$B$14:$J$4211, 9, FALSE),\"\")","v":""},{"$f":"IF(ISTEXT(B146), VLOOKUP(B146, PRESUPUESTO!$B$14:$K$4211, 10, FALSE),\"\")","v":""},0,null,null,null,null,null,null,""]
[110,null,{"$f":"IF(ISBLANK(B147), \"\",VLOOKUP(B147,PRESUPUESTO!$B$17:$C$4211, 2, FALSE))","v":""},null,{"$f":"IF(ISTEXT(B147), VLOOKUP(B147, PRESUPUESTO!$B$14:$F$4211, 4, FALSE),\"\")","v":""},{"$f":"IF(ISTEXT(B147), VLOOKUP(B147, PRESUPUESTO!$B$17:$D$4211, 3, FALSE),\"\")","v":""},{"$f":"IF(ISTEXT(B147), VLOOKUP(B147, PRESUPUESTO!$B$14:$F$4211, 5, FALSE),\"\")","v":""},{"$f":"IF(ISTEXT(B147), VLOOKUP(B147, PRESUPUESTO!$B$14:$J$4211, 9, FALSE),\"\")","v":""},{"$f":"IF(ISTEXT(B147), VLOOKUP(B147, PRESUPUESTO!$B$14:$K$4211, 10, FALSE),\"\")","v":""},0,null,null,null,null,null,null,""]
[111,null,{"$f":"IF(ISBLANK(B148), \"\",VLOOKUP(B148,PRESUPUESTO!$B$17:$C$4211, 2, FALSE))","v":""},null,{"$f":"IF(ISTEXT(B148), VLOOKUP(B148, PRESUPUESTO!$B$14:$F$4211, 4, FALSE),\"\")","v":""},{"$f":"IF(ISTEXT(B148), VLOOKUP(B148, PRESUPUESTO!$B$17:$D$4211, 3, FALSE),\"\")","v":""},{"$f":"IF(ISTEXT(B148), VLOOKUP(B148, PRESUPUESTO!$B$14:$F$4211, 5, FALSE),\"\")","v":""},{"$f":"IF(ISTEXT(B148), VLOOKUP(B148, PRESUPUESTO!$B$14:$J$4211, 9, FALSE),\"\")","v":""},{"$f":"IF(ISTEXT(B148), VLOOKUP(B148, PRESUPUESTO!$B$14:$K$4211, 10, FALSE),\"\")","v":""},0,null,null,null,null,null,null,""]
[112,null,{"$f":"IF(ISBLANK(B149), \"\",VLOOKUP(B149,PRESUPUESTO!$B$17:$C$4211, 2, FALSE))","v":""},null,{"$f":"IF(ISTEXT(B149), VLOOKUP(B149, PRESUPUESTO!$B$14:$F$4211, 4, FALSE),\"\")","v":""},{"$f":"IF(ISTEXT(B149), VLOOKUP(B149, PRESUPUESTO!$B$17:$D$4211, 3, FALSE),\"\")","v":""},{"$f":"IF(ISTEXT(B149), VLOOKUP(B149, PRESUPUESTO!$B$14:$F$4211, 5, FALSE),\"\")","v":""},{"$f":"IF(ISTEXT(B149), VLOOKUP(B149, PRESUPUESTO!$B$14:$J$4211, 9, FALSE),\"\")","v":""},{"$f":"IF(ISTEXT(B149), VLOOKUP(B149, PRESUPUESTO!$B$14:$K$4211, 10, FALSE),\"\")","v":""},0,null,null,null,null,null,null,""]
[113,null,{"$f":"IF(ISBLANK(B150), \"\",VLOOKUP(B150,PRESUPUESTO!$B$17:$C$4211, 2, FALSE))","v":""},null,{"$f":"IF(ISTEXT(B150), VLOOKUP(B150, PRESUPUESTO!$B$14:$F$4211, 4, FALSE),\"\")","v":""},{"$f":"IF(ISTEXT(B150), VLOOKUP(B150, PRESUPUESTO!$B$17:$D$4211, 3, FALSE),\"\")","v":""},{"$f":"IF(ISTEXT(B150), VLOOKUP(B150, PRESUPUESTO!$B$14:$F$4211, 5, FALSE),\"\")","v":""},{"$f":"IF(ISTEXT(B150), VLOOKUP(B150, PRESUPUESTO!$B$14:$J$4211, 9, FALSE),\"\")","v":""},{"$f":"IF(ISTEXT(B150), VLOOKUP(B150, PRESUPUESTO!$B$14:$K$4211, 10, FALSE),\"\")","v":""},0,null,null,null,null,null,null,""]
[114,null,{"$f":"IF(ISBLANK(B151), \"\",VLOOKUP(B151,PRESUPUESTO!$B$17:$C$4211, 2, FALSE))","v":""},null,{"$f":"IF(ISTEXT(B151), VLOOKUP(B151, PRESUPUESTO!$B$14:$F$4211, 4, FALSE),\"\")","v":""},{"$f":"IF(ISTEXT(B151), VLOOKUP(B151, PRESUPUESTO!$B$17:$D$4211, 3, FALSE),\"\")","v":""},{"$f":"IF(ISTEXT(B151), VLOOKUP(B151, PRESUPUESTO!$B$14:$F$4211, 5, FALSE),\"\")","v":""},{"$f":"IF(ISTEXT(B151), VLOOKUP(B151, PRESUPUESTO!$B$14:$J$4211, 9, FALSE),\"\")","v":""},{"$f":"IF(ISTEXT(B151), VLOOKUP(B151, PRESUPUESTO!$B$14:$K$4211, 10, FALSE),\"\")","v":""},0,null,null,null,null,null,null,""]
[115,null,{"$f":"IF(ISBLANK(B152), \"\",VLOOKUP(B152,PRESUPUESTO!$B$17:$C$4211, 2, FALSE))","v":""},null,{"$f":"IF(ISTEXT(B152), VLOOKUP(B152, PRESUPUESTO!$B$14:$F$4211, 4, FALSE),\"\")","v":""},{"$f":"IF(ISTEXT(B152), VLOOKUP(B152, PRESUPUESTO!$B$17:$D$4211, 3, FALSE),\"\")","v":""},{"$f":"IF(ISTEXT(B152), VLOOKUP(B152, PRESUPUESTO!$B$14:$F$4211, 5, FALSE),\"\")","v":""},{"$f":"IF(ISTEXT(B152), VLOOKUP(B152, PRESUPUESTO!$B$14:$J$4211, 9, FALSE),\"\")","v":""},{"$f":"IF(ISTEXT(B152), VLOOKUP(B152, PRESUPUESTO!$B$14:$K$4211, 10, FALSE),\"\")","v":""},0,null,null,null,null,null,null,""]
[116,null,{"$f":"IF(ISBLANK(B153), \"\",VLOOKUP(B153,PRESUPUESTO!$B$17:$C$4211, 2, FALSE))","v":""},null,{"$f":"IF(ISTEXT(B153), VLOOKUP(B153, PRESUPUESTO!$B$14:$F$4211, 4, FALSE),\"\")","v":""},{"$f":"IF(ISTEXT(B153), VLOOKUP(B153, PRESUPUESTO!$B$17:$D$4211, 3, FALSE),\"\")","v":""},{"$f":"IF(ISTEXT(B153), VLOOKUP(B153, PRESUPUESTO!$B$14:$F$4211, 5, FALSE),\"\")","v":""},{"$f":"IF(ISTEXT(B153), VLOOKUP(B153, PRESUPUESTO!$B$14:$J$4211, 9, FALSE),\"\")","v":""},{"$f":"IF(ISTEXT(B153), VLOOKUP(B153, PRESUPUESTO!$B$14:$K$4211, 10, FALSE),\"\")","v":""},0,null,null,null,null,null,null,""]
[117,null,{"$f":"IF(ISBLANK(B154), \"\",VLOOKUP(B154,PRESUPUESTO!$B$17:$C$4211, 2, FALSE))","v":""},null,{"$f":"IF(ISTEXT(B154), VLOOKUP(B154, PRESUPUESTO!$B$14:$F$4211, 4, FALSE),\"\")","v":""},{"$f":"IF(ISTEXT(B154), VLOOKUP(B154, PRESUPUESTO!$B$17:$D$4211, 3, FALSE),\"\")","v":""},{"$f":"IF(ISTEXT(B154), VLOOKUP(B154, PRESUPUESTO!$B$14:$F$4211, 5, FALSE),\"\")","v":""},{"$f":"IF(ISTEXT(B154), VLOOKUP(B154, PRESUPUESTO!$B$14:$J$4211, 9, FALSE),\"\")","v":""},{"$f":"IF(ISTEXT(B154), VLOOKUP(B154, PRESUPUESTO!$B$14:$K$4211, 10, FALSE),\"\")","v":""},0,null,null,null,null,null,null,""]
[118,null,{"$f":"IF(ISBLANK(B155), \"\",VLOOKUP(B155,PRESUPUESTO!$B$17:$C$4211, 2, FALSE))","v":""},null,{"$f":"IF(ISTEXT(B155), VLOOKUP(B155, PRESUPUESTO!$B$14:$F$4211, 4, FALSE),\"\")","v":""},{"$f":"IF(ISTEXT(B155), VLOOKUP(B155, PRESUPUESTO!$B$17:$D$4211, 3, FALSE),\"\")","v":""},{"$f":"IF(ISTEXT(B155), VLOOKUP(B155, PRESUPUESTO!$B$14:$F$4211, 5, FALSE),\"\")","v":""},{"$f":"IF(ISTEXT(B155), VLOOKUP(B155, PRESUPUESTO!$B$14:$J$4211, 9, FALSE),\"\")","v":""},{"$f":"IF(ISTEXT(B155), VLOOKUP(B155, PRESUPUESTO!$B$14:$K$4211, 10, FALSE),\"\")","v":""},0,null,null,null,null,null,null,""]
[119,null,{"$f":"IF(ISBLANK(B156), \"\",VLOOKUP(B156,PRESUPUESTO!$B$17:$C$4211, 2, FALSE))","v":""},null,{"$f":"IF(ISTEXT(B156), VLOOKUP(B156, PRESUPUESTO!$B$14:$F$4211, 4, FALSE),\"\")","v":""},{"$f":"IF(ISTEXT(B156), VLOOKUP(B156, PRESUPUESTO!$B$17:$D$4211, 3, FALSE),\"\")","v":""},{"$f":"IF(ISTEXT(B156), VLOOKUP(B156, PRESUPUESTO!$B$14:$F$4211, 5, FALSE),\"\")","v":""},{"$f":"IF(ISTEXT(B156), VLOOKUP(B156, PRESUPUESTO!$B$14:$J$4211, 9, FALSE),\"\")","v":""},{"$f":"IF(ISTEXT(B156), VLOOKUP(B156, PRESUPUESTO!$B$14:$K$4211, 10, FALSE),\"\")","v":""},0,null,null,null,null,null,null,""]
[120,null,{"$f":"IF(ISBLANK(B157), \"\",VLOOKUP(B157,PRESUPUESTO!$B$17:$C$4211, 2, FALSE))","v":""},null,{"$f":"IF(ISTEXT(B157), VLOOKUP(B157, PRESUPUESTO!$B$14:$F$4211, 4, FALSE),\"\")","v":""},{"$f":"IF(ISTEXT(B157), VLOOKUP(B157, PRESUPUESTO!$B$17:$D$4211, 3, FALSE),\"\")","v":""},{"$f":"IF(ISTEXT(B157), VLOOKUP(B157, PRESUPUESTO!$B$14:$F$4211, 5, FALSE),\"\")","v":""},{"$f":"IF(ISTEXT(B157), VLOOKUP(B157, PRESUPUESTO!$B$14:$J$4211, 9, FALSE),\"\")","v":""},{"$f":"IF(ISTEXT(B157), VLOOKUP(B157, PRESUPUESTO!$B$14:$K$4211, 10, FALSE),\"\")","v":""},0,null,null,null,null,null,null,""]
[121,null,{"$f":"IF(ISBLANK(B158), \"\",VLOOKUP(B158,PRESUPUESTO!$B$17:$C$4211, 2, FALSE))","v":""},null,{"$f":"IF(ISTEXT(B158), VLOOKUP(B158, PRESUPUESTO!$B$14:$F$4211, 4, FALSE),\"\")","v":""},{"$f":"IF(ISTEXT(B158), VLOOKUP(B158, PRESUPUESTO!$B$17:$D$4211, 3, FALSE),\"\")","v":""},{"$f":"IF(ISTEXT(B158), VLOOKUP(B158, PRESUPUESTO!$B$14:$F$4211, 5, FALSE),\"\")","v":""},{"$f":"IF(ISTEXT(B158), VLOOKUP(B158, PRESUPUESTO!$B$14:$J$4211, 9, FALSE),\"\")","v":""},{"$f":"IF(ISTEXT(B158), VLOOKUP(B158, PRESUPUESTO!$B$14:$K$4211, 10, FALSE),\"\")","v":""},0,null,null,null,null,null,null,""]
[122,null,{"$f":"IF(ISBLANK(B159), \"\",VLOOKUP(B159,PRESUPUESTO!$B$17:$C$4211, 2, FALSE))","v":""},null,{"$f":"IF(ISTEXT(B159), VLOOKUP(B159, PRESUPUESTO!$B$14:$F$4211, 4, FALSE),\"\")","v":""},{"$f":"IF(ISTEXT(B159), VLOOKUP(B159, PRESUPUESTO!$B$17:$D$4211, 3, FALSE),\"\")","v":""},{"$f":"IF(ISTEXT(B159), VLOOKUP(B159, PRESUPUESTO!$B$14:$F$4211, 5, FALSE),\"\")","v":""},{"$f":"IF(ISTEXT(B159), VLOOKUP(B159, PRESUPUESTO!$B$14:$J$4211, 9, FALSE),\"\")","v":""},{"$f":"IF(ISTEXT(B159), VLOOKUP(B159, PRESUPUESTO!$B$14:$K$4211, 10, FALSE),\"\")","v":""},0,null,null,null,null,null,null,""]
[123,null,{"$f":"IF(ISBLANK(B160), \"\",VLOOKUP(B160,PRESUPUESTO!$B$17:$C$4211, 2, FALSE))","v":""},null,{"$f":"IF(ISTEXT(B160), VLOOKUP(B160, PRESUPUESTO!$B$14:$F$4211, 4, FALSE),\"\")","v":""},{"$f":"IF(ISTEXT(B160), VLOOKUP(B160, PRESUPUESTO!$B$17:$D$4211, 3, FALSE),\"\")","v":""},{"$f":"IF(ISTEXT(B160), VLOOKUP(B160, PRESUPUESTO!$B$14:$F$4211, 5, FALSE),\"\")","v":""},{"$f":"IF(ISTEXT(B160), VLOOKUP(B160, PRESUPUESTO!$B$14:$J$4211, 9, FALSE),\"\")","v":""},{"$f":"IF(ISTEXT(B160), VLOOKUP(B160, PRESUPUESTO!$B$14:$K$4211, 10, FALSE),\"\")","v":""},0,null,null,null,null,null,null,""]
[124,null,{"$f":"IF(ISBLANK(B161), \"\",VLOOKUP(B161,PRESUPUESTO!$B$17:$C$4211, 2, FALSE))","v":""},null,{"$f":"IF(ISTEXT(B161), VLOOKUP(B161, PRESUPUESTO!$B$14:$F$4211, 4, FALSE),\"\")","v":""},{"$f":"IF(ISTEXT(B161), VLOOKUP(B161, PRESUPUESTO!$B$17:$D$4211, 3, FALSE),\"\")","v":""},{"$f":"IF(ISTEXT(B161), VLOOKUP(B161, PRESUPUESTO!$B$14:$F$4211, 5, FALSE),\"\")","v":""},{"$f":"IF(ISTEXT(B161), VLOOKUP(B161, PRESUPUESTO!$B$14:$J$4211, 9, FALSE),\"\")","v":""},{"$f":"IF(ISTEXT(B161), VLOOKUP(B161, PRESUPUESTO!$B$14:$K$4211, 10, FALSE),\"\")","v":""},0,null,null,null,null,null,null,""]
[125,null,{"$f":"IF(ISBLANK(B162), \"\",VLOOKUP(B162,PRESUPUESTO!$B$17:$C$4211, 2, FALSE))","v":""},null,{"$f":"IF(ISTEXT(B162), VLOOKUP(B162, PRESUPUESTO!$B$14:$F$4211, 4, FALSE),\"\")","v":""},{"$f":"IF(ISTEXT(B162), VLOOKUP(B162, PRESUPUESTO!$B$17:$D$4211, 3, FALSE),\"\")","v":""},{"$f":"IF(ISTEXT(B162), VLOOKUP(B162, PRESUPUESTO!$B$14:$F$4211, 5, FALSE),\"\")","v":""},{"$f":"IF(ISTEXT(B162), VLOOKUP(B162, PRESUPUESTO!$B$14:$J$4211, 9, FALSE),\"\")","v":""},{"$f":"IF(ISTEXT(B162), VLOOKUP(B162, PRESUPUESTO!$B$14:$K$4211, 10, FALSE),\"\")","v":""},0,null,null,null,null,null,null,""]
[126,null,{"$f":"IF(ISBLANK(B163), \"\",VLOOKUP(B163,PRESUPUESTO!$B$17:$C$4211, 2, FALSE))","v":""},null,{"$f":"IF(ISTEXT(B163), VLOOKUP(B163, PRESUPUESTO!$B$14:$F$4211, 4, FALSE),\"\")","v":""},{"$f":"IF(ISTEXT(B163), VLOOKUP(B163, PRESUPUESTO!$B$17:$D$4211, 3, FALSE),\"\")","v":""},{"$f":"IF(ISTEXT(B163), VLOOKUP(B163, PRESUPUESTO!$B$14:$F$4211, 5, FALSE),\"\")","v":""},{"$f":"IF(ISTEXT(B163), VLOOKUP(B163, PRESUPUESTO!$B$14:$J$4211, 9, FALSE),\"\")","v":""},{"$f":"IF(ISTEXT(B163), VLOOKUP(B163, PRESUPUESTO!$B$14:$K$4211, 10, FALSE),\"\")","v":""},0,null,null,null,null,null,null,""]
[127,null,{"$f":"IF(ISBLANK(B164), \"\",VLOOKUP(B164,PRESUPUESTO!$B$17:$C$4211, 2, FALSE))","v":""},null,{"$f":"IF(ISTEXT(B164), VLOOKUP(B164, PRESUPUESTO!$B$14:$F$4211, 4, FALSE),\"\")","v":""},{"$f":"IF(ISTEXT(B164), VLOOKUP(B164, PRESUPUESTO!$B$17:$D$4211, 3, FALSE),\"\")","v":""},{"$f":"IF(ISTEXT(B164), VLOOKUP(B164, PRESUPUESTO!$B$14:$F$4211, 5, FALSE),\"\")","v":""},{"$f":"IF(ISTEXT(B164), VLOOKUP(B164, PRESUPUESTO!$B$14:$J$4211, 9, FALSE),\"\")","v":""},{"$f":"IF(ISTEXT(B164), VLOOKUP(B164, PRESUPUESTO!$B$14:$K$4211, 10, FALSE),\"\")","v":""},0,null,null,null,null,null,null,""]
[128,null,{"$f":"IF(ISBLANK(B165), \"\",VLOOKUP(B165,PRESUPUESTO!$B$17:$C$4211, 2, FALSE))","v":""},null,{"$f":"IF(ISTEXT(B165), VLOOKUP(B165, PRESUPUESTO!$B$14:$F$4211, 4, FALSE),\"\")","v":""},{"$f":"IF(ISTEXT(B165), VLOOKUP(B165, PRESUPUESTO!$B$17:$D$4211, 3, FALSE),\"\")","v":""},{"$f":"IF(ISTEXT(B165), VLOOKUP(B165, PRESUPUESTO!$B$14:$F$4211, 5, FALSE),\"\")","v":""},{"$f":"IF(ISTEXT(B165), VLOOKUP(B165, PRESUPUESTO!$B$14:$J$4211, 9, FALSE),\"\")","v":""},{"$f":"IF(ISTEXT(B165), VLOOKUP(B165, PRESUPUESTO!$B$14:$K$4211, 10, FALSE),\"\")","v":""},0,null,null,null,null,null,null,""]
[129,null,{"$f":"IF(ISBLANK(B166), \"\",VLOOKUP(B166,PRESUPUESTO!$B$17:$C$4211, 2, FALSE))","v":""},null,{"$f":"IF(ISTEXT(B166), VLOOKUP(B166, PRESUPUESTO!$B$14:$F$4211, 4, FALSE),\"\")","v":""},{"$f":"IF(ISTEXT(B166), VLOOKUP(B166, PRESUPUESTO!$B$17:$D$4211, 3, FALSE),\"\")","v":""},{"$f":"IF(ISTEXT(B166), VLOOKUP(B166, PRESUPUESTO!$B$14:$F$4211, 5, FALSE),\"\")","v":""},{"$f":"IF(ISTEXT(B166), VLOOKUP(B166, PRESUPUESTO!$B$14:$J$4211, 9, FALSE),\"\")","v":""},{"$f":"IF(ISTEXT(B166), VLOOKUP(B166, PRESUPUESTO!$B$14:$K$4211, 10, FALSE),\"\")","v":""},0,null,null,null,null,null,null,""]
[130,null,{"$f":"IF(ISBLANK(B167), \"\",VLOOKUP(B167,PRESUPUESTO!$B$17:$C$4211, 2, FALSE))","v":""},null,{"$f":"IF(ISTEXT(B167), VLOOKUP(B167, PRESUPUESTO!$B$14:$F$4211, 4, FALSE),\"\")","v":""},{"$f":"IF(ISTEXT(B167), VLOOKUP(B167, PRESUPUESTO!$B$17:$D$4211, 3, FALSE),\"\")","v":""},{"$f":"IF(ISTEXT(B167), VLOOKUP(B167, PRESUPUESTO!$B$14:$F$4211, 5, FALSE),\"\")","v":""},{"$f":"IF(ISTEXT(B167), VLOOKUP(B167, PRESUPUESTO!$B$14:$J$4211, 9, FALSE),\"\")","v":""},{"$f":"IF(ISTEXT(B167), VLOOKUP(B167, PRESUPUESTO!$B$14:$K$4211, 10, FALSE),\"\")","v":""},0,null,null,null,null,null,null,""]
[131,null,{"$f":"IF(ISBLANK(B168), \"\",VLOOKUP(B168,PRESUPUESTO!$B$17:$C$4211, 2, FALSE))","v":""},null,{"$f":"IF(ISTEXT(B168), VLOOKUP(B168, PRESUPUESTO!$B$14:$F$4211, 4, FALSE),\"\")","v":""},{"$f":"IF(ISTEXT(B168), VLOOKUP(B168, PRESUPUESTO!$B$17:$D$4211, 3, FALSE),\"\")","v":""},{"$f":"IF(ISTEXT(B168), VLOOKUP(B168, PRESUPUESTO!$B$14:$F$4211, 5, FALSE),\"\")","v":""},{"$f":"IF(ISTEXT(B168), VLOOKUP(B168, PRESUPUESTO!$B$14:$J$4211, 9, FALSE),\"\")","v":""},{"$f":"IF(ISTEXT(B168), VLOOKUP(B168, PRESUPUESTO!$B$14:$K$4211, 10, FALSE),\"\")","v":""},0,null,null,null,null,null,null,""]
[132,null,{"$f":"IF(ISBLANK(B169), \"\",VLOOKUP(B169,PRESUPUESTO!$B$17:$C$4211, 2, FALSE))","v":""},null,{"$f":"IF(ISTEXT(B169), VLOOKUP(B169, PRESUPUESTO!$B$14:$F$4211, 4, FALSE),\"\")","v":""},{"$f":"IF(ISTEXT(B169), VLOOKUP(B169, PRESUPUESTO!$B$17:$D$4211, 3, FALSE),\"\")","v":""},{"$f":"IF(ISTEXT(B169), VLOOKUP(B169, PRESUPUESTO!$B$14:$F$4211, 5, FALSE),\"\")","v":""},{"$f":"IF(ISTEXT(B169), VLOOKUP(B169, PRESUPUESTO!$B$14:$J$4211, 9, FALSE),\"\")","v":""},{"$f":"IF(ISTEXT(B169), VLOOKUP(B169, PRESUPUESTO!$B$14:$K$4211, 10, FALSE),\"\")","v":""},0,null,null,null,null,null,null,""]
[133,null,{"$f":"IF(ISBLANK(B170), \"\",VLOOKUP(B170,PRESUPUESTO!$B$17:$C$4211, 2, FALSE))","v":""},null,{"$f":"IF(ISTEXT(B170), VLOOKUP(B170, PRESUPUESTO!$B$14:$F$4211, 4, FALSE),\"\")","v":""},{"$f":"IF(ISTEXT(B170), VLOOKUP(B170, PRESUPUESTO!$B$17:$D$4211, 3, FALSE),\"\")","v":""},{"$f":"IF(ISTEXT(B170), VLOOKUP(B170, PRESUPUESTO!$B$14:$F$4211, 5, FALSE),\"\")","v":""},{"$f":"IF(ISTEXT(B170), VLOOKUP(B170, PRESUPUESTO!$B$14:$J$4211, 9, FALSE),\"\")","v":""},{"$f":"IF(ISTEXT(B170), VLOOKUP(B170, PRESUPUESTO!$B$14:$K$4211, 10, FALSE),\"\")","v":""},0,null,null,null,null,null,null,""]
[134,null,{"$f":"IF(ISBLANK(B171), \"\",VLOOKUP(B171,PRESUPUESTO!$B$17:$C$4211, 2, FALSE))","v":""},null,{"$f":"IF(ISTEXT(B171), VLOOKUP(B171, PRESUPUESTO!$B$14:$F$4211, 4, FALSE),\"\")","v":""},{"$f":"IF(ISTEXT(B171), VLOOKUP(B171, PRESUPUESTO!$B$17:$D$4211, 3, FALSE),\"\")","v":""},{"$f":"IF(ISTEXT(B171), VLOOKUP(B171, PRESUPUESTO!$B$14:$F$4211, 5, FALSE),\"\")","v":""},{"$f":"IF(ISTEXT(B171), VLOOKUP(B171, PRESUPUESTO!$B$14:$J$4211, 9, FALSE),\"\")","v":""},{"$f":"IF(ISTEXT(B171), VLOOKUP(B171, PRESUPUESTO!$B$14:$K$4211, 10, FALSE),\"\")","v":""},0,null,null,null,null,null,null,""]
[135,null,{"$f":"IF(ISBLANK(B172), \"\",VLOOKUP(B172,PRESUPUESTO!$B$17:$C$4211, 2, FALSE))","v":""},null,{"$f":"IF(ISTEXT(B172), VLOOKUP(B172, PRESUPUESTO!$B$14:$F$4211, 4, FALSE),\"\")","v":""},{"$f":"IF(ISTEXT(B172), VLOOKUP(B172, PRESUPUESTO!$B$17:$D$4211, 3, FALSE),\"\")","v":""},{"$f":"IF(ISTEXT(B172), VLOOKUP(B172, PRESUPUESTO!$B$14:$F$4211, 5, FALSE),\"\")","v":""},{"$f":"IF(ISTEXT(B172), VLOOKUP(B172, PRESUPUESTO!$B$14:$J$4211, 9, FALSE),\"\")","v":""},{"$f":"IF(ISTEXT(B172), VLOOKUP(B172, PRESUPUESTO!$B$14:$K$4211, 10, FALSE),\"\")","v":""},0,null,null,null,null,null,null,""]
[136,null,{"$f":"IF(ISBLANK(B173), \"\",VLOOKUP(B173,PRESUPUESTO!$B$17:$C$4211, 2, FALSE))","v":""},null,{"$f":"IF(ISTEXT(B173), VLOOKUP(B173, PRESUPUESTO!$B$14:$F$4211, 4, FALSE),\"\")","v":""},{"$f":"IF(ISTEXT(B173), VLOOKUP(B173, PRESUPUESTO!$B$17:$D$4211, 3, FALSE),\"\")","v":""},{"$f":"IF(ISTEXT(B173), VLOOKUP(B173, PRESUPUESTO!$B$14:$F$4211, 5, FALSE),\"\")","v":""},{"$f":"IF(ISTEXT(B173), VLOOKUP(B173, PRESUPUESTO!$B$14:$J$4211, 9, FALSE),\"\")","v":""},{"$f":"IF(ISTEXT(B173), VLOOKUP(B173, PRESUPUESTO!$B$14:$K$4211, 10, FALSE),\"\")","v":""},0,null,null,null,null,null,null,""]
[137,null,{"$f":"IF(ISBLANK(B174), \"\",VLOOKUP(B174,PRESUPUESTO!$B$17:$C$4211, 2, FALSE))","v":""},null,{"$f":"IF(ISTEXT(B174), VLOOKUP(B174, PRESUPUESTO!$B$14:$F$4211, 4, FALSE),\"\")","v":""},{"$f":"IF(ISTEXT(B174), VLOOKUP(B174, PRESUPUESTO!$B$17:$D$4211, 3, FALSE),\"\")","v":""},{"$f":"IF(ISTEXT(B174), VLOOKUP(B174, PRESUPUESTO!$B$14:$F$4211, 5, FALSE),\"\")","v":""},{"$f":"IF(ISTEXT(B174), VLOOKUP(B174, PRESUPUESTO!$B$14:$J$4211, 9, FALSE),\"\")","v":""},{"$f":"IF(ISTEXT(B174), VLOOKUP(B174, PRESUPUESTO!$B$14:$K$4211, 10, FALSE),\"\")","v":""},0,null,null,null,null,null,null,""]
[138,null,{"$f":"IF(ISBLANK(B175), \"\",VLOOKUP(B175,PRESUPUESTO!$B$17:$C$4211, 2, FALSE))","v":""},null,{"$f":"IF(ISTEXT(B175), VLOOKUP(B175, PRESUPUESTO!$B$14:$F$4211, 4, FALSE),\"\")","v":""},{"$f":"IF(ISTEXT(B175), VLOOKUP(B175, PRESUPUESTO!$B$17:$D$4211, 3, FALSE),\"\")","v":""},{"$f":"IF(ISTEXT(B175), VLOOKUP(B175, PRESUPUESTO!$B$14:$F$4211, 5, FALSE),\"\")","v":""},{"$f":"IF(ISTEXT(B175), VLOOKUP(B175, PRESUPUESTO!$B$14:$J$4211, 9, FALSE),\"\")","v":""},{"$f":"IF(ISTEXT(B175), VLOOKUP(B175, PRESUPUESTO!$B$14:$K$4211, 10, FALSE),\"\")","v":""},0,null,null,null,null,null,null,""]
[139,null,{"$f":"IF(ISBLANK(B176), \"\",VLOOKUP(B176,PRESUPUESTO!$B$17:$C$4211, 2, FALSE))","v":""},null,{"$f":"IF(ISTEXT(B176), VLOOKUP(B176, PRESUPUESTO!$B$14:$F$4211, 4, FALSE),\"\")","v":""},{"$f":"IF(ISTEXT(B176), VLOOKUP(B176, PRESUPUESTO!$B$17:$D$4211, 3, FALSE),\"\")","v":""},{"$f":"IF(ISTEXT(B176), VLOOKUP(B176, PRESUPUESTO!$B$14:$F$4211, 5, FALSE),\"\")","v":""},{"$f":"IF(ISTEXT(B176), VLOOKUP(B176, PRESUPUESTO!$B$14:$J$4211, 9, FALSE),\"\")","v":""},{"$f":"IF(ISTEXT(B176), VLOOKUP(B176, PRESUPUESTO!$B$14:$K$4211, 10, FALSE),\"\")","v":""},0,null,null,null,null,null,null,""]
[140,null,{"$f":"IF(ISBLANK(B177), \"\",VLOOKUP(B177,PRESUPUESTO!$B$17:$C$4211, 2, FALSE))","v":""},null,{"$f":"IF(ISTEXT(B177), VLOOKUP(B177, PRESUPUESTO!$B$14:$F$4211, 4, FALSE),\"\")","v":""},{"$f":"IF(ISTEXT(B177), VLOOKUP(B177, PRESUPUESTO!$B$17:$D$4211, 3, FALSE),\"\")","v":""},{"$f":"IF(ISTEXT(B177), VLOOKUP(B177, PRESUPUESTO!$B$14:$F$4211, 5, FALSE),\"\")","v":""},{"$f":"IF(ISTEXT(B177), VLOOKUP(B177, PRESUPUESTO!$B$14:$J$4211, 9, FALSE),\"\")","v":""},{"$f":"IF(ISTEXT(B177), VLOOKUP(B177, PRESUPUESTO!$B$14:$K$4211, 10, FALSE),\"\")","v":""},0,null,null,null,null,null,null,""]
[141,null,{"$f":"IF(ISBLANK(B178), \"\",VLOOKUP(B178,PRESUPUESTO!$B$17:$C$4211, 2, FALSE))","v":""},null,{"$f":"IF(ISTEXT(B178), VLOOKUP(B178, PRESUPUESTO!$B$14:$F$4211, 4, FALSE),\"\")","v":""},{"$f":"IF(ISTEXT(B178), VLOOKUP(B178, PRESUPUESTO!$B$17:$D$4211, 3, FALSE),\"\")","v":""},{"$f":"IF(ISTEXT(B178), VLOOKUP(B178, PRESUPUESTO!$B$14:$F$4211, 5, FALSE),\"\")","v":""},{"$f":"IF(ISTEXT(B178), VLOOKUP(B178, PRESUPUESTO!$B$14:$J$4211, 9, FALSE),\"\")","v":""},{"$f":"IF(ISTEXT(B178), VLOOKUP(B178, PRESUPUESTO!$B$14:$K$4211, 10, FALSE),\"\")","v":""},0,null,null,null,null,null,null,""]
[142,null,{"$f":"IF(ISBLANK(B179), \"\",VLOOKUP(B179,PRESUPUESTO!$B$17:$C$4211, 2, FALSE))","v":""},null,{"$f":"IF(ISTEXT(B179), VLOOKUP(B179, PRESUPUESTO!$B$14:$F$4211, 4, FALSE),\"\")","v":""},{"$f":"IF(ISTEXT(B179), VLOOKUP(B179, PRESUPUESTO!$B$17:$D$4211, 3, FALSE),\"\")","v":""},{"$f":"IF(ISTEXT(B179), VLOOKUP(B179, PRESUPUESTO!$B$14:$F$4211, 5, FALSE),\"\")","v":""},{"$f":"IF(ISTEXT(B179), VLOOKUP(B179, PRESUPUESTO!$B$14:$J$4211, 9, FALSE),\"\")","v":""},{"$f":"IF(ISTEXT(B179), VLOOKUP(B179, PRESUPUESTO!$B$14:$K$4211, 10, FALSE),\"\")","v":""},0,null,null,null,null,null,null,""]
[143,null,{"$f":"IF(ISBLANK(B180), \"\",VLOOKUP(B180,PRESUPUESTO!$B$17:$C$4211, 2, FALSE))","v":""},null,{"$f":"IF(ISTEXT(B180), VLOOKUP(B180, PRESUPUESTO!$B$14:$F$4211, 4, FALSE),\"\")","v":""},{"$f":"IF(ISTEXT(B180), VLOOKUP(B180, PRESUPUESTO!$B$17:$D$4211, 3, FALSE),\"\")","v":""},{"$f":"IF(ISTEXT(B180), VLOOKUP(B180, PRESUPUESTO!$B$14:$F$4211, 5, FALSE),\"\")","v":""},{"$f":"IF(ISTEXT(B180), VLOOKUP(B180, PRESUPUESTO!$B$14:$J$4211, 9, FALSE),\"\")","v":""},{"$f":"IF(ISTEXT(B180), VLOOKUP(B180, PRESUPUESTO!$B$14:$K$4211, 10, FALSE),\"\")","v":""},0,null,null,null,null,null,null,""]
[144,null,{"$f":"IF(ISBLANK(B181), \"\",VLOOKUP(B181,PRESUPUESTO!$B$17:$C$4211, 2, FALSE))","v":""},null,{"$f":"IF(ISTEXT(B181), VLOOKUP(B181, PRESUPUESTO!$B$14:$F$4211, 4, FALSE),\"\")","v":""},{"$f":"IF(ISTEXT(B181), VLOOKUP(B181, PRESUPUESTO!$B$17:$D$4211, 3, FALSE),\"\")","v":""},{"$f":"IF(ISTEXT(B181), VLOOKUP(B181, PRESUPUESTO!$B$14:$F$4211, 5, FALSE),\"\")","v":""},{"$f":"IF(ISTEXT(B181), VLOOKUP(B181, PRESUPUESTO!$B$14:$J$4211, 9, FALSE),\"\")","v":""},{"$f":"IF(ISTEXT(B181), VLOOKUP(B181, PRESUPUESTO!$B$14:$K$4211, 10, FALSE),\"\")","v":""},0,null,null,null,null,null,null,""]
[145,null,{"$f":"IF(ISBLANK(B182), \"\",VLOOKUP(B182,PRESUPUESTO!$B$17:$C$4211, 2, FALSE))","v":""},null,{"$f":"IF(ISTEXT(B182), VLOOKUP(B182, PRESUPUESTO!$B$14:$F$4211, 4, FALSE),\"\")","v":""},{"$f":"IF(ISTEXT(B182), VLOOKUP(B182, PRESUPUESTO!$B$17:$D$4211, 3, FALSE),\"\")","v":""},{"$f":"IF(ISTEXT(B182), VLOOKUP(B182, PRESUPUESTO!$B$14:$F$4211, 5, FALSE),\"\")","v":""},{"$f":"IF(ISTEXT(B182), VLOOKUP(B182, PRESUPUESTO!$B$14:$J$4211, 9, FALSE),\"\")","v":""},{"$f":"IF(ISTEXT(B182), VLOOKUP(B182, PRESUPUESTO!$B$14:$K$4211, 10, FALSE),\"\")","v":""},0,null,null,null,null,null,null,""]
[146,null,{"$f":"IF(ISBLANK(B183), \"\",VLOOKUP(B183,PRESUPUESTO!$B$17:$C$4211, 2, FALSE))","v":""},null,{"$f":"IF(ISTEXT(B183), VLOOKUP(B183, PRESUPUESTO!$B$14:$F$4211, 4, FALSE),\"\")","v":""},{"$f":"IF(ISTEXT(B183), VLOOKUP(B183, PRESUPUESTO!$B$17:$D$4211, 3, FALSE),\"\")","v":""},{"$f":"IF(ISTEXT(B183), VLOOKUP(B183, PRESUPUESTO!$B$14:$F$4211, 5, FALSE),\"\")","v":""},{"$f":"IF(ISTEXT(B183), VLOOKUP(B183, PRESUPUESTO!$B$14:$J$4211, 9, FALSE),\"\")","v":""},{"$f":"IF(ISTEXT(B183), VLOOKUP(B183, PRESUPUESTO!$B$14:$K$4211, 10, FALSE),\"\")","v":""},0,null,null,null,null,null,null,""]
[147,null,{"$f":"IF(ISBLANK(B184), \"\",VLOOKUP(B184,PRESUPUESTO!$B$17:$C$4211, 2, FALSE))","v":""},null,{"$f":"IF(ISTEXT(B184), VLOOKUP(B184, PRESUPUESTO!$B$14:$F$4211, 4, FALSE),\"\")","v":""},{"$f":"IF(ISTEXT(B184), VLOOKUP(B184, PRESUPUESTO!$B$17:$D$4211, 3, FALSE),\"\")","v":""},{"$f":"IF(ISTEXT(B184), VLOOKUP(B184, PRESUPUESTO!$B$14:$F$4211, 5, FALSE),\"\")","v":""},{"$f":"IF(ISTEXT(B184), VLOOKUP(B184, PRESUPUESTO!$B$14:$J$4211, 9, FALSE),\"\")","v":""},{"$f":"IF(ISTEXT(B184), VLOOKUP(B184, PRESUPUESTO!$B$14:$K$4211, 10, FALSE),\"\")","v":""},0,null,null,null,null,null,null,""]
[148,null,{"$f":"IF(ISBLANK(B185), \"\",VLOOKUP(B185,PRESUPUESTO!$B$17:$C$4211, 2, FALSE))","v":""},null,{"$f":"IF(ISTEXT(B185), VLOOKUP(B185, PRESUPUESTO!$B$14:$F$4211, 4, FALSE),\"\")","v":""},{"$f":"IF(ISTEXT(B185), VLOOKUP(B185, PRESUPUESTO!$B$17:$D$4211, 3, FALSE),\"\")","v":""},{"$f":"IF(ISTEXT(B185), VLOOKUP(B185, PRESUPUESTO!$B$14:$F$4211, 5, FALSE),\"\")","v":""},{"$f":"IF(ISTEXT(B185), VLOOKUP(B185, PRESUPUESTO!$B$14:$J$4211, 9, FALSE),\"\")","v":""},{"$f":"IF(ISTEXT(B185), VLOOKUP(B185, PRESUPUESTO!$B$14:$K$4211, 10, FALSE),\"\")","v":""},0,null,null,null,null,null,null,""]
[149,null,{"$f":"IF(ISBLANK(B186), \"\",VLOOKUP(B186,PRESUPUESTO!$B$17:$C$4211, 2, FALSE))","v":""},null,{"$f":"IF(ISTEXT(B186), VLOOKUP(B186, PRESUPUESTO!$B$14:$F$4211, 4, FALSE),\"\")","v":""},{"$f":"IF(ISTEXT(B186), VLOOKUP(B186, PRESUPUESTO!$B$17:$D$4211, 3, FALSE),\"\")","v":""},{"$f":"IF(ISTEXT(B186), VLOOKUP(B186, PRESUPUESTO!$B$14:$F$4211, 5, FALSE),\"\")","v":""},{"$f":"IF(ISTEXT(B186), VLOOKUP(B186, PRESUPUESTO!$B$14:$J$4211, 9, FALSE),\"\")","v":""},{"$f":"IF(ISTEXT(B186), VLOOKUP(B186, PRESUPUESTO!$B$14:$K$4211, 10, FALSE),\"\")","v":""},0,null,null,null,null,null,null,""]
[150,null,{"$f":"IF(ISBLANK(B187), \"\",VLOOKUP(B187,PRESUPUESTO!$B$17:$C$4211, 2, FALSE))","v":""},null,{"$f":"IF(ISTEXT(B187), VLOOKUP(B187, PRESUPUESTO!$B$14:$F$4211, 4, FALSE),\"\")","v":""},{"$f":"IF(ISTEXT(B187), VLOOKUP(B187, PRESUPUESTO!$B$17:$D$4211, 3, FALSE),\"\")","v":""},{"$f":"IF(ISTEXT(B187), VLOOKUP(B187, PRESUPUESTO!$B$14:$F$4211, 5, FALSE),\"\")","v":""},{"$f":"IF(ISTEXT(B187), VLOOKUP(B187, PRESUPUESTO!$B$14:$J$4211, 9, FALSE),\"\")","v":""},{"$f":"IF(ISTEXT(B187), VLOOKUP(B187, PRESUPUESTO!$B$14:$K$4211, 10, FALSE),\"\")","v":""},0,null,null,null,null,null,null,""]
[null,"ZZX249",{"$f":"IF(ISBLANK(B188), \"\",VLOOKUP(B188,PRESUPUESTO!$B$17:$C$4211, 2, FALSE))","v":"AVANCE TOTAL DE OBRA"},null,1,{"$f":"IF(ISTEXT(B188), VLOOKUP(B188, PRESUPUESTO!$B$17:$D$4211, 3, FALSE),\"\")","v":"GLOBAL"},null,null,null,null,null,null,null,null,null,null,null,{"$f":"IF(ISNUMBER(Q30),SUM(H38:H187)*Q30/100,\"\")","v":""}]
[]
[]
[]
[]
[]
[]
[]
[]
[]
[]
[]
[]
[]
[]
[]
[]
[]
[]
[]
[]
[]
[]
[]
[]
[]
[]
[]
[]
[]
[]
[]
[]
[]
[]
[]
[]
[]
[]
[]
[]
[]
[]
[]
[]
[]
[]
[]
[]
[]
[]
[]
[]
[]
[]
[]
[]
[]
[]
[]
[]
[]
[]
[]
[]
[]
[]
[]
[]
[]
[]
[]
[]
[]
[]
[]
[]
[]
[]
[]
[]
[]
[]
[]
[]
[]
[]
[]
[]
[]
[]
[]
[]
[]
[]
[]
[]
[]
[]
[]
[]
[]
[]
[]
[]
[]
[]
[]
[]
[]
[]
[]
[]
[]
[]
[]
[]
[]
[]
[]
[]
[]
[]
[]
[]
[]
[]
[]
[]
[]
[]
[]
[]
[]
[]
[]
[]
[]
[]
[]
[]
[]
[]
[]
[]
[]
[]
[]
[]
[]
[]
[]
[]
[]
[]
[]
[]
[]
[]
[]
[]
[]
[]
[]
[]
[]
[]
[]
[]
[]
[]
[]
[]
[]
[]
[]
[]
[]
[]
[]
[]
[]
[]
[]
[]
[]
[]
[]
[]
[]
[]
[]
[]
[]
[]
[]
[]
[]
[]
[]
[]
[]
[]
[]
[]
[]
[]
[]
[]
[]
[]
[]
[]
[]
[]
[]
[]
[]
[]
[]
[]
[]
[]
[]
[]
[]
[]
[]
[]
[]
[]
[]
[]
[]
[]
[]
[]
[]
[]
[]
[]
[]
[]
[]
[]
[]
[]
[]
[]
[]
[]
[]
[]
[]
[]
[]
[]
[]
[]
[]
[]
[]
[]
[]
[]
[]
[]
[]
[]
[]
[]
[]
[]
[]
[]
[]
[]
[]
[]
[]
[]
[]
[]
[]
[]
[]
[]
[]
[]
[]
[]
[]
[]
[]
[]
[]
[]
[]
[]
[]
[]
[]
[]
[]
[]
[]
[]
[]
[]
[]
[]
[]
[]
[]
[]
[]
[]
[]
[]
[]
[]
[]
[]
[]
[]
[]
[]
[]
[]
[]
[]
[]
[]
[]
[]
[]
[]
[]
[]
[]
[]
[]
[]
[]
[]
[]
[]
[]
[]
[]
[]
[]
[]
[]
[]
[]
[]
[]
[]
[]
[]
[]
[]
[]
[]
[]
[]
[]
[]
[]
[]
[]
[]
[]
[]
[]
[]
[]
[]
[]
[]
[]
[]
[]
[]
[]
[]
[]
[]
[]
[]
[]
[]
[]
[]
[]
[]
[]
[]
[]
[]
[]
[]
[]
[]
[]
[]
[]
[]
[]
[]
[]
[]
[]
[]
[]
[]
[]
[]
[]
[]
[]
[]
[]
[]
[]
[]
[]
[]
[]
[]
[]
[]
[]
[]
[]
[]
[]
[]
[]
[]
[]
[]
[]
[]
[]
[]
[]
[]
[]
[]
[]
[]
[]
[]
[]
[]
[]
[]
[]
[]
[]
[]
[]
[]
[]
[]
[]
[]
[]
[]
[]
[]
[]
[]
[]
[]
[]
[]
[]
[]
[]
[]
[]
[]
[]
[]
[]
[]
[]
[]
[]
[]
[]
[]
[]
[]
[]
[]
[]
[]
[]
[]
[]
[]
[]
[]
[]
[]
[]
[]
[]
[]
[]
[]
[]
[]
[]
[]
[]
[]
[]
[]
[]
[]
[]
[]
[]
[]
[]
[]
[]
[]
[]
[]
[]
[]
[]
[]
[]
[]
[]
[]
[]
[]
[]
[]
[]
[]
[]
[]
[]
[]
[]
[]
[]
[]
[]
[]
[]
[]
[]
[]
[]
[]
[]
[]
[]
[]
[]
[]
[]
[]
[]
[]
[]
[]
[]
[]
[]
[]
[]
[]
[]
[]
[]
[]
[]
[]
[]
[]
[]
[]
[]
[]
[]
[]
[]
[]
[]
[]
[]
[]
[]
[]
[]
[]
[]
[]
[]
[]
[]
[]
[]
[]
[]
[]
[]
[]
[]
[]
[]
[]
[]
[]
[]
[]
[]
[]
[]
[]
[]
[]
[]
[]
[]
[]
[]
[]
[]
[]
[]
[]
[]
[]
[]
[]
[]
[]
[]
[]
[]
[]
[]
[]
[]
[]
[]
[]
[]
[]
[]
[]
[]
[]
[]
[]
[]
[]
[]
[]
[]
[]
[]
[]
[]
[]
[]
[]
[]
[]
[]
[]
[]
[]
[]
[]
[]
[]
[]
[]
[]
[]
[]
[]
[]
[]
[]
[]
[]
[]
[]
[]
[]
[]
[]
[]
[]
[]
[]
[]
[]
[]
[]
[]
[]
[]
[]
[]
[]
[]
[]
[]
[]
[]
[]
[]
[]
[]
[]
[]
[]
[]
[]
[]
[]
[]
[]
[]
[]
[]
[]
[]
[]
[]
[]
[]
[]
[]
[]
[]
[]
[]
[]
[]
[]
[]
[]
[]
[]
[]
[]
[]
[]
[]
[]
[]
[]
[]
[]
[]
[]
[]
[]
[]
[]
[]
[]
[]
[]
[]
[]
[]
[]
[]
[]
[]
[]
[]
[]
[]
[]
[]
[]
[]
[]
[]
[]
[]
[]
[]
[]
[]
[]
[]
[]
[]
[]
[]
[]
[]
[]
[]
[]
[]
[]
[]
[]
[]
[]
[]
[]
[]
[]
[]
[]
[]
[]
[]
[]
[]
[]
[]
[]
[]
[]
[]
[]
[]
[]
[]
[]
[]
[]
[]
[]
[]
[]
[]
[]
[]
[]
[]
[]
[]
[]
[]
[]
[]
[]
[]
[]
[]
[]
[]
[]
[]
[]
[]
[]
[]
[]
[]
[]
[]
[]
[]
[]
[]
[]
[]
[]
[]
[]
[]
[]
[]
[]
[]
[]
[]
[]
[]
[]
[]
[]
[]
[]
[]
[]
[]
[]
[]
[]
[]
[]
[]
[]
[]
[]
[]
[]
[]
[]
[]
[]
[]
[]
[]
[]
[]
[]
[]
[]
[]
[]
[]
[]
[]
[]
[]
[]
[]
[]
[]
[]
[]
[]
[]
[]
[]
[]
[]
[]
[]
[]
[]
[]
[]
[]
[]
[]
[]
[]
[]
[]
[]
[]
[]
[]
[]
[]
[]
[]
[]
[]
[]
[]
[]
[]
[]
[]
[]
[]
[]
[]
[]
[]
[]
[]
[]
[]
[]
[]
[]
[]
[]
[]
[]
[]
[]
[]
[]
[]
[]
[]
[]
[]
[]
[]
[]
[]
[]
[]
[]
[]
[]
[]
[]
[]
[]
[]
[]
[]
[]
[]
[]
[]
[]
[]
[]
[]
[]
[]
[]
[]
[]
[]
[]
[]
[]
[]
[]
[]
[]
[]
[]
[]
[]
[]
[]
[]
[]
[]
[]
[]
[]
[]
[]
[]
[]
[]
[]
[]
[]
[]
[]
[]
[]
[]
[]
[]
[]
[]
[]
[]
[]
[]
[]
[]
[]
[]
[]
[]
[]
[]
[]
[]
[]
[]
[]
[]
[]
[]
[]
[]
[]
[]
[]
[]
[]
[]
[]
[]
[]
[]
[]
[]
[]
[]
[]
[]
[]
[]
[]
[]
[]
[]
[]
[]
[]
[]
[]
[]
[]
[]
[]
[]
[]
[]
[]
[]
[]
[]
[]
[]
[]
[]
[]
[]
[]
[]
[]
[]
[]
[]
[]
[]
[]
[]
[]
[]
[]
[]
[]
[]
[]
[]
[]
[]
[]
[]
[]
[]
[]
[]
[]
[]
[]
[]
[]
[]
[]
[]
[]
[]
[]
[]
[]
[]
[]
[]
[]
[]
[]
[]
[]
[]
[]
[]
[]
[]
[]
[]
[]
[]
[]
[]
[]
[]
[]
[]
[]
[]
[]
[]
[]
[]
[]
[]
[]
[]
[]
[]
[]
[]
[]
[]
[]
[]
[]
[]
[]
[]
[]
[]
[]
[]
[]
[]
[]
[]
[]
[]
[]
[]
[]
[]
[]
[]
[]
[]
[]
[]
[]
[]
[]
[]
[]
[]
[]
[]
[]
[]
[]
[]
[]
[]
[]
[]
[]
[]
[]
[]
[]
[]
[]
[]
[]
[]
[]
[]
[]
[]
[]
[]
[]
[]
[]
[]
[]
[]
[]
[]
[]
[]
[]
[]
[]
[]
[]
[]
[]
[]
[]
[]
[]
[]
[]
[]
[]
[]
[]
[]
[]
[]
[]
[]
[]
[]
[]
[]
[]
[]
[]
[]
[]
[]
[]
[]
[]
[]
[]
[]
[]
[]
[]
[]
[]
[]
[]
[]
[]
[]
[]
[]
[]
[]
[]
[]
[]
[]
[]
[]
[]
[]
[]
[]
[]
[]
[]
[]
[]
[]
[]
[]
[]
[]
[]
[]
[]
[]
[]
[]
[]
[]
[]
[]
[]
[]
[]
[]
[]
[]
[]
[]
[]
[]
[]
[]
[]
[]
[]
[]
[]
[]
[]
[]
[]
[]
[]
[]
[]
[]
[]
[]
[]
[]
[]
[]
[]
[]
[]
[]
[]
[]
[]
[]
[]
[]
[]
[]
[]
[]
[]
[]
[]
[]
[]
[]
[]
[]
[]
[]
[]
[]
[]
[]
[]
[]
[]
[]
[]
[]
[]
[]
[]
[]
[]
[]
[]
[]
[]
[]
[]
[]
[]
[]
[]
[]
[]
[]
[]
[]
[]
[]
[]
[]
[]
[]
[]
[]
[]
[]
[]
[]
[]
[]
[]
[]
[]
[]
[]
[]
[]
[]
[]
[]
[]
[]
[]
[]
[]
[]
[]
[]
[]
[]
[]
[]
[]
[]
[]
[]
[]
[]
[]
[]
[]
[]
[]
[]
[]
[]
[]
[]
[]
[]
[]
[]
[]
[]
[]
[]
[]
[]
[]
[]
[]
[]
[]
[]
[]
[]
[]
[]
[]
[]
[]
[]
[]
[]
[]
[]
[]
[]
[]
[]
[]
[]
[]
[]
[]
[]
[]
[]
[]
[]
[]
[]
[]
[]
[]
[]
[]
[]
[]
[]
[]
[]
[]
[]
[]
[]
[]
[]
[]
[]
[]
[]
[]
[]
[]
[]
[]
[]
[]
[]
[]
[]
[]
[]
[]
[]
[]
[]
[]
[]
[]
[]
[]
[]
[]
[]
[]
[]
[]
[]
[]
[]
[]
[]
[]
[]
[]
[]
[]
[]
[]
[]
[]
[]
[]
[]
[]
[]
[]
[]
[]
[]
[]
[]
[]
[]
[]
[]
[]
[]
[]
[]
[]
[]
[]
[]
[]
[]
[]
[]
[]
[]
[]
[]
[]
[]
[]
[]
[]
[]
[]
[]
[]
[]
[]
[]
[]
[]
[]
[]
[]
[]
[]
[]
[]
[]
[]
[]
[]
[]
[]
[]
[]
[]
[]
[]
[]
[]
[]
[]
[]
[]
[]
[]
[]
[]
[]
[]
[]
[]
[]
[]
[]
[]
[]
[]
[]
[]
[]
[]
[]
[]
[]
[]
[]
[]
[]
[]
[]
[]
[]
[]
[]
[]
[]
[]
[]
[]
[]
[]
[]
[]
[]
[]
[]
[]
[]
[]
[]
[]
[]
[]
[]
[]
[]
[]
[]
[]
[]
[]
[]
[]
[]
[]
[]
[]
[]
[]
[]
[]
[]
[]
[]
[]
[]
[]
[]
[]
[]
[]
[]
[]
[]
[]
[]
[]
[]
[]
[]
[]
[]
[]
[]
[]
[]
[]
[]
[]
[]
[]
[]
[]
[]
[]
[]
[]
[]
[]
[]
[]
[]
[]
[]
[]
[]
[]
[]
[]
[]
[]
[]
[]
[]
[]
[]
[]
[]
[]
[]
[]
[]
[]
[]
[]
[]
[]
[]
[]
[]
[]
[]
[]
[]
[]
[]
[]
[]
[]
[]
[]
[]
[]
[]
[]
[]
[]
[]
[]
[]
[]
[]
[]
[]
[]
[]
[]
[]
[]
[]
[]
[]
[]
[]
[]
[]
[]
[]
[]
[]
[]
[]
[]
[]
[]
[]
[]
[]
[]
[]
[]
[]
[]
[]
[]
[]
[]
[]
[]
[]
[]
[]
[]
[]
[]
[]
[]
[]
[]
[]
[]
[]
[]
[]
[]
[]
[]
[]
[]
[]
[]
[]
[]
[]
[]
[]
[]
[]
[]
[]
[]
[]
[]
[]
[]
[]
[]
[]
[]
[]
[]
[]
[]
[]
[]
[]
[]
[]
[]
[]
[]
[]
[]
[]
[]
[]
[]
[]
[]
[]
[]
[]
[]
[]
[]
[]
[]
[]
[]
[]
[]
[]
[]
[]
[]
[]
[]
[]
[]
[]
[]
[]
[]
[]
[]
[]
[]
[]
[]
[]
[]
[]
[]
[]
[]
[]
[]
[]
[]
[]
[]
[]
[]
[]
[]
[]
[]
[]
[]
[]
[]
[]
[]
[]
[]
[]
[]
[]
[]
[]
[]
[]
[]
[]
[]
[]
[]
[]
[]
[]
[]
[]
[]
[]
[]
[]
[]
[]
[]
[]
[]
[]
[]
[]
[]
[]
[]
[]
[]
[]
[]
[]
[]
[]
[]
[]
[]
[]
[]
[]
[]
[]
[]
[]
[]
[]
[]
[]
[]
[]
[]
[]
[]
[]
[]
[]
[]
[]
[]
[]
[]
[]
[]
[]
[]
[]
[]
[]
[]
[]
[]
[]
[]
[]
[]
[]
[]
[]
[]
[]
[]
[]
[]
[]
[]
[]
[]
[]
[]
[]
[]
[]
[]
[]
[]
[]
[]
[]
[]
[]
[]
[]
[]
[]
[]
[]
[]
[]
[]
[]
[]
[]
[]
[]
[]
[]
[]
[]
[]
[]
[]
[]
[]
[]
[]
[]
[]
[]
[]
[]
[]
[]
[]
[]
[]
[]
[]
[]
[]
[]
[]
[]
[]
[]
[]
[]
[]
[]
[]
[]
[]
[]
[]
[]
[]
[]
[]
[]
[]
[]
[]
[]
[]
[]
[]
[]
[]
[]
[]
[]
[]
[]
[]
[]
[]
[]
[]
[]
[]
[]
[]
[]
[]
[]
[]
[]
[]
[]
[]
[]
[]
[]
[]
[]
[]
[]
[]
[]
[]
[]
[]
[]
[]
[]
[]
[]
[]
[]
[]
[]
[]
[]
[]
[]
[]
[]
[]
[]
[]
[]
[]
[]
[]
[]
[]
[]
[]
[]
[]
[]
[]
[]
[]
[]
[]
[]
[]
[]
[]
[]
[]
[]
[]
[]
[]
[]
[]
[]
[]
[]
[]
[]
[]
[]
[]
[]
[]
[]
[]
[]
[]
[]
[]
[]
[]
[]
[]
[]
[]
[]
[]
[]
[]
[]
[]
[]
[]
[]
[]
[]
[]
[]
[]
[]
[]
[]
[]
[]
[]
[]
[]
[]
[]
[]
[]
[]
[]
[]
[]
[]
[]
[]
[]
[]
[]
[]
[]
[]
[]
[]
[]
[]
[]
[]
[]
[]
[]
[]
[]
[]
[]
[]
[]
[]
[]
[]
[]
[]
[]
[]
[]
[]
[]
[]
[]
[]
[]
[]
[]
[]
[]
[]
[]
[]
[]
[]
[]
[]
[]
[]
[]
[]
[]
[]
[]
[]
[]
[]
[]
[]
[]
[]
[]
[]
[]
[]
[]
[]
[]
[]
[]
[]
[]
[]
[]
[]
[]
[]
[]
[]
[]
[]
[]
[]
[]
[]
[]
[]
[]
[]
[]
[]
[]
[]
[]
[]
[]
[]
[]
[]
[]
[]
[]
[]
[]
[]
[]
[]
[]
[]
[]
[]
[]
[]
[]
[]
[]
[]
[]
[]
[]
[]
[]
[]
[]
[]
[]
[]
[]
[]
[]
[]
[]
[]
[]
[]
[]
[]
[]
[]
[]
[]
[]
[]
[]
[]
[]
[]
[]
[]
[]
[]
[]
[]
[]
[]
[]
[]
[]
[]
[]
[]
[]
[]
[]
[]
[]
[]
[]
[]
[]
[]
[]
[]
[]
[]
[]
[]
[]
[]
[]
[]
[]
[]
[]
[]
[]
[]
[]
[]
[]
[]
[]
[]
[]
[]
[]
[]
[]
[]
[]
[]
[]
[]
[]
[]
[]
[]
[]
[]
[]
[]
[]
[]
[]
[]
[]
[]
[]
[]
[]
[]
[]
[]
[]
[]
[]
[]
[]
[]
[]
[]
[]
[]
[]
[]
[]
[]
[]
[]
[]
[]
[]
[]
[]
[]
[]
[]
[]
[]
[]
[]
[]
[]
[]
[]
[]
[]
[]
[]
[]
[]
[]
[]
[]
[]
[]
[]
[]
[]
[]
[]
[]
[]
[]
[]
[]
[]
[]
[]
[]
[]
[]
[]
[]
[]
[]
[]
[]
[]
[]
[]
[]
[]
[]
[]
[]
[]
[]
[]
[]
[]
[]
[]
[]
[]
[]
[]
[]
[]
[]
[]
[]
[]
[]
[]
[]
[]
[]
[]
[]
[]
[]
[]
[]
[]
[]
[]
[]
[]
[]
[]
[]
[]
[]
[]
[]
[]
[]
[]
[]
[]
[]
[]
[]
[]
[]
[]
[]
[]
[]
[]
[]
[]
[]
[]
[]
[]
[]
[]
[]
[]
[]
[]
[]
[]
[]
[]
[]
[]
[]
[]
[]
[]
[]
[]
[]
[]
[]
[]
[]
[]
[]
[]
[]
[]
[]
[]
[]
[]
[]
[]
[]
[]
[]
[]
[]
[]
[]
[]
[]
[]
[]
[]
[]
[]
[]
[]
[]
[]
[]
[]
[]
[]
[]
[]
[]
[]
[]
[]
[]
[]
[]
[]
[]
[]
[]
[]
[]
[]
[]
[]
[]
[]
[]
[]
[]
[]
[]
[]
[]
[]
[]
[]
[]
[]
[]
[]
[]
[]
[]
[]
[]
[]
[]
[]
[]
[]
[]
[]
[]
[]
[]
[]
[]
[]
[]
[]
[]
[]
[]
[]
[]
[]
[]
[]
[]
[]
[]
[]
[]
[]
[]
[]
[]
[]
[]
[]
[]
[]
[]
[]
[]
[]
[]
[]
[]
[]
[]
[]
[]
[]
[]
[]
[]
[]
[]
[]
[]
[]
[]
[]
[]
[]
[]
[]
[]
[]
[]
[]
[]
[]
[]
[]
[]
[]
[]
[]
[]
[]
[]
[]
[]
[]
[]
[]
[]
[]
[]
[]
[]
[]
[]
[]
[]
[]
[]
[]
[]
[]
[]
[]
[]
[]
[]
[]
[]
[]
[]
[]
[]
[]
[]
[]
[]
[]
[]
[]
[]
[]
[]
[]
[]
[]
[]
[]
[]
[]
[]
[]
[]
[]
[]
[]
[]
[]
[]
[]
[]
[]
[]
[]
[]
[]
[]
[]
[]
[]
[]
[]
[]
[]
[]
[]
[]
[]
[]
[]
[]
[]
[]
[]
[]
[]
[]
[]
[]
[]
[]
[]
[]
[]
[]
[]
[]
[]
[]
[]
[]
[]
[]
[]
[]
[]
[]
[]
[]
[]
[]
[]
[]
[]
[]
[]
[]
[]
[]
[]
[]
[]
[]
[]
[]
[]
[]
[]
[]
[]
[]
[]
[]
[]
[]
[]
[]
[]
[]
[]
[]
[]
[]
[]
[]
[]
[]
[]
[]
[]
[]
[]
[]
[]
[]
[]
[]
[]
[]
[]
[]
[]
[]
[]
[]
[]
[]
[]
[]
[]
[]
[]
[]
[]
[]
[]
[]
[]
[]
[]
[]
[]
[]
[]
[]
[]
[]
[]
[]
[]
[]
[]
[]
[]
[]
[]
[]
[]
[]
[]
[]
[]
[]
[]
[]
[]
[]
[]
[]
[]
[]
[]
[]
[]
[]
[]
[]
[]
[]
[]
[]
[]
[]
[]
[]
[]
[]
[]
[]
[]
[]
[]
[]
[]
[]
[]
[]
[]
[]
[]
[]
[]
[]
[]
[]
[]
[]
[]
[]
[]
[]
[]
[]
[]
[]
[]
[]
[]
[]
[]
[]
[]
[]
[]
[]
[]
[]
[]
[]
[]
[]
[]
[]
[]
[]
[]
[]
[]
[]
[]
[]
[]
[]
[]
[]
[]
[]
[]
[]
[]
[]
[]
[]
[]
[]
[]
[]
[]
[]
[]
[]
[]
[]
[]
[]
[]
[]
[]
[]
[]
[]
[]
[]
[]
[]
[]
[]
[]
[]
[]
[]
[]
[]
[]
[]
[]
[]
[]
[]
[]
[]
[]
[]
[]
[]
[]
[]
[]
[]
[]
[]
[]
[]
[]
[]
[]
[]
[]
[]
[]
[]
[]
[]
[]
[]
[]
[]
[]
[]
[]
[]
[]
[]
[]
[]
[]
[]
[]
[]
[]
[]
[]
[]
[]
[]
[]
[]
[]
[]
[]
[]
[]
[]
[]
[]
[]
[]
[]
[]
[]
[]
[]
[]
[]
[]
[]
[]
[]
[]
[]
[]
[]
[]
[]
[]
[]
[]
[]
[]
[]
[]
[]
[]
[]
[]
[]
[]
[]
[]
[]
[]
[]
[]
[]
[]
[]
[]
[]
[]
[]
[]
[]
[]
[]
[]
[]
[]
[]
[]
[]
[]
[]
[]
[]
[]
[]
[]
[]
[]
[]
[]
[]
[]
[]
[]
[]
[]
[]
[]
[]
[]
[]
[]
[]
[]
[]
[]
[]
[]
[]
[]
[]
[]
[]
[]
[]
[]
[]
[]
[]
[]
[]
[]
[]
[]
[]
[]
[]
[]
[]
[]
[]
[]
[]
[]
[]
[]
[]
[]
[]
[]
[]
[]
[]
[]
[]
[]
[]
[]
[]
[]
[]
[]
[]
[]
[]
[]
[]
[]
[]
[]
[]
[]
[]
[]
[]
[]
[]
[]
[]
[]
[]
[]
[]
[]
[]
[]
[]
[]
[]
[]
[]
[]
[]
[]
[]
[]
[]
[]
[]
[]
[]
[]
[]
[]
[]
[]
[]
[]
[]
[]
[]
[]
[]
[]
[]
[]
[]
[]
[]
[]
[]
[]
[]
[]
[]
[]
[]
[]
[]
[]
[]
[]
[]
[]
[]
[]
[]
[]
[]
[]
[]
[]
[]
[]
[]
[]
[]
[]
[]
[]
[]
[]
[]
[]
[]
[]
[]
[]
[]
[]
[]
[]
[]
[]
[]
[]
[]
[]
[]
[]
[]
[]
[]
[]
[]
[]
[]
[]
[]
[]
[]
[]
[]
[]
[]
[]
[]
[]
[]
[]
[]
[]
[]
[]
[]
[]
[]
[]
[]
[]
[]
[]
[]
[]
[]
[]
[]
[]
[]
[]
[]
[]
[]
[]
[]
[]
[]
[]
[]
[]
[]
[]
[]
[]
[]
[]
[]
[]
[]
[]
[]
[]
[]
[]
[]
[]
[]
[]
[]
[]
[]
[]
[]
[]
[]
[]
[]
[]
[]
[]
[]
[]
[]
[]
[]
[]
[]
[]
[]
[]
[]
[]
[]
[]
[]
[]
[]
[]
[]
[]
[]
[]
[]
[]
[]
[]
[]
[]
[]
[]
[]
[]
[]
[]
[]
[]
[]
[]
[]
[]
[]
[]
[]
[]
[]
[]
[]
[]
[]
[]
[]
[]
[]
[]
[]
[]
[]
[]
[]
[]
[]
[]
[]
[]
[]
[]
[]
[]
[]
[]
[]
[]
[]
[]
[]
[]
[]
[]
[]
[]
[]
[]
[]
[]
[]
[]
[]
[]
[]
[]
[]
[]
[]
[]
[]
[]
[]
[]
[]
[]
[]
[]
[]
[]
[]
[]
[]
[]
[]
[]
[]
[]
[]
[]
[]
[]
[]
[]
[]
[]
[]
[]
[]
[]
[]
[]
[]
[]
[]
[]
[]
[]
[]
[]
[]
[]
[]
[]
[]
[]
[]
[]
[]
[]
[]
[]
[]
[]
[]
[]
[]
[]
[]
[]
[]
[]
[]
[]
[]
[]
[]
[]
[]
[]
[]
[]
[]
[]
[]
[]
[]
[]
[]
[]
[]
[]
[]
[]
[]
[]
[]
[]
[]
[]
[]
[]
[]
[]
[]
[]
[]
[]
[]
[]
[]
[]
[]
[]
[]
[]
[]
[]
[]
[]
[]
[]
[]
[]
[]
[]
[]
[]
[]
[]
[]
[]
[]
[]
[]
[]
[]
[]
[]
[]
[]
[]
[]
[]
[]
[]
[]
[]
[]
[]
[]
[]
[]
[]
[]
[]
[]
[]
[]
[]
[]
[]
[]
[]
[]
[]
[]
[]
[]
[]
[]
[]
[]
[]
[]
[]
[]
[]
[]
[]
[]
[]
[]
[]
[]
[]
[]
[]
[]
[]
[]
[]
[]
[]
[]
[]
[]
[]
[]
[]
[]
[]
[]
[]
[]
[]
[]
[]
[]
[]
[]
[]
[]
[]
[]
[]
[]
[]
[]
[]
[]
[]
[]
[]
[]
[]
[]
[]
[]
[]
[]
[]
[]
[]
[]
[]
[]
[]
[]
[]
[]
[]
[]
[]
[]
[]
[]
[]
[]
[]
[]
[]
[]
[]
[]
[]
[]
[]
[]
[]
[]
[]
[]
[]
[]
[]
[]
[]
[]
[]
[]
[]
[]
[]
[]
[]
[]
[]
[]
[]
[]
[]
[]
[]
[]
[]
[]
[]
[]
[]
[]
[]
[]
[]
[]
[]
[]
[]
[]
[]
[]
[]
[]
[]
[]
[]
[]
[]
[]
[]
[]
[]
[]
[]
[]
[]
[]
[]
[]
[]
[]
[]
[]
[]
[]
[]
[]
[]
[]
[]
[]
[]
[]
[]
[]
[]
[]
[]
[]
[]
[]
[]
[]
[]
[]
[]
[]
[]
[]
[]
[]
[]
[]
[]
[]
[]
[]
[]
[]
[]
[]
[]
[]
[]
[]
[]
[]
[]
[]
[]
[]
[]
[]
[]
[]
[]
[]
[]
[]
[]
[]
[]
[]
[]
[]
[]
[]
[]
[]
[]
[]
[]
[]
[]
[]
[]
[]
[]
[]
[]
[]
[]
[]
[]
[]
[]
[]
[]
[]
[]
[]
[]
[]
[]
[]
[]
[]
[]
[]
[]
[]
[]
[]
[]
[]
[]
[]
[]
[]
[]
[]
[]
[]
[]
[]
[]
[]
[]
[]
[]
[]
[]
[]
[]
[]
[]
[]
[]
[]
[]
[]
[]
[]
[]
[]
[]
[]
[]
[]
[]
[]
[]
[]
[]
[]
[]
[]
[]
[]
[]
[]
[]
[]
[]
[]
[]
[]
[]
[]
[]
[]
[]
[]
[]
[]
[]
[]
[]
[]
[]
[]
[]
[]
[]
[]
[]
[]
[]
[]
[]
[]
[]
[]
[]
[]
[]
[]
[]
[]
[]
[]
[]
[]
[]
[]
[]
[]
[]
[]
[]
[]
[]
[]
[]
[]
[]
[]
[]
[]
[]
[]
[]
[]
[]
[]
[]
[]
[]
[]
[]
[]
[]
[]
[]
[]
[]
[]
[]
[]
[]
[]
[]
[]
[]
[]
[]
[]
[]
[]
[]
[]
[]
[]
[]
[]
[]
[]
[]
[]
[]
[]
[]
[]
[]
[]
[]
[]
[]
[]
[]
[]
[]
[]
[]
[]
[]
[]
[]
[]
[]
[]
[]
[]
[]
[]
[]
[]
[]
[]
[]
[]
[]
[]
[]
[]
[]
[]
[]
[]
[]
[]
[]
[]
[]
[]
[]
[]
[]
[]
[]
[]
[]
[]
[]
[]
[]
[]
[]
[]
[]
[]
[]
[]
[]
[]
[]
[]
[]
[]
[]
[]
[]
[]
[]
[]
[]
[]
[]
[]
[]
[]
[]
[]
[]
[]
[]
[]
[]
[]
[]
[]
[]
[]
[]
[]
[]
[]
[]
[]
[]
[]
[]
[]
[]
[]
[]
[]
[]
[]
[]
[]
[]
[]
[]
[]
[]
[]
[]
[]
[]
[]
[]
[]
[]
[]
[]
[]
[]
[]
[]
[]
[]
[]
[]
[]
[]
[]
[]
[]
[]
[]
[]
[]
[]
[]
[]
[]
[]
[]
[]
[]
[]
[]
[]
[]
[]
[]
[]
[]
[]
[]
[]
[]
[]
[]
[]
[]
[]
[]
[]
[]
[]
[]
[]
[]
[]
[]
[]
[]
[]
[]
[]
[]
[]
[]
[]
[]
[]
[]
[]
[]
[]
[]
[]
[]
[]
[]
[]
[]
[]
[]
[]
[]
[]
[]
[]
[]
[]
[]
[]
[]
[]
[]
[]
[]
[]
[]
[]
[]
[]
[]
[]
[]
[]
[]
[]
[]
[]
[]
[]
[]
[]
[]
[]
[]
[]
[]
[]
[]
[]
[]
[]
[]
[]
[]
[]
[]
[]
[]
[]
[]
[]
[]
[]
[]
[]
[]
[]
[]
[]
[]
[]
[]
[]
[]
[]
[]
[]
[]
[]
[]
[]
[]
[]
[]
[]
[]
[]
[]
[]
[]
[]
[]
[]
[]
[]
[]
[]
[]
[]
[]
[]
[]
[]
[]
[]
[]
[]
[]
[]
[]
[]
[]
[]
[]
[]
[]
[]
[]
[]
[]
[]
[]
[]
[]
[]
[]
[]
[]
[]
[]
[]
[]
[]
[]
[]
[]
[]
[]
[]
[]
[]
[]
[]
[]
[]
[]
[]
[]
[]
[]
[]
[]
[]
[]
[]
[]
[]
[]
[]
[]
[]
[]
[]
[]
[]
[]
[]
[]
[]
[]
[]
[]
[]
[]
[]
[]
[]
[]
[]
[]
[]
[]
[]
[]
[]
[]
[]
[]
[]
[]
[]
[]
[]
[]
[]
[]
[]
[]
[]
[]
[]
[]
[]
[]
[]
[]
[]
[]
[]
[]
[]
[]
[]
[]
[]
[]
[]
[]
[]
[]
[]
[]
[]
[]
[]
[]
[]
[]
[]
[]
[]
[]
[]
[]
[]
[]
[]
[]
[]
[]
[]
[]
[]
[]
[]
[]
[]
[]
[]
[]
[]
[]
[]
[]
[]
[]
[]
[]
[]
[]
[]
[]
[]
[]
[]
[]
[]
[]
[]
[]
[]
[]
[]
[]
[]
[]
[]
[]
[]
[]
[]
[]
[]
[]
[]
[]
[]
[]
[]
[]
[]
[]
[]
[]
[]
[]
[]
[]
[]
[]
[]
[]
[]
[]
[]
[]
[]
[]
[]
[]
[]
[]
[]
[]
[]
[]
[]
[]
[]
[]
[]
[]
[]
[]
[]
[]
[]
[]
[]
[]
[]
[]
[]
[]
[]
[]
[]
[]
[]
[]
[]
[]
[]
[]
[]
[]
[]
[]
[]
[]
[]
[]
[]
[]
[]
[]
[]
[]
[]
[]
[]
[]
[]
[]
[]
[]
[]
[]
[]
[]
[]
[]
[]
[]
[]
[]
[]
[]
[]
[]
[]
[]
[]
[]
[]
[]
[]
[]
[]
[]
[]
[]
[]
[]
[]
[]
[]
[]
[]
[]
[]
[]
[]
[]
[]
[]
[]
[]
[]
[]
[]
[]
[]
[]
[]
[]
[]
[]
[]
[]
[]
[]
[]
[]
[]
[]
[]
[]
[]
[]
[]
[]
[]
[]
[]
[]
[]
[]
[]
[]
[]
[]
[]
[]
[]
[]
[]
[]
[]
[]
[]
[]
[]
[]
[]
[]
[]
[]
[]
[]
[]
[]
[]
[]
[]
[]
[]
[]
[]
[]
[]
[]
[]
[]
[]
[]
[]
[]
[]
[]
[]
[]
[]
[]
[]
[]
[]
[]
[]
[]
[]
[]
[]
[]
[]
[]
[]
[]
[]
[]
[]
[]
[]
[]
[]
[]
[]
[]
[]
[]
[]
[]
[]
[]
[]
[]
[]
[]
[]
[]
[]
[]
[]
[]
[]
[]
[]
[]
[]
[]
[]
[]
[]
[]
[]
[]
[]
[]
[]
[]
[]
[]
[]
[]
[]
[]
[]
[]
[]
[]
[]
[]
[]
[]
[]
[]
[]
[]
[]
[]
[]
[]
[]
[]
[]
[]
[]
[]
[]
[]
[]
[]
[]
[]
[]
[]
[]
[]
[]
[]
[]
[]
[]
[]
[]
[]
[]
[]
[]
[]
[]
[]
[]
[]
[]
[]
[]
[]
[]
[]
[]
[]
[]
[]
[]
[]
[]
[]
[]
[]
[]
[]
[]
[]
[]
[]
[]
[]
[]
[]
[]
[]
[]
[]
[]
[]
[]
[]
[]
[]
[]
[]
[]
[]
[]
[]
[]
[]
[]
[]
[]
[]
[]
[]
[]
[]
[]
[]
[]
[]
[]
[]
[]
[]
[]
[]
[]
[]
[]
[]
[]
[]
[]
[]
[]
[]
[]
[]
[]
[]
[]
[]
[]
[]
[]
[]
[]
[]
[]
[]
[]
[]
[]
[]
[]
[]
[]
[]
[]
[]
[]
[]
[]
[]
[]
[]
[]
[]
[]
[]
[]
[]
[]
[]
[]
[]
[]
[]
[]
[]
[]
[]
[]
[]
[]
[]
[]
[]
[]
[]
[]
[]
[]
[]
[]
[]
[]
[]
[]
[]
[]
[]
[]
[]
[]
[]
[]
[]
[]
[]
[]
[]
[]
[]
[]
[]
[]
[]
[]
[]
[]
[]
[]
[]
[]
[]
[]
[]
[]
[]
[]
[]
[]
[]
[]
[]
[]
[]
[]
[]
[]
[]
[]
[]
[]
[]
[]
[]
[]
[]
[]
[]
[]
[]
[]
[]
[]
[]
[]
[]
[]
[]
[]
[]
[]
[]
[]
[]
[]
[]
[]
[]
[]
[]
[]
[]
[]
[]
[]
[]
[]
[]
[]
[]
[]
[]
[]
[]
[]
[]
[]
[]
[]
[]
[]
[]
[]
[]
[]
[]
[]
[]
[]
[]
[]
[]
[]
[]
[]
[]
[]
[]
[]
[]
[]
[]
[]
[]
[]
[]
[]
[]
[]
[]
[]
[]
[]
[]
[]
[]
[]
[]
[]
[]
[]
[]
[]
[]
[]
[]
[]
[]
[]
[]
[]
[]
[]
[]
[]
[]
[]
[]
[]
[]
[]
[]
[]
[]
[]
[]
[]
[]
[]
[]
[]
[]
[]
[]
[]
[]
[]
[]
[]
[]
[]
[]
[]
[]
[]
[]
[]
[]
[]
[]
[]
[]
[]
[]
[]
[]
[]
[]
[]
[]
[]
[]
[]
[]
[]
[]
[]
[]
[]
[]
[]
[]
[]
[]
[]
[]
[]
[]
[]
[]
[]
[]
[]
[]
[]
[]
[]
[]
[]
[]
[]
[]
[]
[]
[]
[]
[]
[]
[]
[]
[]
[]
[]
[]
[]
[]
[]
[]
[]
[]
[]
[]
[]
[]
[]
[]
[]
[]
[]
[]
[]
[]
[]
[]
[]
[]
[]
[]
[]
[]
[]
[]
[]
[]
[]
[]
[]
[]
[]
[]
[]
[]
[]
[]
[]
[]
[]
[]
[]
[]
[]
[]
[]
[]
[]
[]
[]
[]
[]
[]
[]
[]
[]
[]
[]
[]
[]
[]
[]
[]
[]
[]
[]
[]
[]
[]
[]
[]
[]
[]
[]
[]
[]
[]
[]
[]
[]
[]
[]
[]
[]
[]
[]
[]
[]
[]
[]
[]
[]
[]
[]
[]
[]
[]
[]
[]
[]
[]
[]
[]
[]
[]
[]
[]
[]
[]
[]
[]
[]
[]
[]
[]
[]
[]
[]
[]
[]
[]
[]
[]
[]
[]
[]
[]
[]
[]
[]
[]
[]
[]
[]
[]
[]
[]
[]
[]
[]
[]
[]
[]
[]
[]
[]
[]
[]
[]
[]
[]
[]
[]
[]
[]
[]
[]
[]
[]
[]
[]
[]
[]
[]
[]
[]
[]
[]
[]
[]
[]
[]
[]
[]
[]
[]
[]
[]
[]
[]
[]
[]
[]
[]
[]
[]
[]
[]
[]
[]
[]
[]
[]
[]
[]
[]
[]
[]
[]
[]
[]
[]
[]
[]
[]
[]
[]
[]
[]
[]
[]
[]
[]
[]
[]
[]
[]
[]
[]
[]
[]
[]
[]
[]
[]
[]
[]
[]
[]
[]
[]
[]
[]
[]
[]
[]
[]
[]
[]
[]
[]
[]
[]
[]
[]
[]
[]
[]
[]
[]
[]
[]
[]
[]
[]
[]
[]
[]
[]
[]
[]
[]
[]
[]
[]
[]
[]
[]
[]
[]
[]
[]
[]
[]
[]
[]
[]
[]
[]
[]
[]
[]
[]
[]
[]
[]
[]
[]
[]
[]
[]
[]
[]
[]
[]
[]
[]
[]
[]
[]
[]
[]
[]
[]
[]
[]
[]
[]
[]
[]
[]
[]
[]
[]
[]
[]
[]
[]
[]
[]
[]
[]
[]
[]
[]
[]
[]
[]
[]
[]
[]
[]
[]
[]
[]
[]
[]
[]
[]
[]
[]
[]
[]
[]
[]
[]
[]
[]
[]
[]
[]
[]
[]
[]
[]
[]
[]
[]
[]
[]
[]
[]
[]
[]
[]
[]
[]
[]
[]
[]
[]
[]
[]
[]
[]
[]
[]
[]
[]
[]
[]
[]
[]
[]
[]
[]
[]
[]
[]
[]
[]
[]
[]
[]
[]
[]
[]
[]
[]
[]
[]
[]
[]
[]
[]
[]
[]
[]
[]
[]
[]
[]
[]
[]
[]
[]
[]
[]
[]
[]
[]
[]
[]
[]
[]
[]
[]
[]
[]
[]
[]
[]
[]
[]
[]
[]
[]
[]
[]
[]
[]
[]
[]
[]
[]
[]
[]
[]
[]
[]
[]
[]
[]
[]
[]
[]
[]
[]
[]
[]
[]
[]
[]
[]
[]
[]
[]
[]
[]
[]
[]
[]
[]
[]
[]
[]
[]
[]
[]
[]
[]
[]
[]
[]
[]
[]
[]
[]
[]
[]
[]
[]
[]
[]
[]
[]
[]
[]
[]
[]
[]
[]
[]
[]
[]
[]
[]
[]
[]
[]
[]
[]
[]
[]
[]
[]
[]
[]
[]
[]
[]
[]
[]
[]
[]
[]
[]
[]
[]
[]
[]
[]
[]
[]
[]
[]
[]
[]
[]
[]
[]
[]
[]
[]
[]
[]
[]
[]
[]
[]
[]
[]
[]
[]
[]
[]
[]
[]
[]
[]
[]
[]
[]
[]
[]
[]
[]
[]
[]
[]
[]
[]
[]
[]
[]
[]
[]
[]
[]
[]
[]
[]
[]
[]
[]
[]
[]
[]
[]
[]
[]
[]
[]
[]
[]
[]
[]
[]
[]
[]
[]
[]
[]
[]
[]
[]
[]
[]
[]
[]
[]
[]
[]
[]
[]
[]
[]
[]
[]
[]
[]
[]
[]
[]
[]
[]
[]
[]
[]
[]
[]
[]
[]
[]
[]
[]
[]
[]
[]
[]
[]
[]
[]
[]
[]
[]
[]
[]
[]
[]
[]
[]
[]
[]
[]
[]
[]
[]
[]
[]
[]
[]
[]
[]
[]
[]
[]
[]
[]
[]
[]
[]
[]
[]
[]
[]
[]
[]
[]
[]
[]
[]
[]
[]
[]
[]
[]
[]
[]
[]
[]
[]
[]
[]
[]
[]
[]
[]
[]
[]
[]
[]
[]
[]
[]
[]
[]
[]
[]
[]
[]
[]
[]
[]
[]
[]
[]
[]
[]
[]
[]
[]
[]
[]
[]
[]
[]
[]
[]
[]
[]
[]
[]
[]
[]
[]
[]
[]
[]
[]
[]
[]
[]
[]
[]
[]
[]
[]
[]
[]
[]
[]
[]
[]
[]
[]
[]
[]
[]
[]
[]
[]
[]
[]
[]
[]
[]
[]
[]
[]
[]
[]
[]
[]
[]
[]
[]
[]
[]
[]
[]
[]
[]
[]
[]
[]
[]
[]
[]
[]
[]
[]
[]
[]
[]
[]
[]
[]
[]
[]
[]
[]
[]
[]
[]
[]
[]
[]
[]
[]
[]
[]
[]
[]
[]
[]
[]
[]
[]
[]
[]
[]
[]
[]
[]
[]
[]
[]
[]
[]
[]
[]
[]
[]
[]
[]
[]
[]
[]
[]
[]
[]
[]
[]
[]
[]
[]
[]
[]
[]
[]
[]
[]
[]
[]
[]
[]
[]
[]
[]
[]
[]
[]
[]
[]
[]
[]
[]
[]
[]
[]
[]
[]
[]
[]
[]
[]
[]
[]
[]
[]
[]
[]
[]
[]
[]
[]
[]
[]
[]
[]
[]
[]
[]
[]
[]
[]
[]
[]
[]
[]
[]
[]
[]
[]
[]
[]
[]
[]
[]
[]
[]
[]
[]
[]
[]
[]
[]
[]
[]
[]
[]
[]
[]
[]
[]
[]
[]
[]
[]
[]
[]
[]
[]
[]
[]
[]
[]
[]
[]
[]
[]
[]
[]
[]
[]
[]
[]
[]
[]
[]
[]
[]
[]
[]
[]
[]
[]
[]
[]
[]
[]
[]
[]
[]
[]
[]
[]
[]
[]
[]
[]
[]
[]
[]
[]
[]
[]
[]
[]
[]
[]
[]
[]
[]
[]
[]
[]
[]
[]
[]
[]
[]
[]
[]
[]
[]
[]
[]
[]
[]
[]
[]
[]
[]
[]
[]
[]
[]
[]
[]
[]
[]
[]
[]
[]
[]
[]
[]
[]
[]
[]
[]
[]
[]
[]
[]
[]
[]
[]
[]
[]
[]
[]
[]
[]
[]
[]
[]
[]
[]
[]
[]
[]
[]
[]
[]
[]
[]
[]
[]
[]
[]
[]
[]
[]
[]
[]
[]
[]
[]
[]
[]
[]
[]
[]
[]
[]
[]
[]
[]
[]
[]
[]
[]
[]
[]
[]
[]
[]
[]
[]
[]
[]
[]
[]
[]
[]
[]
[]
[]
[]
[]
[]
[]
[]
[]
[]
[]
[]
[]
[]
[]
[]
[]
[]
[]
[]
[]
[]
[]
[]
[]
[]
[]
[]
[]
[]
[]
[]
[]
[]
[]
[]
[]
[]
[]
[]
[]
[]
[]
[]
[]
[]
[]
[]
[]
[]
[]
[]
[]
[]
[]
[]
[]
[]
[]
[]
[]
[]
[]
[]
[]
[]
[]
[]
[]
[]
[]
[]
[]
[]
[]
[]
[]
[]
[]
[]
[]
[]
[]
[]
[]
[]
[]
[]
[]
[]
[]
[]
[]
[]
[]
[]
[]
[]
[]
[]
[]
[]
[]
[]
[]
[]
[]
[]
[]
[]
[]
[]
[]
[]
[]
[]
[]
[]
[]
[]
[]
[]
[]
[]
[]
[]
[]
[]
[]
[]
[]
[]
[]
[]
[]
[]
[]
[]
[]
[]
[]
[]
[]
[]
[]
[]
[]
[]
[]
[]
[]
[]
[]
[]
[]
[]
[]
[]
[]
[]
[]
[]
[]
[]
[]
[]
[]
[]
[]
[]
[]
[]
[]
[]
[]
[]
[]
[]
[]
[]
[]
[]
[]
[]
[]
[]
[]
[]
[]
[]
[]
[]
[]
[]
[]
[]
[]
[]
[]
[]
[]
[]
[]
[]
[]
[]
[]
[]
[]
[]
[]
[]
[]
[]
[]
[]
[]
[]
[]
[]
[]
[]
[]
[]
[]
[]
[]
[]
[]
[]
[]
[]
[]
[]
[]
[]
[]
[]
[]
[]
[]
[]
[]
[]
[]
[]
[]
[]
[]
[]
[]
[]
[]
[]
[]
[]
[]
[]
[]
[]
[]
[]
[]
[]
[]
[]
[]
[]
[]
[]
[]
[]
[]
[]
[]
[]
[]
[]
[]
[]
[]
[]
[]
[]
[]
[]
[]
[]
[]
[]
[]
[]
[]
[]
[]
[]
[]
[]
[]
[]
[]
[]
[]
[]
[]
[]
[]
[]
[]
[]
[]
[]
[]
[]
[]
[]
[]
[]
[]
[]
[]
[]
[]
[]
[]
[]
[]
[]
[]
[]
[]
[]
[]
[]
[]
[]
[]
[]
[]
[]
[]
[]
[]
[]
[]
[]
[]
[]
[]
[]
[]
[]
[]
[]
[]
[]
[]
[]
[]
[]
[]
[]
[]
[]
[]
[]
[]
[]
[]
[]
[]
[]
[]
[]
[]
[]
[]
[]
[]
[]
[]
[]
[]
[]
[]
[]
[]
[]
[]
[]
[]
[]
[]
[]
[]
[]
[]
[]
[]
[]
[]
[]
[]
[]
[]
[]
[]
[]
[]
[]
[]
[]
[]
[]
[]
[]
[]
[]
[]
[]
[]
[]
[]
[]
[]
[]
[]
[]
[]
[]
[]
[]
[]
[]
[]
[]
[]
[]
[]
[]
[]
[]
[]
[]
[]
[]
[]
[]
[]
[]
[]
[]
[]
[]
[]
[]
[]
[]
[]
[]
[]
[]
[]
[]
[]
[]
[]
[]
[]
[]
[]
[]
[]
[]
[]
[]
[]
[]
[]
[]
[]
[]
[]
[]
[]
[]
[]
[]
[]
[]
[]
[]
[]
[]
[]
[]
[]
[]
[]
[]
[]
[]
[]
[]
[]
[]
[]
[]
[]
[]
[]
[]
[]
[]
[]
[]
[]
[]
[]
[]
[]
[]
[]
[]
[]
[]
[]
[]
[]
[]
[]
[]
[]
[]
[]
[]
[]
[]
[]
[]
[]
[]
[]
[]
[]
[]
[]
[]
[]
[]
[]
[]
[]
[]
[]
[]
[]
[]
[]
[]
[]
[]
[]
[]
[]
[]
[]
[]
[]
[]
[]
[]
[]
[]
[]
[]
[]
[]
[]
[]
[]
[]
[]
[]
[]
[]
[]
[]
[]
[]
[]
[]
[]
[]
[]
[]
[]
[]
[]
[]
[]
[]
[]
[]
[]
[]
[]
[]
[]
[]
[]
[]
[]
[]
[]
[]
[]
[]
[]
[]
[]
[]
[]
[]
[]
[]
[]
[]
[]
[]
[]
[]
[]
[]
[]
[]
[]
[]
[]
[]
[]
[]
[]
[]
[]
[]
[]
[]
[]
[]
[]
[]
[]
[]
[]
[]
[]
[]
[]
[]
[]
[]
[]
[]
[]
[]
[]
[]
[]
[]
[]
[]
[]
[]
[]
[]
[]
[]
[]
[]
[]
[]
[]
[]
[]
[]
[]
[]
[]
[]
[]
[]
[]
[]
[]
[]
[]
[]
[]
[]
[]
[]
[]
[]
[]
[]
[]
[]
[]
[]
[]
[]
[]
[]
[]
[]
[]
[]
[]
[]
[]
[]
[]
[]
[]
[]
[]
[]
[]
[]
[]
[]
[]
[]
[]
[]
[]
[]
[]
[]
[]
[]
[]
[]
[]
[]
[]
[]
[]
[]
[]
[]
[]
[]
[]
[]
[]
[]
[]
[]
[]
[]
[]
[]
[]
[]
[]
[]
[]
[]
[]
[]
[]
[]
[]
[]
[]
[]
[]
[]
[]
[]
[]
[]
[]
[]
[]
[]
[]
[]
[]
[]
[]
[]
[]
[]
[]
[]
[]
[]
[]
[]
[]
[]
[]
[]
[]
[]
[]
[]
[]
[]
[]
[]
[]
[]
[]
[]
[]
[]
[]
[]
[]
[]
[]
[]
[]
[]
[]
[]
[]
[]
[]
[]
[]
[]
[]
[]
[]
[]
[]
[]
[]
[]
[]
[]
[]
[]
[]
[]
[]
[]
[]
[]
[]
[]
[]
[]
[]
[]
[]
[]
[]
[]
[]
[]
[]
[]
[]
[]
[]
[]
[]
[]
[]
[]
[]
[]
[]
[]
[]
[]
[]
[]
[]
[]
[]
[]
[]
[]
[]
[]
[]
[]
[]
[]
[]
[]
[]
[]
[]
[]
[]
[]
[]
[]
[]
[]
[]
[]
[]
[]
[]
[]
[]
[]
[]
[]
[]
[]
[]
[]
[]
[]
[]
[]
[]
[]
[]
[]
[]
[]
[]
[]
[]
[]
[]
[]
[]
[]
[]
[]
[]
[]
[]
[]
[]
[]
[]
[]
[]
[]
[]
[]
[]
[]
[]
[]
[]
[]
[]
[]
[]
[]
[]
[]
[]
[]
[]
[]
[]
[]
[]
[]
[]
[]
[]
[]
[]
[]
[]
[]
[]
[]
[]
[]
[]
[]
[]
[]
[]
[]
[]
[]
[]
[]
[]
[]
[]
[]
[]
[]
[]
[]
[]
[]
[]
[]
[]
[]
[]
[]
[]
[]
[]
[]
[]
[]
[]
[]
[]
[]
[]
[]
[]
[]
[]
[]
[]
[]
[]
[]
[]
[]
[]
[]
[]
[]
[]
[]
[]
[]
[]
[]
[]
[]
[]
[]
[]
[]
[]
[]
[]
[]
[]
[]
[]
[]
[]
[]
[]
[]
[]
[]
[]
[]
[]
[]
[]
[]
[]
[]
[]
[]
[]
[]
[]
[]
[]
[]
[]
[]
[]
[]
[]
[]
[]
[]
[]
[]
[]
[]
[]
[]
[]
[]
[]
[]
[]
[]
[]
[]
[]
[]
[]
[]
[]
[]
[]
[]
[]
[]
[]
[]
[]
[]
[]
[]
[]
[]
[]
[]
[]
[]
[]
[]
[]
[]
[]
[]
[]
[]
[]
[]
[]
[]
[]
[]
[]
[]
[]
[]
[]
[]
[]
[]
[]
[]
[]
[]
[]
[]
[]
[]
[]
[]
[]
[]
[]
[]
[]
[]
[]
[]
[]
[]
[]
[]
[]
[]
[]
[]
[]
[]
[]
[]
[]
[]
[]
[]
[]
[]
[]
[]
[]
[]
[]
[]
[]
[]
[]
[]
[]
[]
[]
[]
[]
[]
[]
[]
[]
[]
[]
[]
[]
[]
[]
[]
[]
[]
[]
[]
[]
[]
[]
[]
[]
[]
[]
[]
[]
[]
[]
[]
[]
[]
[]
[]
[]
[]
[]
[]
[]
[]
[]
[]
[]
[]
[]
[]
[]
[]
[]
[]
[]
[]
[]
[]
[]
[]
[]
[]
[]
[]
[]
[]
[]
[]
[]
[]
[]
[]
[]
[]
[]
[]
[]
[]
[]
[]
[]
[]
[]
[]
[]
[]
[]
[]
[]
[]
[]
[]
[]
[]
[]
[]
[]
[]
[]
[]
[]
[]
[]
[]
[]
[]
[]
[]
[]
[]
[]
[]
[]
[]
[]
[]
[]
[]
[]
[]
[]
[]
[]
[]
[]
[]
[]
[]
[]
[]
[]
[]
[]
[]
[]
[]
[]
[]
[]
[]
[]
[]
[]
[]
[]
[]
[]
[]
[]
[]
[]
[]
[]
[]
[]
[]
[]
[]
[]
[]
[]
[]
[]
[]
[]
[]
[]
[]
[]
[]
[]
[]
[]
[]
[]
[]
[]
[]
[]
[]
[]
[]
[]
[]
[]
[]
[]
[]
[]
[]
[]
[]
[]
[]
[]
[]
[]
[]
[]
[]
[]
[]
[]
[]
[]
[]
[]
[]
[]
[]
[]
[]
[]
[]
[]
[]
[]
[]
[]
[]
[]
[]
[]
[]
[]
[]
[]
[]
[]
[]
[]
[]
[]
[]
[]
[]
[]
[]
[]
[]
[]
[]
[]
[]
[]
[]
[]
[]
[]
[]
[]
[]
[]
[]
[]
[]
[]
[]
[]
[]
[]
[]
[]
[]
[]
[]
[]
[]
[]
[]
[]
[]
[]
[]
[]
[]
[]
[]
[]
[]
[]
[]
[]
[]
[]
[]
[]
[]
[]
[]
[]
[]
[]
[]
[]
[]
[]
[]
[]
[]
[]
[]
[]
[]
[]
[]
[]
[]
[]
[]
[]
[]
[]
[]
[]
[]
[]
[]
[]
[]
[]
[]
[]
[]
[]
[]
[]
[]
[]
[]
[]
[]
[]
[]
[]
[]
[]
[]
[]
[]
[]
[]
[]
[]
[]
[]
[]
[]
[]
[]
[]
[]
[]
[]
[]
[]
[]
[]
[]
[]
[]
[]
[]
[]
[]
[]
[]
[]
[]
[]
[]
[]
[]
[]
[]
[]
[]
[]
[]
[]
[]
[]
[]
[]
[]
[]
[]
[]
[]
[]
[]
[]
[]
[]
[]
[]
[]
[]
[]
[]
[]
[]
[]
[]
[]
[]
[]
[]
[]
[]
[]
[]
[]
[]
[]
[]
[]
[]
[]
[]
[]
[]
[]
[]
[]
[]
[]
[]
[]
[]
[]
[]
[]
[]
[]
[]
[]
[]
[]
[]
[]
[]
[]
[]
[]
[]
[]
[]
[]
[]
[]
[]
[]
[]
[]
[]
[]
[]
[]
[]
[]
[]
[]
[]
[]
[]
[]
[]
[]
[]
[]
[]
[]
[]
[]
[]
[]
[]
[]
[]
[]
[]
[]
[]
[]
[]
[]
[]
[]
[]
[]
[]
[]
[]
[]
[]
[]
[]
[]
[]
[]
[]
[]
[]
[]
[]
[]
[]
[]
[]
[]
[]
[]
[]
[]
[]
[]
[]
[]
[]
[]
[]
[]
[]
[]
[]
[]
[]
[]
[]
[]
[]
[]
[]
[]
[]
[]
[]
[]
[]
[]
[]
[]
[]
[]
[]
[]
[]
[]
[]
[]
[]
[]
[]
[]
[]
[]
[]
[]
[]
[]
[]
[]
[]
[]
[]
[]
[]
[]
[]
[]
[]
[]
[]
[]
[]
[]
[]
[]
[]
[]
[]
[]
[]
[]
[]
[]
[]
[]
[]
[]
[]
[]
[]
[]
[]
[]
[]
[]
[]
[]
[]
[]
[]
[]
[]
[]
[]
[]
[]
[]
[]
[]
[]
[]
[]
[]
[]
[]
[]
[]
[]
[]
[]
[]
[]
[]
[]
[]
[]
[]
[]
[]
[]
[]
[]
[]
[]
[]
[]
[]
[]
[]
[]
[]
[]
[]
[]
[]
[]
[]
[]
[]
[]
[]
[]
[]
[]
[]
[]
[]
[]
[]
[]
[]
[]
[]
[]
[]
[]
[]
[]
[]
[]
[]
[]
[]
[]
[]
[]
[]
[]
[]
[]
[]
[]
[]
[]
[]
[]
[]
[]
[]
[]
[]
[]
[]
[]
[]
[]
[]
[]
[]
[]
[]
[]
[]
[]
[]
[]
[]
[]
[]
[]
[]
[]
[]
[]
[]
[]
[]
[]
[]
[]
[]
[]
[]
[]
[]
[]
[]
[]
[]
[]
[]
[]
[]
[]
[]
[]
[]
[]
[]
[]
[]
[]
[]
[]
[]
[]
[]
[]
[]
[]
[]
[]
[]
[]
[]
[]
[]
[]
[]
[]
[]
[]
[]
[]
[]
[]
[]
[]
[]
[]
[]
[]
[]
[]
[]
[]
[]
[]
[]
[]
[]
[]
[]
[]
[]
[]
[]
[]
[]
[]
[]
[]
[]
[]
[]
[]
[]
[]
[]
[]
[]
[]
[]
[]
[]
[]
[]
[]
[]
[]
[]
[]
[]
[]
[]
[]
[]
[]
[]
[]
[]
[]
[]
[]
[]
[]
[]
[]
[]
[]
[]
[]
[]
[]
[]
[]
[]
[]
[]
[]
[]
[]
[]
[]
[]
[]
[]
[]
[]
[]
[]
[]
[]
[]
[]
[]
[]
[]
[]
[]
[]
[]
[]
[]
[]
[]
[]
[]
[]
[]
[]
[]
[]
[]
[]
[]
[]
[]
[]
[]
[]
[]
[]
[]
[]
[]
[]
[]
[]
[]
[]
[]
[]
[]
[]
[]
[]
[]
[]
[]
[]
[]
[]
[]
[]
[]
[]
[]
[]
[]
[]
[]
[]
[]
[]
[]
[]
[]
[]
[]
[]
[]
[]
[]
[]
[]
[]
[]
[]
[]
[]
[]
[]
[]
[]
[]
[]
[]
[]
[]
[]
[]
[]
[]
[]
[]
[]
[]
[]
[]
[]
[]
[]
[]
[]
[]
[]
[]
[]
[]
[]
[]
[]
[]
[]
[]
[]
[]
[]
[]
[]
[]
[]
[]
[]
[]
[]
[]
[]
[]
[]
[]
[]
[]
[]
[]
[]
[]
[]
[]
[]
[]
[]
[]
[]
[]
[]
[]
[]
[]
[]
[]
[]
[]
[]
[]
[]
[]
[]
[]
[]
[]
[]
[]
[]
[]
[]
[]
[]
[]
[]
[]
[]
[]
[]
[]
[]
[]
[]
[]
[]
[]
[]
[]
[]
[]
[]
[]
[]
[]
[]
[]
[]
[]
[]
[]
[]
[]
[]
[]
[]
[]
[]
[]
[]
[]
[]
[]
[]
[]
[]
[]
[]
[]
[]
[]
[]
[]
[]
[]
[]
[]
[]
[]
[]
[]
[]
[]
[]
[]
[]
[]
[]
[]
[]
[]
[]
[]
[]
[]
[]
[]
[]
[]
[]
[]
[]
[]
[]
[]
[]
[]
[]
[]
[]
[]
[]
[]
[]
[]
[]
[]
[]
[]
[]
[]
[]
[]
[]
[]
[]
[]
[]
[]
[]
[]
[]
[]
[]
[]
[]
[]
[]
[]
[]
[]
[]
[]
[]
[]
[]
[]
[]
[]
[]
[]
[]
[]
[]
[]
[]
[]
[]
[]
[]
[]
[]
[]
[]
[]
[]
[]
[]
[]
[]
[]
[]
[]
[]
[]
[]
[]
[]
[]
[]
[]
[]
[]
[]
[]
[]
[]
[]
[]
[]
[]
[]
[]
[]
[]
[]
[]
[]
[]
[]
[]
[]
[]
[]
[]
[]
[]
[]
[]
[]
[]
[]
[]
[]
[]
[]
[]
[]
[]
[]
[]
[]
[]
[]
[]
[]
[]
[]
[]
[]
[]
[]
[]
[]
[]
[]
[]
[]
[]
[]
[]
[]
[]
[]
[]
[]
[]
[]
[]
[]
[]
[]
[]
[]
[]
[]
[]
[]
[]
[]
[]
[]
[]
[]
[]
[]
[]
[]
[]
[]
[]
[]
[]
[]
[]
[]
[]
[]
[]
[]
[]
[]
[]
[]
[]
[]
[]
[]
[]
[]
[]
[]
[]
[]
[]
[]
[]
[]
[]
[]
[]
[]
[]
[]
[]
[]
[]
[]
[]
[]
[]
[]
[]
[]
[]
[]
[]
[]
[]
[]
[]
[]
[]
[]
[]
[]
[]
[]
[]
[]
[]
[]
[]
[]
[]
[]
[]
[]
[]
[]
[]
[]
[]
[]
[]
[]
[]
[]
[]
[]
[]
[]
[]
[]
[]
[]
[]
[]
[]
[]
[]
[]
[]
[]
[]
[]
[]
[]
[]
[]
[]
[]
[]
[]
[]
[]
[]
[]
[]
[]
[]
[]
[]
[]
[]
[]
[]
[]
[]
[]
[]
[]
[]
[]
[]
[]
[]
[]
[]
[]
[]
[]
[]
[]
[]
[]
[]
[]
[]
[]
[]
[]
[]
[]
[]
[]
[]
[]
[]
[]
[]
[]
[]
[]
[]
[]
[]
[]
[]
[]
[]
[]
[]
[]
[]
[]
[]
[]
[]
[]
[]
[]
[]
[]
[]
[]
[]
[]
[]
[]
[]
[]
[]
[]
[]
[]
[]
[]
[]
[]
[]
[]
[]
[]
[]
[]
[]
[]
[]
[]
[]
[]
[]
[]
[]
[]
[]
[]
[]
[]
[]
[]
[]
[]
[]
[]
[]
[]
[]
[]
[]
[]
[]
[]
[]
[]
[]
[]
[]
[]
[]
[]
[]
[]
[]
[]
[]
[]
[]
[]
[]
[]
[]
[]
[]
[]
[]
[]
[]
[]
[]
[]
[]
[]
[]
[]
[]
[]
[]
[]
[]
[]
[]
[]
[]
[]
[]
[]
[]
[]
[]
[]
[]
[]
[]
[]
[]
[]
[]
[]
[]
[]
[]
[]
[]
[]
[]
[]
[]
[]
[]
[]
[]
[]
[]
[]
[]
[]
[]
[]
[]
[]
[]
[]
[]
[]
[]
[]
[]
[]
[]
[]
[]
[]
[]
[]
[]
[]
[]
[]
[]
[]
[]
[]
[]
[]
[]
[]
[]
[]
[]
[]
[]
[]
[]
[]
[]
[]
[]
[]
[]
[]
[]
[]
[]
[]
[]
[]
[]
[]
[]
[]
[]
[]
[]
[]
[]
[]
[]
[]
[]
[]
[]
[]
[]
[]
[]
[]
[]
[]
[]
[]
[]
[]
[]
[]
[]
[]
[]
[]
[]
[]
[]
[]
[]
[]
[]
[]
[]
[]
[]
[]
[]
[]
[]
[]
[]
[]
[]
[]
[]
[]
[]
[]
[]
[]
[]
[]
[]
[]
[]
[]
[]
[]
[]
[]
[]
[]
[]
[]
[]
[]
[]
[]
[]
[]
[]
[]
[]
[]
[]
[]
[]
[]
[]
[]
[]
[]
[]
[]
[]
[]
[]
[]
[]
[]
[]
[]
[]
[]
[]
[]
[]
[]
[]
[]
[]
[]
[]
[]
[]
[]
[]
[]
[]
[]
[]
[]
[]
[]
[]
[]
[]
[]
[]
[]
[]
[]
[]
[]
[]
[]
[]
[]
[]
[]
[]
[]
[]
[]
[]
[]
[]
[]
[]
[]
[]
[]
[]
[]
[]
[]
[]
[]
[]
[]
[]
[]
[]
[]
[]
[]
[]
[]
[]
[]
[]
[]
[]
[]
[]
[]
[]
[]
[]
[]
[]
[]
[]
[]
[]
[]
[]
[]
[]
[]
[]
[]
[]
[]
[]
[]
[]
[]
[]
[]
[]
[]
[]
[]
[]
[]
[]
[]
[]
[]
[]
[]
[]
[]
[]
[]
[]
[]
[]
[]
[]
[]
[]
[]
[]
[]
[]
[]
[]
[]
[]
[]
[]
[]
[]
[]
[]
[]
[]
[]
[]
[]
[]
[]
[]
[]
[]
[]
[]
[]
[]
[]
[]
[]
[]
[]
[]
[]
[]
[]
[]
[]
[]
[]
[]
[]
[]
[]
[]
[]
[]
[]
[]
[]
[]
[]
[]
[]
[]
[]
[]
[]
[]
[]
[]
[]
[]
[]
[]
[]
[]
[]
[]
[]
[]
[]
[]
[]
[]
[]
[]
[]
[]
[]
[]
[]
[]
[]
[]
[]
[]
[]
[]
[]
[]
[]
[]
[]
[]
[]
[]
[]
[]
[]
[]
[]
[]
[]
[]
[]
[]
[]
[]
[]
[]
[]
[]
[]
[]
[]
[]
[]
[]
[]
[]
[]
[]
[]
[]
[]
[]
[]
[]
[]
[]
[]
[]
[]
[]
[]
[]
[]
[]
[]
[]
[]
[]
[]
[]
[]
[]
[]
[]
[]
[]
[]
[]
[]
[]
[]
[]
[]
[]
[]
[]
[]
[]
[]
[]
[]
[]
[]
[]
[]
[]
[]
[]
[]
[]
[]
[]
[]
[]
[]
[]
[]
[]
[]
[]
[]
[]
[]
[]
[]
[]
[]
[]
[]
[]
[]
[]
[]
[]
[]
[]
[]
[]
[]
[]
[]
[]
[]
[]
[]
[]
[]
[]
[]
[]
[]
[]
[]
[]
[]
[]
[]
[]
[]
[]
[]
[]
[]
[]
[]
[]
[]
[]
[]
[]
[]
[]
[]
[]
[]
[]
[]
[]
[]
[]
[]
[]
[]
[]
[]
[]
[]
[]
[]
[]
[]
[]
[]
[]
[]
[]
[]
[]
[]
[]
[]
[]
[]
[]
[]
[]
[]
[]
[]
[]
[]
[]
[]
[]
[]
[]
[]
[]
[]
[]
[]
[]
[]
[]
[]
[]
[]
[]
[]
[]
[]
[]
[]
[]
[]
[]
[]
[]
[]
[]
[]
[]
[]
[]
[]
[]
[]
[]
[]
[]
[]
[]
[]
[]
[]
[]
[]
[]
[]
[]
[]
[]
[]
[]
[]
[]
[]
[]
[]
[]
[]
[]
[]
[]
[]
[]
[]
[]
[]
[]
[]
[]
[]
[]
[]
[]
[]
[]
[]
[]
[]
[]
[]
[]
[]
[]
[]
[]
[]
[]
[]
[]
[]
[]
[]
[]
[]
[]
[]
[]
[]
[]
[]
[]
[]
[]
[]
[]
[]
[]
[]
[]
[]
[]
[]
[]
[]
[]
[]
[]
[]
[]
[]
[]
[]
[]
[]
[]
[]
[]
[]
[]
[]
[]
[]
[]
[]
[]
[]
[]
[]
[]
[]
[]
[]
[]
[]
[]
[]
[]
[]
[]
[]
[]
[]
[]
[]
[]
[]
[]
[]
[]
[]
[]
[]
[]
[]
[]
[]
[]
[]
[]
[]
[]
[]
[]
[]
[]
[]
[]
[]
[]
[]
[]
[]
[]
[]
[]
[]
[]
[]
[]
[]
[]
[]
[]
[]
[]
[]
[]
[]
[]
[]
[]
[]
[]
[]
[]
[]
[]
[]
[]
[]
[]
[]
[]
[]
[]
[]
[]
[]
[]
[]
[]
[]
[]
[]
[]
[]
[]
[]
[]
[]
[]
[]
[]
[]
[]
[]
[]
[]
[]
[]
[]
[]
[]
[]
[]
[]
[]
[]
[]
[]
[]
[]
[]
[]
[]
[]
[]
[]
[]
[]
[]
[]
[]
[]
[]
[]
[]
[]
[]
[]
[]
[]
[]
[]
[]
[]
[]
[]
[]
[]
[]
[]
[]
[]
[]
[]
[]
[]
[]
[]
[]
[]
[]
[]
[]
[]
[]
[]
[]
[]
[]
[]
[]
[]
[]
[]
[]
[]
[]
[]
[]
[]
[]
[]
[]
[]
[]
[]
[]
[]
[]
[]
[]
[]
[]
[]
[]
[]
[]
[]
[]
[]
[]
[]
[]
[]
[]
[]
[]
[]
[]
[]
[]
[]
[]
[]
[]
[]
[]
[]
[]
[]
[]
[]
[]
[]
[]
[]
[]
[]
[]
[]
[]
[]
[]
[]
[]
[]
[]
[]
[]
[]
[]
[]
[]
[]
[]
[]
[]
[]
[]
[]
[]
[]
[]
[]
[]
[]
[]
[]
[]
[]
[]
[]
[]
[]
[]
[]
[]
[]
[]
[]
[]
[]
[]
[]
[]
[]
[]
[]
[]
[]
[]
[]
[]
[]
[]
[]
[]
[]
[]
[]
[]
[]
[]
[]
[]
[]
[]
[]
[]
[]
[]
[]
[]
[]
[]
[]
[]
[]
[]
[]
[]
[]
[]
[]
[]
[]
[]
[]
[]
[]
[]
[]
[]
[]
[]
[]
[]
[]
[]
[]
[]
[]
[]
[]
[]
[]
[]
[]
[]
[]
[]
[]
[]
[]
[]
[]
[]
[]
[]
[]
[]
[]
[]
[]
[]
[]
[]
[]
[]
[]
[]
[]
[]
[]
[]
[]
[]
[]
[]
[]
[]
[]
[]
[]
[]
[]
[]
[]
[]
[]
[]
[]
[]
[]
[]
[]
[]
[]
[]
[]
[]
[]
[]
[]
[]
[]
[]
[]
[]
[]
[]
[]
[]
[]
[]
[]
[]
[]
[]
[]
[]
[]
[]
[]
[]
[]
[]
[]
[]
[]
[]
[]
[]
[]
[]
[]
[]
[]
[]
[]
[]
[]
[]
[]
[]
[]
[]
[]
[]
[]
[]
[]
[]
[]
[]
[]
[]
[]
[]
[]
[]
[]
[]
[]
[]
[]
[]
[]
[]
[]
[]
[]
[]
[]
[]
[]
[]
[]
[]
[]
[]
[]
[]
[]
[]
[]
[]
[]
[]
[]
[]
[]
[]
[]
[]
[]
[]
[]
[]
[]
[]
[]
[]
[]
[]
[]
[]
[]
[]
[]
[]
[]
[]
[]
[]
[]
[]
[]
[]
[]
[]
[]
[]
[]
[]
[]
[]
[]
[]
[]
[]
[]
[]
[]
[]
[]
[]
[]
[]
[]
[]
[]
[]
[]
[]
[]
[]
[]
[]
[]
[]
[]
[]
[]
[]
[]
[]
[]
[]
[]
[]
[]
[]
[]
[]
[]
[]
[]
[]
[]
[]
[]
[]
[]
[]
[]
[]
[]
[]
[]
[]
[]
[]
[]
[]
[]
[]
[]
[]
[]
[]
[]
[]
[]
[]
[]
[]
[]
[]
[]
[]
[]
[]
[]
[]
[]
[]
[]
[]
[]
[]
[]
[]
[]
[]
[]
[]
[]
[]
[]
[]
[]
[]
[]
[]
[]
[]
[]
[]
[]
[]
[]
[]
[]
[]
[]
[]
[]
[]
[]
[]
[]
[]
[]
[]
[]
[]
[]
[]
[]
[]
[]
[]
[]
[]
[]
[]
[]
[]
[]
[]
[]
[]
[]
[]
[]
[]
[]
[]
[]
[]
[]
[]
[]
[]
[]
[]
[]
[]
[]
[]
[]
[]
[]
[]
[]
[]
[]
[]
[]
[]
[]
[]
[]
[]
[]
[]
[]
[]
[]
[]
[]
[]
[]
[]
[]
[]
[]
[]
[]
[]
[]
[]
[]
[]
[]
[]
[]
[]
[]
[]
[]
[]
[]
[]
[]
[]
[]
[]
[]
[]
[]
[]
[]
[]
[]
[]
[]
[]
[]
[]
[]
[]
[]
[]
[]
[]
[]
[]
[]
[]
[]
[]
[]
[]
[]
[]
[]
[]
[]
[]
[]
[]
[]
[]
[]
[]
[]
[]
[]
[]
[]
[]
[]
[]
[]
[]
[]
[]
[]
[]
[]
[]
[]
[]
[]
[]
[]
[]
[]
[]
[]
[]
[]
[]
[]
[]
[]
[]
[]
[]
[]
[]
[]
[]
[]
[]
[]
[]
[]
[]
[]
[]
[]
[]
[]
[]
[]
[]
[]
[]
[]
[]
[]
[]
[]
[]
[]
[]
[]
[]
[]
[]
[]
[]
[]
[]
[]
[]
[]
[]
[]
[]
[]
[]
[]
[]
[]
[]
[]
[]
[]
[]
[]
[]
[]
[]
[]
[]
[]
[]
[]
[]
[]
[]
[]
[]
[]
[]
[]
[]
[]
[]
[]
[]
[]
[]
[]
[]
[]
[]
[]
[]
[]
[]
[]
[]
[]
[]
[]
[]
[]
[]
[]
[]
[]
[]
[]
[]
[]
[]
[]
[]
[]
[]
[]
[]
[]
[]
[]
[]
[]
[]
[]
[]
[]
[]
[]
[]
[]
[]
[]
[]
[]
[]
[]
[]
[]
[]
[]
[]
[]
[]
[]
[]
[]
[]
[]
[]
[]
[]
[]
[]
[]
[]
[]
[]
[]
[]
[]
[]
[]
[]
[]
[]
[]
[]
[]
[]
[]
[]
[]
[]
[]
[]
[]
[]
[]
[]
[]
[]
[]
[]
[]
[]
[]
[]
[]
[]
[]
[]
[]
[]
[]
[]
[]
[]
[]
[]
[]
[]
[]
[]
[]
[]
[]
[]
[]
[]
[]
[]
[]
[]
[]
[]
[]
[]
[]
[]
[]
[]
[]
[]
[]
[]
[]
[]
[]
[]
[]
[]
[]
[]
[]
[]
[]
[]
[]
[]
[]
[]
[]
[]
[]
[]
[]
[]
[]
[]
[]
[]
[]
[]
[]
[]
[]
[]
[]
[]
[]
[]
[]
[]
[]
[]
[]
[]
[]
[]
[]
[]
[]
[]
[]
[]
[]
[]
[]
[]
[]
[]
[]
[]
[]
[]
[]
[]
[]
[]
[]
[]
[]
[]
[]
[]
[]
[]
[]
[]
[]
[]
[]
[]
[]
[]
[]
[]
[]
[]
[]
[]
[]
[]
[]
[]
[]
[]
[]
[]
[]
[]
[]
[]
[]
[]
[]
[]
[]
[]
[]
[]
[]
[]
[]
[]
[]
[]
[]
[]
[]
[]
[]
[]
[]
[]
[]
[]
[]
[]
[]
[]
[]
[]
[]
[]
[]
[]
[]
[]
[]
[]
[]
[]
[]
[]
[]
[]
[]
[]
[]
[]
[]
[]
[]
[]
[]
[]
[]
[]
[]
[]
[]
[]
[]
[]
[]
[]
[]
[]
[]
[]
[]
[]
[]
[]
[]
[]
[]
[]
[]
[]
[]
[]
[]
[]
[]
[]
[]
[]
[]
[]
[]
[]
[]
[]
[]
[]
[]
[]
[]
[]
[]
[]
[]
[]
[]
[]
[]
[]
[]
[]
[]
[]
[]
[]
[]
[]
[]
[]
[]
[]
[]
[]
[]
[]
[]
[]
[]
[]
[]
[]
[]
[]
[]
[]
[]
[]
[]
[]
[]
[]
[]
[]
[]
[]
[]
[]
[]
[]
[]
[]
[]
[]
[]
[]
[]
[]
[]
[]
[]
[]
[]
[]
[]
[]
[]
[]
[]
[]
[]
[]
[]
[]
[]
[]
[]
[]
[]
[]
[]
[]
[]
[]
[]
[]
[]
[]
[]
[]
[]
[]
[]
[]
[]
[]
[]
[]
[]
[]
[]
[]
[]
[]
[]
[]
[]
[]
[]
[]
[]
[]
[]
[]
[]
[]
[]
[]
[]
[]
[]
[]
[]
[]
[]
[]
[]
[]
[]
[]
[]
[]
[]
[]
[]
[]
[]
[]
[]
[]
[]
[]
[]
[]
[]
[]
[]
[]
[]
[]
[]
[]
[]
[]
[]
[]
[]
[]
[]
[]
[]
[]
[]
[]
[]
[]
[]
[]
[]
[]
[]
[]
[]
[]
[]
[]
[]
[]
[]
[]
[]
[]
[]
[]
[]
[]
[]
[]
[]
[]
[]
[]
[]
[]
[]
[]
[]
[]
[]
[]
[]
[]
[]
[]
[]
[]
[]
[]
[]
[]
[]
[]
[]
[]
[]
[]
[]
[]
[]
[]
[]
[]
[]
[]
[]
[]
[]
[]
[]
[]
[]
[]
[]
[]
[]
[]
[]
[]
[]
[]
[]
[]
[]
[]
[]
[]
[]
[]
[]
[]
[]
[]
[]
[]
[]
[]
[]
[]
[]
[]
[]
[]
[]
[]
[]
[]
[]
[]
[]
[]
[]
[]
[]
[]
[]
[]
[]
[]
[]
[]
[]
[]
[]
[]
[]
[]
[]
[]
[]
[]
[]
[]
[]
[]
[]
[]
[]
[]
[]
[]
[]
[]
[]
[]
[]
[]
[]
[]
[]
[]
[]
[]
[]
[]
[]
[]
[]
[]
[]
[]
[]
[]
[]
[]
[]
[]
[]
[]
[]
[]
[]
[]
[]
[]
[]
[]
[]
[]
[]
[]
[]
[]
[]
[]
[]
[]
[]
[]
[]
[]
[]
[]
[]
[]
[]
[]
[]
[]
[]
[]
[]
[]
[]
[]
[]
[]
[]
[]
[]
[]
[]
[]
[]
[]
[]
[]
[]
[]
[]
[]
[]
[]
[]
[]
[]
[]
[]
[]
[]
[]
[]
[]
[]
[]
[]
[]
[]
[]
[]
[]
[]
[]
[]
[]
[]
[]
[]
[]
[]
[]
[]
[]
[]
[]
[]
[]
[]
[]
[]
[]
[]
[]
[]
[]
[]
[]
[]
[]
[]
[]
[]
[]
[]
[]
[]
[]
[]
[]
[]
[]
[]
[]
[]
[]
[]
[]
[]
[]
[]
[]
[]
[]
[]
[]
[]
[]
[]
[]
[]
[]
[]
[]
[]
[]
[]
[]
[]
[]
[]
[]
[]
[]
[]
[]
[]
[]
[]
[]
[]
[]
[]
[]
[]
[]
[]
[]
[]
[]
[]
[]
[]
[]
[]
[]
[]
[]
[]
[]
[]
[]
[]
[]
[]
[]
[]
[]
[]
[]
[]
[]
[]
[]
[]
[]
[]
[]
[]
[]
[]
[]
[]
[]
[]
[]
[]
[]
[]
[]
[]
[]
[]
[]
[]
[]
[]
[]
[]
[]
[]
[]
[]
[]
[]
[]
[]
[]
[]
[]
[]
[]
[]
[]
[]
[]
[]
[]
[]
[]
[]
[]
[]
[]
[]
[]
[]
[]
[]
[]
[]
[]
[]
[]
[]
[]
[]
[]
[]
[]
[]
[]
[]
[]
[]
[]
[]
[]
[]
[]
[]
[]
[]
[]
[]
[]
[]
[]
[]
[]
[]
[]
[]
[]
[]
[]
[]
[]
[]
[]
[]
[]
[]
[]
[]
[]
[]
[]
[]
[]
[]
[]
[]
[]
[]
[]
[]
[]
[]
[]
[]
[]
[]
[]
[]
[]
[]
[]
[]
[]
[]
[]
[]
[]
[]
[]
[]
[]
[]
[]
[]
[]
[]
[]
[]
[]
[]
[]
[]
[]
[]
[]
[]
[]
[]
[]
[]
[]
[]
[]
[]
[]
[]
[]
[]
[]
[]
[]
[]
[]
[]
[]
[]
[]
[]
[]
[]
[]
[]
[]
[]
[]
[]
[]
[]
[]
[]
[]
[]
[]
[]
[]
[]
[]
[]
[]
[]
[]
[]
[]
[]
[]
[]
[]
[]
[]
[]
[]
[]
[]
[]
[]
[]
[]
[]
[]
[]
[]
[]
[]
[]
[]
[]
[]
[]
[]
[]
[]
[]
[]
[]
[]
[]
[]
[]
[]
[]
[]
[]
[]
[]
[]
[]
[]
[]
[]
[]
[]
[]
[]
[]
[]
[]
[]
[]
[]
[]
[]
[]
[]
[]
[]
[]
[]
[]
[]
[]
[]
[]
[]
[]
[]
[]
[]
[]
[]
[]
[]
[]
[]
[]
[]
[]
[]
[]
[]
[]
[]
[]
[]
[]
[]
[]
[]
[]
[]
[]
[]
[]
[]
[]
[]
[]
[]
[]
[]
[]
[]
[]
[]
[]
[]
[]
[]
[]
[]
[]
[]
[]
[]
[]
[]
[]
[]
[]
[]
[]
[]
[]
[]
[]
[]
[]
[]
[]
[]
[]
[]
[]
[]
[]
[]
[]
[]
[]
[]
[]
[]
[]
[]
[]
[]
[]
[]
[]
[]
[]
[]
[]
[]
[]
[]
[]
[]
[]
[]
[]
[]
[]
[]
[]
[]
[]
[]
[]
[]
[]
[]
[]
[]
[]
[]
[]
[]
[]
[]
[]
[]
[]
[]
[]
[]
[]
[]
[]
[]
[]
[]
[]
[]
[]
[]
[]
[]
[]
[]
[]
[]
[]
[]
[]
[]
[]
[]
[]
[]
[]
[]
[]
[]
[]
[]
[]
[]
[]
[]
[]
[]
[]
[]
[]
[]
[]
[]
[]
[]
[]
[]
[]
[]
[]
[]
[]
[]
[]
[]
[]
[]
[]
[]
[]
[]
[]
[]
[]
[]
[]
[]
[]
[]
[]
[]
[]
[]
[]
[]
[]
[]
[]
[]
[]
[]
[]
[]
[]
[]
[]
[]
[]
[]
[]
[]
[]
[]
[]
[]
[]
[]
[]
[]
[]
[]
[]
[]
[]
[]
[]
[]
[]
[]
[]
[]
[]
[]
[]
[]
[]
[]
[]
[]
[]
[]
[]
[]
[]
[]
[]
[]
[]
[]
[]
[]
[]
[]
[]
[]
[]
[]
[]
[]
[]
[]
[]
[]
[]
[]
[]
[]
[]
[]
[]
[]
[]
[]
[]
[]
[]
[]
[]
[]
[]
[]
[]
[]
[]
[]
[]
[]
[]
[]
[]
[]
[]
[]
[]
[]
[]
[]
[]
[]
[]
[]
[]
[]
[]
[]
[]
[]
[]
[]
[]
[]
[]
[]
[]
[]
[]
[]
[]
[]
[]
[]
[]
[]
[]
[]
[]
[]
[]
[]
[]
[]
[]
[]
[]
[]
[]
[]
[]
[]
[]
[]
[]
[]
[]
[]
[]
[]
[]
[]
[]
[]
[]
[]
[]
[]
[]
[]
[]
[]
[]
[]
[]
[]
[]
[]
[]
[]
[]
[]
[]
[]
[]
[]
[]
[]
[]
[]
[]
[]
[]
[]
[]
[]
[]
[]
[]
[]
[]
[]
[]
[]
[]
[]
[]
[]
[]
[]
[]
[]
[]
[]
[]
[]
[]
[]
[]
[]
[]
[]
[]
[]
[]
[]
[]
[]
[]
[]
[]
[]
[]
[]
[]
[]
[]
[]
[]
[]
[]
[]
[]
[]
[]
[]
[]
[]
[]
[]
[]
[]
[]
[]
[]
[]
[]
[]
[]
[]
[]
[]
[]
[]
[]
[]
[]
[]
[]
[]
[]
[]
[]
[]
[]
[]
[]
[]
[]
[]
[]
[]
[]
[]
[]
[]
[]
[]
[]
[]
[]
[]
[]
[]
[]
[]
[]
[]
[]
[]
[]
[]
[]
[]
[]
[]
[]
[]
[]
[]
[]
[]
[]
[]
[]
[]
[]
[]
[]
[]
[]
[]
[]
[]
[]
[]
[]
[]
[]
[]
[]
[]
[]
[]
[]
[]
[]
[]
[]
[]
[]
[]
[]
[]
[]
[]
[]
[]
[]
[]
[]
[]
[]
[]
[]
[]
[]
[]
[]
[]
[]
[]
[]
[]
[]
[]
[]
[]
[]
[]
[]
[]
[]
[]
[]
[]
[]
[]
[]
[]
[]
[]
[]
[]
[]
[]
[]
[]
[]
[]
[]
[]
[]
[]
[]
[]
[]
[]
[]
[]
[]
[]
[]
[]
[]
[]
[]
[]
[]
[]
[]
[]
[]
[]
[]
[]
[]
[]
[]
[]
[]
[]
[]
[]
[]
[]
[]
[]
[]
[]
[]
[]
[]
[]
[]
[]
[]
[]
[]
[]
[]
[]
[]
[]
[]
[]
[]
[]
[]
[]
[]
[]
[]
[]
[]
[]
[]
[]
[]
[]
[]
[]
[]
[]
[]
[]
[]
[]
[]
[]
[]
[]
[]
[]
[]
[]
[]
[]
[]
[]
[]
[]
[]
[]
[]
[]
[]
[]
[]
[]
[]
[]
[]
[]
[]
[]
[]
[]
[]
[]
[]
[]
[]
[]
[]
[]
[]
[]
[]
[]
[]
[]
[]
[]
[]
[]
[]
[]
[]
[]
[]
[]
[]
[]
[]
[]
[]
[]
[]
[]
[]
[]
[]
[]
[]
[]
[]
[]
[]
[]
[]
[]
[]
[]
[]
[]
[]
[]
[]
[]
[]
[]
[]
[]
[]
[]
[]
[]
[]
[]
[]
[]
[]
[]
[]
[]
[]
[]
[]
[]
[]
[]
[]
[]
[]
[]
[]
[]
[]
[]
[]
[]
[]
[]
[]
[]
[]
[]
[]
[]
[]
[]
[]
[]
[]
[]
[]
[]
[]
[]
[]
[]
[]
[]
[]
[]
[]
[]
[]
[]
[]
[]
[]
[]
[]
[]
[]
[]
[]
[]
[]
[]
[]
[]
[]
[]
[]
[]
[]
[]
[]
[]
[]
[]
[]
[]
[]
[]
[]
[]
[]
[]
[]
[]
[]
[]
[]
[]
[]
[]
[]
[]
[]
[]
[]
[]
[]
[]
[]
[]
[]
[]
[]
[]
[]
[]
[]
[]
[]
[]
[]
[]
[]
[]
[]
[]
[]
[]
[]
[]
[]
[]
[]
[]
[]
[]
[]
[]
[]
[]
[]
[]
[]
[]
[]
[]
[]
[]
[]
[]
[]
[]
[]
[]
[]
[]
[]
[]
[]
[]
[]
[]
[]
[]
[]
[]
[]
[]
[]
[]
[]
[]
[]
[]
[]
[]
[]
[]
[]
[]
[]
[]
[]
[]
[]
[]
[]
[]
[]
[]
[]
[]
[]
[]
[]
[]
[]
[]
[]
[]
[]
[]
[]
[]
[]
[]
[]
[]
[]
[]
[]
[]
[]
[]
[]
[]
[]
[]
[]
[]
[]
[]
[]
[]
[]
[]
[]
[]
[]
[]
[]
[]
[]
[]
[]
[]
[]
[]
[]
[]
[]
[]
[]
[]
[]
[]
[]
[]
[]
[]
[]
[]
[]
[]
[]
[]
[]
[]
[]
[]
[]
[]
[]
[]
[]
[]
[]
[]
[]
[]
[]
[]
[]
[]
[]
[]
[]
[]
[]
[]
[]
[]
[]
[]
[]
[]
[]
[]
[]
[]
[]
[]
[]
[]
[]
[]
[]
[]
[]
[]
[]
[]
[]
[]
[]
[]
[]
[]
[]
[]
[]
[]
[]
[]
[]
[]
[]
[]
[]
[]
[]
[]
[]
[]
[]
[]
[]
[]
[]
[]
[]
[]
[]
[]
[]
[]
[]
[]
[]
[]
[]
[]
[]
[]
[]
[]
[]
[]
[]
[]
[]
[]
[]
[]
[]
[]
[]
[]
[]
[]
[]
[]
[]
[]
[]
[]
[]
[]
[]
[]
[]
[]
[]
[]
[]
[]
[]
[]
[]
[]
[]
[]
[]
[]
[]
[]
[]
[]
[]
[]
[]
[]
[]
[]
[]
[]
[]
[]
[]
[]
[]
[]
[]
[]
[]
[]
[]
[]
[]
[]
[]
[]
[]
[]
[]
[]
[]
[]
[]
[]
[]
[]
[]
[]
[]
[]
[]
[]
[]
[]
[]
[]
[]
[]
[]
[]
[]
[]
[]
[]
[]
[]
[]
[]
[]
[]
[]
[]
[]
[]
[]
[]
[]
[]
[]
[]
[]
[]
[]
[]
[]
[]
[]
[]
[]
[]
[]
[]
[]
[]
[]
[]
[]
[]
[]
[]
[]
[]
[]
[]
[]
[]
[]
[]
[]
[]
[]
[]
[]
[]
[]
[]
[]
[]
[]
[]
[]
[]
[]
[]
[]
[]
[]
[]
[]
[]
[]
[]
[]
[]
[]
[]
[]
[]
[]
[]
[]
[]
[]
[]
[]
[]
[]
[]
[]
[]
[]
[]
[]
[]
[]
[]
[]
[]
[]
[]
[]
[]
[]
[]
[]
[]
[]
[]
[]
[]
[]
[]
[]
[]
[]
[]
[]
[]
[]
[]
[]
[]
[]
[]
[]
[]
[]
[]
[]
[]
[]
[]
[]
[]
[]
[]
[]
[]
[]
[]
[]
[]
[]
[]
[]
[]
[]
[]
[]
[]
[]
[]
[]
[]
[]
[]
[]
[]
[]
[]
[]
[]
[]
[]
[]
[]
[]
[]
[]
[]
[]
[]
[]
[]
[]
[]
[]
[]
[]
[]
[]
[]
[]
[]
[]
[]
[]
[]
[]
[]
[]
[]
[]
[]
[]
[]
[]
[]
[]
[]
[]
[]
[]
[]
[]
[]
[]
[]
[]
[]
[]
[]
[]
[]
[]
[]
[]
[]
[]
[]
[]
[]
[]
[]
[]
[]
[]
[]
[]
[]
[]
[]
[]
[]
[]
[]
[]
[]
[]
[]
[]
[]
[]
[]
[]
[]
[]
[]
[]
[]
[]
[]
[]
[]
[]
[]
[]
[]
[]
[]
[]
[]
[]
[]
[]
[]
[]
[]
[]
[]
[]
[]
[]
[]
[]
[]
[]
[]
[]
[]
[]
[]
[]
[]
[]
[]
[]
[]
[]
[]
[]
[]
[]
[]
[]
[]
[]
[]
[]
[]
[]
[]
[]
[]
[]
[]
[]
[]
[]
[]
[]
[]
[]
[]
[]
[]
[]
[]
[]
[]
[]
[]
[]
[]
[]
[]
[]
[]
[]
[]
[]
[]
[]
[]
[]
[]
[]
[]
[]
[]
[]
[]
[]
[]
[]
[]
[]
[]
[]
[]
[]
[]
[]
[]
[]
[]
[]
[]
[]
[]
[]
[]
[]
[]
[]
[]
[]
[]
[]
[]
[]
[]
[]
[]
[]
[]
[]
[]
[]
[]
[]
[]
[]
[]
[]
[]
[]
[]
[]
[]
[]
[]
[]
[]
[]
[]
[]
[]
[]
[]
[]
[]
[]
[]
[]
[]
[]
[]
[]
[]
[]
[]
[]
[]
[]
[]
[]
[]
[]
[]
[]
[]
[]
[]
[]
[]
[]
[]
[]
[]
[]
[]
[]
[]
[]
[]
[]
[]
[]
[]
[]
[]
[]
[]
[]
[]
[]
[]
[]
[]
[]
[]
[]
[]
[]
[]
[]
[]
[]
[]
[]
[]
[]
[]
[]
[]
[]
[]
[]
[]
[]
[]
[]
[]
[]
[]
[]
[]
[]
[]
[]
[]
[]
[]
[]
[]
[]
[]
[]
[]
[]
[]
[]
[]
[]
[]
[]
[]
[]
[]
[]
[]
[]
[]
[]
[]
[]
[]
[]
[]
[]
[]
[]
[]
[]
[]
[]
[]
[]
[]
[]
[]
[]
[]
[]
[]
[]
[]
[]
[]
[]
[]
[]
[]
[]
[]
[]
[]
[]
[]
[]
[]
[]
[]
[]
[]
[]
[]
[]
[]
[]
[]
[]
[]
[]
[]
[]
[]
[]
[]
[]
[]
[]
[]
[]
[]
[]
[]
[]
[]
[]
[]
[]
[]
[]
[]
[]
[]
[]
[]
[]
[]
[]
[]
[]
[]
[]
[]
[]
[]
[]
[]
[]
[]
[]
[]
[]
[]
[]
[]
[]
[]
[]
[]
[]
[]
[]
[]
[]
[]
[]
[]
[]
[]
[]
[]
[]
[]
[]
[]
[]
[]
[]
[]
[]
[]
[]
[]
[]
[]
[]
[]
[]
[]
[]
[]
[]
[]
[]
[]
[]
[]
[]
[]
[]
[]
[]
[]
[]
[]
[]
[]
[]
[]
[]
[]
[]
[]
[]
[]
[]
[]
[]
[]
[]
[]
[]
[]
[]
[]
[]
[]
[]
[]
[]
[]
[]
[]
[]
[]
[]
[]
[]
[]
[]
[]
[]
[]
[]
[]
[]
[]
[]
[]
[]
[]
[]
[]
[]
[]
[]
[]
[]
[]
[]
[]
[]
[]
[]
[]
[]
[]
[]
[]
[]
[]
[]
[]
[]
[]
[]
[]
[]
[]
[]
[]
[]
[]
[]
[]
[]
[]
[]
[]
[]
[]
[]
[]
[]
[]
[]
[]
[]
[]
[]
[]
[]
[]
[]
[]
[]
[]
[]
[]
[]
[]
[]
[]
[]
[]
[]
[]
[]
[]
[]
[]
[]
[]
[]
[]
[]
[]
[]
[]
[]
[]
[]
[]
[]
[]
[]
[]
[]
[]
[]
[]
[]
[]
[]
[]
[]
[]
[]
[]
[]
[]
[]
[]
[]
[]
[]
[]
[]
[]
[]
[]
[]
[]
[]
[]
[]
[]
[]
[]
[]
[]
[]
[]
[]
[]
[]
[]
[]
[]
[]
[]
[]
[]
[]
[]
[]
[]
[]
[]
[]
[]
[]
[]
[]
[]
[]
[]
[]
[]
[]
[]
[]
[]
[]
[]
[]
[]
[]
[]
[]
[]
[]
[]
[]
[]
[]
[]
[]
[]
[]
[]
[]
[]
[]
[]
[]
[]
[]
[]
[]
[]
[]
[]
[]
[]
[]
[]
[]
[]
[]
[]
[]
[]
[]
[]
[]
[]
[]
[]
[]
[]
[]
[]
[]
[]
[]
[]
[]
[]
[]
[]
[]
[]
[]
[]
[]
[]
[]
[]
[]
[]
[]
[]
[]
[]
[]
[]
[]
[]
[]
[]
[]
[]
[]
[]
[]
[]
[]
[]
[]
[]
[]
[]
[]
[]
[]
[]
[]
[]
[]
[]
[]
[]
[]
[]
[]
[]
[]
[]
[]
[]
[]
[]
[]
[]
[]
[]
[]
[]
[]
[]
[]
[]
[]
[]
[]
[]
[]
[]
[]
[]
[]
[]
[]
[]
[]
[]
[]
[]
[]
[]
[]
[]
[]
[]
[]
[]
[]
[]
[]
[]
[]
[]
[]
[]
[]
[]
[]
[]
[]
[]
[]
[]
[]
[]
[]
[]
[]
[]
[]
[]
[]
[]
[]
[]
[]
[]
[]
[]
[]
[]
[]
[]
[]
[]
[]
[]
[]
[]
[]
[]
[]
[]
[]
[]
[]
[]
[]
[]
[]
[]
[]
[]
[]
[]
[]
[]
[]
[]
[]
[]
[]
[]
[]
[]
[]
[]
[]
[]
[]
[]
[]
[]
[]
[]
[]
[]
[]
[]
[]
[]
[]
[]
[]
[]
[]
[]
[]
[]
[]
[]
[]
[]
[]
[]
[]
[]
[]
[]
[]
[]
[]
[]
[]
[]
[]
[]
[]
[]
[]
[]
[]
[]
[]
[]
[]
[]
[]
[]
[]
[]
[]
[]
[]
[]
[]
[]
[]
[]
[]
[]
[]
[]
[]
[]
[]
[]
[]
[]
[]
[]
[]
[]
[]
[]
[]
[]
[]
[]
[]
[]
[]
[]
[]
[]
[]
[]
[]
[]
[]
[]
[]
[]
[]
[]
[]
[]
[]
[]
[]
[]
[]
[]
[]
[]
[]
[]
[]
[]
[]
[]
[]
[]
[]
[]
[]
[]
[]
[]
[]
[]
[]
[]
[]
[]
[]
[]
[]
[]
[]
[]
[]
[]
[]
[]
[]
[]
[]
[]
[]
[]
[]
[]
[]
[]
[]
[]
[]
[]
[]
[]
[]
[]
[]
[]
[]
[]
[]
[]
[]
[]
[]
[]
[]
[]
[]
[]
[]
[]
[]
[]
[]
[]
[]
[]
[]
[]
[]
[]
[]
[]
[]
[]
[]
[]
[]
[]
[]
[]
[]
[]
[]
[]
[]
[]
[]
[]
[]
[]
[]
[]
[]
[]
[]
[]
[]
[]
[]
[]
[]
[]
[]
[]
[]
[]
[]
[]
[]
[]
[]
[]
[]
[]
[]
[]
[]
[]
[]
[]
[]
[]
[]
[]
[]
[]
[]
[]
[]
[]
[]
[]
[]
[]
[]
[]
[]
[]
[]
[]
[]
[]
[]
[]
[]
[]
[]
[]
[]
[]
[]
[]
[]
[]
[]
[]
[]
[]
[]
[]
[]
[]
[]
[]
[]
[]
[]
[]
[]
[]
[]
[]
[]
[]
[]
[]
[]
[]
[]
[]
[]
[]
[]
[]
[]
[]
[]
[]
[]
[]
[]
[]
[]
[]
[]
[]
[]
[]
[]
[]
[]
[]
[]
[]
[]
[]
[]
[]
[]
[]
[]
[]
[]
[]
[]
[]
[]
[]
[]
[]
[]
[]
[]
[]
[]
[]
[]
[]
[]
[]
[]
[]
[]
[]
[]
[]
[]
[]
[]
[]
[]
[]
[]
[]
[]
[]
[]
[]
[]
[]
[]
[]
[]
[]
[]
[]
[]
[]
[]
[]
[]
[]
[]
[]
[]
[]
[]
[]
[]
[]
[]
[]
[]
[]
[]
[]
[]
[]
[]
[]
[]
[]
[]
[]
[]
[]
[]
[]
[]
[]
[]
[]
[]
[]
[]
[]
[]
[]
[]
[]
[]
[]
[]
[]
[]
[]
[]
[]
[]
[]
[]
[]
[]
[]
[]
[]
[]
[]
[]
[]
[]
[]
[]
[]
[]
[]
[]
[]
[]
[]
[]
[]
[]
[]
[]
[]
[]
[]
[]
[]
[]
[]
[]
[]
[]
[]
[]
[]
[]
[]
[]
[]
[]
[]
[]
[]
[]
[]
[]
[]
[]
[]
[]
[]
[]
[]
[]
[]
[]
[]
[]
[]
[]
[]
[]
[]
[]
[]
[]
[]
[]
[]
[]
[]
[]
[]
[]
[]
[]
[]
[]
[]
[]
[]
[]
[]
[]
[]
[]
[]
[]
[]
[]
[]
[]
[]
[]
[]
[]
[]
[]
[]
[]
[]
[]
[]
[]
[]
[]
[]
[]
[]
[]
[]
[]
[]
[]
[]
[]
[]
[]
[]
[]
[]
[]
[]
[]
[]
[]
[]
[]
[]
[]
[]
[]
[]
[]
[]
[]
[]
[]
[]
[]
[]
[]
[]
[]
[]
[]
[]
[]
[]
[]
[]
[]
[]
[]
[]
[]
[]
[]
[]
[]
[]
[]
[]
[]
[]
[]
[]
[]
[]
[]
[]
[]
[]
[]
[]
[]
[]
[]
[]
[]
[]
[]
[]
[]
[]
[]
[]
[]
[]
[]
[]
[]
[]
[]
[]
[]
[]
[]
[]
[]
[]
[]
[]
[]
[]
[]
[]
[]
[]
[]
[]
[]
[]
[]
[]
[]
[]
[]
[]
[]
[]
[]
[]
[]
[]
[]
[]
[]
[]
[]
[]
[]
[]
[]
[]
[]
[]
[]
[]
[]
[]
[]
[]
[]
[]
[]
[]
[]
[]
[]
[]
[]
[]
[]
[]
[]
[]
[]
[]
[]
[]
[]
[]
[]
[]
[]
[]
[]
[]
[]
[]
[]
[]
[]
[]
[]
[]
[]
[]
[]
[]
[]
[]
[]
[]
[]
[]
[]
[]
[]
[]
[]
[]
[]
[]
[]
[]
[]
[]
[]
[]
[]
[]
[]
[]
[]
[]
[]
[]
[]
[]
[]
[]
[]
[]
[]
[]
[]
[]
[]
[]
[]
[]
[]
[]
[]
[]
[]
[]
[]
[]
[]
[]
[]
[]
[]
[]
[]
[]
[]
[]
[]
[]
[]
[]
[]
[]
[]
[]
[]
[]
[]
[]
[]
[]
[]
[]
[]
[]
[]
[]
[]
[]
[]
[]
[]
[]
[]
[]
[]
[]
[]
[]
[]
[]
[]
[]
[]
[]
[]
[]
[]
[]
[]
[]
[]
[]
[]
[]
[]
[]
[]
[]
[]
[]
[]
[]
[]
[]
[]
[]
[]
[]
[]
[]
[]
[]
[]
[]
[]
[]
[]
[]
[]
[]
[]
[]
[]
[]
[]
[]
[]
[]
[]
[]
[]
[]
[]
[]
[]
[]
[]
[]
[]
[]
[]
[]
[]
[]
[]
[]
[]
[]
[]
[]
[]
[]
[]
[]
[]
[]
[]
[]
[]
[]
[]
[]
[]
[]
[]
[]
[]
[]
[]
[]
[]
[]
[]
[]
[]
[]
[]
[]
[]
[]
[]
[]
[]
[]
[]
[]
[]
[]
[]
[]
[]
[]
[]
[]
[]
[]
[]
[]
[]
[]
[]
[]
[]
[]
[]
[]
[]
[]
[]
[]
[]
[]
[]
[]
[]
[]
[]
[]
[]
[]
[]
[]
[]
[]
[]
[]
[]
[]
[]
[]
[]
[]
[]
[]
[]
[]
[]
[]
[]
[]
[]
[]
[]
[]
[]
[]
[]
[]
[]
[]
[]
[]
[]
[]
[]
[]
[]
[]
[]
[]
[]
[]
[]
[]
[]
[]
[]
[]
[]
[]
[]
[]
[]
[]
[]
[]
[]
[]
[]
[]
[]
[]
[]
[]
[]
[]
[]
[]
[]
[]
[]
[]
[]
[]
[]
[]
[]
[]
[]
[]
[]
[]
[]
[]
[]
[]
[]
[]
[]
[]
[]
[]
[]
[]
[]
[]
[]
[]
[]
[]
[]
[]
[]
[]
[]
[]
[]
[]
[]
[]
[]
[]
[]
[]
[]
[]
[]
[]
[]
[]
[]
[]
[]
[]
[]
[]
[]
[]
[]
[]
[]
[]
[]
[]
[]
[]
[]
[]
[]
[]
[]
[]
[]
[]
[]
[]
[]
[]
[]
[]
[]
[]
[]
[]
[]
[]
[]
[]
[]
[]
[]
[]
[]
[]
[]
[]
[]
[]
[]
[]
[]
[]
[]
[]
[]
[]
[]
[]
[]
[]
[]
[]
[]
[]
[]
[]
[]
[]
[]
[]
[]
[]
[]
[]
[]
[]
[]
[]
[]
[]
[]
[]
[]
[]
[]
[]
[]
[]
[]
[]
[]
[]
[]
[]
[]
[]
[]
[]
[]
[]
[]
[]
[]
[]
[]
[]
[]
[]
[]
[]
[]
[]
[]
[]
[]
[]
[]
[]
[]
[]
[]
[]
[]
[]
[]
[]
[]
[]
[]
[]
[]
[]
[]
[]
[]
[]
[]
[]
[]
[]
[]
[]
[]
[]
[]
[]
[]
[]
[]
[]
[]
[]
[]
[]
[]
[]
[]
[]
[]
[]
[]
[]
[]
[]
[]
[]
[]
[]
[]
[]
[]
[]
[]
[]
[]
[]
[]
[]
[]
[]
[]
[]
[]
[]
[]
[]
[]
[]
[]
[]
[]
[]
[]
[]
[]
[]
[]
[]
[]
[]
[]
[]
[]
[]
[]
[]
[]
[]
[]
[]
[]
[]
[]
[]
[]
[]
[]
[]
[]
[]
[]
[]
[]
[]
[]
[]
[]
[]
[]
[]
[]
[]
[]
[]
[]
[]
[]
[]
[]
[]
[]
[]
[]
[]
[]
[]
[]
[]
[]
[]
[]
[]
[]
[]
[]
[]
[]
[]
[]
[]
[]
[]
[]
[]
[]
[]
[]
[]
[]
[]
[]
[]
[]
[]
[]
[]
[]
[]
[]
[]
[]
[]
[]
[]
[]
[]
[]
[]
[]
[]
[]
[]
[]
[]
[]
[]
[]
[]
[]
[]
[]
[]
[]
[]
[]
[]
[]
[]
[]
[]
[]
[]
[]
[]
[]
[]
[]
[]
[]
[]
[]
[]
[]
[]
[]
[]
[]
[]
[]
[]
[]
[]
[]
[]
[]
[]
[]
[]
[]
[]
[]
[]
[]
[]
[]
[]
[]
[]
[]
[]
[]
[]
[]
[]
[]
[]
[]
[]
[]
[]
[]
[]
[]
[]
[]
[]
[]
[]
[]
[]
[]
[]
[]
[]
[]
[]
[]
[]
[]
[]
[]
[]
[]
[]
[]
[]
[]
[]
[]
[]
[]
[]
[]
[]
[]
[]
[]
[]
[]
[]
[]
[]
[]
[]
[]
[]
[]
[]
[]
[]
[]
[]
[]
[]
[]
[]
[]
[]
[]
[]
[]
[]
[]
[]
[]
[]
[]
[]
[]
[]
[]
[]
[]
[]
[]
[]
[]
[]
[]
[]
[]
[]
[]
[]
[]
[]
[]
[]
[]
[]
[]
[]
[]
[]
[]
[]
[]
[]
[]
[]
[]
[]
[]
[]
[]
[]
[]
[]
[]
[]
[]
[]
[]
[]
[]
[]
[]
[]
[]
[]
[]
[]
[]
[]
[]
[]
[]
[]
[]
[]
[]
[]
[]
[]
[]
[]
[]
[]
[]
[]
[]
[]
[]
[]
[]
[]
[]
[]
[]
[]
[]
[]
[]
[]
[]
[]
[]
[]
[]
[]
[]
[]
[]
[]
[]
[]
[]
[]
[]
[]
[]
[]
[]
[]
[]
[]
[]
[]
[]
[]
[]
[]
[]
[]
[]
[]
[]
[]
[]
[]
[]
[]
[]
[]
[]
[]
[]
[]
[]
[]
[]
[]
[]
[]
[]
[]
[]
[]
[]
[]
[]
[]
[]
[]
[]
[]
[]
[]
[]
[]
[]
[]
[]
[]
[]
[]
[]
[]
[]
[]
[]
[]
[]
[]
[]
[]
[]
[]
[]
[]
[]
[]
[]
[]
[]
[]
[]
[]
[]
[]
[]
[]
[]
[]
[]
[]
[]
[]
[]
[]
[]
[]
[]
[]
[]
[]
[]
[]
[]
[]
[]
[]
[]
[]
[]
[]
[]
[]
[]
[]
[]
[]
[]
[]
[]
[]
[]
[]
[]
[]
[]
[]
[]
[]
[]
[]
[]
[]
[]
[]
[]
[]
[]
[]
[]
[]
[]
[]
[]
[]
[]
[]
[]
[]
[]
[]
[]
[]
[]
[]
[]
[]
[]
[]
[]
[]
[]
[]
[]
[]
[]
[]
[]
[]
[]
[]
[]
[]
[]
[]
[]
[]
[]
[]
[]
[]
[]
[]
[]
[]
[]
[]
[]
[]
[]
[]
[]
[]
[]
[]
[]
[]
[]
[]
[]
[]
[]
[]
[]
[]
[]
[]
[]
[]
[]
[]
[]
[]
[]
[]
[]
[]
[]
[]
[]
[]
[]
[]
[]
[]
[]
[]
[]
[]
[]
[]
[]
[]
[]
[]
[]
[]
[]
[]
[]
[]
[]
[]
[]
[]
[]
[]
[]
[]
[]
[]
[]
[]
[]
[]
[]
[]
[]
[]
[]
[]
[]
[]
[]
[]
[]
[]
[]
[]
[]
[]
[]
[]
[]
[]
[]
[]
[]
[]
[]
[]
[]
[]
[]
[]
[]
[]
[]
[]
[]
[]
[]
[]
[]
[]
[]
[]
[]
[]
[]
[]
[]
[]
[]
[]
[]
[]
[]
[]
[]
[]
[]
[]
[]
[]
[]
[]
[]
[]
[]
[]
[]
[]
[]
[]
[]
[]
[]
[]
[]
[]
[]
[]
[]
[]
[]
[]
[]
[]
[]
[]
[]
[]
[]
[]
[]
[]
[]
[]
[]
[]
[]
[]
[]
[]
[]
[]
[]
[]
[]
[]
[]
[]
[]
[]
[]
[]
[]
[]
[]
[]
[]
[]
[]
[]
[]
[]
[]
[]
[]
[]
[]
[]
[]
[]
[]
[]
[]
[]
[]
[]
[]
[]
[]
[]
[]
[]
[]
[]
[]
[]
[]
[]
[]
[]
[]
[]
[]
[]
[]
[]
[]
[]
[]
[]
[]
[]
[]
[]
[]
[]
[]
[]
[]
[]
[]
[]
[]
[]
[]
[]
[]
[]
[]
[]
[]
[]
[]
[]
[]
[]
[]
[]
[]
[]
[]
[]
[]
[]
[]
[]
[]
[]
[]
[]
[]
[]
[]
[]
[]
[]
[]
[]
[]
[]
[]
[]
[]
[]
[]
[]
[]
[]
[]
[]
[]
[]
[]
[]
[]
[]
[]
[]
[]
[]
[]
[]
[]
[]
[]
[]
[]
[]
[]
[]
[]
[]
[]
[]
[]
[]
[]
[]
[]
[]
[]
[]
[]
[]
[]
[]
[]
[]
[]
[]
[]
[]
[]
[]
[]
[]
[]
[]
[]
[]
[]
[]
[]
[]
[]
[]
[]
[]
[]
[]
[]
[]
[]
[]
[]
[]
[]
[]
[]
[]
[]
[]
[]
[]
[]
[]
[]
[]
[]
[]
[]
[]
[]
[]
[]
[]
[]
[]
[]
[]
[]
[]
[]
[]
[]
[]
[]
[]
[]
[]
[]
[]
[]
[]
[]
[]
[]
[]
[]
[]
[]
[]
[]
[]
[]
[]
[]
[]
[]
[]
[]
[]
[]
[]
[]
[]
[]
[]
[]
[]
[]
[]
[]
[]
[]
[]
[]
[]
[]
[]
[]
[]
[]
[]
[]
[]
[]
[]
[]
[]
[]
[]
[]
[]
[]
[]
[]
[]
[]
[]
[]
[]
[]
[]
[]
[]
[]
[]
[]
[]
[]
[]
[]
[]
[]
[]
[]
[]
[]
[]
[]
[]
[]
[]
[]
[]
[]
[]
[]
[]
[]
[]
[]
[]
[]
[]
[]
[]
[]
[]
[]
[]
[]
[]
[]
[]
[]
[]
[]
[]
[]
[]
[]
[]
[]
[]
[]
[]
[]
[]
[]
[]
[]
[]
[]
[]
[]
[]
[]
[]
[]
[]
[]
[]
[]
[]
[]
[]
[]
[]
[]
[]
[]
[]
[]
[]
[]
[]
[]
[]
[]
[]
[]
[]
[]
[]
[]
[]
[]
[]
[]
[]
[]
[]
[]
[]
[]
[]
[]
[]
[]
[]
[]
[]
[]
[]
[]
[]
[]
[]
[]
[]
[]
[]
[]
[]
[]
[]
[]
[]
[]
[]
[]
[]
[]
[]
[]
[]
[]
[]
[]
[]
[]
[]
[]
[]
[]
[]
[]
[]
[]
[]
[]
[]
[]
[]
[]
[]
[]
[]
[]
[]
[]
[]
[]
[]
[]
[]
[]
[]
[]
[]
[]
[]
[]
[]
[]
[]
[]
[]
[]
[]
[]
[]
[]
[]
[]
[]
[]
[]
[]
[]
[]
[]
[]
[]
[]
[]
[]
[]
[]
[]
[]
[]
[]
[]
[]
[]
[]
[]
[]
[]
[]
[]
[]
[]
[]
[]
[]
[]
[]
[]
[]
[]
[]
[]
[]
[]
[]
[]
[]
[]
[]
[]
[]
[]
[]
[]
[]
[]
[]
[]
[]
[]
[]
[]
[]
[]
[]
[]
[]
[]
[]
[]
[]
[]
[]
[]
[]
[]
[]
[]
[]
[]
[]
[]
[]
[]
[]
[]
[]
[]
[]
[]
[]
[]
[]
[]
[]
[]
[]
[]
[]
[]
[]
[]
[]
[]
[]
[]
[]
[]
[]
[]
[]
[]
[]
[]
[]
[]
[]
[]
[]
[]
[]
[]
[]
[]
[]
[]
[]
[]
[]
[]
[]
[]
[]
[]
[]
[]
[]
[]
[]
[]
[]
[]
[]
[]
[]
[]
[]
[]
[]
[]
[]
[]
[]
[]
[]
[]
[]
[]
[]
[]
[]
[]
[]
[]
[]
[]
[]
[]
[]
[]
[]
[]
[]
[]
[]
[]
[]
[]
[]
[]
[]
[]
[]
[]
[]
[]
[]
[]
[]
[]
[]
[]
[]
[]
[]
[]
[]
[]
[]
[]
[]
[]
[]
[]
[]
[]
[]
[]
[]
[]
[]
[]
[]
[]
[]
[]
[]
[]
[]
[]
[]
[]
[]
[]
[]
[]
[]
[]
[]
[]
[]
[]
[]
[]
[]
[]
[]
[]
[]
[]
[]
[]
[]
[]
[]
[]
[]
[]
[]
[]
[]
[]
[]
[]
[]
[]
[]
[]
[]
[]
[]
[]
[]
[]
[]
[]
[]
[]
[]
[]
[]
[]
[]
[]
[]
[]
[]
[]
[]
[]
[]
[]
[]
[]
[]
[]
[]
[]
[]
[]
[]
[]
[]
[]
[]
[]
[]
[]
[]
[]
[]
[]
[]
[]
[]
[]
[]
[]
[]
[]
[]
[]
[]
[]
[]
[]
[]
[]
[]
[]
[]
[]
[]
[]
[]
[]
[]
[]
[]
[]
[]
[]
[]
[]
[]
[]
[]
[]
[]
[]
[]
[]
[]
[]
[]
[]
[]
[]
[]
[]
[]
[]
[]
[]
[]
[]
[]
[]
[]
[]
[]
[]
[]
[]
[]
[]
[]
[]
[]
[]
[]
[]
[]
[]
[]
[]
[]
[]
[]
[]
[]
[]
[]
[]
[]
[]
[]
[]
[]
[]
[]
[]
[]
[]
[]
[]
[]
[]
[]
[]
[]
[]
[]
[]
[]
[]
[]
[]
[]
[]
[]
[]
[]
[]
[]
[]
[]
[]
[]
[]
[]
[]
[]
[]
[]
[]
[]
[]
[]
[]
[]
[]
[]
[]
[]
[]
[]
[]
[]
[]
[]
[]
[]
[]
[]
[]
[]
[]
[]
[]
[]
[]
[]
[]
[]
[]
[]
[]
[]
[]
[]
[]
[]
[]
[]
[]
[]
[]
[]
[]
[]
[]
[]
[]
[]
[]
[]
[]
[]
[]
[]
[]
[]
[]
[]
[]
[]
[]
[]
[]
[]
[]
[]
[]
[]
[]
[]
[]
[]
[]
[]
[]
[]
[]
[]
[]
[]
[]
[]
[]
[]
[]
[]
[]
[]
[]
[]
[]
[]
[]
[]
[]
[]
[]
[]
[]
[]
[]
[]
[]
[]
[]
[]
[]
[]
[]
[]
[]
[]
[]
[]
[]
[]
[]
[]
[]
[]
[]
[]
[]
[]
[]
[]
[]
[]
[]
[]
[]
[]
[]
[]
[]
[]
[]
[]
[]
[]
[]
[]
[]
[]
[]
[]
[]
[]
[]
[]
[]
[]
[]
[]
[]
[]
[]
[]
[]
[]
[]
[]
[]
[]
[]
[]
[]
[]
[]
[]
[]
[]
[]
[]
[]
[]
[]
[]
[]
[]
[]
[]
[]
[]
[]
[]
[]
[]
[]
[]
[]
[]
[]
[]
[]
[]
[]
[]
[]
[]
[]
[]
[]
[]
[]
[]
[]
[]
[]
[]
[]
[]
[]
[]
[]
[]
[]
[]
[]
[]
[]
[]
[]
[]
[]
[]
[]
[]
[]
[]
[]
[]
[]
[]
[]
[]
[]
[]
[]
[]
[]
[]
[]
[]
[]
[]
[]
[]
[]
[]
[]
[]
[]
[]
[]
[]
[]
[]
[]
[]
[]
[]
[]
[]
[]
[]
[]
[]
[]
[]
[]
[]
[]
[]
[]
[]
[]
[]
[]
[]
[]
[]
[]
[]
[]
[]
[]
[]
[]
[]
[]
[]
[]
[]
[]
[]
[]
[]
[]
[]
[]
[]
[]
[]
[]
[]
[]
[]
[]
[]
[]
[]
[]
[]
[]
[]
[]
[]
[]
[]
[]
[]
[]
[]
[]
[]
[]
[]
[]
[]
[]
[]
[]
[]
[]
[]
[]
[]
[]
[]
[]
[]
[]
[]
[]
[]
[]
[]
[]
[]
[]
[]
[]
[]
[]
[]
[]
[]
[]
[]
[]
[]
[]
[]
[]
[]
[]
[]
[]
[]
[]
[]
[]
[]
[]
[]
[]
[]
[]
[]
[]
[]
[]
[]
[]
[]
[]
[]
[]
[]
[]
[]
[]
[]
[]
[]
[]
[]
[]
[]
[]
[]
[]
[]
[]
[]
[]
[]
[]
[]
[]
[]
[]
[]
[]
[]
[]
[]
[]
[]
[]
[]
[]
[]
[]
[]
[]
[]
[]
[]
[]
[]
[]
[]
[]
[]
[]
[]
[]
[]
[]
[]
[]
[]
[]
[]
[]
[]
[]
[]
[]
[]
[]
[]
[]
[]
[]
[]
[]
[]
[]
[]
[]
[]
[]
[]
[]
[]
[]
[]
[]
[]
[]
[]
[]
[]
[]
[]
[]
[]
[]
[]
[]
[]
[]
[]
[]
[]
[]
[]
[]
[]
[]
[]
[]
[]
[]
[]
[]
[]
[]
[]
[]
[]
[]
[]
[]
[]
[]
[]
[]
[]
[]
[]
[]
[]
[]
[]
[]
[]
[]
[]
[]
[]
[]
[]
[]
[]
[]
[]
[]
[]
[]
[]
[]
[]
[]
[]
[]
[]
[]
[]
[]
[]
[]
[]
[]
[]
[]
[]
[]
[]
[]
[]
[]
[]
[]
[]
[]
[]
[]
[]
[]
[]
[]
[]
[]
[]
[]
[]
[]
[]
[]
[]
[]
[]
[]
[]
[]
[]
[]
[]
[]
[]
[]
[]
[]
[]
[]
[]
[]
[]
[]
[]
[]
[]
[]
[]
[]
[]
[]
[]
[]
[]
[]
[]
[]
[]
[]
[]
[]
[]
[]
[]
[]
[]
[]
[]
[]
[]
[]
[]
[]
[]
[]
[]
[]
[]
[]
[]
[]
[]
[]
[]
[]
[]
[]
[]
[]
[]
[]
[]
[]
[]
[]
[]
[]
[]
[]
[]
[]
[]
[]
[]
[]
[]
[]
[]
[]
[]
[]
[]
[]
[]
[]
[]
[]
[]
[]
[]
[]
[]
[]
[]
[]
[]
[]
[]
[]
[]
[]
[]
[]
[]
[]
[]
[]
[]
[]
[]
[]
[]
[]
[]
[]
[]
[]
[]
[]
[]
[]
[]
[]
[]
[]
[]
[]
[]
[]
[]
[]
[]
[]
[]
[]
[]
[]
[]
[]
[]
[]
[]
[]
[]
[]
[]
[]
[]
[]
[]
[]
[]
[]
[]
[]
[]
[]
[]
[]
[]
[]
[]
[]
[]
[]
[]
[]
[]
[]
[]
[]
[]
[]
[]
[]
[]
[]
[]
[]
[]
[]
[]
[]
[]
[]
[]
[]
[]
[]
[]
[]
[]
[]
[]
[]
[]
[]
[]
[]
[]
[]
[]
[]
[]
[]
[]
[]
[]
[]
[]
[]
[]
[]
[]
[]
[]
[]
[]
[]
[]
[]
[]
[]
[]
[]
[]
[]
[]
[]
[]
[]
[]
[]
[]
[]
[]
[]
[]
[]
[]
[]
[]
[]
[]
[]
[]
[]
[]
[]
[]
[]
[]
[]
[]
[]
[]
[]
[]
[]
[]
[]
[]
[]
[]
[]
[]
[]
[]
[]
[]
[]
[]
[]
[]
[]
[]
[]
[]
[]
[]
[]
[]
[]
[]
[]
[]
[]
[]
[]
[]
[]
[]
[]
[]
[]
[]
[]
[]
[]
[]
[]
[]
[]
[]
[]
[]
[]
[]
[]
[]
[]
[]
[]
[]
[]
[]
[]
[]
[]
[]
[]
[]
[]
[]
[]
[]
[]
[]
[]
[]
[]
[]
[]
[]
[]
[]
[]
[]
[]
[]
[]
[]
[]
[]
[]
[]
[]
[]
[]
[]
[]
[]
[]
[]
[]
[]
[]
[]
[]
[]
[]
[]
[]
[]
[]
[]
[]
[]
[]
[]
[]
[]
[]
[]
[]
[]
[]
[]
[]
[]
[]
[]
[]
[]
[]
[]
[]
[]
[]
[]
[]
[]
[]
[]
[]
[]
[]
[]
[]
[]
[]
[]
[]
[]
[]
[]
[]
[]
[]
[]
[]
[]
[]
[]
[]
[]
[]
[]
[]
[]
[]
[]
[]
[]
[]
[]
[]
[]
[]
[]
[]
[]
[]
[]
[]
[]
[]
[]
[]
[]
[]
[]
[]
[]
[]
[]
[]
[]
[]
[]
[]
[]
[]
[]
[]
[]
[]
[]
[]
[]
[]
[]
[]
[]
[]
[]
[]
[]
[]
[]
[]
[]
[]
[]
[]
[]
[]
[]
[]
[]
[]
[]
[]
[]
[]
[]
[]
[]
[]
[]
[]
[]
[]
[]
[]
[]
[]
[]
[]
[]
[]
[]
[]
[]
[]
[]
[]
[]
[]
[]
[]
[]
[]
[]
[]
[]
[]
[]
[]
[]
[]
[]
[]
[]
[]
[]
[]
[]
[]
[]
[]
[]
[]
[]
[]
[]
[]
[]
[]
[]
[]
[]
[]
[]
[]
[]
[]
[]
[]
[]
[]
[]
[]
[]
[]
[]
[]
[]
[]
[]
[]
[]
[]
[]
[]
[]
[]
[]
[]
[]
[]
[]
[]
[]
[]
[]
[]
[]
[]
[]
[]
[]
[]
[]
[]
[]
[]
[]
[]
[]
[]
[]
[]
[]
[]
[]
[]
[]
[]
[]
[]
[]
[]
[]
[]
[]
[]
[]
[]
[]
[]
[]
[]
[]
[]
[]
[]
[]
[]
[]
[]
[]
[]
[]
[]
[]
[]
[]
[]
[]
[]
[]
[]
[]
[]
[]
[]
[]
[]
[]
[]
[]
[]
[]
[]
[]
[]
[]
[]
[]
[]
[]
[]
[]
[]
[]
[]
[]
[]
[]
[]
[]
[]
[]
[]
[]
[]
[]
[]
[]
[]
[]
[]
[]
[]
[]
[]
[]
[]
[]
[]
[]
[]
[]
[]
[]
[]
[]
[]
[]
[]
[]
[]
[]
[]
[]
[]
[]
[]
[]
[]
[]
[]
[]
[]
[]
[]
[]
[]
[]
[]
[]
[]
[]
[]
[]
[]
[]
[]
[]
[]
[]
[]
[]
[]
[]
[]
[]
[]
[]
[]
[]
[]
[]
[]
[]
[]
[]
[]
[]
[]
[]
[]
[]
[]
[]
[]
[]
[]
[]
[]
[]
[]
[]
[]
[]
[]
[]
[]
[]
[]
[]
[]
[]
[]
[]
[]
[]
[]
[]
[]
[]
[]
[]
[]
[]
[]
[]
[]
[]
[]
[]
[]
[]
[]
[]
[]
[]
[]
[]
[]
[]
[]
[]
[]
[]
[]
[]
[]
[]
[]
[]
[]
[]
[]
[]
[]
[]
[]
[]
[]
[]
[]
[]
[]
[]
[]
[]
[]
[]
[]
[]
[]
[]
[]
[]
[]
[]
[]
[]
[]
[]
[]
[]
[]
[]
[]
[]
[]
[]
[]
[]
[]
[]
[]
[]
[]
[]
[]
[]
[]
[]
[]
[]
[]
[]
[]
[]
[]
[]
[]
[]
[]
[]
[]
[]
[]
[]
[]
[]
[]
[]
[]
[]
[]
[]
[]
[]
[]
[]
[]
[]
[]
[]
[]
[]
[]
[]
[]
[]
[]
[]
[]
[]
[]
[]
[]
[]
[]
[]
[]
[]
[]
[]
[]
[]
[]
[]
[]
[]
[]
[]
[]
[]
[]
[]
[]
[]
[]
[]
[]
[]
[]
[]
[]
[]
[]
[]
[]
[]
[]
[]
[]
[]
[]
[]
[]
[]
[]
[]
[]
[]
[]
[]
[]
[]
[]
[]
[]
[]
[]
[]
[]
[]
[]
[]
[]
[]
[]
[]
[]
[]
[]
[]
[]
[]
[]
[]
[]
[]
[]
[]
[]
[]
[]
[]
[]
[]
[]
[]
[]
[]
[]
[]
[]
[]
[]
[]
[]
[]
[]
[]
[]
[]
[]
[]
[]
[]
[]
[]
[]
[]
[]
[]
[]
[]
[]
[]
[]
[]
[]
[]
[]
[]
[]
[]
[]
[]
[]
[]
[]
[]
[]
[]
[]
[]
[]
[]
[]
[]
[]
[]
[]
[]
[]
[]
[]
[]
[]
[]
[]
[]
[]
[]
[]
[]
[]
[]
[]
[]
[]
[]
[]
[]
[]
[]
[]
[]
[]
[]
[]
[]
[]
[]
[]
[]
[]
[]
[]
[]
[]
[]
[]
[]
[]
[]
[]
[]
[]
[]
[]
[]
[]
[]
[]
[]
[]
[]
[]
[]
[]
[]
[]
[]
[]
[]
[]
[]
[]
[]
[]
[]
[]
[]
[]
[]
[]
[]
[]
[]
[]
[]
[]
[]
[]
[]
[]
[]
[]
[]
[]
[]
[]
[]
[]
[]
[]
[]
[]
[]
[]
[]
[]
[]
[]
[]
[]
[]
[]
[]
[]
[]
[]
[]
[]
[]
[]
[]
[]
[]
[]
[]
[]
[]
[]
[]
[]
[]
[]
[]
[]
[]
[]
[]
[]
[]
[]
[]
[]
[]
[]
[]
[]
[]
[]
[]
[]
[]
[]
[]
[]
[]
[]
[]
[]
[]
[]
[]
[]
[]
[]
[]
[]
[]
[]
[]
[]
[]
[]
[]
[]
[]
[]
[]
[]
[]
[]
[]
[]
[]
[]
[]
[]
[]
[]
[]
[]
[]
[]
[]
[]
[]
[]
[]
[]
[]
[]
[]
[]
[]
[]
[]
[]
[]
[]
[]
[]
[]
[]
[]
[]
[]
[]
[]
[]
[]
[]
[]
[]
[]
[]
[]
[]
[]
[]
[]
[]
[]
[]
[]
[]
[]
[]
[]
[]
[]
[]
[]
[]
[]
[]
[]
[]
[]
[]
[]
[]
[]
[]
[]
[]
[]
[]
[]
[]
[]
[]
[]
[]
[]
[]
[]
[]
[]
[]
[]
[]
[]
[]
[]
[]
[]
[]
[]
[]
[]
[]
[]
[]
[]
[]
[]
[]
[]
[]
[]
[]
[]
[]
[]
[]
[]
[]
[]
[]
[]
[]
[]
[]
[]
[]
[]
[]
[]
[]
[]
[]
[]
[]
[]
[]
[]
[]
[]
[]
[]
[]
[]
[]
[]
[]
[]
[]
[]
[]
[]
[]
[]
[]
[]
[]
[]
[]
[]
[]
[]
[]
[]
[]
[]
[]
[]
[]
[]
[]
[]
[]
[]
[]
[]
[]
[]
[]
[]
[]
[]
[]
[]
[]
[]
[]
[]
[]
[]
[]
[]
[]
[]
[]
[]
[]
[]
[]
[]
[]
[]
[]
[]
[]
[]
[]
[]
[]
[]
[]
[]
[]
[]
[]
[]
[]
[]
[]
[]
[]
[]
[]
[]
[]
[]
[]
[]
[]
[]
[]
[]
[]
[]
[]
[]
[]
[]
[]
[]
[]
[]
[]
[]
[]
[]
[]
[]
[]
[]
[]
[]
[]
[]
[]
[]
[]
[]
[]
[]
[]
[]
[]
[]
[]
[]
[]
[]
[]
[]
[]
[]
[]
[]
[]
[]
[]
[]
[]
[]
[]
[]
[]
[]
[]
[]
[]
[]
[]
[]
[]
[]
[]
[]
[]
[]
[]
[]
[]
[]
[]
[]
[]
[]
[]
[]
[]
[]
[]
[]
[]
[]
[]
[]
[]
[]
[]
[]
[]
[]
[]
[]
[]
[]
[]
[]
[]
[]
[]
[]
[]
[]
[]
[]
[]
[]
[]
[]
[]
[]
[]
[]
[]
[]
[]
[]
[]
[]
[]
[]
[]
[]
[]
[]
[]
[]
[]
[]
[]
[]
[]
[]
[]
[]
[]
[]
[]
[]
[]
[]
[]
[]
[]
[]
[]
[]
[]
[]
[]
[]
[]
[]
[]
[]
[]
[]
[]
[]
[]
[]
[]
[]
[]
[]
[]
[]
[]
[]
[]
[]
[]
[]
[]
[]
[]
[]
[]
[]
[]
[]
[]
[]
[]
[]
[]
[]
[]
[]
[]
[]
[]
[]
[]
[]
[]
[]
[]
[]
[]
[]
[]
[]
[]
[]
[]
[]
[]
[]
[]
[]
[]
[]
[]
[]
[]
[]
[]
[]
[]
[]
[]
[]
[]
[]
[]
[]
[]
[]
[]
[]
[]
[]
[]
[]
[]
[]
[]
[]
[]
[]
[]
[]
[]
[]
[]
[]
[]
[]
[]
[]
[]
[]
[]
[]
[]
[]
[]
[]
[]
[]
[]
[]
[]
[]
[]
[]
[]
[]
[]
[]
[]
[]
[]
[]
[]
[]
[]
[]
[]
[]
[]
[]
[]
[]
[]
[]
[]
[]
[]
[]
[]
[]
[]
[]
[]
[]
[]
[]
[]
[]
[]
[]
[]
[]
[]
[]
[]
[]
[]
[]
[]
[]
[]
[]
[]
[]
[]
[]
[]
[]
[]
[]
[]
[]
[]
[]
[]
[]
[]
[]
[]
[]
[]
[]
[]
[]
[]
[]
[]
[]
[]
[]
[]
[]
[]
[]
[]
[]
[]
[]
[]
[]
[]
[]
[]
[]
[]
[]
[]
[]
[]
[]
[]
[]
[]
[]
[]
[]
[]
[]
[]
[]
[]
[]
[]
[]
[]
[]
[]
[]
[]
[]
[]
[]
[]
[]
[]
[]
[]
[]
[]
[]
[]
[]
[]
[]
[]
[]
[]
[]
[]
[]
[]
[]
[]
[]
[]
[]
[]
[]
[]
[]
[]
[]
[]
[]
[]
[]
[]
[]
[]
[]
[]
[]
[]
[]
[]
[]
[]
[]
[]
[]
[]
[]
[]
[]
[]
[]
[]
[]
[]
[]
[]
[]
[]
[]
[]
[]
[]
[]
[]
[]
[]
[]
[]
[]
[]
[]
[]
[]
[]
[]
[]
[]
[]
[]
[]
[]
[]
[]
[]
[]
[]
[]
[]
[]
[]
[]
[]
[]
[]
[]
[]
[]
[]
[]
[]
[]
[]
[]
[]
[]
[]
[]
[]
[]
[]
[]
[]
[]
[]
[]
[]
[]
[]
[]
[]
[]
[]
[]
[]
[]
[]
[]
[]
[]
[]
[]
[]
[]
[]
[]
[]
[]
[]
[]
[]
[]
[]
[]
[]
[]
[]
[]
[]
[]
[]
[]
[]
[]
[]
[]
[]
[]
[]
[]
[]
[]
[]
[]
[]
[]
[]
[]
[]
[]
[]
[]
[]
[]
[]
[]
[]
[]
[]
[]
[]
[]
[]
[]
[]
[]
[]
[]
[]
[]
[]
[]
[]
[]
[]
[]
[]
[]
[]
[]
[]
[]
[]
[]
[]
[]
[]
[]
[]
[]
[]
[]
[]
[]
[]
[]
[]
[]
[]
[]
[]
[]
[]
[]
[]
[]
[]
[]
[]
[]
[]
[]
[]
[]
[]
[]
[]
[]
[]
[]
[]
[]
[]
[]
[]
[]
[]
[]
[]
[]
[]
[]
[]
[]
[]
[]
[]
[]
[]
[]
[]
[]
[]
[]
[]
[]
[]
[]
[]
[]
[]
[]
[]
[]
[]
[]
[]
[]
[]
[]
[]
[]
[]
[]
[]
[]
[]
[]
[]
[]
[]
[]
[]
[]
[]
[]
[]
[]
[]
[]
[]
[]
[]
[]
[]
[]
[]
[]
[]
[]
[]
[]
[]
[]
[]
[]
[]
[]
[]
[]
[]
[]
[]
[]
[]
[]
[]
[]
[]
[]
[]
[]
[]
[]
[]
[]
[]
[]
[]
[]
[]
[]
[]
[]
[]
[]
[]
[]
[]
[]
[]
[]
[]
[]
[]
[]
[]
[]
[]
[]
[]
[]
[]
[]
[]
[]
[]
[]
[]
[]
[]
[]
[]
[]
[]
[]
[]
[]
[]
[]
[]
[]
[]
[]
[]
[]
[]
[]
[]
[]
[]
[]
[]
[]
[]
[]
[]
[]
[]
[]
[]
[]
[]
[]
[]
[]
[]
[]
[]
[]
[]
[]
[]
[]
[]
[]
[]
[]
[]
[]
[]
[]
[]
[]
[]
[]
[]
[]
[]
[]
[]
[]
[]
[]
[]
[]
[]
[]
[]
[]
[]
[]
[]
[]
[]
[]
[]
[]
[]
[]
[]
[]
[]
[]
[]
[]
[]
[]
[]
[]
[]
[]
[]
[]
[]
[]
[]
[]
[]
[]
[]
[]
[]
[]
[]
[]
[]
[]
[]
[]
[]
[]
[]
[]
[]
[]
[]
[]
[]
[]
[]
[]
[]
[]
[]
[]
[]
[]
[]
[]
[]
[]
[]
[]
[]
[]
[]
[]
[]
[]
[]
[]
[]
[]
[]
[]
[]
[]
[]
[]
[]
[]
[]
[]
[]
[]
[]
[]
[]
[]
[]
[]
[]
[]
[]
[]
[]
[]
[]
[]
[]
[]
[]
[]
[]
[]
[]
[]
[]
[]
[]
[]
[]
[]
[]
[]
[]
[]
[]
[]
[]
[]
[]
[]
[]
[]
[]
[]
[]
[]
[]
[]
[]
[]
[]
[]
[]
[]
[]
[]
[]
[]
[]
[]
[]
[]
[]
[]
[]
[]
[]
[]
[]
[]
[]
[]
[]
[]
[]
[]
[]
[]
[]
[]
[]
[]
[]
[]
[]
[]
[]
[]
[]
[]
[]
[]
[]
[]
[]
[]
[]
[]
[]
[]
[]
[]
[]
[]
[]
[]
[]
[]
[]
[]
[]
[]
[]
[]
[]
[]
[]
[]
[]
[]
[]
[]
[]
[]
[]
[]
[]
[]
[]
[]
[]
[]
[]
[]
[]
[]
[]
[]
[]
[]
[]
[]
[]
[]
[]
[]
[]
[]
[]
[]
[]
[]
[]
[]
[]
[]
[]
[]
[]
[]
[]
[]
[]
[]
[]
[]
[]
[]
[]
[]
[]
[]
[]
[]
[]
[]
[]
[]
[]
[]
[]
[]
[]
[]
[]
[]
[]
[]
[]
[]
[]
[]
[]
[]
[]
[]
[]
[]
[]
[]
[]
[]
[]
[]
[]
[]
[]
[]
[]
[]
[]
[]
[]
[]
[]
[]
[]
[]
[]
[]
[]
[]
[]
[]
[]
[]
[]
[]
[]
[]
[]
[]
[]
[]
[]
[]
[]
[]
[]
[]
[]
[]
[]
[]
[]
[]
[]
[]
[]
[]
[]
[]
[]
[]
[]
[]
[]
[]
[]
[]
[]
[]
[]
[]
[]
[]
[]
[]
[]
[]
[]
[]
[]
[]
[]
[]
[]
[]
[]
[]
[]
[]
[]
[]
[]
[]
[]
[]
[]
[]
[]
[]
[]
[]
[]
[]
[]
[]
[]
[]
[]
[]
[]
[]
[]
[]
[]
[]
[]
[]
[]
[]
[]
[]
[]
[]
[]
[]
[]
[]
[]
[]
[]
[]
[]
[]
[]
[]
[]
[]
[]
[]
[]
[]
[]
[]
[]
[]
[]
[]
[]
[]
[]
[]
[]
[]
[]
[]
[]
[]
[]
[]
[]
[]
[]
[]
[]
[]
[]
[]
[]
[]
[]
[]
[]
[]
[]
[]
[]
[]
[]
[]
[]
[]
[]
[]
[]
[]
[]
[]
[]
[]
[]
[]
[]
[]
[]
[]
[]
[]
[]
[]
[]
[]
[]
[]
[]
[]
[]
[]
[]
[]
[]
[]
[]
[]
[]
[]
[]
[]
[]
[]
[]
[]
[]
[]
[]
[]
[]
[]
[]
[]
[]
[]
[]
[]
[]
[]
[]
[]
[]
[]
[]
[]
[]
[]
[]
[]
[]
[]
[]
[]
[]
[]
[]
[]
[]
[]
[]
[]
[]
[]
[]
[]
[]
[]
[]
[]
[]
[]
[]
[]
[]
[]
[]
[]
[]
[]
[]
[]
[]
[]
[]
[]
[]
[]
[]
[]
[]
[]
[]
[]
[]
[]
[]
[]
[]
[]
[]
[]
[]
[]
[]
[]
[]
[]
[]
[]
[]
[]
[]
[]
[]
[]
[]
[]
[]
[]
[]
[]
[]
[]
[]
[]
[]
[]
[]
[]
[]
[]
[]
[]
[]
[]
[]
[]
[]
[]
[]
[]
[]
[]
[]
[]
[]
[]
[]
[]
[]
[]
[]
[]
[]
[]
[]
[]
[]
[]
[]
[]
[]
[]
[]
[]
[]
[]
[]
[]
[]
[]
[]
[]
[]
[]
[]
[]
[]
[]
[]
[]
[]
[]
[]
[]
[]
[]
[]
[]
[]
[]
[]
[]
[]
[]
[]
[]
[]
[]
[]
[]
[]
[]
[]
[]
[]
[]
[]
[]
[]
[]
[]
[]
[]
[]
[]
[]
[]
[]
[]
[]
[]
[]
[]
[]
[]
[]
[]
[]
[]
[]
[]
[]
[]
[]
[]
[]
[]
[]
[]
[]
[]
[]
[]
[]
[]
[]
[]
[]
[]
[]
[]
[]
[]
[]
[]
[]
[]
[]
[]
[]
[]
[]
[]
[]
[]
[]
[]
[]
[]
[]
[]
[]
[]
[]
[]
[]
[]
[]
[]
[]
[]
[]
[]
[]
[]
[]
[]
[]
[]
[]
[]
[]
[]
[]
[]
[]
[]
[]
[]
[]
[]
[]
[]
[]
[]
[]
[]
[]
[]
[]
[]
[]
[]
[]
[]
[]
[]
[]
[]
[]
[]
[]
[]
[]
[]
[]
[]
[]
[]
[]
[]
[]
[]
[]
[]
[]
[]
[]
[]
[]
[]
[]
[]
[]
[]
[]
[]
[]
[]
[]
[]
[]
[]
[]
[]
[]
[]
[]
[]
[]
[]
[]
[]
[]
[]
[]
[]
[]
[]
[]
[]
[]
[]
[]
[]
[]
[]
[]
[]
[]
[]
[]
[]
[]
[]
[]
[]
[]
[]
[]
[]
[]
[]
[]
[]
[]
[]
[]
[]
[]
[]
[]
[]
[]
[]
[]
[]
[]
[]
[]
[]
[]
[]
[]
[]
[]
[]
[]
[]
[]
[]
[]
[]
[]
[]
[]
[]
[]
[]
[]
[]
[]
[]
[]
[]
[]
[]
[]
[]
[]
[]
[]
[]
[]
[]
[]
[]
[]
[]
[]
[]
[]
[]
[]
[]
[]
[]
[]
[]
[]
[]
[]
[]
[]
[]
[]
[]
[]
[]
[]
[]
[]
[]
[]
[]
[]
[]
[]
[]
[]
[]
[]
[]
[]
[]
[]
[]
[]
[]
[]
[]
[]
[]
[]
[]
[]
[]
[]
[]
[]
[]
[]
[]
[]
[]
[]
[]
[]
[]
[]
[]
[]
[]
[]
[]
[]
[]
[]
[]
[]
[]
[]
[]
[]
[]
[]
[]
[]
[]
[]
[]
[]
[]
[]
[]
[]
[]
[]
[]
[]
[]
[]
[]
[]
[]
[]
[]
[]
[]
[]
[]
[]
[]
[]
[]
[]
[]
[]
[]
[]
[]
[]
[]
[]
[]
[]
[]
[]
[]
[]
[]
[]
[]
[]
[]
[]
[]
[]
[]
[]
[]
[]
[]
[]
[]
[]
[]
[]
[]
[]
[]
[]
[]
[]
[]
[]
[]
[]
[]
[]
[]
[]
[]
[]
[]
[]
[]
[]
[]
[]
[]
[]
[]
[]
[]
[]
[]
[]
[]
[]
[]
[]
[]
[]
[]
[]
[]
[]
[]
[]
[]
[]
[]
[]
[]
[]
[]
[]
[]
[]
[]
[]
[]
[]
[]
[]
[]
[]
[]
[]
[]
[]
[]
[]
[]
[]
[]
[]
[]
[]
[]
[]
[]
[]
[]
[]
[]
[]
[]
[]
[]
[]
[]
[]
[]
[]
[]
[]
[]
[]
[]
[]
[]
[]
[]
[]
[]
[]
[]
[]
[]
[]
[]
[]
[]
[]
[]
[]
[]
[]
[]
[]
[]
[]
[]
[]
[]
[]
[]
[]
[]
[]
[]
[]
[]
[]
[]
[]
[]
[]
[]
[]
[]
[]
[]
[]
[]
[]
[]
[]
[]
[]
[]
[]
[]
[]
[]
[]
[]
[]
[]
[]
[]
[]
[]
[]
[]
[]
[]
[]
[]
[]
[]
[]
[]
[]
[]
[]
[]
[]
[]
[]
[]
[]
[]
[]
[]
[]
[]
[]
[]
[]
[]
[]
[]
[]
[]
[]
[]
[]
[]
[]
[]
[]
[]
[]
[]
[]
[]
[]
[]
[]
[]
[]
[]
[]
[]
[]
[]
[]
[]
[]
[]
[]
[]
[]
[]
[]
[]
[]
[]
[]
[]
[]
[]
[]
[]
[]
[]
[]
[]
[]
[]
[]
[]
[]
[]
[]
[]
[]
[]
[]
[]
[]
[]
[]
[]
[]
[]
[]
[]
[]
[]
[]
[]
[]
[]
[]
[]
[]
[]
[]
[]
[]
[]
[]
[]
[]
[]
[]
[]
[]
[]
[]
[]
[]
[]
[]
[]
[]
[]
[]
[]
[]
[]
[]
[]
[]
[]
[]
[]
[]
[]
[]
[]
[]
[]
[]
[]
[]
[]
[]
[]
[]
[]
[]
[]
[]
[]
[]
[]
[]
[]
[]
[]
[]
[]
[]
[]
[]
[]
[]
[]
[]
[]
[]
[]
[]
[]
[]
[]
[]
[]
[]
[]
[]
[]
[]
[]
[]
[]
[]
[]
[]
[]
[]
[]
[]
[]
[]
[]
[]
[]
[]
[]
[]
[]
[]
[]
[]
[]
[]
[]
[]
[]
[]
[]
[]
[]
[]
[]
[]
[]
[]
[]
[]
[]
[]
[]
[]
[]
[]
[]
[]
[]
[]
[]
[]
[]
[]
[]
[]
[]
[]
[]
[]
[]
[]
[]
[]
[]
[]
[]
[]
[]
[]
[]
[]
[]
[]
[]
[]
[]
[]
[]
[]
[]
[]
[]
[]
[]
[]
[]
[]
[]
[]
[]
[]
[]
[]
[]
[]
[]
[]
[]
[]
[]
[]
[]
[]
[]
[]
[]
[]
[]
[]
[]
[]
[]
[]
[]
[]
[]
[]
[]
[]
[]
[]
[]
[]
[]
[]
[]
[]
[]
[]
[]
[]
[]
[]
[]
[]
[]
[]
[]
[]
[]
[]
[]
[]
[]
[]
[]
[]
[]
[]
[]
[]
[]
[]
[]
[]
[]
[]
[]
[]
[]
[]
[]
[]
[]
[]
[]
[]
[]
[]
[]
[]
[]
[]
[]
[]
[]
[]
[]
[]
[]
[]
[]
[]
[]
[]
[]
[]
[]
[]
[]
[]
[]
[]
[]
[]
[]
[]
[]
[]
[]
[]
[]
[]
[]
[]
[]
[]
[]
[]
[]
[]
[]
[]
[]
[]
[]
[]
[]
[]
[]
[]
[]
[]
[]
[]
[]
[]
[]
[]
[]
[]
[]
[]
[]
[]
[]
[]
[]
[]
[]
[]
[]
[]
[]
[]
[]
[]
[]
[]
[]
[]
[]
[]
[]
[]
[]
[]
[]
[]
[]
[]
[]
[]
[]
[]
[]
[]
[]
[]
[]
[]
[]
[]
[]
[]
[]
[]
[]
[]
[]
[]
[]
[]
[]
[]
[]
[]
[]
[]
[]
[]
[]
[]
[]
[]
[]
[]
[]
[]
[]
[]
[]
[]
[]
[]
[]
[]
[]
[]
[]
[]
[]
[]
[]
[]
[]
[]
[]
[]
[]
[]
[]
[]
[]
[]
[]
[]
[]
[]
[]
[]
[]
[]
[]
[]
[]
[]
[]
[]
[]
[]
[]
[]
[]
[]
[]
[]
[]
[]
[]
[]
[]
[]
[]
[]
[]
[]
[]
[]
[]
[]
[]
[]
[]
[]
[]
[]
[]
[]
[]
[]
[]
[]
[]
[]
[]
[]
[]
[]
[]
[]
[]
[]
[]
[]
[]
[]
[]
[]
[]
[]
[]
[]
[]
[]
[]
[]
[]
[]
[]
[]
[]
[]
[]
[]
[]
[]
[]
[]
[]
[]
[]
[]
[]
[]
[]
[]
[]
[]
[]
[]
[]
[]
[]
[]
[]
[]
[]
[]
[]
[]
[]
[]
[]
[]
[]
[]
[]
[]
[]
[]
[]
[]
[]
[]
[]
[]
[]
[]
[]
[]
[]
[]
[]
[]
[]
[]
[]
[]
[]
[]
[]
[]
[]
[]
[]
[]
[]
[]
[]
[]
[]
[]
[]
[]
[]
[]
[]
[]
[]
[]
[]
[]
[]
[]
[]
[]
[]
[]
[]
[]
[]
[]
[]
[]
[]
[]
[]
[]
[]
[]
[]
[]
[]
[]
[]
[]
[]
[]
[]
[]
[]
[]
[]
[]
[]
[]
[]
[]
[]
[]
[]
[]
[]
[]
[]
[]
[]
[]
[]
[]
[]
[]
[]
[]
[]
[]
[]
[]
[]
[]
[]
[]
[]
[]
[]
[]
[]
[]
[]
[]
[]
[]
[]
[]
[]
[]
[]
[]
[]
[]
[]
[]
[]
[]
[]
[]
[]
[]
[]
[]
[]
[]
[]
[]
[]
[]
[]
[]
[]
[]
[]
[]
[]
[]
[]
[]
[]
[]
[]
[]
[]
[]
[]
[]
[]
[]
[]
[]
[]
[]
[]
[]
[]
[]
[]
[]
[]
[]
[]
[]
[]
[]
[]
[]
[]
[]
[]
[]
[]
[]
[]
[]
[]
[]
[]
[]
[]
[]
[]
[]
[]
[]
[]
[]
[]
[]
[]
[]
[]
[]
[]
[]
[]
[]
[]
[]
[]
[]
[]
[]
[]
[]
[]
[]
[]
[]
[]
[]
[]
[]
[]
[]
[]
[]
[]
[]
[]
[]
[]
[]
[]
[]
[]
[]
[]
[]
[]
[]
[]
[]
[]
[]
[]
[]
[]
[]
[]
[]
[]
[]
[]
[]
[]
[]
[]
[]
[]
[]
[]
[]
[]
[]
[]
[]
[]
[]
[]
[]
[]
[]
[]
[]
[]
[]
[]
[]
[]
[]
[]
[]
[]
[]
[]
[]
[]
[]
[]
[]
[]
[]
[]
[]
[]
[]
[]
[]
[]
[]
[]
[]
[]
[]
[]
[]
[]
[]
[]
[]
[]
[]
[]
[]
[]
[]
[]
[]
[]
[]
[]
[]
[]
[]
[]
[]
[]
[]
[]
[]
[]
[]
[]
[]
[]
[]
[]
[]
[]
[]
[]
[]
[]
[]
[]
[]
[]
[]
[]
[]
[]
[]
[]
[]
[]
[]
[]
[]
[]
[]
[]
[]
[]
[]
[]
[]
[]
[]
[]
[]
[]
[]
[]
[]
[]
[]
[]
[]
[]
[]
[]
[]
[]
[]
[]
[]
[]
[]
[]
[]
[]
[]
[]
[]
[]
[]
[]
[]
[]
[]
[]
[]
[]
[]
[]
[]
[]
[]
[]
[]
[]
[]
[]
[]
[]
[]
[]
[]
[]
[]
[]
[]
[]
[]
[]
[]
[]
[]
[]
[]
[]
[]
[]
[]
[]
[]
[]
[]
[]
[]
[]
[]
[]
[]
[]
[]
[]
[]
[]
[]
[]
[]
[]
[]
[]
[]
[]
[]
[]
[]
[]
[]
[]
[]
[]
[]
[]
[]
[]
[]
[]
[]
[]
[]
[]
[]
[]
[]
[]
[]
[]
[]
[]
[]
[]
[]
[]
[]
[]
[]
[]
[]
[]
[]
[]
[]
[]
[]
[]
[]
[]
[]
[]
[]
[]
[]
[]
[]
[]
[]
[]
[]
[]
[]
[]
[]
[]
[]
[]
[]
[]
[]
[]
[]
[]
[]
[]
[]
[]
[]
[]
[]
[]
[]
[]
[]
[]
[]
[]
[]
[]
[]
[]
[]
[]
[]
[]
[]
[]
[]
[]
[]
[]
[]
[]
[]
[]
[]
[]
[]
[]
[]
[]
[]
[]
[]
[]
[]
[]
[]
[]
[]
[]
[]
[]
[]
[]
[]
[]
[]
[]
[]
[]
[]
[]
[]
[]
[]
[]
[]
[]
[]
[]
[]
[]
[]
[]
[]
[]
[]
[]
[]
[]
[]
[]
[]
[]
[]
[]
[]
[]
[]
[]
[]
[]
[]
[]
[]
[]
[]
[]
[]
[]
[]
[]
[]
[]
[]
[]
[]
[]
[]
[]
[]
[]
[]
[]
[]
[]
[]
[]
[]
[]
[]
[]
[]
[]
[]
[]
[]
[]
[]
[]
[]
[]
[]
[]
[]
[]
[]
[]
[]
[]
[]
[]
[]
[]
[]
[]
[]
[]
[]
[]
[]
[]
[]
[]
[]
[]
[]
[]
[]
[]
[]
[]
[]
[]
[]
[]
[]
[]
[]
[]
[]
[]
[]
[]
[]
[]
[]
[]
[]
[]
[]
[]
[]
[]
[]
[]
[]
[]
[]
[]
[]
[]
[]
[]
[]
[]
[]
[]
[]
[]
[]
[]
[]
[]
[]
[]
[]
[]
[]
[]
[]
[]
[]
[]
[]
[]
[]
[]
[]
[]
[]
[]
[]
[]
[]
[]
[]
[]
[]
[]
[]
[]
[]
[]
[]
[]
[]
[]
[]
[]
[]
[]
[]
[]
[]
[]
[]
[]
[]
[]
[]
[]
[]
[]
[]
[]
[]
[]
[]
[]
[]
[]
[]
[]
[]
[]
[]
[]
[]
[]
[]
[]
[]
[]
[]
[]
[]
[]
[]
[]
[]
[]
[]
[]
[]
[]
[]
[]
[]
[]
[]
[]
[]
[]
[]
[]
[]
[]
[]
[]
[]
[]
[]
[]
[]
[]
[]
[]
[]
[]
[]
[]
[]
[]
[]
[]
[]
[]
[]
[]
[]
[]
[]
[]
[]
[]
[]
[]
[]
[]
[]
[]
[]
[]
[]
[]
[]
[]
[]
[]
[]
[]
[]
[]
[]
[]
[]
[]
[]
[]
[]
[]
[]
[]
[]
[]
[]
[]
[]
[]
[]
[]
[]
[]
[]
[]
[]
[]
[]
[]
[]
[]
[]
[]
[]
[]
[]
[]
[]
[]
[]
[]
[]
[]
[]
[]
[]
[]
[]
[]
[]
[]
[]
[]
[]
[]
[]
[]
[]
[]
[]
[]
[]
[]
[]
[]
[]
[]
[]
[]
[]
[]
[]
[]
[]
[]
[]
[]
[]
[]
[]
[]
[]
[]
[]
[]
[]
[]
[]
[]
[]
[]
[]
[]
[]
[]
[]
[]
[]
[]
[]
[]
[]
[]
[]
[]
[]
[]
[]
[]
[]
[]
[]
[]
[]
[]
[]
[]
[]
[]
[]
[]
[]
[]
[]
[]
[]
[]
[]
[]
[]
[]
[]
[]
[]
[]
[]
[]
[]
[]
[]
[]
[]
[]
[]
[]
[]
[]
[]
[]
[]
[]
[]
[]
[]
[]
[]
[]
[]
[]
[]
[]
[]
[]
[]
[]
[]
[]
[]
[]
[]
[]
[]
[]
[]
[]
[]
[]
[]
[]
[]
[]
[]
[]
[]
[]
[]
[]
[]
[]
[]
[]
[]
[]
[]
[]
[]
[]
[]
[]
[]
[]
[]
[]
[]
[]
[]
[]
[]
[]
[]
[]
[]
[]
[]
[]
[]
[]
[]
[]
[]
[]
[]
[]
[]
[]
[]
[]
[]
[]
[]
[]
[]
[]
[]
[]
[]
[]
[]
[]
[]
[]
[]
[]
[]
[]
[]
[]
[]
[]
[]
[]
[]
[]
[]
[]
[]
[]
[]
[]
[]
[]
[]
[]
[]
[]
[]
[]
[]
[]
[]
[]
[]
[]
[]
[]
[]
[]
[]
[]
[]
[]
[]
[]
[]
[]
[]
[]
[]
[]
[]
[]
[]
[]
[]
[]
[]
[]
[]
[]
[]
[]
[]
[]
[]
[]
[]
[]
[]
[]
[]
[]
[]
[]
[]
[]
[]
[]
[]
[]
[]
[]
[]
[]
[]
[]
[]
[]
[]
[]
[]
[]
[]
[]
[]
[]
[]
[]
[]
[]
[]
[]
[]
[]
[]
[]
[]
[]
[]
[]
[]
[]
[]
[]
[]
[]
[]
[]
[]
[]
[]
[]
[]
[]
[]
[]
[]
[]
[]
[]
[]
[]
[]
[]
[]
[]
[]
[]
[]
[]
[]
[]
[]
[]
[]
[]
[]
[]
[]
[]
[]
[]
[]
[]
[]
[]
[]
[]
[]
[]
[]
[]
[]
[]
[]
[]
[]
[]
[]
[]
[]
[]
[]
[]
[]
[]
[]
[]
[]
[]
[]
[]
[]
[]
[]
[]
[]
[]
[]
[]
[]
[]
[]
[]
[]
[]
[]
[]
[]
[]
[]
[]
[]
[]
[]
[]
[]
[]
[]
[]
[]
[]
[]
[]
[]
[]
[]
[]
[]
[]
[]
[]
[]
[]
[]
[]
[]
[]
[]
[]
[]
[]
[]
[]
[]
[]
[]
[]
[]
[]
[]
[]
[]
[]
[]
[]
[]
[]
[]
[]
[]
[]
[]
[]
[]
[]
[]
[]
[]
[]
[]
[]
[]
[]
[]
[]
[]
[]
[]
[]
[]
[]
[]
[]
[]
[]
[]
[]
[]
[]
[]
[]
[]
[]
[]
[]
[]
[]
[]
[]
[]
[]
[]
[]
[]
[]
[]
[]
[]
[]
[]
[]
[]
[]
[]
[]
[]
[]
[]
[]
[]
[]
[]
[]
[]
[]
[]
[]
[]
[]
[]
[]
[]
[]
[]
[]
[]
[]
[]
[]
[]
[]
[]
[]
[]
[]
[]
[]
[]
[]
[]
[]
[]
[]
[]
[]
[]
[]
[]
[]
[]
[]
[]
[]
[]
[]
[]
[]
[]
[]
[]
[]
[]
[]
[]
[]
[]
[]
[]
[]
[]
[]
[]
[]
[]
[]
[]
[]
[]
[]
[]
[]
[]
[]
[]
[]
[]
[]
[]
[]
[]
[]
[]
[]
[]
[]
[]
[]
[]
[]
[]
[]
[]
[]
[]
[]
[]
[]
[]
[]
[]
[]
[]
[]
[]
[]
[]
[]
[]
[]
[]
[]
[]
[]
[]
[]
[]
[]
[]
[]
[]
[]
[]
[]
[]
[]
[]
[]
[]
[]
[]
[]
[]
[]
[]
[]
[]
[]
[]
[]
[]
[]
[]
[]
[]
[]
[]
[]
[]
[]
[]
[]
[]
[]
[]
[]
[]
[]
[]
[]
[]
[]
[]
[]
[]
[]
[]
[]
[]
[]
[]
[]
[]
[]
[]
[]
[]
[]
[]
[]
[]
[]
[]
[]
[]
[]
[]
[]
[]
[]
[]
[]
[]
[]
[]
[]
[]
[]
[]
[]
[]
[]
[]
[]
[]
[]
[]
[]
[]
[]
[]
[]
[]
[]
[]
[]
[]
[]
[]
[]
[]
[]
[]
[]
[]
[]
[]
[]
[]
[]
[]
[]
[]
[]
[]
[]
[]
[]
[]
[]
[]
[]
[]
[]
[]
[]
[]
[]
[]
[]
[]
[]
[]
[]
[]
[]
[]
[]
[]
[]
[]
[]
[]
[]
[]
[]
[]
[]
[]
[]
[]
[]
[]
[]
[]
[]
[]
[]
[]
[]
[]
[]
[]
[]
[]
[]
[]
[]
[]
[]
[]
[]
[]
[]
[]
[]
[]
[]
[]
[]
[]
[]
[]
[]
[]
[]
[]
[]
[]
[]
[]
[]
[]
[]
[]
[]
[]
[]
[]
[]
[]
[]
[]
[]
[]
[]
[]
[]
[]
[]
[]
[]
[]
[]
[]
[]
[]
[]
[]
[]
[]
[]
[]
[]
[]
[]
[]
[]
[]
[]
[]
[]
[]
[]
[]
[]
[]
[]
[]
[]
[]
[]
[]
[]
[]
[]
[]
[]
[]
[]
[]
[]
[]
[]
[]
[]
[]
[]
[]
[]
[]
[]
[]
[]
[]
[]
[]
[]
[]
[]
[]
[]
[]
[]
[]
[]
[]
[]
[]
[]
[]
[]
[]
[]
[]
[]
[]
[]
[]
[]
[]
[]
[]
[]
[]
[]
[]
[]
[]
[]
[]
[]
[]
[]
[]
[]
[]
[]
[]
[]
[]
[]
[]
[]
[]
[]
[]
[]
[]
[]
[]
[]
[]
[]
[]
[]
[]
[]
[]
[]
[]
[]
[]
[]
[]
[]
[]
[]
[]
[]
[]
[]
[]
[]
[]
[]
[]
[]
[]
[]
[]
[]
[]
[]
[]
[]
[]
[]
[]
[]
[]
[]
[]
[]
[]
[]
[]
[]
[]
[]
[]
[]
[]
[]
[]
[]
[]
[]
[]
[]
[]
[]
[]
[]
[]
[]
[]
[]
[]
[]
[]
[]
[]
[]
[]
[]
[]
[]
[]
[]
[]
[]
[]
[]
[]
[]
[]
[]
[]
[]
[]
[]
[]
[]
[]
[]
[]
[]
[]
[]
[]
[]
[]
[]
[]
[]
[]
[]
[]
[]
[]
[]
[]
[]
[]
[]
[]
[]
[]
[]
[]
[]
[]
[]
[]
[]
[]
[]
[]
[]
[]
[]
[]
[]
[]
[]
[]
[]
[]
[]
[]
[]
[]
[]
[]
[]
[]
[]
[]
[]
[]
[]
[]
[]
[]
[]
[]
[]
[]
[]
[]
[]
[]
[]
[]
[]
[]
[]
[]
[]
[]
[]
[]
[]
[]
[]
[]
[]
[]
[]
[]
[]
[]
[]
[]
[]
[]
[]
[]
[]
[]
[]
[]
[]
[]
[]
[]
[]
[]
[]
[]
[]
[]
[]
[]
[]
[]
[]
[]
[]
[]
[]
[]
[]
[]
[]
[]
[]
[]
[]
[]
[]
[]
[]
[]
[]
[]
[]
[]
[]
[]
[]
[]
[]
[]
[]
[]
[]
[]
[]
[]
[]
[]
[]
[]
[]
[]
[]
[]
[]
[]
[]
[]
[]
[]
[]
[]
[]
[]
[]
[]
[]
[]
[]
[]
[]
[]
[]
[]
[]
[]
[]
[]
[]
[]
[]
[]
[]
[]
[]
[]
[]
[]
[]
[]
[]
[]
[]
[]
[]
[]
[]
[]
[]
[]
[]
[]
[]
[]
[]
[]
[]
[]
[]
[]
[]
[]
[]
[]
[]
[]
[]
[]
[]
[]
[]
[]
[]
[]
[]
[]
[]
[]
[]
[]
[]
[]
[]
[]
[]
[]
[]
[]
[]
[]
[]
[]
[]
[]
[]
[]
[]
[]
[]
[]
[]
[]
[]
[]
[]
[]
[]
[]
[]
[]
[]
[]
[]
[]
[]
[]
[]
[]
[]
[]
[]
[]
[]
[]
[]
[]
[]
[]
[]
[]
[]
[]
[]
[]
[]
[]
[]
[]
[]
[]
[]
[]
[]
[]
[]
[]
[]
[]
[]
[]
[]
[]
[]
[]
[]
[]
[]
[]
[]
[]
[]
[]
[]
[]
[]
[]
[]
[]
[]
[]
[]
[]
[]
[]
[]
[]
[]
[]
[]
[]
[]
[]
[]
[]
[]
[]
[]
[]
[]
[]
[]
[]
[]
[]
[]
[]
[]
[]
[]
[]
[]
[]
[]
[]
[]
[]
[]
[]
[]
[]
[]
[]
[]
[]
[]
[]
[]
[]
[]
[]
[]
[]
[]
[]
[]
[]
[]
[]
[]
[]
[]
[]
[]
[]
[]
[]
[]
[]
[]
[]
[]
[]
[]
[]
[]
[]
[]
[]
[]
[]
[]
[]
[]
[]
[]
[]
[]
[]
[]
[]
[]
[]
[]
[]
[]
[]
[]
[]
[]
[]
[]
[]
[]
[]
[]
[]
[]
[]
[]
[]
[]
[]
[]
[]
[]
[]
[]
[]
[]
[]
[]
[]
[]
[]
[]
[]
[]
[]
[]
[]
[]
[]
[]
[]
[]
[]
[]
[]
[]
[]
[]
[]
[]
[]
[]
[]
[]
[]
[]
[]
[]
[]
[]
[]
[]
[]
[]
[]
[]
[]
[]
[]
[]
[]
[]
[]
[]
[]
[]
[]
[]
[]
[]
[]
[]
[]
[]
[]
[]
[]
[]
[]
[]
[]
[]
[]
[]
[]
[]
[]
[]
[]
[]
[]
[]
[]
[]
[]
[]
[]
[]
[]
[]
[]
[]
[]
[]
[]
[]
[]
[]
[]
[]
[]
[]
[]
[]
[]
[]
[]
[]
[]
[]
[]
[]
[]
[]
[]
[]
[]
[]
[]
[]
[]
[]
[]
[]
[]
[]
[]
[]
[]
[]
[]
[]
[]
[]
[]
[]
[]
[]
[]
[]
[]
[]
[]
[]
[]
[]
[]
[]
[]
[]
[]
[]
[]
[]
[]
[]
[]
[]
[]
[]
[]
[]
[]
[]
[]
[]
[]
[]
[]
[]
[]
[]
[]
[]
[]
[]
[]
[]
[]
[]
[]
[]
[]
[]
[]
[]
[]
[]
[]
[]
[]
[]
[]
[]
[]
[]
[]
[]
[]
[]
[]
[]
[]
[]
[]
[]
[]
[]
[]
[]
[]
[]
[]
[]
[]
[]
[]
[]
[]
[]
[]
[]
[]
[]
[]
[]
[]
[]
[]
[]
[]
[]
[]
[]
[]
[]
[]
[]
[]
[]
[]
[]
[]
[]
[]
[]
[]
[]
[]
[]
[]
[]
[]
[]
[]
[]
[]
[]
[]
[]
[]
[]
[]
[]
[]
[]
[]
[]
[]
[]
[]
[]
[]
[]
[]
[]
[]
[]
[]
[]
[]
[]
[]
[]
[]
[]
[]
[]
[]
[]
[]
[]
[]
[]
[]
[]
[]
[]
[]
[]
[]
[]
[]
[]
[]
[]
[]
[]
[]
[]
[]
[]
[]
[]
[]
[]
[]
[]
[]
[]
[]
[]
[]
[]
[]
[]
[]
[]
[]
[]
[]
[]
[]
[]
[]
[]
[]
[]
[]
[]
[]
[]
[]
[]
[]
[]
[]
[]
[]
[]
[]
[]
[]
[]
[]
[]
[]
[]
[]
[]
[]
[]
[]
[]
[]
[]
[]
[]
[]
[]
[]
[]
[]
[]
[]
[]
[]
[]
[]
[]
[]
[]
[]
[]
[]
[]
[]
[]
[]
[]
[]
[]
[]
[]
[]
[]
[]
[]
[]
[]
[]
[]
[]
[]
[]
[]
[]
[]
[]
[]
[]
[]
[]
[]
[]
[]
[]
[]
[]
[]
[]
[]
[]
[]
[]
[]
[]
[]
[]
[]
[]
[]
[]
[]
[]
[]
[]
[]
[]
[]
[]
[]
[]
[]
[]
[]
[]
[]
[]
[]
[]
[]
[]
[]
[]
[]
[]
[]
[]
[]
[]
[]
[]
[]
[]
[]
[]
[]
[]
[]
[]
[]
[]
[]
[]
[]
[]
[]
[]
[]
[]
[]
[]
[]
[]
[]
[]
[]
[]
[]
[]
[]
[]
[]
[]
[]
[]
[]
[]
[]
[]
[]
[]
[]
[]
[]
[]
[]
[]
[]
[]
[]
[]
[]
[]
[]
[]
[]
[]
[]
[]
[]
[]
[]
[]
[]
[]
[]
[]
[]
[]
[]
[]
[]
[]
[]
[]
[]
[]
[]
[]
[]
[]
[]
[]
[]
[]
[]
[]
[]
[]
[]
[]
[]
[]
[]
[]
[]
[]
[]
[]
[]
[]
[]
[]
[]
[]
[]
[]
[]
[]
[]
[]
[]
[]
[]
[]
[]
[]
[]
[]
[]
[]
[]
[]
[]
[]
[]
[]
[]
[]
[]
[]
[]
[]
[]
[]
[]
[]
[]
[]
[]
[]
[]
[]
[]
[]
[]
[]
[]
[]
[]
[]
[]
[]
[]
[]
[]
[]
[]
[]
[]
[]
[]
[]
[]
[]
[]
[]
[]
[]
[]
[]
[]
[]
[]
[]
[]
[]
[]
[]
[]
[]
[]
[]
[]
[]
[]
[]
[]
[]
[]
[]
[]
[]
[]
[]
[]
[]
[]
[]
[]
[]
[]
[]
[]
[]
[]
[]
[]
[]
[]
[]
[]
[]
[]
[]
[]
[]
[]
[]
[]
[]
[]
[]
[]
[]
[]
[]
[]
[]
[]
[]
[]
[]
[]
[]
[]
[]
[]
[]
[]
[]
[]
[]
[]
[]
[]
[]
[]
[]
[]
[]
[]
[]
[]
[]
[]
[]
[]
[]
[]
[]
[]
[]
[]
[]
[]
[]
[]
[]
[]
[]
[]
[]
[]
[]
[]
[]
[]
[]
[]
[]
[]
[]
[]
[]
[]
[]
[]
[]
[]
[]
[]
[]
[]
[]
[]
[]
[]
[]
[]
[]
[]
[]
[]
[]
[]
[]
[]
[]
[]
[]
[]
[]
[]
[]
[]
[]
[]
[]
[]
[]
[]
[]
[]
[]
[]
[]
[]
[]
[]
[]
[]
[]
[]
[]
[]
[]
[]
[]
[]
[]
[]
[]
[]
[]
[]
[]
[]
[]
[]
[]
[]
[]
[]
[]
[]
[]
[]
[]
[]
[]
[]
[]
[]
[]
[]
[]
[]
[]
[]
[]
[]
[]
[]
[]
[]
[]
[]
[]
[]
[]
[]
[]
[]
[]
[]
[]
[]
[]
[]
[]
[]
[]
[]
[]
[]
[]
[]
[]
[]
[]
[]
[]
[]
[]
[]
[]
[]
[]
[]
[]
[]
[]
[]
[]
[]
[]
[]
[]
[]
[]
[]
[]
[]
[]
[]
[]
[]
[]
[]
[]
[]
[]
[]
[]
[]
[]
[]
[]
[]
[]
[]
[]
[]
[]
[]
[]
[]
[]
[]
[]
[]
[]
[]
[]
[]
[]
[]
[]
[]
[]
[]
[]
[]
[]
[]
[]
[]
[]
[]
[]
[]
[]
[]
[]
[]
[]
[]
[]
[]
[]
[]
[]
[]
[]
[]
[]
[]
[]
[]
[]
[]
[]
[]
[]
[]
[]
[]
[]
[]
[]
[]
[]
[]
[]
[]
[]
[]
[]
[]
[]
[]
[]
[]
[]
[]
[]
[]
[]
[]
[]
[]
[]
[]
[]
[]
[]
[]
[]
[]
[]
[]
[]
[]
[]
[]
[]
[]
[]
[]
[]
[]
[]
[]
[]
[]
[]
[]
[]
[]
[]
[]
[]
[]
[]
[]
[]
[]
[]
[]
[]
[]
[]
[]
[]
[]
[]
[]
[]
[]
[]
[]
[]
[]
[]
[]
[]
[]
[]
[]
[]
[]
[]
[]
[]
[]
[]
[]
[]
[]
[]
[]
[]
[]
[]
[]
[]
[]
[]
[]
[]
[]
[]
[]
[]
[]
[]
[]
[]
[]
[]
[]
[]
[]
[]
[]
[]
[]
[]
[]
[]
[]
[]
[]
[]
[]
[]
[]
[]
[]
[]
[]
[]
[]
[]
[]
[]
[]
[]
[]
[]
[]
[]
[]
[]
[]
[]
[]
[]
[]
[]
[]
[]
[]
[]
[]
[]
[]
[]
[]
[]
[]
[]
[]
[]
[]
[]
[]
[]
[]
[]
[]
[]
[]
[]
[]
[]
[]
[]
[]
[]
[]
[]
[]
[]
[]
[]
[]
[]
[]
[]
[]
[]
[]
[]
[]
[]
[]
[]
[]
[]
[]
[]
[]
[]
[]
[]
[]
[]
[]
[]
[]
[]
[]
[]
[]
[]
[]
[]
[]
[]
[]
[]
[]
[]
[]
[]
[]
[]
[]
[]
[]
[]
[]
[]
[]
[]
[]
[]
[]
[]
[]
[]
[]
[]
[]
[]
[]
[]
[]
[]
[]
[]
[]
[]
[]
[]
[]
[]
[]
[]
[]
[]
[]
[]
[]
[]
[]
[]
[]
[]
[]
[]
[]
[]
[]
[]
[]
[]
[]
[]
[]
[]
[]
[]
[]
[]
[]
[]
[]
[]
[]
[]
[]
[]
[]
[]
[]
[]
[]
[]
[]
[]
[]
[]
[]
[]
[]
[]
[]
[]
[]
[]
[]
[]
[]
[]
[]
[]
[]
[]
[]
[]
[]
[]
[]
[]
[]
[]
[]
[]
[]
[]
[]
[]
[]
[]
[]
[]
[]
[]
[]
[]
[]
[]
[]
[]
[]
[]
[]
[]
[]
[]
[]
[]
[]
[]
[]
[]
[]
[]
[]
[]
[]
[]
[]
[]
[]
[]
[]
[]
[]
[]
[]
[]
[]
[]
[]
[]
[]
[]
[]
[]
[]
[]
[]
[]
[]
[]
[]
[]
[]
[]
[]
[]
[]
[]
[]
[]
[]
[]
[]
[]
[]
[]
[]
[]
[]
[]
[]
[]
[]
[]
[]
[]
[]
[]
[]
[]
[]
[]
[]
[]
[]
[]
[]
[]
[]
[]
[]
[]
[]
[]
[]
[]
[]
[]
[]
[]
[]
[]
[]
[]
[]
[]
[]
[]
[]
[]
[]
[]
[]
[]
[]
[]
[]
[]
[]
[]
[]
[]
[]
[]
[]
[]
[]
[]
[]
[]
[]
[]
[]
[]
[]
[]
[]
[]
[]
[]
[]
[]
[]
[]
[]
[]
[]
[]
[]
[]
[]
[]
[]
[]
[]
[]
[]
[]
[]
[]
[]
[]
[]
[]
[]
[]
[]
[]
[]
[]
[]
[]
[]
[]
[]
[]
[]
[]
[]
[]
[]
[]
[]
[]
[]
[]
[]
[]
[]
[]
[]
[]
[]
[]
[]
[]
[]
[]
[]
[]
[]
[]
[]
[]
[]
[]
[]
[]
[]
[]
[]
[]
[]
[]
[]
[]
[]
[]
[]
[]
[]
[]
[]
[]
[]
[]
[]
[]
[]
[]
[]
[]
[]
[]
[]
[]
[]
[]
[]
[]
[]
[]
[]
[]
[]
[]
[]
[]
[]
[]
[]
[]
[]
[]
[]
[]
[]
[]
[]
[]
[]
[]
[]
[]
[]
[]
[]
[]
[]
[]
[]
[]
[]
[]
[]
[]
[]
[]
[]
[]
[]
[]
[]
[]
[]
[]
[]
[]
[]
[]
[]
[]
[]
[]
[]
[]
[]
[]
[]
[]
[]
[]
[]
[]
[]
[]
[]
[]
[]
[]
[]
[]
[]
[]
[]
[]
[]
[]
[]
[]
[]
[]
[]
[]
[]
[]
[]
[]
[]
[]
[]
[]
[]
[]
[]
[]
[]
[]
[]
[]
[]
[]
[]
[]
[]
[]
[]
[]
[]
[]
[]
[]
[]
[]
[]
[]
[]
[]
[]
[]
[]
[]
[]
[]
[]
[]
[]
[]
[]
[]
[]
[]
[]
[]
[]
[]
[]
[]
[]
[]
[]
[]
[]
[]
[]
[]
[]
[]
[]
[]
[]
[]
[]
[]
[]
[]
[]
[]
[]
[]
[]
[]
[]
[]
[]
[]
[]
[]
[]
[]
[]
[]
[]
[]
[]
[]
[]
[]
[]
[]
[]
[]
[]
[]
[]
[]
[]
[]
[]
[]
[]
[]
[]
[]
[]
[]
[]
[]
[]
[]
[]
[]
[]
[]
[]
[]
[]
[]
[]
[]
[]
[]
[]
[]
[]
[]
[]
[]
[]
[]
[]
[]
[]
[]
[]
[]
[]
[]
[]
[]
[]
[]
[]
[]
[]
[]
[]
[]
[]
[]
[]
[]
[]
[]
[]
[]
[]
[]
[]
[]
[]
[]
[]
[]
[]
[]
[]
[]
[]
[]
[]
[]
[]
[]
[]
[]
[]
[]
[]
[]
[]
[]
[]
[]
[]
[]
[]
[]
[]
[]
[]
[]
[]
[]
[]
[]
[]
[]
[]
[]
[]
[]
[]
[]
[]
[]
[]
[]
[]
[]
[]
[]
[]
[]
[]
[]
[]
[]
[]
[]
[]
[]
[]
[]
[]
[]
[]
[]
[]
[]
[]
[]
[]
[]
[]
[]
[]
[]
[]
[]
[]
[]
[]
[]
[]
[]
[]
[]
[]
[]
[]
[]
[]
[]
[]
[]
[]
[]
[]
[]
[]
[]
[]
[]
[]
[]
[]
[]
[]
[]
[]
[]
[]
[]
[]
[]
[]
[]
[]
[]
[]
[]
[]
[]
[]
[]
[]
[]
[]
[]
[]
[]
[]
[]
[]
[]
[]
[]
[]
[]
[]
[]
[]
[]
[]
[]
[]
[]
[]
[]
[]
[]
[]
[]
[]
[]
[]
[]
[]
[]
[]
[]
[]
[]
[]
[]
[]
[]
[]
[]
[]
[]
[]
[]
[]
[]
[]
[]
[]
[]
[]
[]
[]
[]
[]
[]
[]
[]
[]
[]
[]
[]
[]
[]
[]
[]
[]
[]
[]
[]
[]
[]
[]
[]
[]
[]
[]
[]
[]
[]
[]
[]
[]
[]
[]
[]
[]
[]
[]
[]
[]
[]
[]
[]
[]
[]
[]
[]
[]
[]
[]
[]
[]
[]
[]
[]
[]
[]
[]
[]
[]
[]
[]
[]
[]
[]
[]
[]
[]
[]
[]
[]
[]
[]
[]
[]
[]
[]
[]
[]
[]
[]
[]
[]
[]
[]
[]
[]
[]
[]
[]
[]
[]
[]
[]
[]
[]
[]
[]
[]
[]
[]
[]
[]
[]
[]
[]
[]
[]
[]
[]
[]
[]
[]
[]
[]
[]
[]
[]
[]
[]
[]
[]
[]
[]
[]
[]
[]
[]
[]
[]
[]
[]
[]
[]
[]
[]
[]
[]
[]
[]
[]
[]
[]
[]
[]
[]
[]
[]
[]
[]
[]
[]
[]
[]
[]
[]
[]
[]
[]
[]
[]
[]
[]
[]
[]
[]
[]
[]
[]
[]
[]
[]
[]
[]
[]
[]
[]
[]
[]
[]
[]
[]
[]
[]
[]
[]
[]
[]
[]
[]
[]
[]
[]
[]
[]
[]
[]
[]
[]
[]
[]
[]
[]
[]
[]
[]
[]
[]
[]
[]
[]
[]
[]
[]
[]
[]
[]
[]
[]
[]
[]
[]
[]
[]
[]
[]
[]
[]
[]
[]
[]
[]
[]
[]
[]
[]
[]
[]
[]
[]
[]
[]
[]
[]
[]
[]
[]
[]
[]
[]
[]
[]
[]
[]
[]
[]
[]
[]
[]
[]
[]
[]
[]
[]
[]
[]
[]
[]
[]
[]
[]
[]
[]
[]
[]
[]
[]
[]
[]
[]
[]
[]
[]
[]
[]
[]
[]
[]
[]
[]
[]
[]
[]
[]
[]
[]
[]
[]
[]
[]
[]
[]
[]
[]
[]
[]
[]
[]
[]
[]
[]
[]
[]
[]
[]
[]
[]
[]
[]
[]
[]
[]
[]
[]
[]
[]
[]
[]
[]
[]
[]
[]
[]
[]
[]
[]
[]
[]
[]
[]
[]
[]
[]
[]
[]
[]
[]
[]
[]
[]
[]
[]
[]
[]
[]
[]
[]
[]
[]
[]
[]
[]
[]
[]
[]
[]
[]
[]
[]
[]
[]
[]
[]
[]
[]
[]
[]
[]
[]
[]
[]
[]
[]
[]
[]
[]
[]
[]
[]
[]
[]
[]
[]
[]
[]
[]
[]
[]
[]
[]
[]
[]
[]
[]
[]
[]
[]
[]
[]
[]
[]
[]
[]
[]
[]
[]
[]
[]
[]
[]
[]
[]
[]
[]
[]
[]
[]
[]
[]
[]
[]
[]
[]
[]
[]
[]
[]
[]
[]
[]
[]
[]
[]
[]
[]
[]
[]
[]
[]
[]
[]
[]
[]
[]
[]
[]
[]
[]
[]
[]
[]
[]
[]
[]
[]
[]
[]
[]
[]
[]
[]
[]
[]
[]
[]
[]
[]
[]
[]
[]
[]
[]
[]
[]
[]
[]
[]
[]
[]
[]
[]
[]
[]
[]
[]
[]
[]
[]
[]
[]
[]
[]
[]
[]
[]
[]
[]
[]
[]
[]
[]
[]
[]
[]
[]
[]
[]
[]
[]
[]
[]
[]
[]
[]
[]
[]
[]
[]
[]
[]
[]
[]
[]
[]
[]
[]
[]
[]
[]
[]
[]
[]
[]
[]
[]
[]
[]
[]
[]
[]
[]
[]
[]
[]
[]
[]
[]
[]
[]
[]
[]
[]
[]
[]
[]
[]
[]
[]
[]
[]
[]
[]
[]
[]
[]
[]
[]
[]
[]
[]
[]
[]
[]
[]
[]
[]
[]
[]
[]
[]
[]
[]
[]
[]
[]
[]
[]
[]
[]
[]
[]
[]
[]
[]
[]
[]
[]
[]
[]
[]
[]
[]
[]
[]
[]
[]
[]
[]
[]
[]
[]
[]
[]
[]
[]
[]
[]
[]
[]
[]
[]
[]
[]
[]
[]
[]
[]
[]
[]
[]
[]
[]
[]
[]
[]
[]
[]
[]
[]
[]
[]
[]
[]
[]
[]
[]
[]
[]
[]
[]
[]
[]
[]
[]
[]
[]
[]
[]
[]
[]
[]
[]
[]
[]
[]
[]
[]
[]
[]
[]
[]
[]
[]
[]
[]
[]
[]
[]
[]
[]
[]
[]
[]
[]
[]
[]
[]
[]
[]
[]
[]
[]
[]
[]
[]
[]
[]
[]
[]
[]
[]
[]
[]
[]
[]
[]
[]
[]
[]
[]
[]
[]
[]
[]
[]
[]
[]
[]
[]
[]
[]
[]
[]
[]
[]
[]
[]
[]
[]
[]
[]
[]
[]
[]
[]
[]
[]
[]
[]
[]
[]
[]
[]
[]
[]
[]
[]
[]
[]
[]
[]
[]
[]
[]
[]
[]
[]
[]
[]
[]
[]
[]
[]
[]
[]
[]
[]
[]
[]
[]
[]
[]
[]
[]
[]
[]
[]
[]
[]
[]
[]
[]
[]
[]
[]
[]
[]
[]
[]
[]
[]
[]
[]
[]
[]
[]
[]
[]
[]
[]
[]
[]
[]
[]
[]
[]
[]
[]
[]
[]
[]
[]
[]
[]
[]
[]
[]
[]
[]
[]
[]
[]
[]
[]
[]
[]
[]
[]
[]
[]
[]
[]
[]
[]
[]
[]
[]
[]
[]
[]
[]
[]
[]
[]
[]
[]
[]
[]
[]
[]
[]
[]
[]
[]
[]
[]
[]
[]
[]
[]
[]
[]
[]
[]
[]
[]
[]
[]
[]
[]
[]
[]
[]
[]
[]
[]
[]
[]
[]
[]
[]
[]
[]
[]
[]
[]
[]
[]
[]
[]
[]
[]
[]
[]
[]
[]
[]
[]
[]
[]
[]
[]
[]
[]
[]
[]
[]
[]
[]
[]
[]
[]
[]
[]
[]
[]
[]
[]
[]
[]
[]
[]
[]
[]
[]
[]
[]
[]
[]
[]
[]
[]
[]
[]
[]
[]
[]
[]
[]
[]
[]
[]
[]
[]
[]
[]
[]
[]
[]
[]
[]
[]
[]
[]
[]
[]
[]
[]
[]
[]
[]
[]
[]
[]
[]
[]
[]
[]
[]
[]
[]
[]
[]
[]
[]
[]
[]
[]
[]
[]
[]
[]
[]
[]
[]
[]
[]
[]
[]
[]
[]
[]
[]
[]
[]
[]
[]
[]
[]
[]
[]
[]
[]
[]
[]
[]
[]
[]
[]
[]
[]
[]
[]
[]
[]
[]
[]
[]
[]
[]
[]
[]
[]
[]
[]
[]
[]
[]
[]
[]
[]
[]
[]
[]
[]
[]
[]
[]
[]
[]
[]
[]
[]
[]
[]
[]
[]
[]
[]
[]
[]
[]
[]
[]
[]
[]
[]
[]
[]
[]
[]
[]
[]
[]
[]
[]
[]
[]
[]
[]
[]
[]
[]
[]
[]
[]
[]
[]
[]
[]
[]
[]
[]
[]
[]
[]
[]
[]
[]
[]
[]
[]
[]
[]
[]
[]
[]
[]
[]
[]
[]
[]
[]
[]
[]
[]
[]
[]
[]
[]
[]
[]
[]
[]
[]
[]
[]
[]
[]
[]
[]
[]
[]
[]
[]
[]
[]
[]
[]
[]
[]
[]
[]
[]
[]
[]
[]
[]
[]
[]
[]
[]
[]
[]
[]
[]
[]
[]
[]
[]
[]
[]
[]
[]
[]
[]
[]
[]
[]
[]
[]
[]
[]
[]
[]
[]
[]
[]
[]
[]
[]
[]
[]
[]
[]
[]
[]
[]
[]
[]
[]
[]
[]
[]
[]
[]
[]
[]
[]
[]
[]
[]
[]
[]
[]
[]
[]
[]
[]
[]
[]
[]
[]
[]
[]
[]
[]
[]
[]
[]
[]
[]
[]
[]
[]
[]
[]
[]
[]
[]
[]
[]
[]
[]
[]
[]
[]
[]
[]
[]
[]
[]
[]
[]
[]
[]
[]
[]
[]
[]
[]
[]
[]
[]
[]
[]
[]
[]
[]
[]
[]
[]
[]
[]
[]
[]
[]
[]
[]
[]
[]
[]
[]
[]
[]
[]
[]
[]
[]
[]
[]
[]
[]
[]
[]
[]
[]
[]
[]
[]
[]
[]
[]
[]
[]
[]
[]
[]
[]
[]
[]
[]
[]
[]
[]
[]
[]
[]
[]
[]
[]
[]
[]
[]
[]
[]
[]
[]
[]
[]
[]
[]
[]
[]
[]
[]
[]
[]
[]
[]
[]
[]
[]
[]
[]
[]
[]
[]
[]
[]
[]
[]
[]
[]
[]
[]
[]
[]
[]
[]
[]
[]
[]
[]
[]
[]
[]
[]
[]
[]
[]
[]
[]
[]
[]
[]
[]
[]
[]
[]
[]
[]
[]
[]
[]
[]
[]
[]
[]
[]
[]
[]
[]
[]
[]
[]
[]
[]
[]
[]
[]
[]
[]
[]
[]
[]
[]
[]
[]
[]
[]
[]
[]
[]
[]
[]
[]
[]
[]
[]
[]
[]
[]
[]
[]
[]
[]
[]
[]
[]
[]
[]
[]
[]
[]
[]
[]
[]
[]
[]
[]
[]
[]
[]
[]
[]
[]
[]
[]
[]
[]
[]
[]
[]
[]
[]
[]
[]
[]
[]
[]
[]
[]
[]
[]
[]
[]
[]
[]
[]
[]
[]
[]
[]
[]
[]
[]
[]
[]
[]
[]
[]
[]
[]
[]
[]
[]
[]
[]
[]
[]
[]
[]
[]
[]
[]
[]
[]
[]
[]
[]
[]
[]
[]
[]
[]
[]
[]
[]
[]
[]
[]
[]
[]
[]
[]
[]
[]
[]
[]
[]
[]
[]
[]
[]
[]
[]
[]
[]
[]
[]
[]
[]
[]
[]
[]
[]
[]
[]
[]
[]
[]
[]
[]
[]
[]
[]
[]
[]
[]
[]
[]
[]
[]
[]
[]
[]
[]
[]
[]
[]
[]
[]
[]
[]
[]
[]
[]
[]
[]
[]
[]
[]
[]
[]
[]
[]
[]
[]
[]
[]
[]
[]
[]
[]
[]
[]
[]
[]
[]
[]
[]
[]
[]
[]
[]
[]
[]
[]
[]
[]
[]
[]
[]
[]
[]
[]
[]
[]
[]
[]
[]
[]
[]
[]
[]
[]
[]
[]
[]
[]
[]
[]
[]
[]
[]
[]
[]
[]
[]
[]
[]
[]
[]
[]
[]
[]
[]
[]
[]
[]
[]
[]
[]
[]
[]
[]
[]
[]
[]
[]
[]
[]
[]
[]
[]
[]
[]
[]
[]
[]
[]
[]
[]
[]
[]
[]
[]
[]
[]
[]
[]
[]
[]
[]
[]
[]
[]
[]
[]
[]
[]
[]
[]
[]
[]
[]
[]
[]
[]
[]
[]
[]
[]
[]
[]
[]
[]
[]
[]
[]
[]
[]
[]
[]
[]
[]
[]
[]
[]
[]
[]
[]
[]
[]
[]
[]
[]
[]
[]
[]
[]
[]
[]
[]
[]
[]
[]
[]
[]
[]
[]
[]
[]
[]
[]
[]
[]
[]
[]
[]
[]
[]
[]
[]
[]
[]
[]
[]
[]
[]
[]
[]
[]
[]
[]
[]
[]
[]
[]
[]
[]
[]
[]
[]
[]
[]
[]
[]
[]
[]
[]
[]
[]
[]
[]
[]
[]
[]
[]
[]
[]
[]
[]
[]
[]
[]
[]
[]
[]
[]
[]
[]
[]
[]
[]
[]
[]
[]
[]
[]
[]
[]
[]
[]
[]
[]
[]
[]
[]
[]
[]
[]
[]
[]
[]
[]
[]
[]
[]
[]
[]
[]
[]
[]
[]
[]
[]
[]
[]
[]
[]
[]
[]
[]
[]
[]
[]
[]
[]
[]
[]
[]
[]
[]
[]
[]
[]
[]
[]
[]
[]
[]
[]
[]
[]
[]
[]
[]
[]
[]
[]
[]
[]
[]
[]
[]
[]
[]
[]
[]
[]
[]
[]
[]
[]
[]
[]
[]
[]
[]
[]
[]
[]
[]
[]
[]
[]
[]
[]
[]
[]
[]
[]
[]
[]
[]
[]
[]
[]
[]
[]
[]
[]
[]
[]
[]
[]
[]
[]
[]
[]
[]
[]
[]
[]
[]
[]
[]
[]
[]
[]
[]
[]
[]
[]
[]
[]
[]
[]
[]
[]
[]
[]
[]
[]
[]
[]
[]
[]
[]
[]
[]
[]
[]
[]
[]
[]
[]
[]
[]
[]
[]
[]
[]
[]
[]
[]
[]
[]
[]
[]
[]
[]
[]
[]
[]
[]
[]
[]
[]
[]
[]
[]
[]
[]
[]
[]
[]
[]
[]
[]
[]
[]
[]
[]
[]
[]
[]
[]
[]
[]
[]
[]
[]
[]
[]
[]
[]
[]
[]
[]
[]
[]
[]
[]
[]
[]
[]
[]
[]
[]
[]
[]
[]
[]
[]
[]
[]
[]
[]
[]
[]
[]
[]
[]
[]
[]
[]
[]
[]
[]
[]
[]
[]
[]
[]
[]
[]
[]
[]
[]
[]
[]
[]
[]
[]
[]
[]
[]
[]
[]
[]
[]
[]
[]
[]
[]
[]
[]
[]
[]
[]
[]
[]
[]
[]
[]
[]
[]
[]
[]
[]
[]
[]
[]
[]
[]
[]
[]
[]
[]
[]
[]
[]
[]
[]
[]
[]
[]
[]
[]
[]
[]
[]
[]
[]
[]
[]
[]
[]
[]
[]
[]
[]
[]
[]
[]
[]
[]
[]
[]
[]
[]
[]
[]
[]
[]
[]
[]
[]
[]
[]
[]
[]
[]
[]
[]
[]
[]
[]
[]
[]
[]
[]
[]
[]
[]
[]
[]
[]
[]
[]
[]
[]
[]
[]
[]
[]
[]
[]
[]
[]
[]
[]
[]
[]
[]
[]
[]
[]
[]
[]
[]
[]
[]
[]
[]
[]
[]
[]
[]
[]
[]
[]
[]
[]
[]
[]
[]
[]
[]
[]
[]
[]
[]
[]
[]
[]
[]
[]
[]
[]
[]
[]
[]
[]
[]
[]
[]
[]
[]
[]
[]
[]
[]
[]
[]
[]
[]
[]
[]
[]
[]
[]
[]
[]
[]
[]
[]
[]
[]
[]
[]
[]
[]
[]
[]
[]
[]
[]
[]
[]
[]
[]
[]
[]
[]
[]
[]
[]
[]
[]
[]
[]
[]
[]
[]
[]
[]
[]
[]
[]
[]
[]
[]
[]
[]
[]
[]
[]
[]
[]
[]
[]
[]
[]
[]
[]
[]
[]
[]
[]
[]
[]
[]
[]
[]
[]
[]
[]
[]
[]
[]
[]
[]
[]
[]
[]
[]
[]
[]
[]
[]
[]
[]
[]
[]
[]
[]
[]
[]
[]
[]
[]
[]
[]
[]
[]
[]
[]
[]
[]
[]
[]
[]
[]
[]
[]
[]
[]
[]
[]
[]
[]
[]
[]
[]
[]
[]
[]
[]
[]
[]
[]
[]
[]
[]
[]
[]
[]
[]
[]
[]
[]
[]
[]
[]
[]
[]
[]
[]
[]
[]
[]
[]
[]
[]
[]
[]
[]
[]
[]
[]
[]
[]
[]
[]
[]
[]
[]
[]
[]
[]
[]
[]
[]
[]
[]
[]
[]
[]
[]
[]
[]
[]
[]
[]
[]
[]
[]
[]
[]
[]
[]
[]
[]
[]
[]
[]
[]
[]
[]
[]
[]
[]
[]
[]
[]
[]
[]
[]
[]
[]
[]
[]
[]
[]
[]
[]
[]
[]
[]
[]
[]
[]
[]
[]
[]
[]
[]
[]
[]
[]
[]
[]
[]
[]
[]
[]
[]
[]
[]
[]
[]
[]
[]
[]
[]
[]
[]
[]
[]
[]
[]
[]
[]
[]
[]
[]
[]
[]
[]
[]
[]
[]
[]
[]
[]
[]
[]
[]
[]
[]
[]
[]
[]
[]
[]
[]
[]
[]
[]
[]
[]
[]
[]
[]
[]
[]
[]
[]
[]
[]
[]
[]
[]
[]
[]
[]
[]
[]
[]
[]
[]
[]
[]
[]
[]
[]
[]
[]
[]
[]
[]
[]
[]
[]
[]
[]
[]
[]
[]
[]
[]
[]
[]
[]
[]
[]
[]
[]
[]
[]
[]
[]
[]
[]
[]
[]
[]
[]
[]
[]
[]
[]
[]
[]
[]
[]
[]
[]
[]
[]
[]
[]
[]
[]
[]
[]
[]
[]
[]
[]
[]
[]
[]
[]
[]
[]
[]
[]
[]
[]
[]
[]
[]
[]
[]
[]
[]
[]
[]
[]
[]
[]
[]
[]
[]
[]
[]
[]
[]
[]
[]
[]
[]
[]
[]
[]
[]
[]
[]
[]
[]
[]
[]
[]
[]
[]
[]
[]
[]
[]
[]
[]
[]
[]
[]
[]
[]
[]
[]
[]
[]
[]
[]
[]
[]
[]
[]
[]
[]
[]
[]
[]
[]
[]
[]
[]
[]
[]
[]
[]
[]
[]
[]
[]
[]
[]
[]
[]
[]
[]
[]
[]
[]
[]
[]
[]
[]
[]
[]
[]
[]
[]
[]
[]
[]
[]
[]
[]
[]
[]
[]
[]
[]
[]
[]
[]
[]
[]
[]
[]
[]
[]
[]
[]
[]
[]
[]
[]
[]
[]
[]
[]
[]
[]
[]
[]
[]
[]
[]
[]
[]
[]
[]
[]
[]
[]
[]
[]
[]
[]
[]
[]
[]
[]
[]
[]
[]
[]
[]
[]
[]
[]
[]
[]
[]
[]
[]
[]
[]
[]
[]
[]
[]
[]
[]
[]
[]
[]
[]
[]
[]
[]
[]
[]
[]
[]
[]
[]
[]
[]
[]
[]
[]
[]
[]
[]
[]
[]
[]
[]
[]
[]
[]
[]
[]
[]
[]
[]
[]
[]
[]
[]
[]
[]
[]
[]
[]
[]
[]
[]
[]
[]
[]
[]
[]
[]
[]
[]
[]
[]
[]
[]
[]
[]
[]
[]
[]
[]
[]
[]
[]
[]
[]
[]
[]
[]
[]
[]
[]
[]
[]
[]
[]
[]
[]
[]
[]
[]
[]
[]
[]
[]
[]
[]
[]
[]
[]
[]
[]
[]
[]
[]
[]
[]
[]
[]
[]
[]
[]
[]
[]
[]
[]
[]
[]
[]
[]
[]
[]
[]
[]
[]
[]
[]
[]
[]
[]
[]
[]
[]
[]
[]
[]
[]
[]
[]
[]
[]
[]
[]
[]
[]
[]
[]
[]
[]
[]
[]
[]
[]
[]
[]
[]
[]
[]
[]
[]
[]
[]
[]
[]
[]
[]
[]
[]
[]
[]
[]
[]
[]
[]
[]
[]
[]
[]
[]
[]
[]
[]
[]
[]
[]
[]
[]
[]
[]
[]
[]
[]
[]
[]
[]
[]
[]
[]
[]
[]
[]
[]
[]
[]
[]
[]
[]
[]
[]
[]
[]
[]
[]
[]
[]
[]
[]
[]
[]
[]
[]
[]
[]
[]
[]
[]
[]
[]
[]
[]
[]
[]
[]
[]
[]
[]
[]
[]
[]
[]
[]
[]
[]
[]
[]
[]
[]
[]
[]
[]
[]
[]
[]
[]
[]
[]
[]
[]
[]
[]
[]
[]
[]
[]
[]
[]
[]
[]
[]
[]
[]
[]
[]
[]
[]
[]
[]
[]
[]
[]
[]
[]
[]
[]
[]
[]
[]
[]
[]
[]
[]
[]
[]
[]
[]
[]
[]
[]
[]
[]
[]
[]
[]
[]
[]
[]
[]
[]
[]
[]
[]
[]
[]
[]
[]
[]
[]
[]
[]
[]
[]
[]
[]
[]
[]
[]
[]
[]
[]
[]
[]
[]
[]
[]
[]
[]
[]
[]
[]
[]
[]
[]
[]
[]
[]
[]
[]
[]
[]
[]
[]
[]
[]
[]
[]
[]
[]
[]
[]
[]
[]
[]
[]
[]
[]
[]
[]
[]
[]
[]
[]
[]
[]
[]
[]
[]
[]
[]
[]
[]
[]
[]
[]
[]
[]
[]
[]
[]
[]
[]
[]
[]
[]
[]
[]
[]
[]
[]
[]
[]
[]
[]
[]
[]
[]
[]
[]
[]
[]
[]
[]
[]
[]
[]
[]
[]
[]
[]
[]
[]
[]
[]
[]
[]
[]
[]
[]
[]
[]
[]
[]
[]
[]
[]
[]
[]
[]
[]
[]
[]
[]
[]
[]
[]
[]
[]
[]
[]
[]
[]
[]
[]
[]
[]
[]
[]
[]
[]
[]
[]
[]
[]
[]
[]
[]
[]
[]
[]
[]
[]
[]
[]
[]
[]
[]
[]
[]
[]
[]
[]
[]
[]
[]
[]
[]
[]
[]
[]
[]
[]
[]
[]
[]
[]
[]
[]
[]
[]
[]
[]
[]
[]
[]
[]
[]
[]
[]
[]
[]
[]
[]
[]
[]
[]
[]
[]
[]
[]
[]
[]
[]
[]
[]
[]
[]
[]
[]
[]
[]
[]
[]
[]
[]
[]
[]
[]
[]
[]
[]
[]
[]
[]
[]
[]
[]
[]
[]
[]
[]
[]
[]
[]
[]
[]
[]
[]
[]
[]
[]
[]
[]
[]
[]
[]
[]
[]
[]
[]
[]
[]
[]
[]
[]
[]
[]
[]
[]
[]
[]
[]
[]
[]
[]
[]
[]
[]
[]
[]
[]
[]
[]
[]
[]
[]
[]
[]
[]
[]
[]
[]
[]
[]
[]
[]
[]
[]
[]
[]
[]
[]
[]
[]
[]
[]
[]
[]
[]
[]
[]
[]
[]
[]
[]
[]
[]
[]
[]
[]
[]
[]
[]
[]
[]
[]
[]
[]
[]
[]
[]
[]
[]
[]
[]
[]
[]
[]
[]
[]
[]
[]
[]
[]
[]
[]
[]
[]
[]
[]
[]
[]
[]
[]
[]
[]
[]
[]
[]
[]
[]
[]
[]
[]
[]
[]
[]
[]
[]
[]
[]
[]
[]
[]
[]
[]
[]
[]
[]
[]
[]
[]
[]
[]
[]
[]
[]
[]
[]
[]
[]
[]
[]
[]
[]
[]
[]
[]
[]
[]
[]
[]
[]
[]
[]
[]
[]
[]
[]
[]
[]
[]
[]
[]
[]
[]
[]
[]
[]
[]
[]
[]
[]
[]
[]
[]
[]
[]
[]
[]
[]
[]
[]
[]
[]
[]
[]
[]
[]
[]
[]
[]
[]
[]
[]
[]
[]
[]
[]
[]
[]
[]
[]
[]
[]
[]
[]
[]
[]
[]
[]
[]
[]
[]
[]
[]
[]
[]
[]
[]
[]
[]
[]
[]
[]
[]
[]
[]
[]
[]
[]
[]
[]
[]
[]
[]
[]
[]
[]
[]
[]
[]
[]
[]
[]
[]
[]
[]
[]
[]
[]
[]
[]
[]
[]
[]
[]
[]
[]
[]
[]
[]
[]
[]
[]
[]
[]
[]
[]
[]
[]
[]
[]
[]
[]
[]
[]
[]
[]
[]
[]
[]
[]
[]
[]
[]
[]
[]
[]
[]
[]
[]
[]
[]
[]
[]
[]
[]
[]
[]
[]
[]
[]
[]
[]
[]
[]
[]
[]
[]
[]
[]
[]
[]
[]
[]
[]
[]
[]
[]
[]
[]
[]
[]
[]
[]
[]
[]
[]
[]
[]
[]
[]
[]
[]
[]
[]
[]
[]
[]
[]
[]
[]
[]
[]
[]
[]
[]
[]
[]
[]
[]
[]
[]
[]
[]
[]
[]
[]
[]
[]
[]
[]
[]
[]
[]
[]
[]
[]
[]
[]
[]
[]
[]
[]
[]
[]
[]
[]
[]
[]
[]
[]
[]
[]
[]
[]
[]
[]
[]
[]
[]
[]
[]
[]
[]
[]
[]
[]
[]
[]
[]
[]
[]
[]
[]
[]
[]
[]
[]
[]
[]
[]
[]
[]
[]
[]
[]
[]
[]
[]
[]
[]
[]
[]
[]
[]
[]
[]
[]
[]
[]
[]
[]
[]
[]
[]
[]
[]
[]
[]
[]
[]
[]
[]
[]
[]
[]
[]
[]
[]
[]
[]
[]
[]
[]
[]
[]
[]
[]
[]
[]
[]
[]
[]
[]
[]
[]
[]
[]
[]
[]
[]
[]
[]
[]
[]
[]
[]
[]
[]
[]
[]
[]
[]
[]
[]
[]
[]
[]
[]
[]
[]
[]
[]
[]
[]
[]
[]
[]
[]
[]
[]
[]
[]
[]
[]
[]
[]
[]
[]
[]
[]
[]
[]
[]
[]
[]
[]
[]
[]
[]
[]
[]
[]
[]
[]
[]
[]
[]
[]
[]
[]
[]
[]
[]
[]
[]
[]
[]
[]
[]
[]
[]
[]
[]
[]
[]
[]
[]
[]
[]
[]
[]
[]
[]
[]
[]
[]
[]
[]
[]
[]
[]
[]
[]
[]
[]
[]
[]
[]
[]
[]
[]
[]
[]
[]
[]
[]
[]
[]
[]
[]
[]
[]
[]
[]
[]
[]
[]
[]
[]
[]
[]
[]
[]
[]
[]
[]
[]
[]
[]
[]
[]
[]
[]
[]
[]
[]
[]
[]
[]
[]
[]
[]
[]
[]
[]
[]
[]
[]
[]
[]
[]
[]
[]
[]
[]
[]
[]
[]
[]
[]
[]
[]
[]
[]
[]
[]
[]
[]
[]
[]
[]
[]
[]
[]
[]
[]
[]
[]
[]
[]
[]
[]
[]
[]
[]
[]
[]
[]
[]
[]
[]
[]
[]
[]
[]
[]
[]
[]
[]
[]
[]
[]
[]
[]
[]
[]
[]
[]
[]
[]
[]
[]
[]
[]
[]
[]
[]
[]
[]
[]
[]
[]
[]
[]
[]
[]
[]
[]
[]
[]
[]
[]
[]
[]
[]
[]
[]
[]
[]
[]
[]
[]
[]
[]
[]
[]
[]
[]
[]
[]
[]
[]
[]
[]
[]
[]
[]
[]
[]
[]
[]
[]
[]
[]
[]
[]
[]
[]
[]
[]
[]
[]
[]
[]
[]
[]
[]
[]
[]
[]
[]
[]
[]
[]
[]
[]
[]
[]
[]
[]
[]
[]
[]
[]
[]
[]
[]
[]
[]
[]
[]
[]
[]
[]
[]
[]
[]
[]
[]
[]
[]
[]
[]
[]
[]
[]
[]
[]
[]
[]
[]
[]
[]
[]
[]
[]
[]
[]
[]
[]
[]
[]
[]
[]
[]
[]
[]
[]
[]
[]
[]
[]
[]
[]
[]
[]
[]
[]
[]
[]
[]
[]
[]
[]
[]
[]
[]
[]
[]
[]
[]
[]
[]
[]
[]
[]
[]
[]
[]
[]
[]
[]
[]
[]
[]
[]
[]
[]
[]
[]
[]
[]
[]
[]
[]
[]
[]
[]
[]
[]
[]
[]
[]
[]
[]
[]
[]
[]
[]
[]
[]
[]
[]
[]
[]
[]
[]
[]
[]
[]
[]
[]
[]
[]
[]
[]
[]
[]
[]
[]
[]
[]
[]
[]
[]
[]
[]
[]
[]
[]
[]
[]
[]
[]
[]
[]
[]
[]
[]
[]
[]
[]
[]
[]
[]
[]
[]
[]
[]
[]
[]
[]
[]
[]
[]
[]
[]
[]
[]
[]
[]
[]
[]
[]
[]
[]
[]
[]
[]
[]
[]
[]
[]
[]
[]
[]
[]
[]
[]
[]
[]
[]
[]
[]
[]
[]
[]
[]
[]
[]
[]
[]
[]
[]
[]
[]
[]
[]
[]
[]
[]
[]
[]
[]
[]
[]
[]
[]
[]
[]
[]
[]
[]
[]
[]
[]
[]
[]
[]
[]
[]
[]
[]
[]
[]
[]
[]
[]
[]
[]
[]
[]
[]
[]
[]
[]
[]
[]
[]
[]
[]
[]
[]
[]
[]
[]
[]
[]
[]
[]
[]
[]
[]
[]
[]
[]
[]
[]
[]
[]
[]
[]
[]
[]
[]
[]
[]
[]
[]
[]
[]
[]
[]
[]
[]
[]
[]
[]
[]
[]
[]
[]
[]
[]
[]
[]
[]
[]
[]
[]
[]
[]
[]
[]
[]
[]
[]
[]
[]
[]
[]
[]
[]
[]
[]
[]
[]
[]
[]
[]
[]
[]
[]
[]
[]
[]
[]
[]
[]
[]
[]
[]
[]
[]
[]
[]
[]
[]
[]
[]
[]
[]
[]
[]
[]
[]
[]
[]
[]
[]
[]
[]
[]
[]
[]
[]
[]
[]
[]
[]
[]
[]
[]
[]
[]
[]
[]
[]
[]
[]
[]
[]
[]
[]
[]
[]
[]
[]
[]
[]
[]
[]
[]
[]
[]
[]
[]
[]
[]
[]
[]
[]
[]
[]
[]
[]
[]
[]
[]
[]
[]
[]
[]
[]
[]
[]
[]
[]
[]
[]
[]
[]
[]
[]
[]
[]
[]
[]
[]
[]
[]
[]
[]
[]
[]
[]
[]
[]
[]
[]
[]
[]
[]
[]
[]
[]
[]
[]
[]
[]
[]
[]
[]
[]
[]
[]
[]
[]
[]
[]
[]
[]
[]
[]
[]
[]
[]
[]
[]
[]
[]
[]
[]
[]
[]
[]
[]
[]
[]
[]
[]
[]
[]
[]
[]
[]
[]
[]
[]
[]
[]
[]
[]
[]
[]
[]
[]
[]
[]
[]
[]
[]
[]
[]
[]
[]
[]
[]
[]
[]
[]
[]
[]
[]
[]
[]
[]
[]
[]
[]
[]
[]
[]
[]
[]
[]
[]
[]
[]
[]
[]
[]
[]
[]
[]
[]
[]
[]
[]
[]
[]
[]
[]
[]
[]
[]
[]
[]
[]
[]
[]
[]
[]
[]
[]
[]
[]
[]
[]
[]
[]
[]
[]
[]
[]
[]
[]
[]
[]
[]
[]
[]
[]
[]
[]
[]
[]
[]
[]
[]
[]
[]
[]
[]
[]
[]
[]
[]
[]
[]
[]
[]
[]
[]
[]
[]
[]
[]
[]
[]
[]
[]
[]
[]
[]
[]
[]
[]
[]
[]
[]
[]
[]
[]
[]
[]
[]
[]
[]
[]
[]
[]
[]
[]
[]
[]
[]
[]
[]
[]
[]
[]
[]
[]
[]
[]
[]
[]
[]
[]
[]
[]
[]
[]
[]
[]
[]
[]
[]
[]
[]
[]
[]
[]
[]
[]
[]
[]
[]
[]
[]
[]
[]
[]
[]
[]
[]
[]
[]
[]
[]
[]
[]
[]
[]
[]
[]
[]
[]
[]
[]
[]
[]
[]
[]
[]
[]
[]
[]
[]
[]
[]
[]
[]
[]
[]
[]
[]
[]
[]
[]
[]
[]
[]
[]
[]
[]
[]
[]
[]
[]
[]
[]
[]
[]
[]
[]
[]
[]
[]
[]
[]
[]
[]
[]
[]
[]
[]
[]
[]
[]
[]
[]
[]
[]
[]
[]
[]
[]
[]
[]
[]
[]
[]
[]
[]
[]
[]
[]
[]
[]
[]
[]
[]
[]
[]
[]
[]
[]
[]
[]
[]
[]
[]
[]
[]
[]
[]
[]
[]
[]
[]
[]
[]
[]
[]
[]
[]
[]
[]
[]
[]
[]
[]
[]
[]
[]
[]
[]
[]
[]
[]
[]
[]
[]
[]
[]
[]
[]
[]
[]
[]
[]
[]
[]
[]
[]
[]
[]
[]
[]
[]
[]
[]
[]
[]
[]
[]
[]
[]
[]
[]
[]
[]
[]
[]
[]
[]
[]
[]
[]
[]
[]
[]
[]
[]
[]
[]
[]
[]
[]
[]
[]
[]
[]
[]
[]
[]
[]
[]
[]
[]
[]
[]
[]
[]
[]
[]
[]
[]
[]
[]
[]
[]
[]
[]
[]
[]
[]
[]
[]
[]
[]
[]
[]
[]
[]
[]
[]
[]
[]
[]
[]
[]
[]
[]
[]
[]
[]
[]
[]
[]
[]
[]
[]
[]
[]
[]
[]
[]
[]
[]
[]
[]
[]
[]
[]
[]
[]
[]
[]
[]
[]
[]
[]
[]
[]
[]
[]
[]
[]
[]
[]
[]
[]
[]
[]
[]
[]
[]
[]
[]
[]
[]
[]
[]
[]
[]
[]
[]
[]
[]
[]
[]
[]
[]
[]
[]
[]
[]
[]
[]
[]
[]
[]
[]
[]
[]
[]
[]
[]
[]
[]
[]
[]
[]
[]
[]
[]
[]
[]
[]
[]
[]
[]
[]
[]
[]
[]
[]
[]
[]
[]
[]
[]
[]
[]
[]
[]
[]
[]
[]
[]
[]
[]
[]
[]
[]
[]
[]
[]
[]
[]
[]
[]
[]
[]
[]
[]
[]
[]
[]
[]
[]
[]
[]
[]
[]
[]
[]
[]
[]
[]
[]
[]
[]
[]
[]
[]
[]
[]
[]
[]
[]
[]
[]
[]
[]
[]
[]
[]
[]
[]
[]
[]
[]
[]
[]
[]
[]
[]
[]
[]
[]
[]
[]
[]
[]
[]
[]
[]
[]
[]
[]
[]
[]
[]
[]
[]
[]
[]
[]
[]
[]
[]
[]
[]
[]
[]
[]
[]
[]
[]
[]
[]
[]
[]
[]
[]
[]
[]
[]
[]
[]
[]
[]
[]
[]
[]
[]
[]
[]
[]
[]
[]
[]
[]
[]
[]
[]
[]
[]
[]
[]
[]
[]
[]
[]
[]
[]
[]
[]
[]
[]
[]
[]
[]
[]
[]
[]
[]
[]
[]
[]
[]
[]
[]
[]
[]
[]
[]
[]
[]
[]
[]
[]
[]
[]
[]
[]
[]
[]
[]
[]
[]
[]
[]
[]
[]
[]
[]
[]
[]
[]
[]
[]
[]
[]
[]
[]
[]
[]
[]
[]
[]
[]
[]
[]
[]
[]
[]
[]
[]
[]
[]
[]
[]
[]
[]
[]
[]
[]
[]
[]
[]
[]
[]
[]
[]
[]
[]
[]
[]
[]
[]
[]
[]
[]
[]
[]
[]
[]
[]
[]
[]
[]
[]
[]
[]
[]
[]
[]
[]
[]
[]
[]
[]
[]
[]
[]
[]
[]
[]
[]
[]
[]
[]
[]
[]
[]
[]
[]
[]
[]
[]
[]
[]
[]
[]
[]
[]
[]
[]
[]
[]
[]
[]
[]
[]
[]
[]
[]
[]
[]
[]
[]
[]
[]
[]
[]
[]
[]
[]
[]
[]
[]
[]
[]
[]
[]
[]
[]
[]
[]
[]
[]
[]
[]
[]
[]
[]
[]
[]
[]
[]
[]
[]
[]
[]
[]
[]
[]
[]
[]
[]
[]
[]
[]
[]
[]
[]
[]
[]
[]
[]
[]
[]
[]
[]
[]
[]
[]
[]
[]
[]
[]
[]
[]
[]
[]
[]
[]
[]
[]
[]
[]
[]
[]
[]
[]
[]
[]
[]
[]
[]
[]
[]
[]
[]
[]
[]
[]
[]
[]
[]
[]
[]
[]
[]
[]
[]
[]
[]
[]
[]
[]
[]
[]
[]
[]
[]
[]
[]
[]
[]
[]
[]
[]
[]
[]
[]
[]
[]
[]
[]
[]
[]
[]
[]
[]
[]
[]
[]
[]
[]
[]
[]
[]
[]
[]
[]
[]
[]
[]
[]
[]
[]
[]
[]
[]
[]
[]
[]
[]
[]
[]
[]
[]
[]
[]
[]
[]
[]
[]
[]
[]
[]
[]
[]
[]
[]
[]
[]
[]
[]
[]
[]
[]
[]
[]
[]
[]
[]
[]
[]
[]
[]
[]
[]
[]
[]
[]
[]
[]
[]
[]
[]
[]
[]
[]
[]
[]
[]
[]
[]
[]
[]
[]
[]
[]
[]
[]
[]
[]
[]
[]
[]
[]
[]
[]
[]
[]
[]
[]
[]
[]
[]
[]
[]
[]
[]
[]
[]
[]
[]
[]
[]
[]
[]
[]
[]
[]
[]
[]
[]
[]
[]
[]
[]
[]
[]
[]
[]
[]
[]
[]
[]
[]
[]
[]
[]
[]
[]
[]
[]
[]
[]
[]
[]
[]
[]
[]
[]
[]
[]
[]
[]
[]
[]
[]
[]
[]
[]
[]
[]
[]
[]
[]
[]
[]
[]
[]
[]
[]
[]
[]
[]
[]
[]
[]
[]
[]
[]
[]
[]
[]
[]
[]
[]
[]
[]
[]
[]
[]
[]
[]
[]
[]
[]
[]
[]
[]
[]
[]
[]
[]
[]
[]
[]
[]
[]
[]
[]
[]
[]
[]
[]
[]
[]
[]
[]
[]
[]
[]
[]
[]
[]
[]
[]
[]
[]
[]
[]
[]
[]
[]
[]
[]
[]
[]
[]
[]
[]
[]
[]
[]
[]
[]
[]
[]
[]
[]
[]
[]
[]
[]
[]
[]
[]
[]
[]
[]
[]
[]
[]
[]
[]
[]
[]
[]
[]
[]
[]
[]
[]
[]
[]
[]
[]
[]
[]
[]
[]
[]
[]
[]
[]
[]
[]
[]
[]
[]
[]
[]
[]
[]
[]
[]
[]
[]
[]
[]
[]
[]
[]
[]
[]
[]
[]
[]
[]
[]
[]
[]
[]
[]
[]
[]
[]
[]
[]
[]
[]
[]
[]
[]
[]
[]
[]
[]
[]
[]
[]
[]
[]
[]
[]
[]
[]
[]
[]
[]
[]
[]
[]
[]
[]
[]
[]
[]
[]
[]
[]
[]
[]
[]
[]
[]
[]
[]
[]
[]
[]
[]
[]
[]
[]
[]
[]
[]
[]
[]
[]
[]
[]
[]
[]
[]
[]
[]
[]
[]
[]
[]
[]
[]
[]
[]
[]
[]
[]
[]
[]
[]
[]
[]
[]
[]
[]
[]
[]
[]
[]
[]
[]
[]
[]
[]
[]
[]
[]
[]
[]
[]
[]
[]
[]
[]
[]
[]
[]
[]
[]
[]
[]
[]
[]
[]
[]
[]
[]
[]
[]
[]
[]
[]
[]
[]
[]
[]
[]
[]
[]
[]
[]
[]
[]
[]
[]
[]
[]
[]
[]
[]
[]
[]
[]
[]
[]
[]
[]
[]
[]
[]
[]
[]
[]
[]
[]
[]
[]
[]
[]
[]
[]
[]
[]
[]
[]
[]
[]
[]
[]
[]
[]
[]
[]
[]
[]
[]
[]
[]
[]
[]
[]
[]
[]
[]
[]
[]
[]
[]
[]
[]
[]
[]
[]
[]
[]
[]
[]
[]
[]
[]
[]
[]
[]
[]
[]
[]
[]
[]
[]
[]
[]
[]
[]
[]
[]
[]
[]
[]
[]
[]
[]
[]
[]
[]
[]
[]
[]
[]
[]
[]
[]
[]
[]
[]
[]
[]
[]
[]
[]
[]
[]
[]
[]
[]
[]
[]
[]
[]
[]
[]
[]
[]
[]
[]
[]
[]
[]
[]
[]
[]
[]
[]
[]
[]
[]
[]
[]
[]
[]
[]
[]
[]
[]
[]
[]
[]
[]
[]
[]
[]
[]
[]
[]
[]
[]
[]
[]
[]
[]
[]
[]
[]
[]
[]
[]
[]
[]
[]
[]
[]
[]
[]
[]
[]
[]
[]
[]
[]
[]
[]
[]
[]
[]
[]
[]
[]
[]
[]
[]
[]
[]
[]
[]
[]
[]
[]
[]
[]
[]
[]
[]
[]
[]
[]
[]
[]
[]
[]
[]
[]
[]
[]
[]
[]
[]
[]
[]
[]
[]
[]
[]
[]
[]
[]
[]
[]
[]
[]
[]
[]
[]
[]
[]
[]
[]
[]
[]
[]
[]
[]
[]
[]
[]
[]
[]
[]
[]
[]
[]
[]
[]
[]
[]
[]
[]
[]
[]
[]
[]
[]
[]
[]
[]
[]
[]
[]
[]
[]
[]
[]
[]
[]
[]
[]
[]
[]
[]
[]
[]
[]
[]
[]
[]
[]
[]
[]
[]
[]
[]
[]
[]
[]
[]
[]
[]
[]
[]
[]
[]
[]
[]
[]
[]
[]
[]
[]
[]
[]
[]
[]
[]
[]
[]
[]
[]
[]
[]
[]
[]
[]
[]
[]
[]
[]
[]
[]
[]
[]
[]
[]
[]
[]
[]
[]
[]
[]
[]
[]
[]
[]
[]
[]
[]
[]
[]
[]
[]
[]
[]
[]
[]
[]
[]
[]
[]
[]
[]
[]
[]
[]
[]
[]
[]
[]
[]
[]
[]
[]
[]
[]
[]
[]
[]
[]
[]
[]
[]
[]
[]
[]
[]
[]
[]
[]
[]
[]
[]
[]
[]
[]
[]
[]
[]
[]
[]
[]
[]
[]
[]
[]
[]
[]
[]
[]
[]
[]
[]
[]
[]
[]
[]
[]
[]
[]
[]
[]
[]
[]
[]
[]
[]
[]
[]
[]
[]
[]
[]
[]
[]
[]
[]
[]
[]
[]
[]
[]
[]
[]
[]
[]
[]
[]
[]
[]
[]
[]
[]
[]
[]
[]
[]
[]
[]
[]
[]
[]
[]
[]
[]
[]
[]
[]
[]
[]
[]
[]
[]
[]
[]
[]
[]
[]
[]
[]
[]
[]
[]
[]
[]
[]
[]
[]
[]
[]
[]
[]
[]
[]
[]
[]
[]
[]
[]
[]
[]
[]
[]
[]
[]
[]
[]
[]
[]
[]
[]
[]
[]
[]
[]
[]
[]
[]
[]
[]
[]
[]
[]
[]
[]
[]
[]
[]
[]
[]
[]
[]
[]
[]
[]
[]
[]
[]
[]
[]
[]
[]
[]
[]
[]
[]
[]
[]
[]
[]
[]
[]
[]
[]
[]
[]
[]
[]
[]
[]
[]
[]
[]
[]
[]
[]
[]
[]
[]
[]
[]
[]
[]
[]
[]
[]
[]
[]
[]
[]
[]
[]
[]
[]
[]
[]
[]
[]
[]
[]
[]
[]
[]
[]
[]
[]
[]
[]
[]
[]
[]
[]
[]
[]
[]
[]
[]
[]
[]
[]
[]
[]
[]
[]
[]
[]
[]
[]
[]
[]
[]
[]
[]
[]
[]
[]
[]
[]
[]
[]
[]
[]
[]
[]
[]
[]
[]
[]
[]
[]
[]
[]
[]
[]
[]
[]
[]
[]
[]
[]
[]
[]
[]
[]
[]
[]
[]
[]
[]
[]
[]
[]
[]
[]
[]
[]
[]
[]
[]
[]
[]
[]
[]
[]
[]
[]
[]
[]
[]
[]
[]
[]
[]
[]
[]
[]
[]
[]
[]
[]
[]
[]
[]
[]
[]
[]
[]
[]
[]
[]
[]
[]
[]
[]
[]
[]
[]
[]
[]
[]
[]
[]
[]
[]
[]
[]
[]
[]
[]
[]
[]
[]
[]
[]
[]
[]
[]
[]
[]
[]
[]
[]
[]
[]
[]
[]
[]
[]
[]
[]
[]
[]
[]
[]
[]
[]
[]
[]
[]
[]
[]
[]
[]
[]
[]
[]
[]
[]
[]
[]
[]
[]
[]
[]
[]
[]
[]
[]
[]
[]
[]
[]
[]
[]
[]
[]
[]
[]
[]
[]
[]
[]
[]
[]
[]
[]
[]
[]
[]
[]
[]
[]
[]
[]
[]
[]
[]
[]
[]
[]
[]
[]
[]
[]
[]
[]
[]
[]
[]
[]
[]
[]
[]
[]
[]
[]
[]
[]
[]
[]
[]
[]
[]
[]
[]
[]
[]
[]
[]
[]
[]
[]
[]
[]
[]
[]
[]
[]
[]
[]
[]
[]
[]
[]
[]
[]
[]
[]
[]
[]
[]
[]
[]
[]
[]
[]
[]
[]
[]
[]
[]
[]
[]
[]
[]
[]
[]
[]
[]
[]
[]
[]
[]
[]
[]
[]
[]
[]
[]
[]
[]
[]
[]
[]
[]
[]
[]
[]
[]
[]
[]
[]
[]
[]
[]
[]
[]
[]
[]
[]
[]
[]
[]
[]
[]
[]
[]
[]
[]
[]
[]
[]
[]
[]
[]
[]
[]
[]
[]
[]
[]
[]
[]
[]
[]
[]
[]
[]
[]
[]
[]
[]
[]
[]
[]
[]
[]
[]
[]
[]
[]
[]
[]
[]
[]
[]
[]
[]
[]
[]
[]
[]
[]
[]
[]
[]
[]
[]
[]
[]
[]
[]
[]
[]
[]
[]
[]
[]
[]
[]
[]
[]
[]
[]
[]
[]
[]
[]
[]
[]
[]
[]
[]
[]
[]
[]
[]
[]
[]
[]
[]
[]
[]
[]
[]
[]
[]
[]
[]
[]
[]
[]
[]
[]
[]
[]
[]
[]
[]
[]
[]
[]
[]
[]
[]
[]
[]
[]
[]
[]
[]
[]
[]
[]
[]
[]
[]
[]
[]
[]
[]
[]
[]
[]
[]
[]
[]
[]
[]
[]
[]
[]
[]
[]
[]
[]
[]
[]
[]
[]
[]
[]
[]
[]
[]
[]
[]
[]
[]
[]
[]
[]
[]
[]
[]
[]
[]
[]
[]
[]
[]
[]
[]
[]
[]
[]
[]
[]
[]
[]
[]
[]
[]
[]
[]
[]
[]
[]
[]
[]
[]
[]
[]
[]
[]
[]
[]
[]
[]
[]
[]
[]
[]
[]
[]
[]
[]
[]
[]
[]
[]
[]
[]
[]
[]
[]
[]
[]
[]
[]
[]
[]
[]
[]
[]
[]
[]
[]
[]
[]
[]
[]
[]
[]
[]
[]
[]
[]
[]
[]
[]
[]
[]
[]
[]
[]
[]
[]
[]
[]
[]
[]
[]
[]
[]
[]
[]
[]
[]
[]
[]
[]
[]
[]
[]
[]
[]
[]
[]
[]
[]
[]
[]
[]
[]
[]
[]
[]
[]
[]
[]
[]
[]
[]
[]
[]
[]
[]
[]
[]
[]
[]
[]
[]
[]
[]
[]
[]
[]
[]
[]
[]
[]
[]
[]
[]
[]
[]
[]
[]
[]
[]
[]
[]
[]
[]
[]
[]
[]
[]
[]
[]
[]
[]
[]
[]
[]
[]
[]
[]
[]
[]
[]
[]
[]
[]
[]
[]
[]
[]
[]
[]
[]
[]
[]
[]
[]
[]
[]
[]
[]
[]
[]
[]
[]
[]
[]
[]
[]
[]
[]
[]
[]
[]
[]
[]
[]
[]
[]
[]
[]
[]
[]
[]
[]
[]
[]
[]
[]
[]
[]
[]
[]
[]
[]
[]
[]
[]
[]
[]
[]
[]
[]
[]
[]
[]
[]
[]
[]
[]
[]
[]
[]
[]
[]
[]
[]
[]
[]
[]
[]
[]
[]
[]
[]
[]
[]
[]
[]
[]
[]
[]
[]
[]
[]
[]
[]
[]
[]
[]
[]
[]
[]
[]
[]
[]
[]
[]
[]
[]
[]
[]
[]
[]
[]
[]
[]
[]
[]
[]
[]
[]
[]
[]
[]
[]
[]
[]
[]
[]
[]
[]
[]
[]
[]
[]
[]
[]
[]
[]
[]
[]
[]
[]
[]
[]
[]
[]
[]
[]
[]
[]
[]
[]
[]
[]
[]
[]
[]
[]
[]
[]
[]
[]
[]
[]
[]
[]
[]
[]
[]
[]
[]
[]
[]
[]
[]
[]
[]
[]
[]
[]
[]
[]
[]
[]
[]
[]
[]
[]
[]
[]
[]
[]
[]
[]
[]
[]
[]
[]
[]
[]
[]
[]
[]
[]
[]
[]
[]
[]
[]
[]
[]
[]
[]
[]
[]
[]
[]
[]
[]
[]
[]
[]
[]
[]
[]
[]
[]
[]
[]
[]
[]
[]
[]
[]
[]
[]
[]
[]
[]
[]
[]
[]
[]
[]
[]
[]
[]
[]
[]
[]
[]
[]
[]
[]
[]
[]
[]
[]
[]
[]
[]
[]
[]
[]
[]
[]
[]
[]
[]
[]
[]
[]
[]
[]
[]
[]
[]
[]
[]
[]
[]
[]
[]
[]
[]
[]
[]
[]
[]
[]
[]
[]
[]
[]
[]
[]
[]
[]
[]
[]
[]
[]
[]
[]
[]
[]
[]
[]
[]
[]
[]
[]
[]
[]
[]
[]
[]
[]
[]
[]
[]
[]
[]
[]
[]
[]
[]
[]
[]
[]
[]
[]
[]
[]
[]
[]
[]
[]
[]
[]
[]
[]
[]
[]
[]
[]
[]
[]
[]
[]
[]
[]
[]
[]
[]
[]
[]
[]
[]
[]
[]
[]
[]
[]
[]
[]
[]
[]
[]
[]
[]
[]
[]
[]
[]
[]
[]
[]
[]
[]
[]
[]
[]
[]
[]
[]
[]
[]
[]
[]
[]
[]
[]
[]
[]
[]
[]
[]
[]
[]
[]
[]
[]
[]
[]
[]
[]
[]
[]
[]
[]
[]
[]
[]
[]
[]
[]
[]
[]
[]
[]
[]
[]
[]
[]
[]
[]
[]
[]
[]
[]
[]
[]
[]
[]
[]
[]
[]
[]
[]
[]
[]
[]
[]
[]
[]
[]
[]
[]
[]
[]
[]
[]
[]
[]
[]
[]
[]
[]
[]
[]
[]
[]
[]
[]
[]
[]
[]
[]
[]
[]
[]
[]
[]
[]
[]
[]
[]
[]
[]
[]
[]
[]
[]
[]
[]
[]
[]
[]
[]
[]
[]
[]
[]
[]
[]
[]
[]
[]
[]
[]
[]
[]
[]
[]
[]
[]
[]
[]
[]
[]
[]
[]
[]
[]
[]
[]
[]
[]
[]
[]
[]
[]
[]
[]
[]
[]
[]
[]
[]
[]
[]
[]
[]
[]
[]
[]
[]
[]
[]
[]
[]
[]
[]
[]
[]
[]
[]
[]
[]
[]
[]
[]
[]
[]
[]
[]
[]
[]
[]
[]
[]
[]
[]
[]
[]
[]
[]
[]
[]
[]
[]
[]
[]
[]
[]
[]
[]
[]
[]
[]
[]
[]
[]
[]
[]
[]
[]
[]
[]
[]
[]
[]
[]
[]
[]
[]
[]
[]
[]
[]
[]
[]
[]
[]
[]
[]
[]
[]
[]
[]
[]
[]
[]
[]
[]
[]
[]
[]
[]
[]
[]
[]
[]
[]
[]
[]
[]
[]
[]
[]
[]
[]
[]
[]
[]
[]
[]
[]
[]
[]
[]
[]
[]
[]
[]
[]
[]
[]
[]
[]
[]
[]
[]
[]
[]
[]
[]
[]
[]
[]
[]
[]
[]
[]
[]
[]
[]
[]
[]
[]
[]
[]
[]
[]
[]
[]
[]
[]
[]
[]
[]
[]
[]
[]
[]
[]
[]
[]
[]
[]
[]
[]
[]
[]
[]
[]
[]
[]
[]
[]
[]
[]
[]
[]
[]
[]
[]
[]
[]
[]
[]
[]
[]
[]
[]
[]
[]
[]
[]
[]
[]
[]
[]
[]
[]
[]
[]
[]
[]
[]
[]
[]
[]
[]
[]
[]
[]
[]
[]
[]
[]
[]
[]
[]
[]
[]
[]
[]
[]
[]
[]
[]
[]
[]
[]
[]
[]
[]
[]
[]
[]
[]
[]
[]
[]
[]
[]
[]
[]
[]
[]
[]
[]
[]
[]
[]
[]
[]
[]
[]
[]
[]
[]
[]
[]
[]
[]
[]
[]
[]
[]
[]
[]
[]
[]
[]
[]
[]
[]
[]
[]
[]
[]
[]
[]
[]
[]
[]
[]
[]
[]
[]
[]
[]
[]
[]
[]
[]
[]
[]
[]
[]
[]
[]
[]
[]
[]
[]
[]
[]
[]
[]
[]
[]
[]
[]
[]
[]
[]
[]
[]
[]
[]
[]
[]
[]
[]
[]
[]
[]
[]
[]
[]
[]
[]
[]
[]
[]
[]
[]
[]
[]
[]
[]
[]
[]
[]
[]
[]
[]
[]
[]
[]
[]
[]
[]
[]
[]
[]
[]
[]
[]
[]
[]
[]
[]
[]
[]
[]
[]
[]
[]
[]
[]
[]
[]
[]
[]
[]
[]
[]
[]
[]
[]
[]
[]
[]
[]
[]
[]
[]
[]
[]
[]
[]
[]
[]
[]
[]
[]
[]
[]
[]
[]
[]
[]
[]
[]
[]
[]
[]
[]
[]
[]
[]
[]
[]
[]
[]
[]
[]
[]
[]
[]
[]
[]
[]
[]
[]
[]
[]
[]
[]
[]
[]
[]
[]
[]
[]
[]
[]
[]
[]
[]
[]
[]
[]
[]
[]
[]
[]
[]
[]
[]
[]
[]
[]
[]
[]
[]
[]
[]
[]
[]
[]
[]
[]
[]
[]
[]
[]
[]
[]
[]
[]
[]
[]
[]
[]
[]
[]
[]
[]
[]
[]
[]
[]
[]
[]
[]
[]
[]
[]
[]
[]
[]
[]
[]
[]
[]
[]
[]
[]
[]
[]
[]
[]
[]
[]
[]
[]
[]
[]
[]
[]
[]
[]
[]
[]
[]
[]
[]
[]
[]
[]
[]
[]
[]
[]
[]
[]
[]
[]
[]
[]
[]
[]
[]
[]
[]
[]
[]
[]
[]
[]
[]
[]
[]
[]
[]
[]
[]
[]
[]
[]
[]
[]
[]
[]
[]
[]
[]
[]
[]
[]
[]
[]
[]
[]
[]
[]
[]
[]
[]
[]
[]
[]
[]
[]
[]
[]
[]
[]
[]
[]
[]
[]
[]
[]
[]
[]
[]
[]
[]
[]
[]
[]
[]
[]
[]
[]
[]
[]
[]
[]
[]
[]
[]
[]
[]
[]
[]
[]
[]
[]
[]
[]
[]
[]
[]
[]
[]
[]
[]
[]
[]
[]
[]
[]
[]
[]
[]
[]
[]
[]
[]
[]
[]
[]
[]
[]
[]
[]
[]
[]
[]
[]
[]
[]
[]
[]
[]
[]
[]
[]
[]
[]
[]
[]
[]
[]
[]
[]
[]
[]
[]
[]
[]
[]
[]
[]
[]
[]
[]
[]
[]
[]
[]
[]
[]
[]
[]
[]
[]
[]
[]
[]
[]
[]
[]
[]
[]
[]
[]
[]
[]
[]
[]
[]
[]
[]
[]
[]
[]
[]
[]
[]
[]
[]
[]
[]
[]
[]
[]
[]
[]
[]
[]
[]
[]
[]
[]
[]
[]
[]
[]
[]
[]
[]
[]
[]
[]
[]
[]
[]
[]
[]
[]
[]
[]
[]
[]
[]
[]
[]
[]
[]
[]
[]
[]
[]
[]
[]
[]
[]
[]
[]
[]
[]
[]
[]
[]
[]
[]
[]
[]
[]
[]
[]
[]
[]
[]
[]
[]
[]
[]
[]
[]
[]
[]
[]
[]
[]
[]
[]
[]
[]
[]
[]
[]
[]
[]
[]
[]
[]
[]
[]
[]
[]
[]
[]
[]
[]
[]
[]
[]
[]
[]
[]
[]
[]
[]
[]
[]
[]
[]
[]
[]
[]
[]
[]
[]
[]
[]
[]
[]
[]
[]
[]
[]
[]
[]
[]
[]
[]
[]
[]
[]
[]
[]
[]
[]
[]
[]
[]
[]
[]
[]
[]
[]
[]
[]
[]
[]
[]
[]
[]
[]
[]
[]
[]
[]
[]
[]
[]
[]
[]
[]
[]
[]
[]
[]
[]
[]
[]
[]
[]
[]
[]
[]
[]
[]
[]
[]
[]
[]
[]
[]
[]
[]
[]
[]
[]
[]
[]
[]
[]
[]
[]
[]
[]
[]
[]
[]
[]
[]
[]
[]
[]
[]
[]
[]
[]
[]
[]
[]
[]
[]
[]
[]
[]
[]
[]
[]
[]
[]
[]
[]
[]
[]
[]
[]
[]
[]
[]
[]
[]
[]
[]
[]
[]
[]
[]
[]
[]
[]
[]
[]
[]
[]
[]
[]
[]
[]
[]
[]
[]
[]
[]
[]
[]
[]
[]
[]
[]
[]
[]
[]
[]
[]
[]
[]
[]
[]
[]
[]
[]
[]
[]
[]
[]
[]
[]
[]
[]
[]
[]
[]
[]
[]
[]
[]
[]
[]
[]
[]
[]
[]
[]
[]
[]
[]
[]
[]
[]
[]
[]
[]
[]
[]
[]
[]
[]
[]
[]
[]
[]
[]
[]
[]
[]
[]
[]
[]
[]
[]
[]
[]
[]
[]
[]
[]
[]
[]
[]
[]
[]
[]
[]
[]
[]
[]
[]
[]
[]
[]
[]
[]
[]
[]
[]
[]
[]
[]
[]
[]
[]
[]
[]
[]
[]
[]
[]
[]
[]
[]
[]
[]
[]
[]
[]
[]
[]
[]
[]
[]
[]
[]
[]
[]
[]
[]
[]
[]
[]
[]
[]
[]
[]
[]
[]
[]
[]
[]
[]
[]
[]
[]
[]
[]
[]
[]
[]
[]
[]
[]
[]
[]
[]
[]
[]
[]
[]
[]
[]
[]
[]
[]
[]
[]
[]
[]
[]
[]
[]
[]
[]
[]
[]
[]
[]
[]
[]
[]
[]
[]
[]
[]
[]
[]
[]
[]
[]
[]
[]
[]
[]
[]
[]
[]
[]
[]
[]
[]
[]
[]
[]
[]
[]
[]
[]
[]
[]
[]
[]
[]
[]
[]
[]
[]
[]
[]
[]
[]
[]
[]
[]
[]
[]
[]
[]
[]
[]
[]
[]
[]
[]
[]
[]
[]
[]
[]
[]
[]
[]
[]
[]
[]
[]
[]
[]
[]
[]
[]
[]
[]
[]
[]
[]
[]
[]
[]
[]
[]
[]
[]
[]
[]
[]
[]
[]
[]
[]
[]
[]
[]
[]
[]
[]
[]
[]
[]
[]
[]
[]
[]
[]
[]
[]
[]
[]
[]
[]
[]
[]
[]
[]
[]
[]
[]
[]
[]
[]
[]
[]
[]
[]
[]
[]
[]
[]
[]
[]
[]
[]
[]
[]
[]
[]
[]
[]
[]
[]
[]
[]
[]
[]
[]
[]
[]
[]
[]
[]
[]
[]
[]
[]
[]
[]
[]
[]
[]
[]
[]
[]
[]
[]
[]
[]
[]
[]
[]
[]
[]
[]
[]
[]
[]
[]
[]
[]
[]
[]
[]
[]
[]
[]
[]
[]
[]
[]
[]
[]
[]
[]
[]
[]
[]
[]
[]
[]
[]
[]
[]
[]
[]
[]
[]
[]
[]
[]
[]
[]
[]
[]
[]
[]
[]
[]
[]
[]
[]
[]
[]
[]
[]
[]
[]
[]
[]
[]
[]
[]
[]
[]
[]
[]
[]
[]
[]
[]
[]
[]
[]
[]
[]
[]
[]
[]
[]
[]
[]
[]
[]
[]
[]
[]
[]
[]
[]
[]
[]
[]
[]
[]
[]
[]
[]
[]
[]
[]
[]
[]
[]
[]
[]
[]
[]
[]
[]
[]
[]
[]
[]
[]
[]
[]
[]
[]
[]
[]
[]
[]
[]
[]
[]
[]
[]
[]
[]
[]
[]
[]
[]
[]
[]
[]
[]
[]
[]
[]
[]
[]
[]
[]
[]
[]
[]
[]
[]
[]
[]
[]
[]
[]
[]
[]
[]
[]
[]
[]
[]
[]
[]
[]
[]
[]
[]
[]
[]
[]
[]
[]
[]
[]
[]
[]
[]
[]
[]
[]
[]
[]
[]
[]
[]
[]
[]
[]
[]
[]
[]
[]
[]
[]
[]
[]
[]
[]
[]
[]
[]
[]
[]
[]
[]
[]
[]
[]
[]
[]
[]
[]
[]
[]
[]
[]
[]
[]
[]
[]
[]
[]
[]
[]
[]
[]
[]
[]
[]
[]
[]
[]
[]
[]
[]
[]
[]
[]
[]
[]
[]
[]
[]
[]
[]
[]
[]
[]
[]
[]
[]
[]
[]
[]
[]
[]
[]
[]
[]
[]
[]
[]
[]
[]
[]
[]
[]
[]
[]
[]
[]
[]
[]
[]
[]
[]
[]
[]
[]
[]
[]
[]
[]
[]
[]
[]
[]
[]
[]
[]
[]
[]
[]
[]
[]
[]
[]
[]
[]
[]
[]
[]
[]
[]
[]
[]
[]
[]
[]
[]
[]
[]
[]
[]
[]
[]
[]
[]
[]
[]
[]
[]
[]
[]
[]
[]
[]
[]
[]
[]
[]
[]
[]
[]
[]
[]
[]
[]
[]
[]
[]
[]
[]
[]
[]
[]
[]
[]
[]
[]
[]
[]
[]
[]
[]
[]
[]
[]
[]
[]
[]
[]
[]
[]
[]
[]
[]
[]
[]
[]
[]
[]
[]
[]
[]
[]
[]
[]
[]
[]
[]
[]
[]
[]
[]
[]
[]
[]
[]
[]
[]
[]
[]
[]
[]
[]
[]
[]
[]
[]
[]
[]
[]
[]
[]
[]
[]
[]
[]
[]
[]
[]
[]
[]
[]
[]
[]
[]
[]
[]
[]
[]
[]
[]
[]
[]
[]
[]
[]
[]
[]
[]
[]
[]
[]
[]
[]
[]
[]
[]
[]
[]
[]
[]
[]
[]
[]
[]
[]
[]
[]
[]
[]
[]
[]
[]
[]
[]
[]
[]
[]
[]
[]
[]
[]
[]
[]
[]
[]
[]
[]
[]
[]
[]
[]
[]
[]
[]
[]
[]
[]
[]
[]
[]
[]
[]
[]
[]
[]
[]
[]
[]
[]
[]
[]
[]
[]
[]
[]
[]
[]
[]
[]
[]
[]
[]
[]
[]
[]
[]
[]
[]
[]
[]
[]
[]
[]
[]
[]
[]
[]
[]
[]
[]
[]
[]
[]
[]
[]
[]
[]
[]
[]
[]
[]
[]
[]
[]
[]
[]
[]
[]
[]
[]
[]
[]
[]
[]
[]
[]
[]
[]
[]
[]
[]
[]
[]
[]
[]
[]
[]
[]
[]
[]
[]
[]
[]
[]
[]
[]
[]
[]
[]
[]
[]
[]
[]
[]
[]
[]
[]
[]
[]
[]
[]
[]
[]
[]
[]
[]
[]
[]
[]
[]
[]
[]
[]
[]
[]
[]
[]
[]
[]
[]
[]
[]
[]
[]
[]
[]
[]
[]
[]
[]
[]
[]
[]
[]
[]
[]
[]
[]
[]
[]
[]
[]
[]
[]
[]
[]
[]
[]
[]
[]
[]
[]
[]
[]
[]
[]
[]
[]
[]
[]
[]
[]
[]
[]
[]
[]
[]
[]
[]
[]
[]
[]
[]
[]
[]
[]
[]
[]
[]
[]
[]
[]
[]
[]
[]
[]
[]
[]
[]
[]
[]
[]
[]
[]
[]
[]
[]
[]
[]
[]
[]
[]
[]
[]
[]
[]
[]
[]
[]
[]
[]
[]
[]
[]
[]
[]
[]
[]
[]
[]
[]
[]
[]
[]
[]
[]
[]
[]
[]
[]
[]
[]
[]
[]
[]
[]
[]
[]
[]
[]
[]
[]
[]
[]
[]
[]
[]
[]
[]
[]
[]
[]
[]
[]
[]
[]
[]
[]
[]
[]
[]
[]
[]
[]
[]
[]
[]
[]
[]
[]
[]
[]
[]
[]
[]
[]
[]
[]
[]
[]
[]
[]
[]
[]
[]
[]
[]
[]
[]
[]
[]
[]
[]
[]
[]
[]
[]
[]
[]
[]
[]
[]
[]
[]
[]
[]
[]
[]
[]
[]
[]
[]
[]
[]
[]
[]
[]
[]
[]
[]
[]
[]
[]
[]
[]
[]
[]
[]
[]
[]
[]
[]
[]
[]
[]
[]
[]
[]
[]
[]
[]
[]
[]
[]
[]
[]
[]
[]
[]
[]
[]
[]
[]
[]
[]
[]
[]
[]
[]
[]
[]
[]
[]
[]
[]
[]
[]
[]
[]
[]
[]
[]
[]
[]
[]
[]
[]
[]
[]
[]
[]
[]
[]
[]
[]
[]
[]
[]
[]
[]
[]
[]
[]
[]
[]
[]
[]
[]
[]
[]
[]
[]
[]
[]
[]
[]
[]
[]
[]
[]
[]
[]
[]
[]
[]
[]
[]
[]
[]
[]
[]
[]
[]
[]
[]
[]
[]
[]
[]
[]
[]
[]
[]
[]
[]
[]
[]
[]
[]
[]
[]
[]
[]
[]
[]
[]
[]
[]
[]
[]
[]
[]
[]
[]
[]
[]
[]
[]
[]
[]
[]
[]
[]
[]
[]
[]
[]
[]
[]
[]
[]
[]
[]
[]
[]
[]
[]
[]
[]
[]
[]
[]
[]
[]
[]
[]
[]
[]
[]
[]
[]
[]
[]
[]
[]
[]
[]
[]
[]
[]
[]
[]
[]
[]
[]
[]
[]
[]
[]
[]
[]
[]
[]
[]
[]
[]
[]
[]
[]
[]
[]
[]
[]
[]
[]
[]
[]
[]
[]
[]
[]
[]
[]
[]
[]
[]
[]
[]
[]
[]
[]
[]
[]
[]
[]
[]
[]
[]
[]
[]
[]
[]
[]
[]
[]
[]
[]
[]
[]
[]
[]
[]
[]
[]
[]
[]
[]
[]
[]
[]
[]
[]
[]
[]
[]
[]
[]
[]
[]
[]
[]
[]
[]
[]
[]
[]
[]
[]
[]
[]
[]
[]
[]
[]
[]
[]
[]
[]
[]
[]
[]
[]
[]
[]
[]
[]
[]
[]
[]
[]
[]
[]
[]
[]
[]
[]
[]
[]
[]
[]
[]
[]
[]
[]
[]
[]
[]
[]
[]
[]
[]
[]
[]
[]
[]
[]
[]
[]
[]
[]
[]
[]
[]
[]
[]
[]
[]
[]
[]
[]
[]
[]
[]
[]
[]
[]
[]
[]
[]
[]
[]
[]
[]
[]
[]
[]
[]
[]
[]
[]
[]
[]
[]
[]
[]
[]
[]
[]
[]
[]
[]
[]
[]
[]
[]
[]
[]
[]
[]
[]
[]
[]
[]
[]
[]
[]
[]
[]
[]
[]
[]
[]
[]
[]
[]
[]
[]
[]
[]
[]
[]
[]
[]
[]
[]
[]
[]
[]
[]
[]
[]
[]
[]
[]
[]
[]
[]
[]
[]
[]
[]
[]
[]
[]
[]
[]
[]
[]
[]
[]
[]
[]
[]
[]
[]
[]
[]
[]
[]
[]
[]
[]
[]
[]
[]
[]
[]
[]
[]
[]
[]
[]
[]
[]
[]
[]
[]
[]
[]
[]
[]
[]
[]
[]
[]
[]
[]
[]
[]
[]
[]
[]
[]
[]
[]
[]
[]
[]
[]
[]
[]
[]
[]
[]
[]
[]
[]
[]
[]
[]
[]
[]
[]
[]
[]
[]
[]
[]
[]
[]
[]
[]
[]
[]
[]
[]
[]
[]
[]
[]
[]
[]
[]
[]
[]
[]
[]
[]
[]
[]
[]
[]
[]
[]
[]
[]
[]
[]
[]
[]
[]
[]
[]
[]
[]
[]
[]
[]
[]
[]
[]
[]
[]
[]
[]
[]
[]
[]
[]
[]
[]
[]
[]
[]
[]
[]
[]
[]
[]
[]
[]
[]
[]
[]
[]
[]
[]
[]
[]
[]
[]
[]
[]
[]
[]
[]
[]
[]
[]
[]
[]
[]
[]
[]
[]
[]
[]
[]
[]
[]
[]
[]
[]
[]
[]
[]
[]
[]
[]
[]
[]
[]
[]
[]
[]
[]
[]
[]
[]
[]
[]
[]
[]
[]
[]
[]
[]
[]
[]
[]
[]
[]
[]
[]
[]
[]
[]
[]
[]
[]
[]
[]
[]
[]
[]
[]
[]
[]
[]
[]
[]
[]
[]
[]
[]
[]
[]
[]
[]
[]
[]
[]
[]
[]
[]
[]
[]
[]
[]
[]
[]
[]
[]
[]
[]
[]
[]
[]
[]
[]
[]
[]
[]
[]
[]
[]
[]
[]
[]
[]
[]
[]
[]
[]
[]
[]
[]
[]
[]
[]
[]
[]
[]
[]
[]
[]
[]
[]
[]
[]
[]
[]
[]
[]
[]
[]
[]
[]
[]
[]
[]
[]
[]
[]
[]
[]
[]
[]
[]
[]
[]
[]
[]
[]
[]
[]
[]
[]
[]
[]
[]
[]
[]
[]
[]
[]
[]
[]
[]
[]
[]
[]
[]
[]
[]
[]
[]
[]
[]
[]
[]
[]
[]
[]
[]
[]
[]
[]
[]
[]
[]
[]
[]
[]
[]
[]
[]
[]
[]
[]
[]
[]
[]
[]
[]
[]
[]
[]
[]
[]
[]
[]
[]
[]
[]
[]
[]
[]
[]
[]
[]
[]
[]
[]
[]
[]
[]
[]
[]
[]
[]
[]
[]
[]
[]
[]
[]
[]
[]
[]
[]
[]
[]
[]
[]
[]
[]
[]
[]
[]
[]
[]
[]
[]
[]
[]
[]
[]
[]
[]
[]
[]
[]
[]
[]
[]
[]
[]
[]
[]
[]
[]
[]
[]
[]
[]
[]
[]
[]
[]
[]
[]
[]
[]
[]
[]
[]
[]
[]
[]
[]
[]
[]
[]
[]
[]
[]
[]
[]
[]
[]
[]
[]
[]
[]
[]
[]
[]
[]
[]
[]
[]
[]
[]
[]
[]
[]
[]
[]
[]
[]
[]
[]
[]
[]
[]
[]
[]
[]
[]
[]
[]
[]
[]
[]
[]
[]
[]
[]
[]
[]
[]
[]
[]
[]
[]
[]
[]
[]
[]
[]
[]
[]
[]
[]
[]
[]
[]
[]
[]
[]
[]
[]
[]
[]
[]
[]
[]
[]
[]
[]
[]
[]
[]
[]
[]
[]
[]
[]
[]
[]
[]
[]
[]
[]
[]
[]
[]
[]
[]
[]
[]
[]
[]
[]
[]
[]
[]
[]
[]
[]
[]
[]
[]
[]
[]
[]
[]
[]
[]
[]
[]
[]
[]
[]
[]
[]
[]
[]
[]
[]
[]
[]
[]
[]
[]
[]
[]
[]
[]
[]
[]
[]
[]
[]
[]
[]
[]
[]
[]
[]
[]
[]
[]
[]
[]
[]
[]
[]
[]
[]
[]
[]
[]
[]
[]
[]
[]
[]
[]
[]
[]
[]
[]
[]
[]
[]
[]
[]
[]
[]
[]
[]
[]
[]
[]
[]
[]
[]
[]
[]
[]
[]
[]
[]
[]
[]
[]
[]
[]
[]
[]
[]
[]
[]
[]
[]
[]
[]
[]
[]
[]
[]
[]
[]
[]
[]
[]
[]
[]
[]
[]
[]
[]
[]
[]
[]
[]
[]
[]
[]
[]
[]
[]
[]
[]
[]
[]
[]
[]
[]
[]
[]
[]
[]
[]
[]
[]
[]
[]
[]
[]
[]
[]
[]
[]
[]
[]
[]
[]
[]
[]
[]
[]
[]
[]
[]
[]
[]
[]
[]
[]
[]
[]
[]
[]
[]
[]
[]
[]
[]
[]
[]
[]
[]
[]
[]
[]
[]
[]
[]
[]
[]
[]
[]
[]
[]
[]
[]
[]
[]
[]
[]
[]
[]
[]
[]
[]
[]
[]
[]
[]
[]
[]
[]
[]
[]
[]
[]
[]
[]
[]
[]
[]
[]
[]
[]
[]
[]
[]
[]
[]
[]
[]
[]
[]
[]
[]
[]
[]
[]
[]
[]
[]
[]
[]
[]
[]
[]
[]
[]
[]
[]
[]
[]
[]
[]
[]
[]
[]
[]
[]
[]
[]
[]
[]
[]
[]
[]
[]
[]
[]
[]
[]
[]
[]
[]
[]
[]
[]
[]
[]
[]
[]
[]
[]
[]
[]
[]
[]
[]
[]
[]
[]
[]
[]
[]
[]
[]
[]
[]
[]
[]
[]
[]
[]
[]
[]
[]
[]
[]
[]
[]
[]
[]
[]
[]
[]
[]
[]
[]
[]
[]
[]
[]
[]
[]
[]
[]
[]
[]
[]
[]
[]
[]
[]
[]
[]
[]
[]
[]
[]
[]
[]
[]
[]
[]
[]
[]
[]
[]
[]
[]
[]
[]
[]
[]
[]
[]
[]
[]
[]
[]
[]
[]
[]
[]
[]
[]
[]
[]
[]
[]
[]
[]
[]
[]
[]
[]
[]
[]
[]
[]
[]
[]
[]
[]
[]
[]
[]
[]
[]
[]
[]
[]
[]
[]
[]
[]
[]
[]
[]
[]
[]
[]
[]
[]
[]
[]
[]
[]
[]
[]
[]
[]
[]
[]
[]
[]
[]
[]
[]
[]
[]
[]
[]
[]
[]
[]
[]
[]
[]
[]
[]
[]
[]
[]
[]
[]
[]
[]
[]
[]
[]
[]
[]
[]
[]
[]
[]
[]
[]
[]
[]
[]
[]
[]
[]
[]
[]
[]
[]
[]
[]
[]
[]
[]
[]
[]
[]
[]
[]
[]
[]
[]
[]
[]
[]
[]
[]
[]
[]
[]
[]
[]
[]
[]
[]
[]
[]
[]
[]
[]
[]
[]
[]
[]
[]
[]
[]
[]
[]
[]
[]
[]
[]
[]
[]
[]
[]
[]
[]
[]
[]
[]
[]
[]
[]
[]
[]
[]
[]
[]
[]
[]
[]
[]
[]
[]
[]
[]
[]
[]
[]
[]
[]
[]
[]
[]
[]
[]
[]
[]
[]
[]
[]
[]
[]
[]
[]
[]
[]
[]
[]
[]
[]
[]
[]
[]
[]
[]
[]
[]
[]
[]
[]
[]
[]
[]
[]
[]
[]
[]
[]
[]
[]
[]
[]
[]
[]
[]
[]
[]
[]
[]
[]
[]
[]
[]
[]
[]
[]
[]
[]
[]
[]
[]
[]
[]
[]
[]
[]
[]
[]
[]
[]
[]
[]
[]
[]
[]
[]
[]
[]
[]
[]
[]
[]
[]
[]
[]
[]
[]
[]
[]
[]
[]
[]
[]
[]
[]
[]
[]
[]
[]
[]
[]
[]
[]
[]
[]
[]
[]
[]
[]
[]
[]
[]
[]
[]
[]
[]
[]
[]
[]
[]
[]
[]
[]
[]
[]
[]
[]
[]
[]
[]
[]
[]
[]
[]
[]
[]
[]
[]
[]
[]
[]
[]
[]
[]
[]
[]
[]
[]
[]
[]
[]
[]
[]
[]
[]
[]
[]
[]
[]
[]
[]
[]
[]
[]
[]
[]
[]
[]
[]
[]
[]
[]
[]
[]
[]
[]
[]
[]
[]
[]
[]
[]
[]
[]
[]
[]
[]
[]
[]
[]
[]
[]
[]
[]
[]
[]
[]
[]
[]
[]
[]
[]
[]
[]
[]
[]
[]
[]
[]
[]
[]
[]
[]
[]
[]
[]
[]
[]
[]
[]
[]
[]
[]
[]
[]
[]
[]
[]
[]
[]
[]
[]
[]
[]
[]
[]
[]
[]
[]
[]
[]
[]
[]
[]
[]
[]
[]
[]
[]
[]
[]
[]
[]
[]
[]
[]
[]
[]
[]
[]
[]
[]
[]
[]
[]
[]
[]
[]
[]
[]
[]
[]
[]
[]
[]
[]
[]
[]
[]
[]
[]
[]
[]
[]
[]
[]
[]
[]
[]
[]
[]
[]
[]
[]
[]
[]
[]
[]
[]
[]
[]
[]
[]
[]
[]
[]
[]
[]
[]
[]
[]
[]
[]
[]
[]
[]
[]
[]
[]
[]
[]
[]
[]
[]
[]
[]
[]
[]
[]
[]
[]
[]
[]
[]
[]
[]
[]
[]
[]
[]
[]
[]
[]
[]
[]
[]
[]
[]
[]
[]
[]
[]
[]
[]
[]
[]
[]
[]
[]
[]
[]
[]
[]
[]
[]
[]
[]
[]
[]
[]
[]
[]
[]
[]
[]
[]
[]
[]
[]
[]
[]
[]
[]
[]
[]
[]
[]
[]
[]
[]
[]
[]
[]
[]
[]
[]
[]
[]
[]
[]
[]
[]
[]
[]
[]
[]
[]
[]
[]
[]
[]
[]
[]
[]
[]
[]
[]
[]
[]
[]
[]
[]
[]
[]
[]
[]
[]
[]
[]
[]
[]
[]
[]
[]
[]
[]
[]
[]
[]
[]
[]
[]
[]
[]
[]
[]
[]
[]
[]
[]
[]
[]
[]
[]
[]
[]
[]
[]
[]
[]
[]
[]
[]
[]
[]
[]
[]
[]
[]
[]
[]
[]
[]
[]
[]
[]
[]
[]
[]
[]
[]
[]
[]
[]
[]
[]
[]
[]
[]
[]
[]
[]
[]
[]
[]
[]
[]
[]
[]
[]
[]
[]
[]
[]
[]
[]
[]
[]
[]
[]
[]
[]
[]
[]
[]
[]
[]
[]
[]
[]
[]
[]
[]
[]
[]
[]
[]
[]
[]
[]
[]
[]
[]
[]
[]
[]
[]
[]
[]
[]
[]
[]
[]
[]
[]
[]
[]
[]
[]
[]
[]
[]
[]
[]
[]
[]
[]
[]
[]
[]
[]
[]
[]
[]
[]
[]
[]
[]
[]
[]
[]
[]
[]
[]
[]
[]
[]
[]
[]
[]
[]
[]
[]
[]
[]
[]
[]
[]
[]
[]
[]
[]
[]
[]
[]
[]
[]
[]
[]
[]
[]
[]
[]
[]
[]
[]
[]
[]
[]
[]
[]
[]
[]
[]
[]
[]
[]
[]
[]
[]
[]
[]
[]
[]
[]
[]
[]
[]
[]
[]
[]
[]
[]
[]
[]
[]
[]
[]
[]
[]
[]
[]
[]
[]
[]
[]
[]
[]
[]
[]
[]
[]
[]
[]
[]
[]
[]
[]
[]
[]
[]
[]
[]
[]
[]
[]
[]
[]
[]
[]
[]
[]
[]
[]
[]
[]
[]
[]
[]
[]
[]
[]
[]
[]
[]
[]
[]
[]
[]
[]
[]
[]
[]
[]
[]
[]
[]
[]
[]
[]
[]
[]
[]
[]
[]
[]
[]
[]
[]
[]
[]
[]
[]
[]
[]
[]
[]
[]
[]
[]
[]
[]
[]
[]
[]
[]
[]
[]
[]
[]
[]
[]
[]
[]
[]
[]
[]
[]
[]
[]
[]
[]
[]
[]
[]
[]
[]
[]
[]
[]
[]
[]
[]
[]
[]
[]
[]
[]
[]
[]
[]
[]
[]
[]
[]
[]
[]
[]
[]
[]
[]
[]
[]
[]
[]
[]
[]
[]
[]
[]
[]
[]
[]
[]
[]
[]
[]
[]
[]
[]
[]
[]
[]
[]
[]
[]
[]
[]
[]
[]
[]
[]
[]
[]
[]
[]
[]
[]
[]
[]
[]
[]
[]
[]
[]
[]
[]
[]
[]
[]
[]
[]
[]
[]
[]
[]
[]
[]
[]
[]
[]
[]
[]
[]
[]
[]
[]
[]
[]
[]
[]
[]
[]
[]
[]
[]
[]
[]
[]
[]
[]
[]
[]
[]
[]
[]
[]
[]
[]
[]
[]
[]
[]
[]
[]
[]
[]
[]
[]
[]
[]
[]
[]
[]
[]
[]
[]
[]
[]
[]
[]
[]
[]
[]
[]
[]
[]
[]
[]
[]
[]
[]
[]
[]
[]
[]
[]
[]
[]
[]
[]
[]
[]
[]
[]
[]
[]
[]
[]
[]
[]
[]
[]
[]
[]
[]
[]
[]
[]
[]
[]
[]
[]
[]
[]
[]
[]
[]
[]
[]
[]
[]
[]
[]
[]
[]
[]
[]
[]
[]
[]
[]
[]
[]
[]
[]
[]
[]
[]
[]
[]
[]
[]
[]
[]
[]
[]
[]
[]
[]
[]
[]
[]
[]
[]
[]
[]
[]
[]
[]
[]
[]
[]
[]
[]
[]
[]
[]
[]
[]
[]
[]
[]
[]
[]
[]
[]
[]
[]
[]
[]
[]
[]
[]
[]
[]
[]
[]
[]
[]
[]
[]
[]
[]
[]
[]
[]
[]
[]
[]
[]
[]
[]
[]
[]
[]
[]
[]
[]
[]
[]
[]
[]
[]
[]
[]
[]
[]
[]
[]
[]
[]
[]
[]
[]
[]
[]
[]
[]
[]
[]
[]
[]
[]
[]
[]
[]
[]
[]
[]
[]
[]
[]
[]
[]
[]
[]
[]
[]
[]
[]
[]
[]
[]
[]
[]
[]
[]
[]
[]
[]
[]
[]
[]
[]
[]
[]
[]
[]
[]
[]
[]
[]
[]
[]
[]
[]
[]
[]
[]
[]
[]
[]
[]
[]
[]
[]
[]
[]
[]
[]
[]
[]
[]
[]
[]
[]
[]
[]
[]
[]
[]
[]
[]
[]
[]
[]
[]
[]
[]
[]
[]
[]
[]
[]
[]
[]
[]
[]
[]
[]
[]
[]
[]
[]
[]
[]
[]
[]
[]
[]
[]
[]
[]
[]
[]
[]
[]
[]
[]
[]
[]
[]
[]
[]
[]
[]
[]
[]
[]
[]
[]
[]
[]
[]
[]
[]
[]
[]
[]
[]
[]
[]
[]
[]
[]
[]
[]
[]
[]
[]
[]
[]
[]
[]
[]
[]
[]
[]
[]
[]
[]
[]
[]
[]
[]
[]
[]
[]
[]
[]
[]
[]
[]
[]
[]
[]
[]
[]
[]
[]
[]
[]
[]
[]
[]
[]
[]
[]
[]
[]
[]
[]
[]
[]
[]
[]
[]
[]
[]
[]
[]
[]
[]
[]
[]
[]
[]
[]
[]
[]
[]
[]
[]
[]
[]
[]
[]
[]
[]
[]
[]
[]
[]
[]
[]
[]
[]
[]
[]
[]
[]
[]
[]
[]
[]
[]
[]
[]
[]
[]
[]
[]
[]
[]
[]
[]
[]
[]
[]
[]
[]
[]
[]
[]
[]
[]
[]
[]
[]
[]
[]
[]
[]
[]
[]
[]
[]
[]
[]
[]
[]
[]
[]
[]
[]
[]
[]
[]
[]
[]
[]
[]
[]
[]
[]
[]
[]
[]
[]
[]
[]
[]
[]
[]
[]
[]
[]
[]
[]
[]
[]
[]
[]
[]
[]
[]
[]
[]
[]
[]
[]
[]
[]
[]
[]
[]
[]
[]
[]
[]
[]
[]
[]
[]
[]
[]
[]
[]
[]
[]
[]
[]
[]
[]
[]
[]
[]
[]
[]
[]
[]
[]
[]
[]
[]
[]
[]
[]
[]
[]
[]
[]
[]
[]
[]
[]
[]
[]
[]
[]
[]
[]
[]
[]
[]
[]
[]
[]
[]
[]
[]
[]
[]
[]
[]
[]
[]
[]
[]
[]
[]
[]
[]
[]
[]
[]
[]
[]
[]
[]
[]
[]
[]
[]
[]
[]
[]
[]
[]
[]
[]
[]
[]
[]
[]
[]
[]
[]
[]
[]
[]
[]
[]
[]
[]
[]
[]
[]
[]
[]
[]
[]
[]
[]
[]
[]
[]
[]
[]
[]
[]
[]
[]
[]
[]
[]
[]
[]
[]
[]
[]
[]
[]
[]
[]
[]
[]
[]
[]
[]
[]
[]
[]
[]
[]
[]
[]
[]
[]
[]
[]
[]
[]
[]
[]
[]
[]
[]
[]
[]
[]
[]
[]
[]
[]
[]
[]
[]
[]
[]
[]
[]
[]
[]
[]
[]
[]
[]
[]
[]
[]
[]
[]
[]
[]
[]
[]
[]
[]
[]
[]
[]
[]
[]
[]
[]
[]
[]
[]
[]
[]
[]
[]
[]
[]
[]
[]
[]
[]
[]
[]
[]
[]
[]
[]
[]
[]
[]
[]
[]
[]
[]
[]
[]
[]
[]
[]
[]
[]
[]
[]
[]
[]
[]
[]
[]
[]
[]
[]
[]
[]
[]
[]
[]
[]
[]
[]
[]
[]
[]
[]
[]
[]
[]
[]
[]
[]
[]
[]
[]
[]
[]
[]
[]
[]
[]
[]
[]
[]
[]
[]
[]
[]
[]
[]
[]
[]
[]
[]
[]
[]
[]
[]
[]
[]
[]
[]
[]
[]
[]
[]
[]
[]
[]
[]
[]
[]
[]
[]
[]
[]
[]
[]
[]
[]
[]
[]
[]
[]
[]
[]
[]
[]
[]
[]
[]
[]
[]
[]
[]
[]
[]
[]
[]
[]
[]
[]
[]
[]
[]
[]
[]
[]
[]
[]
[]
[]
[]
[]
[]
[]
[]
[]
[]
[]
[]
[]
[]
[]
[]
[]
[]
[]
[]
[]
[]
[]
[]
[]
[]
[]
[]
[]
[]
[]
[]
[]
[]
[]
[]
[]
[]
[]
[]
[]
[]
[]
[]
[]
[]
[]
[]
[]
[]
[]
[]
[]
[]
[]
[]
[]
[]
[]
[]
[]
[]
[]
[]
[]
[]
[]
[]
[]
[]
[]
[]
[]
[]
[]
[]
[]
[]
[]
[]
[]
[]
[]
[]
[]
[]
[]
[]
[]
[]
[]
[]
[]
[]
[]
[]
[]
[]
[]
[]
[]
[]
[]
[]
[]
[]
[]
[]
[]
[]
[]
[]
[]
[]
[]
[]
[]
[]
[]
[]
[]
[]
[]
[]
[]
[]
[]
[]
[]
[]
[]
[]
[]
[]
[]
[]
[]
[]
[]
[]
[]
[]
[]
[]
[]
[]
[]
[]
[]
[]
[]
[]
[]
[]
[]
[]
[]
[]
[]
[]
[]
[]
[]
[]
[]
[]
[]
[]
[]
[]
[]
[]
[]
[]
[]
[]
[]
[]
[]
[]
[]
[]
[]
[]
[]
[]
[]
[]
[]
[]
[]
[]
[]
[]
[]
[]
[]
[]
[]
[]
[]
[]
[]
[]
[]
[]
[]
[]
[]
[]
[]
[]
[]
[]
[]
[]
[]
[]
[]
[]
[]
[]
[]
[]
[]
[]
[]
[]
[]
[]
[]
[]
[]
[]
[]
[]
[]
[]
[]
[]
[]
[]
[]
[]
[]
[]
[]
[]
[]
[]
[]
[]
[]
[]
[]
[]
[]
[]
[]
[]
[]
[]
[]
[]
[]
[]
[]
[]
[]
[]
[]
[]
[]
[]
[]
[]
[]
[]
[]
[]
[]
[]
[]
[]
[]
[]
[]
[]
[]
[]
[]
[]
[]
[]
[]
[]
[]
[]
[]
[]
[]
[]
[]
[]
[]
[]
[]
[]
[]
[]
[]
[]
[]
[]
[]
[]
[]
[]
[]
[]
[]
[]
[]
[]
[]
[]
[]
[]
[]
[]
[]
[]
[]
[]
[]
[]
[]
[]
[]
[]
[]
[]
[]
[]
[]
[]
[]
[]
[]
[]
[]
[]
[]
[]
[]
[]
[]
[]
[]
[]
[]
[]
[]
[]
[]
[]
[]
[]
[]
[]
[]
[]
[]
[]
[]
[]
[]
[]
[]
[]
[]
[]
[]
[]
[]
[]
[]
[]
[]
[]
[]
[]
[]
[]
[]
[]
[]
[]
[]
[]
[]
[]
[]
[]
[]
[]
[]
[]
[]
[]
[]
[]
[]
[]
[]
[]
[]
[]
[]
[]
[]
[]
[]
[]
[]
[]
[]
[]
[]
[]
[]
[]
[]
[]
[]
[]
[]
[]
[]
[]
[]
[]
[]
[]
[]
[]
[]
[]
[]
[]
[]
[]
[]
[]
[]
[]
[]
[]
[]
[]
[]
[]
[]
[]
[]
[]
[]
[]
[]
[]
[]
[]
[]
[]
[]
[]
[]
[]
[]
[]
[]
[]
[]
[]
[]
[]
[]
[]
[]
[]
[]
[]
[]
[]
[]
[]
[]
[]
[]
[]
[]
[]
[]
[]
[]
[]
[]
[]
[]
[]
[]
[]
[]
[]
[]
[]
[]
[]
[]
[]
[]
[]
[]
[]
[]
[]
[]
[]
[]
[]
[]
[]
[]
[]
[]
[]
[]
[]
[]
[]
[]
[]
[]
[]
[]
[]
[]
[]
[]
[]
[]
[]
[]
[]
[]
[]
[]
[]
[]
[]
[]
[]
[]
[]
[]
[]
[]
[]
[]
[]
[]
[]
[]
[]
[]
[]
[]
[]
[]
[]
[]
[]
[]
[]
[]
[]
[]
[]
[]
[]
[]
[]
[]
[]
[]
[]
[]
[]
[]
[]
[]
[]
[]
[]
[]
[]
[]
[]
[]
[]
[]
[]
[]
[]
[]
[]
[]
[]
[]
[]
[]
[]
[]
[]
[]
[]
[]
[]
[]
[]
[]
[]
[]
[]
[]
[]
[]
[]
[]
[]
[]
[]
[]
[]
[]
[]
[]
[]
[]
[]
[]
[]
[]
[]
[]
[]
[]
[]
[]
[]
[]
[]
[]
[]
[]
[]
[]
[]
[]
[]
[]
[]
[]
[]
[]
[]
[]
[]
[]
[]
[]
[]
[]
[]
[]
[]
[]
[]
[]
[]
[]
[]
[]
[]
[]
[]
[]
[]
[]
[]
[]
[]
[]
[]
[]
[]
[]
[]
[]
[]
[]
[]
[]
[]
[]
[]
[]
[]
[]
[]
[]
[]
[]
[]
[]
[]
[]
[]
[]
[]
[]
[]
[]
[]
[]
[]
[]
[]
[]
[]
[]
[]
[]
[]
[]
[]
[]
[]
[]
[]
[]
[]
[]
[]
[]
[]
[]
[]
[]
[]
[]
[]
[]
[]
[]
[]
[]
[]
[]
[]
[]
[]
[]
[]
[]
[]
[]
[]
[]
[]
[]
[]
[]
[]
[]
[]
[]
[]
[]
[]
[]
[]
[]
[]
[]
[]
[]
[]
[]
[]
[]
[]
[]
[]
[]
[]
[]
[]
[]
[]
[]
[]
[]
[]
[]
[]
[]
[]
[]
[]
[]
[]
[]
[]
[]
[]
[]
[]
[]
[]
[]
[]
[]
[]
[]
[]
[]
[]
[]
[]
[]
[]
[]
[]
[]
[]
[]
[]
[]
[]
[]
[]
[]
[]
[]
[]
[]
[]
[]
[]
[]
[]
[]
[]
[]
[]
[]
[]
[]
[]
[]
[]
[]
[]
[]
[]
[]
[]
[]
[]
[]
[]
[]
[]
[]
[]
[]
[]
[]
[]
[]
[]
[]
[]
[]
[]
[]
[]
[]
[]
[]
[]
[]
[]
[]
[]
[]
[]
[]
[]
[]
[]
[]
[]
[]
[]
[]
[]
[]
[]
[]
[]
[]
[]
[]
[]
[]
[]
[]
[]
[]
[]
[]
[]
[]
[]
[]
[]
[]
[]
[]
[]
[]
[]
[]
[]
[]
[]
[]
[]
[]
[]
[]
[]
[]
[]
[]
[]
[]
[]
[]
[]
[]
[]
[]
[]
[]
[]
[]
[]
[]
[]
[]
[]
[]
[]
[]
[]
[]
[]
[]
[]
[]
[]
[]
[]
[]
[]
[]
[]
[]
[]
[]
[]
[]
[]
[]
[]
[]
[]
[]
[]
[]
[]
[]
[]
[]
[]
[]
[]
[]
[]
[]
[]
[]
[]
[]
[]
[]
[]
[]
[]
[]
[]
[]
[]
[]
[]
[]
[]
[]
[]
[]
[]
[]
[]
[]
[]
[]
[]
[]
[]
[]
[]
[]
[]
[]
[]
[]
[]
[]
[]
[]
[]
[]
[]
[]
[]
[]
[]
[]
[]
[]
[]
[]
[]
[]
[]
[]
[]
[]
[]
[]
[]
[]
[]
[]
[]
[]
[]
[]
[]
[]
[]
[]
[]
[]
[]
[]
[]
[]
[]
[]
[]
[]
[]
[]
[]
[]
[]
[]
[]
[]
[]
[]
[]
[]
[]
[]
[]
[]
[]
[]
[]
[]
[]
[]
[]
[]
[]
[]
[]
[]
[]
[]
[]
[]
[]
[]
[]
[]
[]
[]
[]
[]
[]
[]
[]
[]
[]
[]
[]
[]
[]
[]
[]
[]
[]
[]
[]
[]
[]
[]
[]
[]
[]
[]
[]
[]
[]
[]
[]
[]
[]
[]
[]
[]
[]
[]
[]
[]
[]
[]
[]
[]
[]
[]
[]
[]
[]
[]
[]
[]
[]
[]
[]
[]
[]
[]
[]
[]
[]
[]
[]
[]
[]
[]
[]
[]
[]
[]
[]
[]
[]
[]
[]
[]
[]
[]
[]
[]
[]
[]
[]
[]
[]
[]
[]
[]
[]
[]
[]
[]
[]
[]
[]
[]
[]
[]
[]
[]
[]
[]
[]
[]
[]
[]
[]
[]
[]
[]
[]
[]
[]
[]
[]
[]
[]
[]
[]
[]
[]
[]
[]
[]
[]
[]
[]
[]
[]
[]
[]
[]
[]
[]
[]
[]
[]
[]
[]
[]
[]
[]
[]
[]
[]
[]
[]
[]
[]
[]
[]
[]
[]
[]
[]
[]
[]
[]
[]
[]
[]
[]
[]
[]
[]
[]
[]
[]
[]
[]
[]
[]
[]
[]
[]
[]
[]
[]
[]
[]
[]
[]
[]
[]
[]
[]
[]
[]
[]
[]
[]
[]
[]
[]
[]
[]
[]
[]
[]
[]
[]
[]
[]
[]
[]
[]
[]
[]
[]
[]
[]
[]
[]
[]
[]
[]
[]
[]
[]
[]
[]
[]
[]
[]
[]
[]
[]
[]
[]
[]
[]
[]
[]
[]
[]
[]
[]
[]
[]
[]
[]
[]
[]
[]
[]
[]
[]
[]
[]
[]
[]
[]
[]
[]
[]
[]
[]
[]
[]
[]
[]
[]
[]
[]
[]
[]
[]
[]
[]
[]
[]
[]
[]
[]
[]
[]
[]
[]
[]
[]
[]
[]
[]
[]
[]
[]
[]
[]
[]
[]
[]
[]
[]
[]
[]
[]
[]
[]
[]
[]
[]
[]
[]
[]
[]
[]
[]
[]
[]
[]
[]
[]
[]
[]
[]
[]
[]
[]
[]
[]
[]
[]
[]
[]
[]
[]
[]
[]
[]
[]
[]
[]
[]
[]
[]
[]
[]
[]
[]
[]
[]
[]
[]
[]
[]
[]
[]
[]
[]
[]
[]
[]
[]
[]
[]
[]
[]
[]
[]
[]
[]
[]
[]
[]
[]
[]
[]
[]
[]
[]
[]
[]
[]
[]
[]
[]
[]
[]
[]
[]
[]
[]
[]
[]
[]
[]
[]
[]
[]
[]
[]
[]
[]
[]
[]
[]
[]
[]
[]
[]
[]
[]
[]
[]
[]
[]
[]
[]
[]
[]
[]
[]
[]
[]
[]
[]
[]
[]
[]
[]
[]
[]
[]
[]
[]
[]
[]
[]
[]
[]
[]
[]
[]
[]
[]
[]
[]
[]
[]
[]
[]
[]
[]
[]
[]
[]
[]
[]
[]
[]
[]
[]
[]
[]
[]
[]
[]
[]
[]
[]
[]
[]
[]
[]
[]
[]
[]
[]
[]
[]
[]
[]
[]
[]
[]
[]
[]
[]
[]
[]
[]
[]
[]
[]
[]
[]
[]
[]
[]
[]
[]
[]
[]
[]
[]
[]
[]
[]
[]
[]
[]
[]
[]
[]
[]
[]
[]
[]
[]
[]
[]
[]
[]
[]
[]
[]
[]
[]
[]
[]
[]
[]
[]
[]
[]
[]
[]
[]
[]
[]
[]
[]
[]
[]
[]
[]
[]
[]
[]
[]
[]
[]
[]
[]
[]
[]
[]
[]
[]
[]
[]
[]
[]
[]
[]
[]
[]
[]
[]
[]
[]
[]
[]
[]
[]
[]
[]
[]
[]
[]
[]
[]
[]
[]
[]
[]
[]
[]
[]
[]
[]
[]
[]
[]
[]
[]
[]
[]
[]
[]
[]
[]
[]
[]
[]
[]
[]
[]
[]
[]
[]
[]
[]
[]
[]
[]
[]
[]
[]
[]
[]
[]
[]
[]
[]
[]
[]
[]
[]
[]
[]
[]
[]
[]
[]
[]
[]
[]
[]
[]
[]
[]
[]
[]
[]
[]
[]
[]
[]
[]
[]
[]
[]
[]
[]
[]
[]
[]
[]
[]
[]
[]
[]
[]
[]
[]
[]
[]
[]
[]
[]
[]
[]
[]
[]
[]
[]
[]
[]
[]
[]
[]
[]
[]
[]
[]
[]
[]
[]
[]
[]
[]
[]
[]
[]
[]
[]
[]
[]
[]
[]
[]
[]
[]
[]
[]
[]
[]
[]
[]
[]
[]
[]
[]
[]
[]
[]
[]
[]
[]
[]
[]
[]
[]
[]
[]
[]
[]
[]
[]
[]
[]
[]
[]
[]
[]
[]
[]
[]
[]
[]
[]
[]
[]
[]
[]
[]
[]
[]
[]
[]
[]
[]
[]
[]
[]
[]
[]
[]
[]
[]
[]
[]
[]
[]
[]
[]
[]
[]
[]
[]
[]
[]
[]
[]
[]
[]
[]
[]
[]
[]
[]
[]
[]
[]
[]
[]
[]
[]
[]
[]
[]
[]
[]
[]
[]
[]
[]
[]
[]
[]
[]
[]
[]
[]
[]
[]
[]
[]
[]
[]
[]
[]
[]
[]
[]
[]
[]
[]
[]
[]
[]
[]
[]
[]
[]
[]
[]
[]
[]
[]
[]
[]
[]
[]
[]
[]
[]
[]
[]
[]
[]
[]
[]
[]
[]
[]
[]
[]
[]
[]
[]
[]
[]
[]
[]
[]
[]
[]
[]
[]
[]
[]
[]
[]
[]
[]
[]
[]
[]
[]
[]
[]
[]
[]
[]
[]
[]
[]
[]
[]
[]
[]
[]
[]
[]
[]
[]
[]
[]
[]
[]
[]
[]
[]
[]
[]
[]
[]
[]
[]
[]
[]
[]
[]
[]
[]
[]
[]
[]
[]
[]
[]
[]
[]
[]
[]
[]
[]
[]
[]
[]
[]
[]
[]
[]
[]
[]
[]
[]
[]
[]
[]
[]
[]
[]
[]
[]
[]
[]
[]
[]
[]
[]
[]
[]
[]
[]
[]
[]
[]
[]
[]
[]
[]
[]
[]
[]
[]
[]
[]
[]
[]
[]
[]
[]
[]
[]
[]
[]
[]
[]
[]
[]
[]
[]
[]
[]
[]
[]
[]
[]
[]
[]
[]
[]
[]
[]
[]
[]
[]
[]
[]
[]
[]
[]
[]
[]
[]
[]
[]
[]
[]
[]
[]
[]
[]
[]
[]
[]
[]
[]
[]
[]
[]
[]
[]
[]
[]
[]
[]
[]
[]
[]
[]
[]
[]
[]
[]
[]
[]
[]
[]
[]
[]
[]
[]
[]
[]
[]
[]
[]
[]
[]
[]
[]
[]
[]
[]
[]
[]
[]
[]
[]
[]
[]
[]
[]
[]
[]
[]
[]
[]
[]
[]
[]
[]
[]
[]
[]
[]
[]
[]
[]
[]
[]
[]
[]
[]
[]
[]
[]
[]
[]
[]
[]
[]
[]
[]
[]
[]
[]
[]
[]
[]
[]
[]
[]
[]
[]
[]
[]
[]
[]
[]
[]
[]
[]
[]
[]
[]
[]
[]
[]
[]
[]
[]
[]
[]
[]
[]
[]
[]
[]
[]
[]
[]
[]
[]
[]
[]
[]
[]
[]
[]
[]
[]
[]
[]
[]
[]
[]
[]
[]
[]
[]
[]
[]
[]
[]
[]
[]
[]
[]
[]
[]
[]
[]
[]
[]
[]
[]
[]
[]
[]
[]
[]
[]
[]
[]
[]
[]
[]
[]
[]
[]
[]
[]
[]
[]
[]
[]
[]
[]
[]
[]
[]
[]
[]
[]
[]
[]
[]
[]
[]
[]
[]
[]
[]
[]
[]
[]
[]
[]
[]
[]
[]
[]
[]
[]
[]
[]
[]
[]
[]
[]
[]
[]
[]
[]
[]
[]
[]
[]
[]
[]
[]
[]
[]
[]
[]
[]
[]
[]
[]
[]
[]
[]
[]
[]
[]
[]
[]
[]
[]
[]
[]
[]
[]
[]
[]
[]
[]
[]
[]
[]
[]
[]
[]
[]
[]
[]
[]
[]
[]
[]
[]
[]
[]
[]
[]
[]
[]
[]
[]
[]
[]
[]
[]
[]
[]
[]
[]
[]
[]
[]
[]
[]
[]
[]
[]
[]
[]
[]
[]
[]
[]
[]
[]
[]
[]
[]
[]
[]
[]
[]
[]
[]
[]
[]
[]
[]
[]
[]
[]
[]
[]
[]
[]
[]
[]
[]
[]
[]
[]
[]
[]
[]
[]
[]
[]
[]
[]
[]
[]
[]
[]
[]
[]
[]
[]
[]
[]
[]
[]
[]
[]
[]
[]
[]
[]
[]
[]
[]
[]
[]
[]
[]
[]
[]
[]
[]
[]
[]
[]
[]
[]
[]
[]
[]
[]
[]
[]
[]
[]
[]
[]
[]
[]
[]
[]
[]
[]
[]
[]
[]
[]
[]
[]
[]
[]
[]
[]
[]
[]
[]
[]
[]
[]
[]
[]
[]
[]
[]
[]
[]
[]
[]
[]
[]
[]
[]
[]
[]
[]
[]
[]
[]
[]
[]
[]
[]
[]
[]
[]
[]
[]
[]
[]
[]
[]
[]
[]
[]
[]
[]
[]
[]
[]
[]
[]
[]
[]
[]
[]
[]
[]
[]
[]
[]
[]
[]
[]
[]
[]
[]
[]
[]
[]
[]
[]
[]
[]
[]
[]
[]
[]
[]
[]
[]
[]
[]
[]
[]
[]
[]
[]
[]
[]
[]
[]
[]
[]
[]
[]
[]
[]
[]
[]
[]
[]
[]
[]
[]
[]
[]
[]
[]
[]
[]
[]
[]
[]
[]
[]
[]
[]
[]
[]
[]
[]
[]
[]
[]
[]
[]
[]
[]
[]
[]
[]
[]
[]
[]
[]
[]
[]
[]
[]
[]
[]
[]
[]
[]
[]
[]
[]
[]
[]
[]
[]
[]
[]
[]
[]
[]
[]
[]
[]
[]
[]
[]
[]
[]
[]
[]
[]
[]
[]
[]
[]
[]
[]
[]
[]
[]
[]
[]
[]
[]
[]
[]
[]
[]
[]
[]
[]
[]
[]
[]
[]
[]
[]
[]
[]
[]
[]
[]
[]
[]
[]
[]
[]
[]
[]
[]
[]
[]
[]
[]
[]
[]
[]
[]
[]
[]
[]
[]
[]
[]
[]
[]
[]
[]
[]
[]
[]
[]
[]
[]
[]
[]
[]
[]
[]
[]
[]
[]
[]
[]
[]
[]
[]
[]
[]
[]
[]
[]
[]
[]
[]
[]
[]
[]
[]
[]
[]
[]
[]
[]
[]
[]
[]
[]
[]
[]
[]
[]
[]
[]
[]
[]
[]
[]
[]
[]
[]
[]
[]
[]
[]
[]
[]
[]
[]
[]
[]
[]
[]
[]
[]
[]
[]
[]
[]
[]
[]
[]
[]
[]
[]
[]
[]
[]
[]
[]
[]
[]
[]
[]
[]
[]
[]
[]
[]
[]
[]
[]
[]
[]
[]
[]
[]
[]
[]
[]
[]
[]
[]
[]
[]
[]
[]
[]
[]
[]
[]
[]
[]
[]
[]
[]
[]
[]
[]
[]
[]
[]
[]
[]
[]
[]
[]
[]
[]
[]
[]
[]
[]
[]
[]
[]
[]
[]
[]
[]
[]
[]
[]
[]
[]
[]
[]
[]
[]
[]
[]
[]
[]
[]
[]
[]
[]
[]
[]
[]
[]
[]
[]
[]
[]
[]
[]
[]
[]
[]
[]
[]
[]
[]
[]
[]
[]
[]
[]
[]
[]
[]
[]
[]
[]
[]
[]
[]
[]
[]
[]
[]
[]
[]
[]
[]
[]
[]
[]
[]
[]
[]
[]
[]
[]
[]
[]
[]
[]
[]
[]
[]
[]
[]
[]
[]
[]
[]
[]
[]
[]
[]
[]
[]
[]
[]
[]
[]
[]
[]
[]
[]
[]
[]
[]
[]
[]
[]
[]
[]
[]
[]
[]
[]
[]
[]
[]
[]
[]
[]
[]
[]
[]
[]
[]
[]
[]
[]
[]
[]
[]
[]
[]
[]
[]
[]
[]
[]
[]
[]
[]
[]
[]
[]
[]
[]
[]
[]
[]
[]
[]
[]
[]
[]
[]
[]
[]
[]
[]
[]
[]
[]
[]
[]
[]
[]
[]
[]
[]
[]
[]
[]
[]
[]
[]
[]
[]
[]
[]
[]
[]
[]
[]
[]
[]
[]
[]
[]
[]
[]
[]
[]
[]
[]
[]
[]
[]
[]
[]
[]
[]
[]
[]
[]
[]
[]
[]
[]
[]
[]
[]
[]
[]
[]
[]
[]
[]
[]
[]
[]
[]
[]
[]
[]
[]
[]
[]
[]
[]
[]
[]
[]
[]
[]
[]
[]
[]
[]
[]
[]
[]
[]
[]
[]
[]
[]
[]
[]
[]
[]
[]
[]
[]
[]
[]
[]
[]
[]
[]
[]
[]
[]
[]
[]
[]
[]
[]
[]
[]
[]
[]
[]
[]
[]
[]
[]
[]
[]
[]
[]
[]
[]
[]
[]
[]
[]
[]
[]
[]
[]
[]
[]
[]
[]
[]
[]
[]
[]
[]
[]
[]
[]
[]
[]
[]
[]
[]
[]
[]
[]
[]
[]
[]
[]
[]
[]
[]
[]
[]
[]
[]
[]
[]
[]
[]
[]
[]
[]
[]
[]
[]
[]
[]
[]
[]
[]
[]
[]
[]
[]
[]
[]
[]
[]
[]
[]
[]
[]
[]
[]
[]
[]
[]
[]
[]
[]
[]
[]
[]
[]
[]
[]
[]
[]
[]
[]
[]
[]
[]
[]
[]
[]
[]
[]
[]
[]
[]
[]
[]
[]
[]
[]
[]
[]
[]
[]
[]
[]
[]
[]
[]
[]
[]
[]
[]
[]
[]
[]
[]
[]
[]
[]
[]
[]
[]
[]
[]
[]
[]
[]
[]
[]
[]
[]
[]
[]
[]
[]
[]
[]
[]
[]
[]
[]
[]
[]
[]
[]
[]
[]
[]
[]
[]
[]
[]
[]
[]
[]
[]
[]
[]
[]
[]
[]
[]
[]
[]
[]
[]
[]
[]
[]
[]
[]
[]
[]
[]
[]
[]
[]
[]
[]
[]
[]
[]
[]
[]
[]
[]
[]
[]
[]
[]
[]
[]
[]
[]
[]
[]
[]
[]
[]
[]
[]
[]
[]
[]
[]
[]
[]
[]
[]
[]
[]
[]
[]
[]
[]
[]
[]
[]
[]
[]
[]
[]
[]
[]
[]
[]
[]
[]
[]
[]
[]
[]
[]
[]
[]
[]
[]
[]
[]
[]
[]
[]
[]
[]
[]
[]
[]
[]
[]
[]
[]
[]
[]
[]
[]
[]
[]
[]
[]
[]
[]
[]
[]
[]
[]
[]
[]
[]
[]
[]
[]
[]
[]
[]
[]
[]
[]
[]
[]
[]
[]
[]
[]
[]
[]
[]
[]
[]
[]
[]
[]
[]
[]
[]
[]
[]
[]
[]
[]
[]
[]
[]
[]
[]
[]
[]
[]
[]
[]
[]
[]
[]
[]
[]
[]
[]
[]
[]
[]
[]
[]
[]
[]
[]
[]
[]
[]
[]
[]
[]
[]
[]
[]
[]
[]
[]
[]
[]
[]
[]
[]
[]
[]
[]
[]
[]
[]
[]
[]
[]
[]
[]
[]
[]
[]
[]
[]
[]
[]
[]
[]
[]
[]
[]
[]
[]
[]
[]
[]
[]
[]
[]
[]
[]
[]
[]
[]
[]
[]
[]
[]
[]
[]
[]
[]
[]
[]
[]
[]
[]
[]
[]
[]
[]
[]
[]
[]
[]
[]
[]
[]
[]
[]
[]
[]
[]
[]
[]
[]
[]
[]
[]
[]
[]
[]
[]
[]
[]
[]
[]
[]
[]
[]
[]
[]
[]
[]
[]
[]
[]
[]
[]
[]
[]
[]
[]
[]
[]
[]
[]
[]
[]
[]
[]
[]
[]
[]
[]
[]
[]
[]
[]
[]
[]
[]
[]
[]
[]
[]
[]
[]
[]
[]
[]
[]
[]
[]
[]
[]
[]
[]
[]
[]
[]
[]
[]
[]
[]
[]
[]
[]
[]
[]
[]
[]
[]
[]
[]
[]
[]
[]
[]
[]
[]
[]
[]
[]
[]
[]
[]
[]
[]
[]
[]
[]
[]
[]
[]
[]
[]
[]
[]
[]
[]
[]
[]
[]
[]
[]
[]
[]
[]
[]
[]
[]
[]
[]
[]
[]
[]
[]
[]
[]
[]
[]
[]
[]
[]
[]
[]
[]
[]
[]
[]
[]
[]
[]
[]
[]
[]
[]
[]
[]
[]
[]
[]
[]
[]
[]
[]
[]
[]
[]
[]
[]
[]
[]
[]
[]
[]
[]
[]
[]
[]
[]
[]
[]
[]
[]
[]
[]
[]
[]
[]
[]
[]
[]
[]
[]
[]
[]
[]
[]
[]
[]
[]
[]
[]
[]
[]
[]
[]
[]
[]
[]
[]
[]
[]
[]
[]
[]
[]
[]
[]
[]
[]
[]
[]
[]
[]
[]
[]
[]
[]
[]
[]
[]
[]
[]
[]
[]
[]
[]
[]
[]
[]
[]
[]
[]
[]
[]
[]
[]
[]
[]
[]
[]
[]
[]
[]
[]
[]
[]
[]
[]
[]
[]
[]
[]
[]
[]
[]
[]
[]
[]
[]
[]
[]
[]
[]
[]
[]
[]
[]
[]
[]
[]
[]
[]
[]
[]
[]
[]
[]
[]
[]
[]
[]
[]
[]
[]
[]
[]
[]
[]
[]
[]
[]
[]
[]
[]
[]
[]
[]
[]
[]
[]
[]
[]
[]
[]
[]
[]
[]
[]
[]
[]
[]
[]
[]
[]
[]
[]
[]
[]
[]
[]
[]
[]
[]
[]
[]
[]
[]
[]
[]
[]
[]
[]
[]
[]
[]
[]
[]
[]
[]
[]
[]
[]
[]
[]
[]
[]
[]
[]
[]
[]
[]
[]
[]
[]
[]
[]
[]
[]
[]
[]
[]
[]
[]
[]
[]
[]
[]
[]
[]
[]
[]
[]
[]
[]
[]
[]
[]
[]
[]
[]
[]
[]
[]
[]
[]
[]
[]
[]
[]
[]
[]
[]
[]
[]
[]
[]
[]
[]
[]
[]
[]
[]
[]
[]
[]
[]
[]
[]
[]
[]
[]
[]
[]
[]
[]
[]
[]
[]
[]
[]
[]
[]
[]
[]
[]
[]
[]
[]
[]
[]
[]
[]
[]
[]
[]
[]
[]
[]
[]
[]
[]
[]
[]
[]
[]
[]
[]
[]
[]
[]
[]
[]
[]
[]
[]
[]
[]
[]
[]
[]
[]
[]
[]
[]
[]
[]
[]
[]
[]
[]
[]
[]
[]
[]
[]
[]
[]
[]
[]
[]
[]
[]
[]
[]
[]
[]
[]
[]
[]
[]
[]
[]
[]
[]
[]
[]
[]
[]
[]
[]
[]
[]
[]
[]
[]
[]
[]
[]
[]
[]
[]
[]
[]
[]
[]
[]
[]
[]
[]
[]
[]
[]
[]
[]
[]
[]
[]
[]
[]
[]
[]
[]
[]
[]
[]
[]
[]
[]
[]
[]
[]
[]
[]
[]
[]
[]
[]
[]
[]
[]
[]
[]
[]
[]
[]
[]
[]
[]
[]
[]
[]
[]
[]
[]
[]
[]
[]
[]
[]
[]
[]
[]
[]
[]
[]
[]
[]
[]
[]
[]
[]
[]
[]
[]
[]
[]
[]
[]
[]
[]
[]
[]
[]
[]
[]
[]
[]
[]
[]
[]
[]
[]
[]
[]
[]
[]
[]
[]
[]
[]
[]
[]
[]
[]
[]
[]
[]
[]
[]
[]
[]
[]
[]
[]
[]
[]
[]
[]
[]
[]
[]
[]
[]
[]
[]
[]
[]
[]
[]
[]
[]
[]
[]
[]
[]
[]
[]
[]
[]
[]
[]
[]
[]
[]
[]
[]
[]
[]
[]
[]
[]
[]
[]
[]
[]
[]
[]
[]
[]
[]
[]
[]
[]
[]
[]
[]
[]
[]
[]
[]
[]
[]
[]
[]
[]
[]
[]
[]
[]
[]
[]
[]
[]
[]
[]
[]
[]
[]
[]
[]
[]
[]
[]
[]
[]
[]
[]
[]
[]
[]
[]
[]
[]
[]
[]
[]
[]
[]
[]
[]
[]
[]
[]
[]
[]
[]
[]
[]
[]
[]
[]
[]
[]
[]
[]
[]
[]
[]
[]
[]
[]
[]
[]
[]
[]
[]
[]
[]
[]
[]
[]
[]
[]
[]
[]
[]
[]
[]
[]
[]
[]
[]
[]
[]
[]
[]
[]
[]
[]
[]
[]
[]
[]
[]
[]
[]
[]
[]
[]
[]
[]
[]
[]
[]
[]
[]
[]
[]
[]
[]
[]
[]
[]
[]
[]
[]
[]
[]
[]
[]
[]
[]
[]
[]
[]
[]
[]
[]
[]
[]
[]
[]
[]
[]
[]
[]
[]
[]
[]
[]
[]
[]
[]
[]
[]
[]
[]
[]
[]
[]
[]
[]
[]
[]
[]
[]
[]
[]
[]
[]
[]
[]
[]
[]
[]
[]
[]
[]
[]
[]
[]
[]
[]
[]
[]
[]
[]
[]
[]
[]
[]
[]
[]
[]
[]
[]
[]
[]
[]
[]
[]
[]
[]
[]
[]
[]
[]
[]
[]
[]
[]
[]
[]
[]
[]
[]
[]
[]
[]
[]
[]
[]
[]
[]
[]
[]
[]
[]
[]
[]
[]
[]
[]
[]
[]
[]
[]
[]
[]
[]
[]
[]
[]
[]
[]
[]
[]
[]
[]
[]
[]
[]
[]
[]
[]
[]
[]
[]
[]
[]
[]
[]
[]
[]
[]
[]
[]
[]
[]
[]
[]
[]
[]
[]
[]
[]
[]
[]
[]
[]
[]
[]
[]
[]
[]
[]
[]
[]
[]
[]
[]
[]
[]
[]
[]
[]
[]
[]
[]
[]
[]
[]
[]
[]
[]
[]
[]
[]
[]
[]
[]
[]
[]
[]
[]
[]
[]
[]
[]
[]
[]
[]
[]
[]
[]
[]
[]
[]
[]
[]
[]
[]
[]
[]
[]
[]
[]
[]
[]
[]
[]
[]
[]
[]
[]
[]
[]
[]
[]
[]
[]
[]
[]
[]
[]
[]
[]
[]
[]
[]
[]
[]
[]
[]
[]
[]
[]
[]
[]
[]
[]
[]
[]
[]
[]
[]
[]
[]
[]
[]
[]
[]
[]
[]
[]
[]
[]
[]
[]
[]
[]
[]
[]
[]
[]
[]
[]
[]
[]
[]
[]
[]
[]
[]
[]
[]
[]
[]
[]
[]
[]
[]
[]
[]
[]
[]
[]
[]
[]
[]
[]
[]
[]
[]
[]
[]
[]
[]
[]
[]
[]
[]
[]
[]
[]
[]
[]
[]
[]
[]
[]
[]
[]
[]
[]
[]
[]
[]
[]
[]
[]
[]
[]
[]
[]
[]
[]
[]
[]
[]
[]
[]
[]
[]
[]
[]
[]
[]
[]
[]
[]
[]
[]
[]
[]
[]
[]
[]
[]
[]
[]
[]
[]
[]
[]
[]
[]
[]
[]
[]
[]
[]
[]
[]
[]
[]
[]
[]
[]
[]
[]
[]
[]
[]
[]
[]
[]
[]
[]
[]
[]
[]
[]
[]
[]
[]
[]
[]
[]
[]
[]
[]
[]
[]
[]
[]
[]
[]
[]
[]
[]
[]
[]
[]
[]
[]
[]
[]
[]
[]
[]
[]
[]
[]
[]
[]
[]
[]
[]
[]
[]
[]
[]
[]
[]
[]
[]
[]
[]
[]
[]
[]
[]
[]
[]
[]
[]
[]
[]
[]
[]
[]
[]
[]
[]
[]
[]
[]
[]
[]
[]
[]
[]
[]
[]
[]
[]
[]
[]
[]
[]
[]
[]
[]
[]
[]
[]
[]
[]
[]
[]
[]
[]
[]
[]
[]
[]
[]
[]
[]
[]
[]
[]
[]
[]
[]
[]
[]
[]
[]
[]
[]
[]
[]
[]
[]
[]
[]
[]
[]
[]
[]
[]
[]
[]
[]
[]
[]
[]
[]
[]
[]
[]
[]
[]
[]
[]
[]
[]
[]
[]
[]
[]
[]
[]
[]
[]
[]
[]
[]
[]
[]
[]
[]
[]
[]
[]
[]
[]
[]
[]
[]
[]
[]
[]
[]
[]
[]
[]
[]
[]
[]
[]
[]
[]
[]
[]
[]
[]
[]
[]
[]
[]
[]
[]
[]
[]
[]
[]
[]
[]
[]
[]
[]
[]
[]
[]
[]
[]
[]
[]
[]
[]
[]
[]
[]
[]
[]
[]
[]
[]
[]
[]
[]
[]
[]
[]
[]
[]
[]
[]
[]
[]
[]
[]
[]
[]
[]
[]
[]
[]
[]
[]
[]
[]
[]
[]
[]
[]
[]
[]
[]
[]
[]
[]
[]
[]
[]
[]
[]
[]
[]
[]
[]
[]
[]
[]
[]
[]
[]
[]
[]
[]
[]
[]
[]
[]
[]
[]
[]
[]
[]
[]
[]
[]
[]
[]
[]
[]
[]
[]
[]
[]
[]
[]
[]
[]
[]
[]
[]
[]
[]
[]
[]
[]
[]
[]
[]
[]
[]
[]
[]
[]
[]
[]
[]
[]
[]
[]
[]
[]
[]
[]
[]
[]
[]
[]
[]
[]
[]
[]
[]
[]
[]
[]
[]
[]
[]
[]
[]
[]
[]
[]
[]
[]
[]
[]
[]
[]
[]
[]
[]
[]
[]
[]
[]
[]
[]
[]
[]
[]
[]
[]
[]
[]
[]
[]
[]
[]
[]
[]
[]
[]
[]
[]
[]
[]
[]
[]
[]
[]
[]
[]
[]
[]
[]
[]
[]
[]
[]
[]
[]
[]
[]
[]
[]
[]
[]
[]
[]
[]
[]
[]
[]
[]
[]
[]
[]
[]
[]
[]
[]
[]
[]
[]
[]
[]
[]
[]
[]
[]
[]
[]
[]
[]
[]
[]
[]
[]
[]
[]
[]
[]
[]
[]
[]
[]
[]
[]
[]
[]
[]
[]
[]
[]
[]
[]
[]
[]
[]
[]
[]
[]
[]
[]
[]
[]
[]
[]
[]
[]
[]
[]
[]
[]
[]
[]
[]
[]
[]
[]
[]
[]
[]
[]
[]
[]
[]
[]
[]
[]
[]
[]
[]
[]
[]
[]
[]
[]
[]
[]
[]
[]
[]
[]
[]
[]
[]
[]
[]
[]
[]
[]
[]
[]
[]
[]
[]
[]
[]
[]
[]
[]
[]
[]
[]
[]
[]
[]
[]
[]
[]
[]
[]
[]
[]
[]
[]
[]
[]
[]
[]
[]
[]
[]
[]
[]
[]
[]
[]
[]
[]
[]
[]
[]
[]
[]
[]
[]
[]
[]
[]
[]
[]
[]
[]
[]
[]
[]
[]
[]
[]
[]
[]
[]
[]
[]
[]
[]
[]
[]
[]
[]
[]
[]
[]
[]
[]
[]
[]
[]
[]
[]
[]
[]
[]
[]
[]
[]
[]
[]
[]
[]
[]
[]
[]
[]
[]
[]
[]
[]
[]
[]
[]
[]
[]
[]
[]
[]
[]
[]
[]
[]
[]
[]
[]
[]
[]
[]
[]
[]
[]
[]
[]
[]
[]
[]
[]
[]
[]
[]
[]
[]
[]
[]
[]
[]
[]
[]
[]
[]
[]
[]
[]
[]
[]
[]
[]
[]
[]
[]
[]
[]
[]
[]
[]
[]
[]
[]
[]
[]
[]
[]
[]
[]
[]
[]
[]
[]
[]
[]
[]
[]
[]
[]
[]
[]
[]
[]
[]
[]
[]
[]
[]
[]
[]
[]
[]
[]
[]
[]
[]
[]
[]
[]
[]
[]
[]
[]
[]
[]
[]
[]
[]
[]
[]
[]
[]
[]
[]
[]
[]
[]
[]
[]
[]
[]
[]
[]
[]
[]
[]
[]
[]
[]
[]
[]
[]
[]
[]
[]
[]
[]
[]
[]
[]
[]
[]
[]
[]
[]
[]
[]
[]
[]
[]
[]
[]
[]
[]
[]
[]
[]
[]
[]
[]
[]
[]
[]
[]
[]
[]
[]
[]
[]
[]
[]
[]
[]
[]
[]
[]
[]
[]
[]
[]
[]
[]
[]
[]
[]
[]
[]
[]
[]
[]
[]
[]
[]
[]
[]
[]
[]
[]
[]
[]
[]
[]
[]
[]
[]
[]
[]
[]
[]
[]
[]
[]
[]
[]
[]
[]
[]
[]
[]
[]
[]
[]
[]
[]
[]
[]
[]
[]
[]
[]
[]
[]
[]
[]
[]
[]
[]
[]
[]
[]
[]
[]
[]
[]
[]
[]
[]
[]
[]
[]
[]
[]
[]
[]
[]
[]
[]
[]
[]
[]
[]
[]
[]
[]
[]
[]
[]
[]
[]
[]
[]
[]
[]
[]
[]
[]
[]
[]
[]
[]
[]
[]
[]
[]
[]
[]
[]
[]
[]
[]
[]
[]
[]
[]
[]
[]
[]
[]
[]
[]
[]
[]
[]
[]
[]
[]
[]
[]
[]
[]
[]
[]
[]
[]
[]
[]
[]
[]
[]
[]
[]
[]
[]
[]
[]
[]
[]
[]
[]
[]
[]
[]
[]
[]
[]
[]
[]
[]
[]
[]
[]
[]
[]
[]
[]
[]
[]
[]
[]
[]
[]
[]
[]
[]
[]
[]
[]
[]
[]
[]
[]
[]
[]
[]
[]
[]
[]
[]
[]
[]
[]
[]
[]
[]
[]
[]
[]
[]
[]
[]
[]
[]
[]
[]
[]
[]
[]
[]
[]
[]
[]
[]
[]
[]
[]
[]
[]
[]
[]
[]
[]
[]
[]
[]
[]
[]
[]
[]
[]
[]
[]
[]
[]
[]
[]
[]
[]
[]
[]
[]
[]
[]
[]
[]
[]
[]
[]
[]
[]
[]
[]
[]
[]
[]
[]
[]
[]
[]
[]
[]
[]
[]
[]
[]
[]
[]
[]
[]
[]
[]
[]
[]
[]
[]
[]
[]
[]
[]
[]
[]
[]
[]
[]
[]
[]
[]
[]
[]
[]
[]
[]
[]
[]
[]
[]
[]
[]
[]
[]
[]
[]
[]
[]
[]
[]
[]
[]
[]
[]
[]
[]
[]
[]
[]
[]
[]
[]
[]
[]
[]
[]
[]
[]
[]
[]
[]
[]
[]
[]
[]
[]
[]
[]
[]
[]
[]
[]
[]
[]
[]
[]
[]
[]
[]
[]
[]
[]
[]
[]
[]
[]
[]
[]
[]
[]
[]
[]
[]
[]
[]
[]
[]
[]
[]
[]
[]
[]
[]
[]
[]
[]
[]
[]
[]
[]
[]
[]
[]
[]
[]
[]
[]
[]
[]
[]
[]
[]
[]
[]
[]
[]
[]
[]
[]
[]
[]
[]
[]
[]
[]
[]
[]
[]
[]
[]
[]
[]
[]
[]
[]
[]
[]
[]
[]
[]
[]
[]
[]
[]
[]
[]
[]
[]
[]
[]
[]
[]
[]
[]
[]
[]
[]
[]
[]
[]
[]
[]
[]
[]
[]
[]
[]
[]
[]
[]
[]
[]
[]
[]
[]
[]
[]
[]
[]
[]
[]
[]
[]
[]
[]
[]
[]
[]
[]
[]
[]
[]
[]
[]
[]
[]
[]
[]
[]
[]
[]
[]
[]
[]
[]
[]
[]
[]
[]
[]
[]
[]
[]
[]
[]
[]
[]
[]
[]
[]
[]
[]
[]
[]
[]
[]
[]
[]
[]
[]
[]
[]
[]
[]
[]
[]
[]
[]
[]
[]
[]
[]
[]
[]
[]
[]
[]
[]
[]
[]
[]
[]
[]
[]
[]
[]
[]
[]
[]
[]
[]
[]
[]
[]
[]
[]
[]
[]
[]
[]
[]
[]
[]
[]
[]
[]
[]
[]
[]
[]
[]
[]
[]
[]
[]
[]
[]
[]
[]
[]
[]
[]
[]
[]
[]
[]
[]
[]
[]
[]
[]
[]
[]
[]
[]
[]
[]
[]
[]
[]
[]
[]
[]
[]
[]
[]
[]
[]
[]
[]
[]
[]
[]
[]
[]
[]
[]
[]
[]
[]
[]
[]
[]
[]
[]
[]
[]
[]
[]
[]
[]
[]
[]
[]
[]
[]
[]
[]
[]
[]
[]
[]
[]
[]
[]
[]
[]
[]
[]
[]
[]
[]
[]
[]
[]
[]
[]
[]
[]
[]
[]
[]
[]
[]
[]
[]
[]
[]
[]
[]
[]
[]
[]
[]
[]
[]
[]
[]
[]
[]
[]
[]
[]
[]
[]
[]
[]
[]
[]
[]
[]
[]
[]
[]
[]
[]
[]
[]
[]
[]
[]
[]
[]
[]
[]
[]
[]
[]
[]
[]
[]
[]
[]
[]
[]
[]
[]
[]
[]
[]
[]
[]
[]
[]
[]
[]
[]
[]
[]
[]
[]
[]
[]
[]
[]
[]
[]
[]
[]
[]
[]
[]
[]
[]
[]
[]
[]
[]
[]
[]
[]
[]
[]
[]
[]
[]
[]
[]
[]
[]
[]
[]
[]
[]
[]
[]
[]
[]
[]
[]
[]
[]
[]
[]
[]
[]
[]
[]
[]
[]
[]
[]
[]
[]
[]
[]
[]
[]
[]
[]
[]
[]
[]
[]
[]
[]
[]
[]
[]
[]
[]
[]
[]
[]
[]
[]
[]
[]
[]
[]
[]
[]
[]
[]
[]
[]
[]
[]
[]
[]
[]
[]
[]
[]
[]
[]
[]
[]
[]
[]
[]
[]
[]
[]
[]
[]
[]
[]
[]
[]
[]
[]
[]
[]
[]
[]
[]
[]
[]
[]
[]
[]
[]
[]
[]
[]
[]
[]
[]
[]
[]
[]
[]
[]
[]
[]
[]
[]
[]
[]
[]
[]
[]
[]
[]
[]
[]
[]
[]
[]
[]
[]
[]
[]
[]
[]
[]
[]
[]
[]
[]
[]
[]
[]
[]
[]
[]
[]
[]
[]
[]
[]
[]
[]
[]
[]
[]
[]
[]
[]
[]
[]
[]
[]
[]
[]
[]
[]
[]
[]
[]
[]
[]
[]
[]
[]
[]
[]
[]
[]
[]
[]
[]
[]
[]
[]
[]
[]
[]
[]
[]
[]
[]
[]
[]
[]
[]
[]
[]
[]
[]
[]
[]
[]
[]
[]
[]
[]
[]
[]
[]
[]
[]
[]
[]
[]
[]
[]
[]
[]
[]
[]
[]
[]
[]
[]
[]
[]
[]
[]
[]
[]
[]
[]
[]
[]
[]
[]
[]
[]
[]
[]
[]
[]
[]
[]
[]
[]
[]
[]
[]
[]
[]
[]
[]
[]
[]
[]
[]
[]
[]
[]
[]
[]
[]
[]
[]
[]
[]
[]
[]
[]
[]
[]
[]
[]
[]
[]
[]
[]
[]
[]
[]
[]
[]
[]
[]
[]
[]
[]
[]
[]
[]
[]
[]
[]
[]
[]
[]
[]
[]
[]
[]
[]
[]
[]
[]
[]
[]
[]
[]
[]
[]
[]
[]
[]
[]
[]
[]
[]
[]
[]
[]
[]
[]
[]
[]
[]
[]
[]
[]
[]
[]
[]
[]
[]
[]
[]
[]
[]
[]
[]
[]
[]
[]
[]
[]
[]
[]
[]
[]
[]
[]
[]
[]
[]
[]
[]
[]
[]
[]
[]
[]
[]
[]
[]
[]
[]
[]
[]
[]
[]
[]
[]
[]
[]
[]
[]
[]
[]
[]
[]
[]
[]
[]
[]
[]
[]
[]
[]
[]
[]
[]
[]
[]
[]
[]
[]
[]
[]
[]
[]
[]
[]
[]
[]
[]
[]
[]
[]
[]
[]
[]
[]
[]
[]
[]
[]
[]
[]
[]
[]
[]
[]
[]
[]
[]
[]
[]
[]
[]
[]
[]
[]
[]
[]
[]
[]
[]
[]
[]
[]
[]
[]
[]
[]
[]
[]
[]
[]
[]
[]
[]
[]
[]
[]
[]
[]
[]
[]
[]
[]
[]
[]
[]
[]
[]
[]
[]
[]
[]
[]
[]
[]
[]
[]
[]
[]
[]
[]
[]
[]
[]
[]
[]
[]
[]
[]
[]
[]
[]
[]
[]
[]
[]
[]
[]
[]
[]
[]
[]
[]
[]
[]
[]
[]
[]
[]
[]
[]
[]
[]
[]
[]
[]
[]
[]
[]
[]
[]
[]
[]
[]
[]
[]
[]
[]
[]
[]
[]
[]
[]
[]
[]
[]
[]
[]
[]
[]
[]
[]
[]
[]
[]
[]
[]
[]
[]
[]
[]
[]
[]
[]
[]
[]
[]
[]
[]
[]
[]
[]
[]
[]
[]
[]
[]
[]
[]
[]
[]
[]
[]
[]
[]
[]
[]
[]
[]
[]
[]
[]
[]
[]
[]
[]
[]
[]
[]
[]
[]
[]
[]
[]
[]
[]
[]
[]
[]
[]
[]
[]
[]
[]
[]
[]
[]
[]
[]
[]
[]
[]
[]
[]
[]
[]
[]
[]
[]
[]
[]
[]
[]
[]
[]
[]
[]
[]
[]
[]
[]
[]
[]
[]
[]
[]
[]
[]
[]
[]
[]
[]
[]
[]
[]
[]
[]
[]
[]
[]
[]
[]
[]
[]
[]
[]
[]
[]
[]
[]
[]
[]
[]
[]
[]
[]
[]
[]
[]
[]
[]
[]
[]
[]
[]
[]
[]
[]
[]
[]
[]
[]
[]
[]
[]
[]
[]
[]
[]
[]
[]
[]
[]
[]
[]
[]
[]
[]
[]
[]
[]
[]
[]
[]
[]
[]
[]
[]
[]
[]
[]
[]
[]
[]
[]
[]
[]
[]
[]
[]
[]
[]
[]
[]
[]
[]
[]
[]
[]
[]
[]
[]
[]
[]
[]
[]
[]
[]
[]
[]
[]
[]
[]
[]
[]
[]
[]
[]
[]
[]
[]
[]
[]
[]
[]
[]
[]
[]
[]
[]
[]
[]
[]
[]
[]
[]
[]
[]
[]
[]
[]
[]
[]
[]
[]
[]
[]
[]
[]
[]
[]
[]
[]
[]
[]
[]
[]
[]
[]
[]
[]
[]
[]
[]
[]
[]
[]
[]
[]
[]
[]
[]
[]
[]
[]
[]
[]
[]
[]
[]
[]
[]
[]
[]
[]
[]
[]
[]
[]
[]
[]
[]
[]
[]
[]
[]
[]
[]
[]
[]
[]
[]
[]
[]
[]
[]
[]
[]
[]
[]
[]
[]
[]
[]
[]
[]
[]
[]
[]
[]
[]
[]
[]
[]
[]
[]
[]
[]
[]
[]
[]
[]
[]
[]
[]
[]
[]
[]
[]
[]
[]
[]
[]
[]
[]
[]
[]
[]
[]
[]
[]
[]
[]
[]
[]
[]
[]
[]
[]
[]
[]
[]
[]
[]
[]
[]
[]
[]
[]
[]
[]
[]
[]
[]
[]
[]
[]
[]
[]
[]
[]
[]
[]
[]
[]
[]
[]
[]
[]
[]
[]
[]
[]
[]
[]
[]
[]
[]
[]
[]
[]
[]
[]
[]
[]
[]
[]
[]
[]
[]
[]
[]
[]
[]
[]
[]
[]
[]
[]
[]
[]
[]
[]
[]
[]
[]
[]
[]
[]
[]
[]
[]
[]
[]
[]
[]
[]
[]
[]
[]
[]
[]
[]
[]
[]
[]
[]
[]
[]
[]
[]
[]
[]
[]
[]
[]
[]
[]
[]
[]
[]
[]
[]
[]
[]
[]
[]
[]
[]
[]
[]
[]
[]
[]
[]
[]
[]
[]
[]
[]
[]
[]
[]
[]
[]
[]
[]
[]
[]
[]
[]
[]
[]
[]
[]
[]
[]
[]
[]
[]
[]
[]
[]
[]
[]
[]
[]
[]
[]
[]
[]
[]
[]
[]
[]
[]
[]
[]
[]
[]
[]
[]
[]
[]
[]
[]
[]
[]
[]
[]
[]
[]
[]
[]
[]
[]
[]
[]
[]
[]
[]
[]
[]
[]
[]
[]
[]
[]
[]
[]
[]
[]
[]
[]
[]
[]
[]
[]
[]
[]
[]
[]
[]
[]
[]
[]
[]
[]
[]
[]
[]
[]
[]
[]
[]
[]
[]
[]
[]
[]
[]
[]
[]
[]
[]
[]
[]
[]
[]
[]
[]
[]
[]
[]
[]
[]
[]
[]
[]
[]
[]
[]
[]
[]
[]
[]
[]
[]
[]
[]
[]
[]
[]
[]
[]
[]
[]
[]
[]
[]
[]
[]
[]
[]
[]
[]
[]
[]
[]
[]
[]
[]
[]
[]
[]
[]
[]
[]
[]
[]
[]
[]
[]
[]
[]
[]
[]
[]
[]
[]
[]
[]
[]
[]
[]
[]
[]
[]
[]
[]
[]
[]
[]
[]
[]
[]
[]
[]
[]
[]
[]
[]
[]
[]
[]
[]
[]
[]
[]
[]
[]
[]
[]
[]
[]
[]
[]
[]
[]
[]
[]
[]
[]
[]
[]
[]
[]
[]
[]
[]
[]
[]
[]
[]
[]
[]
[]
[]
[]
[]
[]
[]
[]
[]
[]
[]
[]
[]
[]
[]
[]
[]
[]
[]
[]
[]
[]
[]
[]
[]
[]
[]
[]
[]
[]
[]
[]
[]
[]
[]
[]
[]
[]
[]
[]
[]
[]
[]
[]
[]
[]
[]
[]
[]
[]
[]
[]
[]
[]
[]
[]
[]
[]
[]
[]
[]
[]
[]
[]
[]
[]
[]
[]
[]
[]
[]
[]
[]
[]
[]
[]
[]
[]
[]
[]
[]
[]
[]
[]
[]
[]
[]
[]
[]
[]
[]
[]
[]
[]
[]
[]
[]
[]
[]
[]
[]
[]
[]
[]
[]
[]
[]
[]
[]
[]
[]
[]
[]
[]
[]
[]
[]
[]
[]
[]
[]
[]
[]
[]
[]
[]
[]
[]
[]
[]
[]
[]
[]
[]
[]
[]
[]
[]
[]
[]
[]
[]
[]
[]
[]
[]
[]
[]
[]
[]
[]
[]
[]
[]
[]
[]
[]
[]
[]
[]
[]
[]
[]
[]
[]
[]
[]
[]
[]
[]
[]
[]
[]
[]
[]
[]
[]
[]
[]
[]
[]
[]
[]
[]
[]
[]
[]
[]
[]
[]
[]
[]
[]
[]
[]
[]
[]
[]
[]
[]
[]
[]
[]
[]
[]
[]
[]
[]
[]
[]
[]
[]
[]
[]
[]
[]
[]
[]
[]
[]
[]
[]
[]
[]
[]
[]
[]
[]
[]
[]
[]
[]
[]
[]
[]
[]
[]
[]
[]
[]
[]
[]
[]
[]
[]
[]
[]
[]
[]
[]
[]
[]
[]
[]
[]
[]
[]
[]
[]
[]
[]
[]
[]
[]
[]
[]
[]
[]
[]
[]
[]
[]
[]
[]
[]
[]
[]
[]
[]
[]
[]
[]
[]
[]
[]
[]
[]
[]
[]
[]
[]
[]
[]
[]
[]
[]
[]
[]
[]
[]
[]
[]
[]
[]
[]
[]
[]
[]
[]
[]
[]
[]
[]
[]
[]
[]
[]
[]
[]
[]
[]
[]
[]
[]
[]
[]
[]
[]
[]
[]
[]
[]
[]
[]
[]
[]
[]
[]
[]
[]
[]
[]
[]
[]
[]
[]
[]
[]
[]
[]
[]
[]
[]
[]
[]
[]
[]
[]
[]
[]
[]
[]
[]
[]
[]
[]
[]
[]
[]
[]
[]
[]
[]
[]
[]
[]
[]
[]
[]
[]
[]
[]
[]
[]
[]
[]
[]
[]
[]
[]
[]
[]
[]
[]
[]
[]
[]
[]
[]
[]
[]
[]
[]
[]
[]
[]
[]
[]
[]
[]
[]
[]
[]
[]
[]
[]
[]
[]
[]
[]
[]
[]
[]
[]
[]
[]
[]
[]
[]
[]
[]
[]
[]
[]
[]
[]
[]
[]
[]
[]
[]
[]
[]
[]
[]
[]
[]
[]
[]
[]
[]
[]
[]
[]
[]
[]
[]
[]
[]
[]
[]
[]
[]
[]
[]
[]
[]
[]
[]
[]
[]
[]
[]
[]
[]
[]
[]
[]
[]
[]
[]
[]
[]
[]
[]
[]
[]
[]
[]
[]
[]
[]
[]
[]
[]
[]
[]
[]
[]
[]
[]
[]
[]
[]
[]
[]
[]
[]
[]
[]
[]
[]
[]
[]
[]
[]
[]
[]
[]
[]
[]
[]
[]
[]
[]
[]
[]
[]
[]
[]
[]
[]
[]
[]
[]
[]
[]
[]
[]
[]
[]
[]
[]
[]
[]
[]
[]
[]
[]
[]
[]
[]
[]
[]
[]
[]
[]
[]
[]
[]
[]
[]
[]
[]
[]
[]
[]
[]
[]
[]
[]
[]
[]
[]
[]
[]
[]
[]
[]
[]
[]
[]
[]
[]
[]
[]
[]
[]
[]
[]
[]
[]
[]
[]
[]
[]
[]
[]
[]
[]
[]
[]
[]
[]
[]
[]
[]
[]
[]
[]
[]
[]
[]
[]
[]
[]
[]
[]
[]
[]
[]
[]
[]
[]
[]
[]
[]
[]
[]
[]
[]
[]
[]
[]
[]
[]
[]
[]
[]
[]
[]
[]
[]
[]
[]
[]
[]
[]
[]
[]
[]
[]
[]
[]
[]
[]
[]
[]
[]
[]
[]
[]
[]
[]
[]
[]
[]
[]
[]
[]
[]
[]
[]
[]
[]
[]
[]
[]
[]
[]
[]
[]
[]
[]
[]
[]
[]
[]
[]
[]
[]
[]
[]
[]
[]
[]
[]
[]
[]
[]
[]
[]
[]
[]
[]
[]
[]
[]
[]
[]
[]
[]
[]
[]
[]
[]
[]
[]
[]
[]
[]
[]
[]
[]
[]
[]
[]
[]
[]
[]
[]
[]
[]
[]
[]
[]
[]
[]
[]
[]
[]
[]
[]
[]
[]
[]
[]
[]
[]
[]
[]
[]
[]
[]
[]
[]
[]
[]
[]
[]
[]
[]
[]
[]
[]
[]
[]
[]
[]
[]
[]
[]
[]
[]
[]
[]
[]
[]
[]
[]
[]
[]
[]
[]
[]
[]
[]
[]
[]
[]
[]
[]
[]
[]
[]
[]
[]
[]
[]
[]
[]
[]
[]
[]
[]
[]
[]
[]
[]
[]
[]
[]
[]
[]
[]
[]
[]
[]
[]
[]
[]
[]
[]
[]
[]
[]
[]
[]
[]
[]
[]
[]
[]
[]
[]
[]
[]
[]
[]
[]
[]
[]
[]
[]
[]
[]
[]
[]
[]
[]
[]
[]
[]
[]
[]
[]
[]
[]
[]
[]
[]
[]
[]
[]
[]
[]
[]
[]
[]
[]
[]
[]
[]
[]
[]
[]
[]
[]
[]
[]
[]
[]
[]
[]
[]
[]
[]
[]
[]
[]
[]
[]
[]
[]
[]
[]
[]
[]
[]
[]
[]
[]
[]
[]
[]
[]
[]
[]
[]
[]
[]
[]
[]
[]
[]
[]
[]
[]
[]
[]
[]
[]
[]
[]
[]
[]
[]
[]
[]
[]
[]
[]
[]
[]
[]
[]
[]
[]
[]
[]
[]
[]
[]
[]
[]
[]
[]
[]
[]
[]
[]
[]
[]
[]
[]
[]
[]
[]
[]
[]
[]
[]
[]
[]
[]
[]
[]
[]
[]
[]
[]
[]
[]
[]
[]
[]
[]
[]
[]
[]
[]
[]
[]
[]
[]
[]
[]
[]
[]
[]
[]
[]
[]
[]
[]
[]
[]
[]
[]
[]
[]
[]
[]
[]
[]
[]
[]
[]
[]
[]
[]
[]
[]
[]
[]
[]
[]
[]
[]
[]
[]
[]
[]
[]
[]
[]
[]
[]
[]
[]
[]
[]
[]
[]
[]
[]
[]
[]
[]
[]
[]
[]
[]
[]
[]
[]
[]
[]
[]
[]
[]
[]
[]
[]
[]
[]
[]
[]
[]
[]
[]
[]
[]
[]
[]
[]
[]
[]
[]
[]
[]
[]
[]
[]
[]
[]
[]
[]
[]
[]
[]
[]
[]
[]
[]
[]
[]
[]
[]
[]
[]
[]
[]
[]
[]
[]
[]
[]
[]
[]
[]
[]
[]
[]
[]
[]
[]
[]
[]
[]
[]
[]
[]
[]
[]
[]
[]
[]
[]
[]
[]
[]
[]
[]
[]
[]
[]
[]
[]
[]
[]
[]
[]
[]
[]
[]
[]
[]
[]
[]
[]
[]
[]
[]
[]
[]
[]
[]
[]
[]
[]
[]
[]
[]
[]
[]
[]
[]
[]
[]
[]
[]
[]
[]
[]
[]
[]
[]
[]
[]
[]
[]
[]
[]
[]
[]
[]
[]
[]
[]
[]
[]
[]
[]
[]
[]
[]
[]
[]
[]
[]
[]
[]
[]
[]
[]
[]
[]
[]
[]
[]
[]
[]
[]
[]
[]
[]
[]
[]
[]
[]
[]
[]
[]
[]
[]
[]
[]
[]
[]
[]
[]
[]
[]
[]
[]
[]
[]
[]
[]
[]
[]
[]
[]
[]
[]
[]
[]
[]
[]
[]
[]
[]
[]
[]
[]
[]
[]
[]
[]
[]
[]
[]
[]
[]
[]
[]
[]
[]
[]
[]
[]
[]
[]
[]
[]
[]
[]
[]
[]
[]
[]
[]
[]
[]
[]
[]
[]
[]
[]
[]
[]
[]
[]
[]
[]
[]
[]
[]
[]
[]
[]
[]
[]
[]
[]
[]
[]
[]
[]
[]
[]
[]
[]
[]
[]
[]
[]
[]
[]
[]
[]
[]
[]
[]
[]
[]
[]
[]
[]
[]
[]
[]
[]
[]
[]
[]
[]
[]
[]
[]
[]
[]
[]
[]
[]
[]
[]
[]
[]
[]
[]
[]
[]
[]
[]
[]
[]
[]
[]
[]
[]
[]
[]
[]
[]
[]
[]
[]
[]
[]
[]
[]
[]
[]
[]
[]
[]
[]
[]
[]
[]
[]
[]
[]
[]
[]
[]
[]
[]
[]
[]
[]
[]
[]
[]
[]
[]
[]
[]
[]
[]
[]
[]
[]
[]
[]
[]
[]
[]
[]
[]
[]
[]
[]
[]
[]
[]
[]
[]
[]
[]
[]
[]
[]
[]
[]
[]
[]
[]
[]
[]
[]
[]
[]
[]
[]
[]
[]
[]
[]
[]
[]
[]
[]
[]
[]
[]
[]
[]
[]
[]
[]
[]
[]
[]
[]
[]
[]
[]
[]
[]
[]
[]
[]
[]
[]
[]
[]
[]
[]
[]
[]
[]
[]
[]
[]
[]
[]
[]
[]
[]
[]
[]
[]
[]
[]
[]
[]
[]
[]
[]
[]
[]
[]
[]
[]
[]
[]
[]
[]
[]
[]
[]
[]
[]
[]
[]
[]
[]
[]
[]
[]
[]
[]
[]
[]
[]
[]
[]
[]
[]
[]
[]
[]
[]
[]
[]
[]
[]
[]
[]
[]
[]
[]
[]
[]
[]
[]
[]
[]
[]
[]
[]
[]
[]
[]
[]
[]
[]
[]
[]
[]
[]
[]
[]
[]
[]
[]
[]
[]
[]
[]
[]
[]
[]
[]
[]
[]
[]
[]
[]
[]
[]
[]
[]
[]
[]
[]
[]
[]
[]
[]
[]
[]
[]
[]
[]
[]
[]
[]
[]
[]
[]
[]
[]
[]
[]
[]
[]
[]
[]
[]
[]
[]
[]
[]
[]
[]
[]
[]
[]
[]
[]
[]
[]
[]
[]
[]
[]
[]
[]
[]
[]
[]
[]
[]
[]
[]
[]
[]
[]
[]
[]
[]
[]
[]
[]
[]
[]
[]
[]
[]
[]
[]
[]
[]
[]
[]
[]
[]
[]
[]
[]
[]
[]
[]
[]
[]
[]
[]
[]
[]
[]
[]
[]
[]
[]
[]
[]
[]
[]
[]
[]
[]
[]
[]
[]
[]
[]
[]
[]
[]
[]
[]
[]
[]
[]
[]
[]
[]
[]
[]
[]
[]
[]
[]
[]
[]
[]
[]
[]
[]
[]
[]
[]
[]
[]
[]
[]
[]
[]
[]
[]
[]
[]
[]
[]
[]
[]
[]
[]
[]
[]
[]
[]
[]
[]
[]
[]
[]
[]
[]
[]
[]
[]
[]
[]
[]
[]
[]
[]
[]
[]
[]
[]
[]
[]
[]
[]
[]
[]
[]
[]
[]
[]
[]
[]
[]
[]
[]
[]
[]
[]
[]
[]
[]
[]
[]
[]
[]
[]
[]
[]
[]
[]
[]
[]
[]
[]
[]
[]
[]
[]
[]
[]
[]
[]
[]
[]
[]
[]
[]
[]
[]
[]
[]
[]
[]
[]
[]
[]
[]
[]
[]
[]
[]
[]
[]
[]
[]
[]
[]
[]
[]
[]
[]
[]
[]
[]
[]
[]
[]
[]
[]
[]
[]
[]
[]
[]
[]
[]
[]
[]
[]
[]
[]
[]
[]
[]
[]
[]
[]
[]
[]
[]
[]
[]
[]
[]
[]
[]
[]
[]
[]
[]
[]
[]
[]
[]
[]
[]
[]
[]
[]
[]
[]
[]
[]
[]
[]
[]
[]
[]
[]
[]
[]
[]
[]
[]
[]
[]
[]
[]
[]
[]
[]
[]
[]
[]
[]
[]
[]
[]
[]
[]
[]
[]
[]
[]
[]
[]
[]
[]
[]
[]
[]
[]
[]
[]
[]
[]
[]
[]
[]
[]
[]
[]
[]
[]
[]
[]
[]
[]
[]
[]
[]
[]
[]
[]
[]
[]
[]
[]
[]
[]
[]
[]
[]
[]
[]
[]
[]
[]
[]
[]
[]
[]
[]
[]
[]
[]
[]
[]
[]
[]
[]
[]
[]
[]
[]
[]
[]
[]
[]
[]
[]
[]
[]
[]
[]
[]
[]
[]
[]
[]
[]
[]
[]
[]
[]
[]
[]
[]
[]
[]
[]
[]
[]
[]
[]
[]
[]
[]
[]
[]
[]
[]
[]
[]
[]
[]
[]
[]
[]
[]
[]
[]
[]
[]
[]
[]
[]
[]
[]
[]
[]
[]
[]
[]
[]
[]
[]
[]
[]
[]
[]
[]
[]
[]
[]
[]
[]
[]
[]
[]
[]
[]
[]
[]
[]
[]
[]
[]
[]
[]
[]
[]
[]
[]
[]
[]
[]
[]
[]
[]
[]
[]
[]
[]
[]
[]
[]
[]
[]
[]
[]
[]
[]
[]
[]
[]
[]
[]
[]
[]
[]
[]
[]
[]
[]
[]
[]
[]
[]
[]
[]
[]
[]
[]
[]
[]
[]
[]
[]
[]
[]
[]
[]
[]
[]
[]
[]
[]
[]
[]
[]
[]
[]
[]
[]
[]
[]
[]
[]
[]
[]
[]
[]
[]
[]
[]
[]
[]
[]
[]
[]
[]
[]
[]
[]
[]
[]
[]
[]
[]
[]
[]
[]
[]
[]
[]
[]
[]
[]
[]
[]
[]
[]
[]
[]
[]
[]
[]
[]
[]
[]
[]
[]
[]
[]
[]
[]
[]
[]
[]
[]
[]
[]
[]
[]
[]
[]
[]
[]
[]
[]
[]
[]
[]
[]
[]
[]
[]
[]
[]
[]
[]
[]
[]
[]
[]
[]
[]
[]
[]
[]
[]
[]
[]
[]
[]
[]
[]
[]
[]
[]
[]
[]
[]
[]
[]
[]
[]
[]
[]
[]
[]
[]
[]
[]
[]
[]
[]
[]
[]
[]
[]
[]
[]
[]
[]
[]
[]
[]
[]
[]
[]
[]
[]
[]
[]
[]
[]
[]
[]
[]
[]
[]
[]
[]
[]
[]
[]
[]
[]
[]
[]
[]
[]
[]
[]
[]
[]
[]
[]
[]
[]
[]
[]
[]
[]
[]
[]
[]
[]
[]
[]
[]
[]
[]
[]
[]
[]
[]
[]
[]
[]
[]
[]
[]
[]
[]
[]
[]
[]
[]
[]
[]
[]
[]
[]
[]
[]
[]
[]
[]
[]
[]
[]
[]
[]
[]
[]
[]
[]
[]
[]
[]
[]
[]
[]
[]
[]
[]
[]
[]
[]
[]
[]
[]
[]
[]
[]
[]
[]
[]
[]
[]
[]
[]
[]
[]
[]
[]
[]
[]
[]
[]
[]
[]
[]
[]
[]
[]
[]
[]
[]
[]
[]
[]
[]
[]
[]
[]
[]
[]
[]
[]
[]
[]
[]
[]
[]
[]
[]
[]
[]
[]
[]
[]
[]
[]
[]
[]
[]
[]
[]
[]
[]
[]
[]
[]
[]
[]
[]
[]
[]
[]
[]
[]
[]
[]
[]
[]
[]
[]
[]
[]
[]
[]
[]
[]
[]
[]
[]
[]
[]
[]
[]
[]
[]
[]
[]
[]
[]
[]
[]
[]
[]
[]
[]
[]
[]
[]
[]
[]
[]
[]
[]
[]
[]
[]
[]
[]
[]
[]
[]
[]
[]
[]
[]
[]
[]
[]
[]
[]
[]
[]
[]
[]
[]
[]
[]
[]
[]
[]
[]
[]
[]
[]
[]
[]
[]
[]
[]
[]
[]
[]
[]
[]
[]
[]
[]
[]
[]
[]
[]
[]
[]
[]
[]
[]
[]
[]
[]
[]
[]
[]
[]
[]
[]
[]
[]
[]
[]
[]
[]
[]
[]
[]
[]
[]
[]
[]
[]
[]
[]
[]
[]
[]
[]
[]
[]
[]
[]
[]
[]
[]
[]
[]
[]
[]
[]
[]
[]
[]
[]
[]
[]
[]
[]
[]
[]
[]
[]
[]
[]
[]
[]
[]
[]
[]
[]
[]
[]
[]
[]
[]
[]
[]
[]
[]
[]
[]
[]
[]
[]
[]
[]
[]
[]
[]
[]
[]
[]
[]
[]
[]
[]
[]
[]
[]
[]
[]
[]
[]
[]
[]
[]
[]
[]
[]
[]
[]
[]
[]
[]
[]
[]
[]
[]
[]
[]
[]
[]
[]
[]
[]
[]
[]
[]
[]
[]
[]
[]
[]
[]
[]
[]
[]
[]
[]
[]
[]
[]
[]
[]
[]
[]
[]
[]
[]
[]
[]
[]
[]
[]
[]
[]
[]
[]
[]
[]
[]
[]
[]
[]
[]
[]
[]
[]
[]
[]
[]
[]
[]
[]
[]
[]
[]
[]
[]
[]
[]
[]
[]
[]
[]
[]
[]
[]
[]
[]
[]
[]
[]
[]
[]
[]
[]
[]
[]
[]
[]
[]
[]
[]
[]
[]
[]
[]
[]
[]
[]
[]
[]
[]
[]
[]
[]
[]
[]
[]
[]
[]
[]
[]
[]
[]
[]
[]
[]
[]
[]
[]
[]
[]
[]
[]
[]
[]
[]
[]
[]
[]
[]
[]
[]
[]
[]
[]
[]
[]
[]
[]
[]
[]
[]
[]
[]
[]
[]
[]
[]
[]
[]
[]
[]
[]
[]
[]
[]
[]
[]
[]
[]
[]
[]
[]
[]
[]
[]
[]
[]
[]
[]
[]
[]
[]
[]
[]
[]
[]
[]
[]
[]
[]
[]
[]
[]
[]
[]
[]
[]
[]
[]
[]
[]
[]
[]
[]
[]
[]
[]
[]
[]
[]
[]
[]
[]
[]
[]
[]
[]
[]
[]
[]
[]
[]
[]
[]
[]
[]
[]
[]
[]
[]
[]
[]
[]
[]
[]
[]
[]
[]
[]
[]
[]
[]
[]
[]
[]
[]
[]
[]
[]
[]
[]
[]
[]
[]
[]
[]
[]
[]
[]
[]
[]
[]
[]
[]
[]
[]
[]
[]
[]
[]
[]
[]
[]
[]
[]
[]
[]
[]
[]
[]
[]
[]
[]
[]
[]
[]
[]
[]
[]
[]
[]
[]
[]
[]
[]
[]
[]
[]
[]
[]
[]
[]
[]
[]
[]
[]
[]
[]
[]
[]
[]
[]
[]
[]
[]
[]
[]
[]
[]
[]
[]
[]
[]
[]
[]
[]
[]
[]
[]
[]
[]
[]
[]
[]
[]
[]
[]
[]
[]
[]
[]
[]
[]
[]
[]
[]
[]
[]
[]
[]
[]
[]
[]
[]
[]
[]
[]
[]
[]
[]
[]
[]
[]
[]
[]
[]
[]
[]
[]
[]
[]
[]
[]
[]
[]
[]
[]
[]
[]
[]
[]
[]
[]
[]
[]
[]
[]
[]
[]
[]
[]
[]
[]
[]
[]
[]
[]
[]
[]
[]
[]
[]
[]
[]
[]
[]
[]
[]
[]
[]
[]
[]
[]
[]
[]
[]
[]
[]
[]
[]
[]
[]
[]
[]
[]
[]
[]
[]
[]
[]
[]
[]
[]
[]
[]
[]
[]
[]
[]
[]
[]
[]
[]
[]
[]
[]
[]
[]
[]
[]
[]
[]
[]
[]
[]
[]
[]
[]
[]
[]
[]
[]
[]
[]
[]
[]
[]
[]
[]
[]
[]
[]
[]
[]
[]
[]
[]
[]
[]
[]
[]
[]
[]
[]
[]
[]
[]
[]
[]
[]
[]
[]
[]
[]
[]
[]
[]
[]
[]
[]
[]
[]
[]
[]
[]
[]
[]
[]
[]
[]
[]
[]
[]
[]
[]
[]
[]
[]
[]
[]
[]
[]
[]
[]
[]
[]
[]
[]
[]
[]
[]
[]
[]
[]
[]
[]
[]
[]
[]
[]
[]
[]
[]
[]
[]
[]
[]
[]
[]
[]
[]
[]
[]
[]
[]
[]
[]
[]
[]
[]
[]
[]
[]
[]
[]
[]
[]
[]
[]
[]
[]
[]
[]
[]
[]
[]
[]
[]
[]
[]
[]
[]
[]
[]
[]
[]
[]
[]
[]
[]
[]
[]
[]
[]
[]
[]
[]
[]
[]
[]
[]
[]
[]
[]
[]
[]
[]
[]
[]
[]
[]
[]
[]
[]
[]
[]
[]
[]
[]
[]
[]
[]
[]
[]
[]
[]
[]
[]
[]
[]
[]
[]
[]
[]
[]
[]
[]
[]
[]
[]
[]
[]
[]
[]
[]
[]
[]
[]
[]
[]
[]
[]
[]
[]
[]
[]
[]
[]
[]
[]
[]
[]
[]
[]
[]
[]
[]
[]
[]
[]
[]
[]
[]
[]
[]
[]
[]
[]
[]
[]
[]
[]
[]
[]
[]
[]
[]
[]
[]
[]
[]
[]
[]
[]
[]
[]
[]
[]
[]
[]
[]
[]
[]
[]
[]
[]
[]
[]
[]
[]
[]
[]
[]
[]
[]
[]
[]
[]
[]
[]
[]
[]
[]
[]
[]
[]
[]
[]
[]
[]
[]
[]
[]
[]
[]
[]
[]
[]
[]
[]
[]
[]
[]
[]
[]
[]
[]
[]
[]
[]
[]
[]
[]
[]
[]
[]
[]
[]
[]
[]
[]
[]
[]
[]
[]
[]
[]
[]
[]
[]
[]
[]
[]
[]
[]
[]
[]
[]
[]
[]
[]
[]
[]
[]
[]
[]
[]
[]
[]
[]
[]
[]
[]
[]
[]
[]
[]
[]
[]
[]
[]
[]
[]
[]
[]
[]
[]
[]
[]
[]
[]
[]
[]
[]
[]
[]
[]
[]
[]
[]
[]
[]
[]
[]
[]
[]
[]
[]
[]
[]
[]
[]
[]
[]
[]
[]
[]
[]
[]
[]
[]
[]
[]
[]
[]
[]
[]
[]
[]
[]
[]
[]
[]
[]
[]
[]
[]
[]
[]
[]
[]
[]
[]
[]
[]
[]
[]
[]
[]
[]
[]
[]
[]
[]
[]
[]
[]
[]
[]
[]
[]
[]
[]
[]
[]
[]
[]
[]
[]
[]
[]
[]
[]
[]
[]
[]
[]
[]
[]
[]
[]
[]
[]
[]
[]
[]
[]
[]
[]
[]
[]
[]
[]
[]
[]
[]
[]
[]
[]
[]
[]
[]
[]
[]
[]
[]
[]
[]
[]
[]
[]
[]
[]
[]
[]
[]
[]
[]
[]
[]
[]
[]
[]
[]
[]
[]
[]
[]
[]
[]
[]
[]
[]
[]
[]
[]
[]
[]
[]
[]
[]
[]
[]
[]
[]
[]
[]
[]
[]
[]
[]
[]
[]
[]
[]
[]
[]
[]
[]
[]
[]
[]
[]
[]
[]
[]
[]
[]
[]
[]
[]
[]
[]
[]
[]
[]
[]
[]
[]
[]
[]
[]
[]
[]
[]
[]
[]
[]
[]
[]
[]
[]
[]
[]
[]
[]
[]
[]
[]
[]
[]
[]
[]
[]
[]
[]
[]
[]
[]
[]
[]
[]
[]
[]
[]
[]
[]
[]
[]
[]
[]
[]
[]
[]
[]
[]
[]
[]
[]
[]
[]
[]
[]
[]
[]
[]
[]
[]
[]
[]
[]
[]
[]
[]
[]
[]
[]
[]
[]
[]
[]
[]
[]
[]
[]
[]
[]
[]
[]
[]
[]
[]
[]
[]
[]
[]
[]
[]
[]
[]
[]
[]
[]
[]
[]
[]
[]
[]
[]
[]
[]
[]
[]
[]
[]
[]
[]
[]
[]
[]
[]
[]
[]
[]
[]
[]
[]
[]
[]
[]
[]
[]
[]
[]
[]
[]
[]
[]
[]
[]
[]
[]
[]
[]
[]
[]
[]
[]
[]
[]
[]
[]
[]
[]
[]
[]
[]
[]
[]
[]
[]
[]
[]
[]
[]
[]
[]
[]
[]
[]
[]
[]
[]
[]
[]
[]
[]
[]
[]
[]
[]
[]
[]
[]
[]
[]
[]
[]
[]
[]
[]
[]
[]
[]
[]
[]
[]
[]
[]
[]
[]
[]
[]
[]
[]
[]
[]
[]
[]
[]
[]
[]
[]
[]
[]
[]
[]
[]
[]
[]
[]
[]
[]
[]
[]
[]
[]
[]
[]
[]
[]
[]
[]
[]
[]
[]
[]
[]
[]
[]
[]
[]
[]
[]
[]
[]
[]
[]
[]
[]
[]
[]
[]
[]
[]
[]
[]
[]
[]
[]
[]
[]
[]
[]
[]
[]
[]
[]
[]
[]
[]
[]
[]
[]
[]
[]
[]
[]
[]
[]
[]
[]
[]
[]
[]
[]
[]
[]
[]
[]
[]
[]
[]
[]
[]
[]
[]
[]
[]
[]
[]
[]
[]
[]
[]
[]
[]
[]
[]
[]
[]
[]
[]
[]
[]
[]
[]
[]
[]
[]
[]
[]
[]
[]
[]
[]
[]
[]
[]
[]
[]
[]
[]
[]
[]
[]
[]
[]
[]
[]
[]
[]
[]
[]
[]
[]
[]
[]
[]
[]
[]
[]
[]
[]
[]
[]
[]
[]
[]
[]
[]
[]
[]
[]
[]
[]
[]
[]
[]
[]
[]
[]
[]
[]
[]
[]
[]
[]
[]
[]
[]
[]
[]
[]
[]
[]
[]
[]
[]
[]
[]
[]
[]
[]
[]
[]
[]
[]
[]
[]
[]
[]
[]
[]
[]
[]
[]
[]
[]
[]
[]
[]
[]
[]
[]
[]
[]
[]
[]
[]
[]
[]
[]
[]
[]
[]
[]
[]
[]
[]
[]
[]
[]
[]
[]
[]
[]
[]
[]
[]
[]
[]
[]
[]
[]
[]
[]
[]
[]
[]
[]
[]
[]
[]
[]
[]
[]
[]
[]
[]
[]
[]
[]
[]
[]
[]
[]
[]
[]
[]
[]
[]
[]
[]
[]
[]
[]
[]
[]
[]
[]
[]
[]
[]
[]
[]
[]
[]
[]
[]
[]
[]
[]
[]
[]
[]
[]
[]
[]
[]
[]
[]
[]
[]
[]
[]
[]
[]
[]
[]
[]
[]
[]
[]
[]
[]
[]
[]
[]
[]
[]
[]
[]
[]
[]
[]
[]
[]
[]
[]
[]
[]
[]
[]
[]
[]
[]
[]
[]
[]
[]
[]
[]
[]
[]
[]
[]
[]
[]
[]
[]
[]
[]
[]
[]
[]
[]
[]
[]
[]
[]
[]
[]
[]
[]
[]
[]
[]
[]
[]
[]
[]
[]
[]
[]
[]
[]
[]
[]
[]
[]
[]
[]
[]
[]
[]
[]
[]
[]
[]
[]
[]
[]
[]
[]
[]
[]
[]
[]
[]
[]
[]
[]
[]
[]
[]
[]
[]
[]
[]
[]
[]
[]
[]
[]
[]
[]
[]
[]
[]
[]
[]
[]
[]
[]
[]
[]
[]
[]
[]
[]
[]
[]
[]
[]
[]
[]
[]
[]
[]
[]
[]
[]
[]
[]
[]
[]
[]
[]
[]
[]
[]
[]
[]
[]
[]
[]
[]
[]
[]
[]
[]
[]
[]
[]
[]
[]
[]
[]
[]
[]
[]
[]
[]
[]
[]
[]
[]
[]
[]
[]
[]
[]
[]
[]
[]
[]
[]
[]
[]
[]
[]
[]
[]
[]
[]
[]
[]
[]
[]
[]
[]
[]
[]
[]
[]
[]
[]
[]
[]
[]
[]
[]
[]
[]
[]
[]
[]
[]
[]
[]
[]
[]
[]
[]
[]
[]
[]
[]
[]
[]
[]
[]
[]
[]
[]
[]
[]
[]
[]
[]
[]
[]
[]
[]
[]
[]
[]
[]
[]
[]
[]
[]
[]
[]
[]
[]
[]
[]
[]
[]
[]
[]
[]
[]
[]
[]
[]
[]
[]
[]
[]
[]
[]
[]
[]
[]
[]
[]
[]
[]
[]
[]
[]
[]
[]
[]
[]
[]
[]
[]
[]
[]
[]
[]
[]
[]
[]
[]
[]
[]
[]
[]
[]
[]
[]
[]
[]
[]
[]
[]
[]
[]
[]
[]
[]
[]
[]
[]
[]
[]
[]
[]
[]
[]
[]
[]
[]
[]
[]
[]
[]
[]
[]
[]
[]
[]
[]
[]
[]
[]
[]
[]
[]
[]
[]
[]
[]
[]
[]
[]
[]
[]
[]
[]
[]
[]
[]
[]
[]
[]
[]
[]
[]
[]
[]
[]
[]
[]
[]
[]
[]
[]
[]
[]
[]
[]
[]
[]
[]
[]
[]
[]
[]
[]
[]
[]
[]
[]
[]
[]
[]
[]
[]
[]
[]
[]
[]
[]
[]
[]
[]
[]
[]
[]
[]
[]
[]
[]
[]
[]
[]
[]
[]
[]
[]
[]
[]
[]
[]
[]
[]
[]
[]
[]
[]
[]
[]
[]
[]
[]
[]
[]
[]
[]
[]
[]
[]
[]
[]
[]
[]
[]
[]
[]
[]
[]
[]
[]
[]
[]
[]
[]
[]
[]
[]
[]
[]
[]
[]
[]
[]
[]
[]
[]
[]
[]
[]
[]
[]
[]
[]
[]
[]
[]
[]
[]
[]
[]
[]
[]
[]
[]
[]
[]
[]
[]
[]
[]
[]
[]
[]
[]
[]
[]
[]
[]
[]
[]
[]
[]
[]
[]
[]
[]
[]
[]
[]
[]
[]
[]
[]
[]
[]
[]
[]
[]
[]
[]
[]
[]
[]
[]
[]
[]
[]
[]
[]
[]
[]
[]
[]
[]
[]
[]
[]
[]
[]
[]
[]
[]
[]
[]
[]
[]
[]
[]
[]
[]
[]
[]
[]
[]
[]
[]
[]
[]
[]
[]
[]
[]
[]
[]
[]
[]
[]
[]
[]
[]
[]
[]
[]
[]
[]
[]
[]
[]
[]
[]
[]
[]
[]
[]
[]
[]
[]
[]
[]
[]
[]
[]
[]
[]
[]
[]
[]
[]
[]
[]
[]
[]
[]
[]
[]
[]
[]
[]
[]
[]
[]
[]
[]
[]
[]
[]
[]
[]
[]
[]
[]
[]
[]
[]
[]
[]
[]
[]
[]
[]
[]
[]
[]
[]
[]
[]
[]
[]
[]
[]
[]
[]
[]
[]
[]
[]
[]
[]
[]
[]
[]
[]
[]
[]
[]
[]
[]
[]
[]
[]
[]
[]
[]
[]
[]
[]
[]
[]
[]
[]
[]
[]
[]
[]
[]
[]
[]
[]
[]
[]
[]
[]
[]
[]
[]
[]
[]
[]
[]
[]
[]
[]
[]
[]
[]
[]
[]
[]
[]
[]
[]
[]
[]
[]
[]
[]
[]
[]
[]
[]
[]
[]
[]
[]
[]
[]
[]
[]
[]
[]
[]
[]
[]
[]
[]
[]
[]
[]
[]
[]
[]
[]
[]
[]
[]
[]
[]
[]
[]
[]
[]
[]
[]
[]
[]
[]
[]
[]
[]
[]
[]
[]
[]
[]
[]
[]
[]
[]
[]
[]
[]
[]
[]
[]
[]
[]
[]
[]
[]
[]
[]
[]
[]
[]
[]
[]
[]
[]
[]
[]
[]
[]
[]
[]
[]
[]
[]
[]
[]
[]
[]
[]
[]
[]
[]
[]
[]
[]
[]
[]
[]
[]
[]
[]
[]
[]
[]
[]
[]
[]
[]
[]
[]
[]
[]
[]
[]
[]
[]
[]
[]
[]
[]
[]
[]
[]
[]
[]
[]
[]
[]
[]
[]
[]
[]
[]
[]
[]
[]
[]
[]
[]
[]
[]
[]
[]
[]
[]
[]
[]
[]
[]
[]
[]
[]
[]
[]
[]
[]
[]
[]
[]
[]
[]
[]
[]
[]
[]
[]
[]
[]
[]
[]
[]
[]
[]
[]
[]
[]
[]
[]
[]
[]
[]
[]
[]
[]
[]
[]
[]
[]
[]
[]
[]
[]
[]
[]
[]
[]
[]
[]
[]
[]
[]
[]
[]
[]
[]
[]
[]
[]
[]
[]
[]
[]
[]
[]
[]
[]
[]
[]
[]
[]
[]
[]
[]
[]
[]
[]
[]
[]
[]
[]
[]
[]
[]
[]
[]
[]
[]
[]
[]
[]
[]
[]
[]
[]
[]
[]
[]
[]
[]
[]
[]
[]
[]
[]
[]
[]
[]
[]
[]
[]
[]
[]
[]
[]
[]
[]
[]
[]
[]
[]
[]
[]
[]
[]
[]
[]
[]
[]
[]
[]
[]
[]
[]
[]
[]
[]
[]
[]
[]
[]
[]
[]
[]
[]
[]
[]
[]
[]
[]
[]
[]
[]
[]
[]
[]
[]
[]
[]
[]
[]
[]
[]
[]
[]
[]
[]
[]
[]
[]
[]
[]
[]
[]
[]
[]
[]
[]
[]
[]
[]
[]
[]
[]
[]
[]
[]
[]
[]
[]
[]
[]
[]
[]
[]
[]
[]
[]
[]
[]
[]
[]
[]
[]
[]
[]
[]
[]
[]
[]
[]
[]
[]
[]
[]
[]
[]
[]
[]
[]
[]
[]
[]
[]
[]
[]
[]
[]
[]
[]
[]
[]
[]
[]
[]
[]
[]
[]
[]
[]
[]
[]
[]
[]
[]
[]
[]
[]
[]
[]
[]
[]
[]
[]
[]
[]
[]
[]
[]
[]
[]
[]
[]
[]
[]
[]
[]
[]
[]
[]
[]
[]
[]
[]
[]
[]
[]
[]
[]
[]
[]
[]
[]
[]
[]
[]
[]
[]
[]
[]
[]
[]
[]
[]
[]
[]
[]
[]
[]
[]
[]
[]
[]
[]
[]
[]
[]
[]
[]
[]
[]
[]
[]
[]
[]
[]
[]
[]
[]
[]
[]
[]
[]
[]
[]
[]
[]
[]
[]
[]
[]
[]
[]
[]
[]
[]
[]
[]
[]
[]
[]
[]
[]
[]
[]
[]
[]
[]
[]
[]
[]
[]
[]
[]
[]
[]
[]
[]
[]
[]
[]
[]
[]
[]
[]
[]
[]
[]
[]
[]
[]
[]
[]
[]
[]
[]
[]
[]
[]
[]
[]
[]
[]
[]
[]
[]
[]
[]
[]
[]
[]
[]
[]
[]
[]
[]
[]
[]
[]
[]
[]
[]
[]
[]
[]
[]
[]
[]
[]
[]
[]
[]
[]
[]
[]
[]
[]
[]
[]
[]
[]
[]
[]
[]
[]
[]
[]
[]
[]
[]
[]
[]
[]
[]
[]
[]
[]
[]
[]
[]
[]
[]
[]
[]
[]
[]
[]
[]
[]
[]
[]
[]
[]
[]
[]
[]
[]
[]
[]
[]
[]
[]
[]
[]
[]
[]
[]
[]
[]
[]
[]
[]
[]
[]
[]
[]
[]
[]
[]
[]
[]
[]
[]
[]
[]
[]
[]
[]
[]
[]
[]
[]
[]
[]
[]
[]
[]
[]
[]
[]
[]
[]
[]
[]
[]
[]
[]
[]
[]
[]
[]
[]
[]
[]
[]
[]
[]
[]
[]
[]
[]
[]
[]
[]
[]
[]
[]
[]
[]
[]
[]
[]
[]
[]
[]
[]
[]
[]
[]
[]
[]
[]
[]
[]
[]
[]
[]
[]
[]
[]
[]
[]
[]
[]
[]
[]
[]
[]
[]
[]
[]
[]
[]
[]
[]
[]
[]
[]
[]
[]
[]
[]
[]
[]
[]
[]
[]
[]
[]
[]
[]
[]
[]
[]
[]
[]
[]
[]
[]
[]
[]
[]
[]
[]
[]
[]
[]
[]
[]
[]
[]
[]
[]
[]
[]
[]
[]
[]
[]
[]
[]
[]
[]
[]
[]
[]
[]
[]
[]
[]
[]
[]
[]
[]
[]
[]
[]
[]
[]
[]
[]
[]
[]
[]
[]
[]
[]
[]
[]
[]
[]
[]
[]
[]
[]
[]
[]
[]
[]
[]
[]
[]
[]
[]
[]
[]
[]
[]
[]
[]
[]
[]
[]
[]
[]
[]
[]
[]
[]
[]
[]
[]
[]
[]
[]
[]
[]
[]
[]
[]
[]
[]
[]
[]
[]
[]
[]
[]
[]
[]
[]
[]
[]
[]
[]
[]
[]
[]
[]
[]
[]
[]
[]
[]
[]
[]
[]
[]
[]
[]
[]
[]
[]
[]
[]
[]
[]
[]
[]
[]
[]
[]
[]
[]
[]
[]
[]
[]
[]
[]
[]
[]
[]
[]
[]
[]
[]
[]
[]
[]
[]
[]
[]
[]
[]
[]
[]
[]
[]
[]
[]
[]
[]
[]
[]
[]
[]
[]
[]
[]
[]
[]
[]
[]
[]
[]
[]
[]
[]
[]
[]
[]
[]
[]
[]
[]
[]
[]
[]
[]
[]
[]
[]
[]
[]
[]
[]
[]
[]
[]
[]
[]
[]
[]
[]
[]
[]
[]
[]
[]
[]
[]
[]
[]
[]
[]
[]
[]
[]
[]
[]
[]
[]
[]
[]
[]
[]
[]
[]
[]
[]
[]
[]
[]
[]
[]
[]
[]
[]
[]
[]
[]
[]
[]
[]
[]
[]
[]
[]
[]
[]
[]
[]
[]
[]
[]
[]
[]
[]
[]
[]
[]
[]
[]
[]
[]
[]
[]
[]
[]
[]
[]
[]
[]
[]
[]
[]
[]
[]
[]
[]
[]
[]
[]
[]
[]
[]
[]
[]
[]
[]
[]
[]
[]
[]
[]
[]
[]
[]
[]
[]
[]
[]
[]
[]
[]
[]
[]
[]
[]
[]
[]
[]
[]
[]
[]
[]
[]
[]
[]
[]
[]
[]
[]
[]
[]
[]
[]
[]
[]
[]
[]
[]
[]
[]
[]
[]
[]
[]
[]
[]
[]
[]
[]
[]
[]
[]
[]
[]
[]
[]
[]
[]
[]
[]
[]
[]
[]
[]
[]
[]
[]
[]
[]
[]
[]
[]
[]
[]
[]
[]
[]
[]
[]
[]
[]
[]
[]
[]
[]
[]
[]
[]
[]
[]
[]
[]
[]
[]
[]
[]
[]
[]
[]
[]
[]
[]
[]
[]
[]
[]
[]
[]
[]
[]
[]
[]
[]
[]
[]
[]
[]
[]
[]
[]
[]
[]
[]
[]
[]
[]
[]
[]
[]
[]
[]
[]
[]
[]
[]
[]
[]
[]
[]
[]
[]
[]
[]
[]
[]
[]
[]
[]
[]
[]
[]
[]
[]
[]
[]
[]
[]
[]
[]
[]
[]
[]
[]
[]
[]
[]
[]
[]
[]
[]
[]
[]
[]
[]
[]
[]
[]
[]
[]
[]
[]
[]
[]
[]
[]
[]
[]
[]
[]
[]
[]
[]
[]
[]
[]
[]
[]
[]
[]
[]
[]
[]
[]
[]
[]
[]
[]
[]
[]
[]
[]
[]
[]
[]
[]
[]
[]
[]
[]
[]
[]
[]
[]
[]
[]
[]
[]
[]
[]
[]
[]
[]
[]
[]
[]
[]
[]
[]
[]
[]
[]
[]
[]
[]
[]
[]
[]
[]
[]
[]
[]
[]
[]
[]
[]
[]
[]
[]
[]
[]
[]
[]
[]
[]
[]
[]
[]
[]
[]
[]
[]
[]
[]
[]
[]
[]
[]
[]
[]
[]
[]
[]
[]
[]
[]
[]
[]
[]
[]
[]
[]
[]
[]
[]
[]
[]
[]
[]
[]
[]
[]
[]
[]
[]
[]
[]
[]
[]
[]
[]
[]
[]
[]
[]
[]
[]
[]
[]
[]
[]
[]
[]
[]
[]
[]
[]
[]
[]
[]
[]
[]
[]
[]
[]
[]
[]
[]
[]
[]
[]
[]
[]
[]
[]
[]
[]
[]
[]
[]
[]
[]
[]
[]
[]
[]
[]
[]
[]
[]
[]
[]
[]
[]
[]
[]
[]
[]
[]
[]
[]
[]
[]
[]
[]
[]
[]
[]
[]
[]
[]
[]
[]
[]
[]
[]
[]
[]
[]
[]
[]
[]
[]
[]
[]
[]
[]
[]
[]
[]
[]
[]
[]
[]
[]
[]
[]
[]
[]
[]
[]
[]
[]
[]
[]
[]
[]
[]
[]
[]
[]
[]
[]
[]
[]
[]
[]
[]
[]
[]
[]
[]
[]
[]
[]
[]
[]
[]
[]
[]
[]
[]
[]
[]
[]
[]
[]
[]
[]
[]
[]
[]
[]
[]
[]
[]
[]
[]
[]
[]
[]
[]
[]
[]
[]
[]
[]
[]
[]
[]
[]
[]
[]
[]
[]
[]
[]
[]
[]
[]
[]
[]
[]
[]
[]
[]
[]
[]
[]
[]
[]
[]
[]
[]
[]
[]
[]
[]
[]
[]
[]
[]
[]
[]
[]
[]
[]
[]
[]
[]
[]
[]
[]
[]
[]
[]
[]
[]
[]
[]
[]
[]
[]
[]
[]
[]
[]
[]
[]
[]
[]
[]
[]
[]
[]
[]
[]
[]
[]
[]
[]
[]
[]
[]
[]
[]
[]
[]
[]
[]
[]
[]
[]
[]
[]
[]
[]
[]
[]
[]
[]
[]
[]
[]
[]
[]
[]
[]
[]
[]
[]
[]
[]
[]
[]
[]
[]
[]
[]
[]
[]
[]
[]
[]
[]
[]
[]
[]
[]
[]
[]
[]
[]
[]
[]
[]
[]
[]
[]
[]
[]
[]
[]
[]
[]
[]
[]
[]
[]
[]
[]
[]
[]
[]
[]
[]
[]
[]
[]
[]
[]
[]
[]
[]
[]
[]
[]
[]
[]
[]
[]
[]
[]
[]
[]
[]
[]
[]
[]
[]
[]
[]
[]
[]
[]
[]
[]
[]
[]
[]
[]
[]
[]
[]
[]
[]
[]
[]
[]
[]
[]
[]
[]
[]
[]
[]
[]
[]
[]
[]
[]
[]
[]
[]
[]
[]
[]
[]
[]
[]
[]
[]
[]
[]
[]
[]
[]
[]
[]
[]
[]
[]
[]
[]
[]
[]
[]
[]
[]
[]
[]
[]
[]
[]
[]
[]
[]
[]
[]
[]
[]
[]
[]
[]
[]
[]
[]
[]
[]
[]
[]
[]
[]
[]
[]
[]
[]
[]
[]
[]
[]
[]
[]
[]
[]
[]
[]
[]
[]
[]
[]
[]
[]
[]
[]
[]
[]
[]
[]
[]
[]
[]
[]
[]
[]
[]
[]
[]
[]
[]
[]
[]
[]
[]
[]
[]
[]
[]
[]
[]
[]
[]
[]
[]
[]
[]
[]
[]
[]
[]
[]
[]
[]
[]
[]
[]
[]
[]
[]
[]
[]
[]
[]
[]
[]
[]
[]
[]
[]
[]
[]
[]
[]
[]
[]
[]
[]
[]
[]
[]
[]
[]
[]
[]
[]
[]
[]
[]
[]
[]
[]
[]
[]
[]
[]
[]
[]
[]
[]
[]
[]
[]
[]
[]
[]
[]
[]
[]
[]
[]
[]
[]
[]
[]
[]
[]
[]
[]
[]
[]
[]
[]
[]
[]
[]
[]
[]
[]
[]
[]
[]
[]
[]
[]
[]
[]
[]
[]
[]
[]
[]
[]
[]
[]
[]
[]
[]
[]
[]
[]
[]
[]
[]
[]
[]
[]
[]
[]
[]
[]
[]
[]
[]
[]
[]
[]
[]
[]
[]
[]
[]
[]
[]
[]
[]
[]
[]
[]
[]
[]
[]
[]
[]
[]
[]
[]
[]
[]
[]
[]
[]
[]
[]
[]
[]
[]
[]
[]
[]
[]
[]
[]
[]
[]
[]
[]
[]
[]
[]
[]
[]
[]
[]
[]
[]
[]
[]
[]
[]
[]
[]
[]
[]
[]
[]
[]
[]
[]
[]
[]
[]
[]
[]
[]
[]
[]
[]
[]
[]
[]
[]
[]
[]
[]
[]
[]
[]
[]
[]
[]
[]
[]
[]
[]
[]
[]
[]
[]
[]
[]
[]
[]
[]
[]
[]
[]
[]
[]
[]
[]
[]
[]
[]
[]
[]
[]
[]
[]
[]
[]
[]
[]
[]
[]
[]
[]
[]
[]
[]
[]
[]
[]
[]
[]
[]
[]
[]
[]
[]
[]
[]
[]
[]
[]
[]
[]
[]
[]
[]
[]
[]
[]
[]
[]
[]
[]
[]
[]
[]
[]
[]
[]
[]
[]
[]
[]
[]
[]
[]
[]
[]
[]
[]
[]
[]
[]
[]
[]
[]
[]
[]
[]
[]
[]
[]
[]
[]
[]
[]
[]
[]
[]
[]
[]
[]
[]
[]
[]
[]
[]
[]
[]
[]
[]
[]
[]
[]
[]
[]
[]
[]
[]
[]
[]
[]
[]
[]
[]
[]
[]
[]
[]
[]
[]
[]
[]
[]
[]
[]
[]
[]
[]
[]
[]
[]
[]
[]
[]
[]
[]
[]
[]
[]
[]
[]
[]
[]
[]
[]
[]
[]
[]
[]
[]
[]
[]
[]
[]
[]
[]
[]
[]
[]
[]
[]
[]
[]
[]
[]
[]
[]
[]
[]
[]
[]
[]
[]
[]
[]
[]
[]
[]
[]
[]
[]
[]
[]
[]
[]
[]
[]
[]
[]
[]
[]
[]
[]
[]
[]
[]
[]
[]
[]
[]
[]
[]
[]
[]
[]
[]
[]
[]
[]
[]
[]
[]
[]
[]
[]
[]
[]
[]
[]
[]
[]
[]
[]
[]
[]
[]
[]
[]
[]
[]
[]
[]
[]
[]
[]
[]
[]
[]
[]
[]
[]
[]
[]
[]
[]
[]
[]
[]
[]
[]
[]
[]
[]
[]
[]
[]
[]
[]
[]
[]
[]
[]
[]
[]
[]
[]
[]
[]
[]
[]
[]
[]
[]
[]
[]
[]
[]
[]
[]
[]
[]
[]
[]
[]
[]
[]
[]
[]
[]
[]
[]
[]
[]
[]
[]
[]
[]
[]
[]
[]
[]
[]
[]
[]
[]
[]
[]
[]
[]
[]
[]
[]
[]
[]
[]
[]
[]
[]
[]
[]
[]
[]
[]
[]
[]
[]
[]
[]
[]
[]
[]
[]
[]
[]
[]
[]
[]
[]
[]
[]
[]
[]
[]
[]
[]
[]
[]
[]
[]
[]
[]
[]
[]
[]
[]
[]
[]
[]
[]
[]
[]
[]
[]
[]
[]
[]
[]
[]
[]
[]
[]
[]
[]
[]
[]
[]
[]
[]
[]
[]
[]
[]
[]
[]
[]
[]
[]
[]
[]
[]
[]
[]
[]
[]
[]
[]
[]
[]
[]
[]
[]
[]
[]
[]
[]
[]
[]
[]
[]
[]
[]
[]
[]
[]
[]
[]
[]
[]
[]
[]
[]
[]
[]
[]
[]
[]
[]
[]
[]
[]
[]
[]
[]
[]
[]
[]
[]
[]
[]
[]
[]
[]
[]
[]
[]
[]
[]
[]
[]
[]
[]
[]
[]
[]
[]
[]
[]
[]
[]
[]
[]
[]
[]
[]
[]
[]
[]
[]
[]
[]
[]
[]
[]
[]
[]
[]
[]
[]
[]
[]
[]
[]
[]
[]
[]
[]
[]
[]
[]
[]
[]
[]
[]
[]
[]
[]
[]
[]
[]
[]
[]
[]
[]
[]
[]
[]
[]
[]
[]
[]
[]
[]
[]
[]
[]
[]
[]
[]
[]
[]
[]
[]
[]
[]
[]
[]
[]
[]
[]
[]
[]
[]
[]
[]
[]
[]
[]
[]
[]
[]
[]
[]
[]
[]
[]
[]
[]
[]
[]
[]
[]
[]
[]
[]
[]
[]
[]
[]
[]
[]
[]
[]
[]
[]
[]
[]
[]
[]
[]
[]
[]
[]
[]
[]
[]
[]
[]
[]
[]
[]
[]
[]
[]
[]
[]
[]
[]
[]
[]
[]
[]
[]
[]
[]
[]
[]
[]
[]
[]
[]
[]
[]
[]
[]
[]
[]
[]
[]
[]
[]
[]
[]
[]
[]
[]
[]
[]
[]
[]
[]
[]
[]
[]
[]
[]
[]
[]
[]
[]
[]
[]
[]
[]
[]
[]
[]
[]
[]
[]
[]
[]
[]
[]
[]
[]
[]
[]
[]
[]
[]
[]
[]
[]
[]
[]
[]
[]
[]
[]
[]
[]
[]
[]
[]
[]
[]
[]
[]
[]
[]
[]
[]
[]
[]
[]
[]
[]
[]
[]
[]
[]
[]
[]
[]
[]
[]
[]
[]
[]
[]
[]
[]
[]
[]
[]
[]
[]
[]
[]
[]
[]
[]
[]
[]
[]
[]
[]
[]
[]
[]
[]
[]
[]
[]
[]
[]
[]
[]
[]
[]
[]
[]
[]
[]
[]
[]
[]
[]
[]
[]
[]
[]
[]
[]
[]
[]
[]
[]
[]
[]
[]
[]
[]
[]
[]
[]
[]
[]
[]
[]
[]
[]
[]
[]
[]
[]
[]
[]
[]
[]
[]
[]
[]
[]
[]
[]
[]
[]
[]
[]
[]
[]
[]
[]
[]
[]
[]
[]
[]
[]
[]
[]
[]
[]
[]
[]
[]
[]
[]
[]
[]
[]
[]
[]
[]
[]
[]
[]
[]
[]
[]
[]
[]
[]
[]
[]
[]
[]
[]
[]
[]
[]
[]
[]
[]
[]
[]
[]
[]
[]
[]
[]
[]
[]
[]
[]
[]
[]
[]
[]
[]
[]
[]
[]
[]
[]
[]
[]
[]
[]
[]
[]
[]
[]
[]
[]
[]
[]
[]
[]
[]
[]
[]
[]
[]
[]
[]
[]
[]
[]
[]
[]
[]
[]
[]
[]
[]
[]
[]
[]
[]
[]
[]
[]
[]
[]
[]
[]
[]
[]
[]
[]
[]
[]
[]
[]
[]
[]
[]
[]
[]
[]
[]
[]
[]
[]
[]
[]
[]
[]
[]
[]
[]
[]
[]
[]
[]
[]
[]
[]
[]
[]
[]
[]
[]
[]
[]
[]
[]
[]
[]
[]
[]
[]
[]
[]
[]
[]
[]
[]
[]
[]
[]
[]
[]
[]
[]
[]
[]
[]
[]
[]
[]
[]
[]
[]
[]
[]
[]
[]
[]
[]
[]
[]
[]
[]
[]
[]
[]
[]
[]
[]
[]
[]
[]
[]
[]
[]
[]
[]
[]
[]
[]
[]
[]
[]
[]
[]
[]
[]
[]
[]
[]
[]
[]
[]
[]
[]
[]
[]
[]
[]
[]
[]
[]
[]
[]
[]
[]
[]
[]
[]
[]
[]
[]
[]
[]
[]
[]
[]
[]
[]
[]
[]
[]
[]
[]
[]
[]
[]
[]
[]
[]
[]
[]
[]
[]
[]
[]
[]
[]
[]
[]
[]
[]
[]
[]
[]
[]
[]
[]
[]
[]
[]
[]
[]
[]
[]
[]
[]
[]
[]
[]
[]
[]
[]
[]
[]
[]
[]
[]
[]
[]
[]
[]
[]
[]
[]
[]
[]
[]
[]
[]
[]
[]
[]
[]
[]
[]
[]
[]
[]
[]
[]
[]
[]
[]
[]
[]
[]
[]
[]
[]
[]
[]
[]
[]
[]
[]
[]
[]
[]
[]
[]
[]
[]
[]
[]
[]
[]
[]
[]
[]
[]
[]
[]
[]
[]
[]
[]
[]
[]
[]
[]
[]
[]
[]
[]
[]
[]
[]
[]
[]
[]
[]
[]
[]
[]
[]
[]
[]
[]
[]
[]
[]
[]
[]
[]
[]
[]
[]
[]
[]
[]
[]
[]
[]
[]
[]
[]
[]
[]
[]
[]
[]
[]
[]
[]
[]
[]
[]
[]
[]
[]
[]
[]
[]
[]
[]
[]
[]
[]
[]
[]
[]
[]
[]
[]
[]
[]
[]
[]
[]
[]
[]
[]
[]
[]
[]
[]
[]
[]
[]
[]
[]
[]
[]
[]
[]
[]
[]
[]
[]
[]
[]
[]
[]
[]
[]
[]
[]
[]
[]
[]
[]
[]
[]
[]
[]
[]
[]
[]
[]
[]
[]
[]
[]
[]
[]
[]
[]
[]
[]
[]
[]
[]
[]
[]
[]
[]
[]
[]
[]
[]
[]
[]
[]
[]
[]
[]
[]
[]
[]
[]
[]
[]
[]
[]
[]
[]
[]
[]
[]
[]
[]
[]
[]
[]
[]
[]
[]
[]
[]
[]
[]
[]
[]
[]
[]
[]
[]
[]
[]
[]
[]
[]
[]
[]
[]
[]
[]
[]
[]
[]
[]
[]
[]
[]
[]
[]
[]
[]
[]
[]
[]
[]
[]
[]
[]
[]
[]
[]
[]
[]
[]
[]
[]
[]
[]
[]
[]
[]
[]
[]
[]
[]
[]
[]
[]
[]
[]
[]
[]
[]
[]
[]
[]
[]
[]
[]
[]
[]
[]
[]
[]
[]
[]
[]
[]
[]
[]
[]
[]
[]
[]
[]
[]
[]
[]
[]
[]
[]
[]
[]
[]
[]
[]
[]
[]
[]
[]
[]
[]
[]
[]
[]
[]
[]
[]
[]
[]
[]
[]
[]
[]
[]
[]
[]
[]
[]
[]
[]
[]
[]
[]
[]
[]
[]
[]
[]
[]
[]
[]
[]
[]
[]
[]
[]
[]
[]
[]
[]
[]
[]
[]
[]
[]
[]
[]
[]
[]
[]
[]
[]
[]
[]
[]
[]
[]
[]
[]
[]
[]
[]
[]
[]
[]
[]
[]
[]
[]
[]
[]
[]
[]
[]
[]
[]
[]
[]
[]
[]
[]
[]
[]
[]
[]
[]
[]
[]
[]
[]
[]
[]
[]
[]
[]
[]
[]
[]
[]
[]
[]
[]
[]
[]
[]
[]
[]
[]
[]
[]
[]
[]
[]
[]
[]
[]
[]
[]
[]
[]
[]
[]
[]
[]
[]
[]
[]
[]
[]
[]
[]
[]
[]
[]
[]
[]
[]
[]
[]
[]
[]
[]
[]
[]
[]
[]
[]
[]
[]
[]
[]
[]
[]
[]
[]
[]
[]
[]
[]
[]
[]
[]
[]
[]
[]
[]
[]
[]
[]
[]
[]
[]
[]
[]
[]
[]
[]
[]
[]
[]
[]
[]
[]
[]
[]
[]
[]
[]
[]
[]
[]
[]
[]
[]
[]
[]
[]
[]
[]
[]
[]
[]
[]
[]
[]
[]
[]
[]
[]
[]
[]
[]
[]
[]
[]
[]
[]
[]
[]
[]
[]
[]
[]
[]
[]
[]
[]
[]
[]
[]
[]
[]
[]
[]
[]
[]
[]
[]
[]
[]
[]
[]
[]
[]
[]
[]
[]
[]
[]
[]
[]
[]
[]
[]
[]
[]
[]
[]
[]
[]
[]
[]
[]
[]
[]
[]
[]
[]
[]
[]
[]
[]
[]
[]
[]
[]
[]
[]
[]
[]
[]
[]
[]
[]
[]
[]
[]
[]
[]
[]
[]
[]
[]
[]
[]
[]
[]
[]
[]
[]
[]
[]
[]
[]
[]
[]
[]
[]
[]
[]
[]
[]
[]
[]
[]
[]
[]
[]
[]
[]
[]
[]
[]
[]
[]
[]
[]
[]
[]
[]
[]
[]
[]
[]
[]
[]
[]
[]
[]
[]
[]
[]
[]
[]
[]
[]
[]
[]
[]
[]
[]
[]
[]
[]
[]
[]
[]
[]
[]
[]
[]
[]
[]
[]
[]
[]
[]
[]
[]
[]
[]
[]
[]
[]
[]
[]
[]
[]
[]
[]
[]
[]
[]
[]
[]
[]
[]
[]
[]
[]
[]
[]
[]
[]
[]
[]
[]
[]
[]
[]
[]
[]
[]
[]
[]
[]
[]
[]
[]
[]
[]
[]
[]
[]
[]
[]
[]
[]
[]
[]
[]
[]
[]
[]
[]
[]
[]
[]
[]
[]
[]
[]
[]
[]
[]
[]
[]
[]
[]
[]
[]
[]
[]
[]
[]
[]
[]
[]
[]
[]
[]
[]
[]
[]
[]
[]
[]
[]
[]
[]
[]
[]
[]
[]
[]
[]
[]
[]
[]
[]
[]
[]
[]
[]
[]
[]
[]
[]
[]
[]
[]
[]
[]
[]
[]
[]
[]
[]
[]
[]
[]
[]
[]
[]
[]
[]
[]
[]
[]
[]
[]
[]
[]
[]
[]
[]
[]
[]
[]
[]
[]
[]
[]
[]
[]
[]
[]
[]
[]
[]
[]
[]
[]
[]
[]
[]
[]
[]
[]
[]
[]
[]
[]
[]
[]
[]
[]
[]
[]
[]
[]
[]
[]
[]
[]
[]
[]
[]
[]
[]
[]
[]
[]
[]
[]
[]
[]
[]
[]
[]
[]
[]
[]
[]
[]
[]
[]
[]
[]
[]
[]
[]
[]
[]
[]
[]
[]
[]
[]
[]
[]
[]
[]
[]
[]
[]
[]
[]
[]
[]
[]
[]
[]
[]
[]
[]
[]
[]
[]
[]
[]
[]
[]
[]
[]
[]
[]
[]
[]
[]
[]
[]
[]
[]
[]
[]
[]
[]
[]
[]
[]
[]
[]
[]
[]
[]
[]
[]
[]
[]
[]
[]
[]
[]
[]
[]
[]
[]
[]
[]
[]
[]
[]
[]
[]
[]
[]
[]
[]
[]
[]
[]
[]
[]
[]
[]
[]
[]
[]
[]
[]
[]
[]
[]
[]
[]
[]
[]
[]
[]
[]
[]
[]
[]
[]
[]
[]
[]
[]
[]
[]
[]
[]
[]
[]
[]
[]
[]
[]
[]
[]
[]
[]
[]
[]
[]
[]
[]
[]
[]
[]
[]
[]
[]
[]
[]
[]
[]
[]
[]
[]
[]
[]
[]
[]
[]
[]
[]
[]
[]
[]
[]
[]
[]
[]
[]
[]
[]
[]
[]
[]
[]
[]
[]
[]
[]
[]
[]
[]
[]
[]
[]
[]
[]
[]
[]
[]
[]
[]
[]
[]
[]
[]
[]
[]
[]
[]
[]
[]
[]
[]
[]
[]
[]
[]
[]
[]
[]
[]
[]
[]
[]
[]
[]
[]
[]
[]
[]
[]
[]
[]
[]
[]
[]
[]
[]
[]
[]
[]
[]
[]
[]
[]
[]
[]
[]
[]
[]
[]
[]
[]
[]
[]
[]
[]
[]
[]
[]
[]
[]
[]
[]
[]
[]
[]
[]
[]
[]
[]
[]
[]
[]
[]
[]
[]
[]
[]
[]
[]
[]
[]
[]
[]
[]
[]
[]
[]
[]
[]
[]
[]
[]
[]
[]
[]
[]
[]
[]
[]
[]
[]
[]
[]
[]
[]
[]
[]
[]
[]
[]
[]
[]
[]
[]
[]
[]
[]
[]
[]
[]
[]
[]
[]
[]
[]
[]
[]
[]
[]
[]
[]
[]
[]
[]
[]
[]
[]
[]
[]
[]
[]
[]
[]
[]
[]
[]
[]
[]
[]
[]
[]
[]
[]
[]
[]
[]
[]
[]
[]
[]
[]
[]
[]
[]
[]
[]
[]
[]
[]
[]
[]
[]
[]
[]
[]
[]
[]
[]
[]
[]
[]
[]
[]
[]
[]
[]
[]
[]
[]
[]
[]
[]
[]
[]
[]
[]
[]
[]
[]
[]
[]
[]
[]
[]
[]
[]
[]
[]
[]
[]
[]
[]
[]
[]
[]
[]
[]
[]
[]
[]
[]
[]
[]
[]
[]
[]
[]
[]
[]
[]
[]
[]
[]
[]
[]
[]
[]
[]
[]
[]
[]
[]
[]
[]
[]
[]
[]
[]
[]
[]
[]
[]
[]
[]
[]
[]
[]
[]
[]
[]
[]
[]
[]
[]
[]
[]
[]
[]
[]
[]
[]
[]
[]
[]
[]
[]
[]
[]
[]
[]
[]
[]
[]
[]
[]
[]
[]
[]
[]
[]
[]
[]
[]
[]
[]
[]
[]
[]
[]
[]
[]
[]
[]
[]
[]
[]
[]
[]
[]
[]
[]
[]
[]
[]
[]
[]
[]
[]
[]
[]
[]
[]
[]
[]
[]
[]
[]
[]
[]
[]
[]
[]
[]
[]
[]
[]
[]
[]
[]
[]
[]
[]
[]
[]
[]
[]
[]
[]
[]
[]
[]
[]
[]
[]
[]
[]
[]
[]
[]
[]
[]
[]
[]
[]
[]
[]
[]
[]
[]
[]
[]
[]
[]
[]
[]
[]
[]
[]
[]
[]
[]
[]
[]
[]
[]
[]
[]
[]
[]
[]
[]
[]
[]
[]
[]
[]
[]
[]
[]
[]
[]
[]
[]
[]
[]
[]
[]
[]
[]
[]
[]
[]
[]
[]
[]
[]
[]
[]
[]
[]
[]
[]
[]
[]
[]
[]
[]
[]
[]
[]
[]
[]
[]
[]
[]
[]
[]
[]
[]
[]
[]
[]
[]
[]
[]
[]
[]
[]
[]
[]
[]
[]
[]
[]
[]
[]
[]
[]
[]
[]
[]
[]
[]
[]
[]
[]
[]
[]
[]
[]
[]
[]
[]
[]
[]
[]
[]
[]
[]
[]
[]
[]
[]
[]
[]
[]
[]
[]
[]
[]
[]
[]
[]
[]
[]
[]
[]
[]
[]
[]
[]
[]
[]
[]
[]
[]
[]
[]
[]
[]
[]
[]
[]
[]
[]
[]
[]
[]
[]
[]
[]
[]
[]
[]
[]
[]
[]
[]
[]
[]
[]
[]
[]
[]
[]
[]
[]
[]
[]
[]
[]
[]
[]
[]
[]
[]
[]
[]
[]
[]
[]
[]
[]
[]
[]
[]
[]
[]
[]
[]
[]
[]
[]
[]
[]
[]
[]
[]
[]
[]
[]
[]
[]
[]
[]
[]
[]
[]
[]
[]
[]
[]
[]
[]
[]
[]
[]
[]
[]
[]
[]
[]
[]
[]
[]
[]
[]
[]
[]
[]
[]
[]
[]
[]
[]
[]
[]
[]
[]
[]
[]
[]
[]
[]
[]
[]
[]
[]
[]
[]
[]
[]
[]
[]
[]
[]
[]
[]
[]
[]
[]
[]
[]
[]
[]
[]
[]
[]
[]
[]
[]
[]
[]
[]
[]
[]
[]
[]
[]
[]
[]
[]
[]
[]
[]
[]
[]
[]
[]
[]
[]
[]
[]
[]
[]
[]
[]
[]
[]
[]
[]
[]
[]
[]
[]
[]
[]
[]
[]
[]
[]
[]
[]
[]
[]
[]
[]
[]
[]
[]
[]
[]
[]
[]
[]
[]
[]
[]
[]
[]
[]
[]
[]
[]
[]
[]
[]
[]
[]
[]
[]
[]
[]
[]
[]
[]
[]
[]
[]
[]
[]
[]
[]
[]
[]
[]
[]
[]
[]
[]
[]
[]
[]
[]
[]
[]
[]
[]
[]
[]
[]
[]
[]
[]
[]
[]
[]
[]
[]
[]
[]
[]
[]
[]
[]
[]
[]
[]
[]
[]
[]
[]
[]
[]
[]
[]
[]
[]
[]
[]
[]
[]
[]
[]
[]
[]
[]
[]
[]
[]
[]
[]
[]
[]
[]
[]
[]
[]
[]
[]
[]
[]
[]
[]
[]
[]
[]
[]
[]
[]
[]
[]
[]
[]
[]
[]
[]
[]
[]
[]
[]
[]
[]
[]
[]
[]
[]
[]
[]
[]
[]
[]
[]
[]
[]
[]
[]
[]
[]
[]
[]
[]
[]
[]
[]
[]
[]
[]
[]
[]
[]
[]
[]
[]
[]
[]
[]
[]
[]
[]
[]
[]
[]
[]
[]
[]
[]
[]
[]
[]
[]
[]
[]
[]
[]
[]
[]
[]
[]
[]
[]
[]
[]
[]
[]
[]
[]
[]
[]
[]
[]
[]
[]
[]
[]
[]
[]
[]
[]
[]
[]
[]
[]
[]
[]
[]
[]
[]
[]
[]
[]
[]
[]
[]
[]
[]
[]
[]
[]
[]
[]
[]
[]
[]
[]
[]
[]
[]
[]
[]
[]
[]
[]
[]
[]
[]
[]
[]
[]
[]
[]
[]
[]
[]
[]
[]
[]
[]
[]
[]
[]
[]
[]
[]
[]
[]
[]
[]
[]
[]
[]
[]
[]
[]
[]
[]
[]
[]
[]
[]
[]
[]
[]
[]
[]
[]
[]
[]
[]
[]
[]
[]
[]
[]
[]
[]
[]
[]
[]
[]
[]
[]
[]
[]
[]
[]
[]
[]
[]
[]
[]
[]
[]
[]
[]
[]
[]
[]
[]
[]
[]
[]
[]
[]
[]
[]
[]
[]
[]
[]
[]
[]
[]
[]
[]
[]
[]
[]
[]
[]
[]
[]
[]
[]
[]
[]
[]
[]
[]
[]
[]
[]
[]
[]
[]
[]
[]
[]
[]
[]
[]
[]
[]
[]
[]
[]
[]
[]
[]
[]
[]
[]
[]
[]
[]
[]
[]
[]
[]
[]
[]
[]
[]
[]
[]
[]
[]
[]
[]
[]
[]
[]
[]
[]
[]
[]
[]
[]
[]
[]
[]
[]
[]
[]
[]
[]
[]
[]
[]
[]
[]
[]
[]
[]
[]
[]
[]
[]
[]
[]
[]
[]
[]
[]
[]
[]
[]
[]
[]
[]
[]
[]
[]
[]
[]
[]
[]
[]
[]
[]
[]
[]
[]
[]
[]
[]
[]
[]
[]
[]
[]
[]
[]
[]
[]
[]
[]
[]
[]
[]
[]
[]
[]
[]
[]
[]
[]
[]
[]
[]
[]
[]
[]
[]
[]
[]
[]
[]
[]
[]
[]
[]
[]
[]
[]
[]
[]
[]
[]
[]
[]
[]
[]
[]
[]
[]
[]
[]
[]
[]
[]
[]
[]
[]
[]
[]
[]
[]
[]
[]
[]
[]
[]
[]
[]
[]
[]
[]
[]
[]
[]
[]
[]
[]
[]
[]
[]
[]
[]
[]
[]
[]
[]
[]
[]
[]
[]
[]
[]
[]
[]
[]
[]
[]
[]
[]
[]
[]
[]
[]
[]
[]
[]
[]
[]
[]
[]
[]
[]
[]
[]
[]
[]
[]
[]
[]
[]
[]
[]
[]
[]
[]
[]
[]
[]
[]
[]
[]
[]
[]
[]
[]
[]
[]
[]
[]
[]
[]
[]
[]
[]
[]
[]
[]
[]
[]
[]
[]
[]
[]
[]
[]
[]
[]
[]
[]
[]
[]
[]
[]
[]
[]
[]
[]
[]
[]
[]
[]
[]
[]
[]
[]
[]
[]
[]
[]
[]
[]
[]
[]
[]
[]
[]
[]
[]
[]
[]
[]
[]
[]
[]
[]
[]
[]
[]
[]
[]
[]
[]
[]
[]
[]
[]
[]
[]
[]
[]
[]
[]
[]
[]
[]
[]
[]
[]
[]
[]
[]
[]
[]
[]
[]
[]
[]
[]
[]
[]
[]
[]
[]
[]
[]
[]
[]
[]
[]
[]
[]
[]
[]
[]
[]
[]
[]
[]
[]
[]
[]
[]
[]
[]
[]
[]
[]
[]
[]
[]
[]
[]
[]
[]
[]
[]
[]
[]
[]
[]
[]
[]
[]
[]
[]
[]
[]
[]
[]
[]
[]
[]
[]
[]
[]
[]
[]
[]
[]
[]
[]
[]
[]
[]
[]
[]
[]
[]
[]
[]
[]
[]
[]
[]
[]
[]
[]
[]
[]
[]
[]
[]
[]
[]
[]
[]
[]
[]
[]
[]
[]
[]
[]
[]
[]
[]
[]
[]
[]
[]
[]
[]
[]
[]
[]
[]
[]
[]
[]
[]
[]
[]
[]
[]
[]
[]
[]
[]
[]
[]
[]
[]
[]
[]
[]
[]
[]
[]
[]
[]
[]
[]
[]
[]
[]
[]
[]
[]
[]
[]
[]
[]
[]
[]
[]
[]
[]
[]
[]
[]
[]
[]
[]
[]
[]
[]
[]
[]
[]
[]
[]
[]
[]
[]
[]
[]
[]
[]
[]
[]
[]
[]
[]
[]
[]
[]
[]
[]
[]
[]
[]
[]
[]
[]
[]
[]
[]
[]
[]
[]
[]
[]
[]
[]
[]
[]
[]
[]
[]
[]
[]
[]
[]
[]
[]
[]
[]
[]
[]
[]
[]
[]
[]
[]
[]
[]
[]
[]
[]
[]
[]
[]
[]
[]
[]
[]
[]
[]
[]
[]
[]
[]
[]
[]
[]
[]
[]
[]
[]
[]
[]
[]
[]
[]
[]
[]
[]
[]
[]
[]
[]
[]
[]
[]
[]
[]
[]
[]
[]
[]
[]
[]
[]
[]
[]
[]
[]
[]
[]
[]
[]
[]
[]
[]
[]
[]
[]
[]
[]
[]
[]
[]
[]
[]
[]
[]
[]
[]
[]
[]
[]
[]
[]
[]
[]
[]
[]
[]
[]
[]
[]
[]
[]
[]
[]
[]
[]
[]
[]
[]
[]
[]
[]
[]
[]
[]
[]
[]
[]
[]
[]
[]
[]
[]
[]
[]
[]
[]
[]
[]
[]
[]
[]
[]
[]
[]
[]
[]
[]
[]
[]
[]
[]
[]
[]
[]
[]
[]
[]
[]
[]
[]
[]
[]
[]
[]
[]
[]
[]
[]
[]
[]
[]
[]
[]
[]
[]
[]
[]
[]
[]
[]
[]
[]
[]
[]
[]
[]
[]
[]
[]
[]
[]
[]
[]
[]
[]
[]
[]
[]
[]
[]
[]
[]
[]
[]
[]
[]
[]
[]
[]
[]
[]
[]
[]
[]
[]
[]
[]
[]
[]
[]
[]
[]
[]
[]
[]
[]
[]
[]
[]
[]
[]
[]
[]
[]
[]
[]
[]
[]
[]
[]
[]
[]
[]
[]
[]
[]
[]
[]
[]
[]
[]
[]
[]
[]
[]
[]
[]
[]
[]
[]
[]
[]
[]
[]
[]
[]
[]
[]
[]
[]
[]
[]
[]
[]
[]
[]
[]
[]
[]
[]
[]
[]
[]
[]
[]
[]
[]
[]
[]
[]
[]
[]
[]
[]
[]
[]
[]
[]
[]
[]
[]
[]
[]
[]
[]
[]
[]
[]
[]
[]
[]
[]
[]
[]
[]
[]
[]
[]
[]
[]
[]
[]
[]
[]
[]
[]
[]
[]
[]
[]
[]
[]
[]
[]
[]
[]
[]
[]
[]
[]
[]
[]
[]
[]
[]
[]
[]
[]
[]
[]
[]
[]
[]
[]
[]
[]
[]
[]
[]
[]
[]
[]
[]
[]
[]
[]
[]
[]
[]
[]
[]
[]
[]
[]
[]
[]
[]
[]
[]
[]
[]
[]
[]
[]
[]
[]
[]
[]
[]
[]
[]
[]
[]
[]
[]
[]
[]
[]
[]
[]
[]
[]
[]
[]
[]
[]
[]
[]
[]
[]
[]
[]
[]
[]
[]
[]
[]
[]
[]
[]
[]
[]
[]
[]
[]
[]
[]
[]
[]
[]
[]
[]
[]
[]
[]
[]
[]
[]
[]
[]
[]
[]
[]
[]
[]
[]
[]
[]
[]
[]
[]
[]
[]
[]
[]
[]
[]
[]
[]
[]
[]
[]
[]
[]
[]
[]
[]
[]
[]
[]
[]
[]
[]
[]
[]
[]
[]
[]
[]
[]
[]
[]
[]
[]
[]
[]
[]
[]
[]
[]
[]
[]
[]
[]
[]
[]
[]
[]
[]
[]
[]
[]
[]
[]
[]
[]
[]
[]
[]
[]
[]
[]
[]
[]
[]
[]
[]
[]
[]
[]
[]
[]
[]
[]
[]
[]
[]
[]
[]
[]
[]
[]
[]
[]
[]
[]
[]
[]
[]
[]
[]
[]
[]
[]
[]
[]
[]
[]
[]
[]
[]
[]
[]
[]
[]
[]
[]
[]
[]
[]
[]
[]
[]
[]
[]
[]
[]
[]
[]
[]
[]
[]
[]
[]
[]
[]
[]
[]
[]
[]
[]
[]
[]
[]
[]
[]
[]
[]
[]
[]
[]
[]
[]
[]
[]
[]
[]
[]
[]
[]
[]
[]
[]
[]
[]
[]
[]
[]
[]
[]
[]
[]
[]
[]
[]
[]
[]
[]
[]
[]
[]
[]
[]
[]
[]
[]
[]
[]
[]
[]
[]
[]
[]
[]
[]
[]
[]
[]
[]
[]
[]
[]
[]
[]
[]
[]
[]
[]
[]
[]
[]
[]
[]
[]
[]
[]
[]
[]
[]
[]
[]
[]
[]
[]
[]
[]
[]
[]
[]
[]
[]
[]
[]
[]
[]
[]
[]
[]
[]
[]
[]
[]
[]
[]
[]
[]
[]
[]
[]
[]
[]
[]
[]
[]
[]
[]
[]
[]
[]
[]
[]
[]
[]
[]
[]
[]
[]
[]
[]
[]
[]
[]
[]
[]
[]
[]
[]
[]
[]
[]
[]
[]
[]
[]
[]
[]
[]
[]
[]
[]
[]
[]
[]
[]
[]
[]
[]
[]
[]
[]
[]
[]
[]
[]
[]
[]
[]
[]
[]
[]
[]
[]
[]
[]
[]
[]
[]
[]
[]
[]
[]
[]
[]
[]
[]
[]
[]
[]
[]
[]
[]
[]
[]
[]
[]
[]
[]
[]
[]
[]
[]
[]
[]
[]
[]
[]
[]
[]
[]
[]
[]
[]
[]
[]
[]
[]
[]
[]
[]
[]
[]
[]
[]
[]
[]
[]
[]
[]
[]
[]
[]
[]
[]
[]
[]
[]
[]
[]
[]
[]
[]
[]
[]
[]
[]
[]
[]
[]
[]
[]
[]
[]
[]
[]
[]
[]
[]
[]
[]
[]
[]
[]
[]
[]
[]
[]
[]
[]
[]
[]
[]
[]
[]
[]
[]
[]
[]
[]
[]
[]
[]
[]
[]
[]
[]
[]
[]
[]
[]
[]
[]
[]
[]
[]
[]
[]
[]
[]
[]
[]
[]
[]
[]
[]
[]
[]
[]
[]
[]
[]
[]
[]
[]
[]
[]
[]
[]
[]
[]
[]
[]
[]
[]
[]
[]
[]
[]
[]
[]
[]
[]
[]
[]
[]
[]
[]
[]
[]
[]
[]
[]
[]
[]
[]
[]
[]
[]
[]
[]
[]
[]
[]
[]
[]
[]
[]
[]
[]
[]
[]
[]
[]
[]
[]
[]
[]
[]
[]
[]
[]
[]
[]
[]
[]
[]
[]
[]
[]
[]
[]
[]
[]
[]
[]
[]
[]
[]
[]
[]
[]
[]
[]
[]
[]
[]
[]
[]
[]
[]
[]
[]
[]
[]
[]
[]
[]
[]
[]
[]
[]
[]
[]
[]
[]
[]
[]
[]
[]
[]
[]
[]
[]
[]
[]
[]
[]
[]
[]
[]
[]
[]
[]
[]
[]
[]
[]
[]
[]
[]
[]
[]
[]
[]
[]
[]
[]
[]
[]
[]
[]
[]
[]
[]
[]
[]
[]
[]
[]
[]
[]
[]
[]
[]
[]
[]
[]
[]
[]
[]
[]
[]
[]
[]
[]
[]
[]
[]
[]
[]
[]
[]
[]
[]
[]
[]
[]
[]
[]
[]
[]
[]
[]
[]
[]
[]
[]
[]
[]
[]
[]
[]
[]
[]
[]
[]
[]
[]
[]
[]
[]
[]
[]
[]
[]
[]
[]
[]
[]
[]
[]
[]
[]
[]
[]
[]
[]
[]
[]
[]
[]
[]
[]
[]
[]
[]
[]
[]
[]
[]
[]
[]
[]
[]
[]
[]
[]
[]
[]
[]
[]
[]
[]
[]
[]
[]
[]
[]
[]
[]
[]
[]
[]
[]
[]
[]
[]
[]
[]
[]
[]
[]
[]
[]
[]
[]
[]
[]
[]
[]
[]
[]
[]
[]
[]
[]
[]
[]
[]
[]
[]
[]
[]
[]
[]
[]
[]
[]
[]
[]
[]
[]
[]
[]
[]
[]
[]
[]
[]
[]
[]
[]
[]
[]
[]
[]
[]
[]
[]
[]
[]
[]
[]
[]
[]
[]
[]
[]
[]
[]
[]
[]
[]
[]
[]
[]
[]
[]
[]
[]
[]
[]
[]
[]
[]
[]
[]
[]
[]
[]
[]
[]
[]
[]
[]
[]
[]
[]
[]
[]
[]
[]
[]
[]
[]
[]
[]
[]
[]
[]
[]
[]
[]
[]
[]
[]
[]
[]
[]
[]
[]
[]
[]
[]
[]
[]
[]
[]
[]
[]
[]
[]
[]
[]
[]
[]
[]
[]
[]
[]
[]
[]
[]
[]
[]
[]
[]
[]
[]
[]
[]
[]
[]
[]
[]
[]
[]
[]
[]
[]
[]
[]
[]
[]
[]
[]
[]
[]
[]
[]
[]
[]
[]
[]
[]
[]
[]
[]
[]
[]
[]
[]
[]
[]
[]
[]
[]
[]
[]
[]
[]
[]
[]
[]
[]
[]
[]
[]
[]
[]
[]
[]
[]
[]
[]
[]
[]
[]
[]
[]
[]
[]
[]
[]
[]
[]
[]
[]
[]
[]
[]
[]
[]
[]
[]
[]
[]
[]
[]
[]
[]
[]
[]
[]
[]
[]
[]
[]
[]
[]
[]
[]
[]
[]
[]
[]
[]
[]
[]
[]
[]
[]
[]
[]
[]
[]
[]
[]
[]
[]
[]
[]
[]
[]
[]
[]
[]
[]
[]
[]
[]
[]
[]
[]
[]
[]
[]
[]
[]
[]
[]
[]
[]
[]
[]
[]
[]
[]
[]
[]
[]
[]
[]
[]
[]
[]
[]
[]
[]
[]
[]
[]
[]
[]
[]
[]
[]
[]
[]
[]
[]
[]
[]
[]
[]
[]
[]
[]
[]
[]
[]
[]
[]
[]
[]
[]
[]
[]
[]
[]
[]
[]
[]
[]
[]
[]
[]
[]
[]
[]
[]
[]
[]
[]
[]
[]
[]
[]
[]
[]
[]
[]
[]
[]
[]
[]
[]
[]
[]
[]
[]
[]
[]
[]
[]
[]
[]
[]
[]
[]
[]
[]
[]
[]
[]
[]
[]
[]
[]
[]
[]
[]
[]
[]
[]
[]
[]
[]
[]
[]
[]
[]
[]
[]
[]
[]
[]
[]
[]
[]
[]
[]
[]
[]
[]
[]
[]
[]
[]
[]
[]
[]
[]
[]
[]
[]
[]
[]
[]
[]
[]
[]
[]
[]
[]
[]
[]
[]
[]
[]
[]
[]
[]
[]
[]
[]
[]
[]
[]
[]
[]
[]
[]
[]
[]
[]
[]
[]
[]
[]
[]
[]
[]
[]
[]
[]
[]
[]
[]
[]
[]
[]
[]
[]
[]
[]
[]
[]
[]
[]
[]
[]
[]
[]
[]
[]
[]
[]
[]
[]
[]
[]
[]
[]
[]
[]
[]
[]
[]
[]
[]
[]
[]
[]
[]
[]
[]
[]
[]
[]
[]
[]
[]
[]
[]
[]
[]
[]
[]
[]
[]
[]
[]
[]
[]
[]
[]
[]
[]
[]
[]
[]
[]
[]
[]
[]
[]
[]
[]
[]
[]
[]
[]
[]
[]
[]
[]
[]
[]
[]
[]
[]
[]
[]
[]
[]
[]
[]
[]
[]
[]
[]
[]
[]
[]
[]
[]
[]
[]
[]
[]
[]
[]
[]
[]
[]
[]
[]
[]
[]
[]
[]
[]
[]
[]
[]
[]
[]
[]
[]
[]
[]
[]
[]
[]
[]
[]
[]
[]
[]
[]
[]
[]
[]
[]
[]
[]
[]
[]
[]
[]
[]
[]
[]
[]
[]
[]
[]
[]
[]
[]
[]
[]
[]
[]
[]
[]
[]
[]
[]
[]
[]
[]
[]
[]
[]
[]
[]
[]
[]
[]
[]
[]
[]
[]
[]
[]
[]
[]
[]
[]
[]
[]
[]
[]
[]
[]
[]
[]
[]
[]
[]
[]
[]
[]
[]
[]
[]
[]
[]
[]
[]
[]
[]
[]
[]
[]
[]
[]
[]
[]
[]
[]
[]
[]
[]
[]
[]
[]
[]
[]
[]
[]
[]
[]
[]
[]
[]
[]
[]
[]
[]
[]
[]
[]
[]
[]
[]
[]
[]
[]
[]
[]
[]
[]
[]
[]
[]
[]
[]
[]
[]
[]
[]
[]
[]
[]
[]
[]
[]
[]
[]
[]
[]
[]
[]
[]
[]
[]
[]
[]
[]
[]
[]
[]
[]
[]
[]
[]
[]
[]
[]
[]
[]
[]
[]
[]
[]
[]
[]
[]
[]
[]
[]
[]
[]
[]
[]
[]
[]
[]
[]
[]
[]
[]
[]
[]
[]
[]
[]
[]
[]
[]
[]
[]
[]
[]
[]
[]
[]
[]
[]
[]
[]
[]
[]
[]
[]
[]
[]
[]
[]
[]
[]
[]
[]
[]
[]
[]
[]
[]
[]
[]
[]
[]
[]
[]
[]
[]
[]
[]
[]
[]
[]
[]
[]
[]
[]
[]
[]
[]
[]
[]
[]
[]
[]
[]
[]
[]
[]
[]
[]
[]
[]
[]
[]
[]
[]
[]
[]
[]
[]
[]
[]
[]
[]
[]
[]
[]
[]
[]
[]
[]
[]
[]
[]
[]
[]
[]
[]
[]
[]
[]
[]
[]
[]
[]
[]
[]
[]
[]
[]
[]
[]
[]
[]
[]
[]
[]
[]
[]
[]
[]
[]
[]
[]
[]
[]
[]
[]
[]
[]
[]
[]
[]
[]
[]
[]
[]
[]
[]
[]
[]
[]
[]
[]
[]
[]
[]
[]
[]
[]
[]
[]
[]
[]
[]
[]
[]
[]
[]
[]
[]
[]
[]
[]
[]
[]
[]
[]
[]
[]
[]
[]
[]
[]
[]
[]
[]
[]
[]
[]
[]
[]
[]
[]
[]
[]
[]
[]
[]
[]
[]
[]
[]
[]
[]
[]
[]
[]
[]
[]
[]
[]
[]
[]
[]
[]
[]
[]
[]
[]
[]
[]
[]
[]
[]
[]
[]
[]
[]
[]
[]
[]
[]
[]
[]
[]
[]
[]
[]
[]
[]
[]
[]
[]
[]
[]
[]
[]
[]
[]
[]
[]
[]
[]
[]
[]
[]
[]
[]
[]
[]
[]
[]
[]
[]
[]
[]
[]
[]
[]
[]
[]
[]
[]
[]
[]
[]
[]
[]
[]
[]
[]
[]
[]
[]
[]
[]
[]
[]
[]
[]
[]
[]
[]
[]
[]
[]
[]
[]
[]
[]
[]
[]
[]
[]
[]
[]
[]
[]
[]
[]
[]
[]
[]
[]
[]
[]
[]
[]
[]
[]
[]
[]
[]
[]
[]
[]
[]
[]
[]
[]
[]
[]
[]
[]
[]
[]
[]
[]
[]
[]
[]
[]
[]
[]
[]
[]
[]
[]
[]
[]
[]
[]
[]
[]
[]
[]
[]
[]
[]
[]
[]
[]
[]
[]
[]
[]
[]
[]
[]
[]
[]
[]
[]
[]
[]
[]
[]
[]
[]
[]
[]
[]
[]
[]
[]
[]
[]
[]
[]
[]
[]
[]
[]
[]
[]
[]
[]
[]
[]
[]
[]
[]
[]
[]
[]
[]
[]
[]
[]
[]
[]
[]
[]
[]
[]
[]
[]
[]
[]
[]
[]
[]
[]
[]
[]
[]
[]
[]
[]
[]
[]
[]
[]
[]
[]
[]
[]
[]
[]
[]
[]
[]
[]
[]
[]
[]
[]
[]
[]
[]
[]
[]
[]
[]
[]
[]
[]
[]
[]
[]
[]
[]
[]
[]
[]
[]
[]
[]
[]
[]
[]
[]
[]
[]
[]
[]
[]
[]
[]
[]
[]
[]
[]
[]
[]
[]
[]
[]
[]
[]
[]
[]
[]
[]
[]
[]
[]
[]
[]
[]
[]
[]
[]
[]
[]
[]
[]
[]
[]
[]
[]
[]
[]
[]
[]
[]
[]
[]
[]
[]
[]
[]
[]
[]
[]
[]
[]
[]
[]
[]
[]
[]
[]
[]
[]
[]
[]
[]
[]
[]
[]
[]
[]
[]
[]
[]
[]
[]
[]
[]
[]
[]
[]
[]
[]
[]
[]
[]
[]
[]
[]
[]
[]
[]
[]
[]
[]
[]
[]
[]
[]
[]
[]
[]
[]
[]
[]
[]
[]
[]
[]
[]
[]
[]
[]
[]
[]
[]
[]
[]
[]
[]
[]
[]
[]
[]
[]
[]
[]
[]
[]
[]
[]
[]
[]
[]
[]
[]
[]
[]
[]
[]
[]
[]
[]
[]
[]
[]
[]
[]
[]
[]
[]
[]
[]
[]
[]
[]
[]
[]
[]
[]
[]
[]
[]
[]
[]
[]
[]
[]
[]
[]
[]
[]
[]
[]
[]
[]
[]
[]
[]
[]
[]
[]
[]
[]
[]
[]
[]
[]
[]
[]
[]
[]
[]
[]
[]
[]
[]
[]
[]
[]
[]
[]
[]
[]
[]
[]
[]
[]
[]
[]
[]
[]
[]
[]
[]
[]
[]
[]
[]
[]
[]
[]
[]
[]
[]
[]
[]
[]
[]
[]
[]
[]
[]
[]
[]
[]
[]
[]
[]
[]
[]
[]
[]
[]
[]
[]
[]
[]
[]
[]
[]
[]
[]
[]
[]
[]
[]
[]
[]
[]
[]
[]
[]
[]
[]
[]
[]
[]
[]
[]
[]
[]
[]
[]
[]
[]
[]
[]
[]
[]
[]
[]
[]
[]
[]
[]
[]
[]
[]
[]
[]
[]
[]
[]
[]
[]
[]
[]
[]
[]
[]
[]
[]
[]
[]
[]
[]
[]
[]
[]
[]
[]
[]
[]
[]
[]
[]
[]
[]
[]
[]
[]
[]
[]
[]
[]
[]
[]
[]
[]
[]
[]
[]
[]
[]
[]
[]
[]
[]
[]
[]
[]
[]
[]
[]
[]
[]
[]
[]
[]
[]
[]
[]
[]
[]
[]
[]
[]
[]
[]
[]
[]
[]
[]
[]
[]
[]
[]
[]
[]
[]
[]
[]
[]
[]
[]
[]
[]
[]
[]
[]
[]
[]
[]
[]
[]
[]
[]
[]
[]
[]
[]
[]
[]
[]
[]
[]
[]
[]
[]
[]
[]
[]
[]
[]
[]
[]
[]
[]
[]
[]
[]
[]
[]
[]
[]
[]
[]
[]
[]
[]
[]
[]
[]
[]
[]
[]
[]
[]
[]
[]
[]
[]
[]
[]
[]
[]
[]
[]
[]
[]
[]
[]
[]
[]
[]
[]
[]
[]
[]
[]
[]
[]
[]
[]
[]
[]
[]
[]
[]
[]
[]
[]
[]
[]
[]
[]
[]
[]
[]
[]
[]
[]
[]
[]
[]
[]
[]
[]
[]
[]
[]
[]
[]
[]
[]
[]
[]
[]
[]
[]
[]
[]
[]
[]
[]
[]
[]
[]
[]
[]
[]
[]
[]
[]
[]
[]
[]
[]
[]
[]
[]
[]
[]
[]
[]
[]
[]
[]
[]
[]
[]
[]
[]
[]
[]
[]
[]
[]
[]
[]
[]
[]
[]
[]
[]
[]
[]
[]
[]
[]
[]
[]
[]
[]
[]
[]
[]
[]
[]
[]
[]
[]
[]
[]
[]
[]
[]
[]
[]
[]
[]
[]
[]
[]
[]
[]
[]
[]
[]
[]
[]
[]
[]
[]
[]
[]
[]
[]
[]
[]
[]
[]
[]
[]
[]
[]
[]
[]
[]
[]
[]
[]
[]
[]
[]
[]
[]
[]
[]
[]
[]
[]
[]
[]
[]
[]
[]
[]
[]
[]
[]
[]
[]
[]
[]
[]
[]
[]
[]
[]
[]
[]
[]
[]
[]
[]
[]
[]
[]
[]
[]
[]
[]
[]
[]
[]
[]
[]
[]
[]
[]
[]
[]
[]
[]
[]
[]
[]
[]
[]
[]
[]
[]
[]
[]
[]
[]
[]
[]
[]
[]
[]
[]
[]
[]
[]
[]
[]
[]
[]
[]
[]
[]
[]
[]
[]
[]
[]
[]
[]
[]
[]
[]
[]
[]
[]
[]
[]
[]
[]
[]
[]
[]
[]
[]
[]
[]
[]
[]
[]
[]
[]
[]
[]
[]
[]
[]
[]
[]
[]
[]
[]
[]
[]
[]
[]
[]
[]
[]
[]
[]
[]
[]
[]
[]
[]
[]
[]
[]
[]
[]
[]
[]
[]
[]
[]
[]
[]
[]
[]
[]
[]
[]
[]
[]
[]
[]
[]
[]
[]
[]
[]
[]
[]
[]
[]
[]
[]
[]
[]
[]
[]
[]
[]
[]
[]
[]
[]
[]
[]
[]
[]
[]
[]
[]
[]
[]
[]
[]
[]
[]
[]
[]
[]
[]
[]
[]
[]
[]
[]
[]
[]
[]
[]
[]
[]
[]
[]
[]
[]
[]
[]
[]
[]
[]
[]
[]
[]
[]
[]
[]
[]
[]
[]
[]
[]
[]
[]
[]
[]
[]
[]
[]
[]
[]
[]
[]
[]
[]
[]
[]
[]
[]
[]
[]
[]
[]
[]
[]
[]
[]
[]
[]
[]
[]
[]
[]
[]
[]
[]
[]
[]
[]
[]
[]
[]
[]
[]
[]
[]
[]
[]
[]
[]
[]
[]
[]
[]
[]
[]
[]
[]
[]
[]
[]
[]
[]
[]
[]
[]
[]
[]
[]
[]
[]
[]
[]
[]
[]
[]
[]
[]
[]
[]
[]
[]
[]
[]
[]
[]
[]
[]
[]
[]
[]
[]
[]
[]
[]
[]
[]
[]
[]
[]
[]
[]
[]
[]
[]
[]
[]
[]
[]
[]
[]
[]
[]
[]
[]
[]
[]
[]
[]
[]
[]
[]
[]
[]
[]
[]
[]
[]
[]
[]
[]
[]
[]
[]
[]
[]
[]
[]
[]
[]
[]
[]
[]
[]
[]
[]
[]
[]
[]
[]
[]
[]
[]
[]
[]
[]
[]
[]
[]
[]
[]
[]
[]
[]
[]
[]
[]
[]
[]
[]
[]
[]
[]
[]
[]
[]
[]
[]
[]
[]
[]
[]
[]
[]
[]
[]
[]
[]
[]
[]
[]
[]
[]
[]
[]
[]
[]
[]
[]
[]
[]
[]
[]
[]
[]
[]
[]
[]
[]
[]
[]
[]
[]
[]
[]
[]
[]
[]
[]
[]
[]
[]
[]
[]
[]
[]
[]
[]
[]
[]
[]
[]
[]
[]
[]
[]
[]
[]
[]
[]
[]
[]
[]
[]
[]
[]
[]
[]
[]
[]
[]
[]
[]
[]
[]
[]
[]
[]
[]
[]
[]
[]
[]
[]
[]
[]
[]
[]
[]
[]
[]
[]
[]
[]
[]
[]
[]
[]
[]
[]
[]
[]
[]
[]
[]
[]
[]
[]
[]
[]
[]
[]
[]
[]
[]
[]
[]
[]
[]
[]
[]
[]
[]
[]
[]
[]
[]
[]
[]
[]
[]
[]
[]
[]
[]
[]
[]
[]
[]
[]
[]
[]
[]
[]
[]
[]
[]
[]
[]
[]
[]
[]
[]
[]
[]
[]
[]
[]
[]
[]
[]
[]
[]
[]
[]
[]
[]
[]
[]
[]
[]
[]
[]
[]
[]
[]
[]
[]
[]
[]
[]
[]
[]
[]
[]
[]
[]
[]
[]
[]
[]
[]
[]
[]
[]
[]
[]
[]
[]
[]
[]
[]
[]
[]
[]
[]
[]
[]
[]
[]
[]
[]
[]
[]
[]
[]
[]
[]
[]
[]
[]
[]
[]
[]
[]
[]
[]
[]
[]
[]
[]
[]
[]
[]
[]
[]
[]
[]
[]
[]
[]
[]
[]
[]
[]
[]
[]
[]
[]
[]
[]
[]
[]
[]
[]
[]
[]
[]
[]
[]
[]
[]
[]
[]
[]
[]
[]
[]
[]
[]
[]
[]
[]
[]
[]
[]
[]
[]
[]
[]
[]
[]
[]
[]
[]
[]
[]
[]
[]
[]
[]
[]
[]
[]
[]
[]
[]
[]
[]
[]
[]
[]
[]
[]
[]
[]
[]
[]
[]
[]
[]
[]
[]
[]
[]
[]
[]
[]
[]
[]
[]
[]
[]
[]
[]
[]
[]
[]
[]
[]
[]
[]
[]
[]
[]
[]
[]
[]
[]
[]
[]
[]
[]
[]
[]
[]
[]
[]
[]
[]
[]
[]
[]
[]
[]
[]
[]
[]
[]
[]
[]
[]
[]
[]
[]
[]
[]
[]
[]
[]
[]
[]
[]
[]
[]
[]
[]
[]
[]
[]
[]
[]
[]
[]
[]
[]
[]
[]
[]
[]
[]
[]
[]
[]
[]
[]
[]
[]
[]
[]
[]
[]
[]
[]
[]
[]
[]
[]
[]
[]
[]
[]
[]
[]
[]
[]
[]
[]
[]
[]
[]
[]
[]
[]
[]
[]
[]
[]
[]
[]
[]
[]
[]
[]
[]
[]
[]
[]
[]
[]
[]
[]
[]
[]
[]
[]
[]
[]
[]
[]
[]
[]
[]
[]
[]
[]
[]
[]
[]
[]
[]
[]
[]
[]
[]
[]
[]
[]
[]
[]
[]
[]
[]
[]
[]
[]
[]
[]
[]
[]
[]
[]
[]
[]
[]
[]
[]
[]
[]
[]
[]
[]
[]
[]
[]
[]
[]
[]
[]
[]
[]
[]
[]
[]
[]
[]
[]
[]
[]
[]
[]
[]
[]
[]
[]
[]
[]
[]
[]
[]
[]
[]
[]
[]
[]
[]
[]
[]
[]
[]
[]
[]
[]
[]
[]
[]
[]
[]
[]
[]
[]
[]
[]
[]
[]
[]
[]
[]
[]
[]
[]
[]
[]
[]
[]
[]
[]
[]
[]
[]
[]
[]
[]
[]
[]
[]
[]
[]
[]
[]
[]
[]
[]
[]
[]
[]
[]
[]
[]
[]
[]
[]
[]
[]
[]
[]
[]
[]
[]
[]
[]
[]
[]
[]
[]
[]
[]
[]
[]
[]
[]
[]
[]
[]
[]
[]
[]
[]
[]
[]
[]
[]
[]
[]
[]
[]
[]
[]
[]
[]
[]
[]
[]
[]
[]
[]
[]
[]
[]
[]
[]
[]
[]
[]
[]
[]
[]
[]
[]
[]
[]
[]
[]
[]
[]
[]
[]
[]
[]
[]
[]
[]
[]
[]
[]
[]
[]
[]
[]
[]
[]
[]
[]
[]
[]
[]
[]
[]
[]
[]
[]
[]
[]
[]
[]
[]
[]
[]
[]
[]
[]
[]
[]
[]
[]
[]
[]
[]
[]
[]
[]
[]
[]
[]
[]
[]
[]
[]
[]
[]
[]
[]
[]
[]
[]
[]
[]
[]
[]
[]
[]
[]
[]
[]
[]
[]
[]
[]
[]
[]
[]
[]
[]
[]
[]
[]
[]
[]
[]
[]
[]
[]
[]
[]
[]
[]
[]
[]
[]
[]
[]
[]
[]
[]
[]
[]
[]
[]
[]
[]
[]
[]
[]
[]
[]
[]
[]
[]
[]
[]
[]
[]
[]
[]
[]
[]
[]
[]
[]
[]
[]
[]
[]
[]
[]
[]
[]
[]
[]
[]
[]
[]
[]
[]
[]
[]
[]
[]
[]
[]
[]
[]
[]
[]
[]
[]
[]
[]
[]
[]
[]
[]
[]
[]
[]
[]
[]
[]
[]
[]
[]
[]
[]
[]
[]
[]
[]
[]
[]
[]
[]
[]
[]
[]
[]
[]
[]
[]
[]
[]
[]
[]
[]
[]
[]
[]
[]
[]
[]
[]
[]
[]
[]
[]
[]
[]
[]
[]
[]
[]
[]
[]
[]
[]
[]
[]
[]
[]
[]
[]
[]
[]
[]
[]
[]
[]
[]
[]
[]
[]
[]
[]
[]
[]
[]
[]
[]
[]
[]
[]
[]
[]
[]
[]
[]
[]
[]
[]
[]
[]
[]
[]
[]
[]
[]
[]
[]
[]
[]
[]
[]
[]
[]
[]
[]
[]
[]
[]
[]
[]
[]
[]
[]
[]
[]
[]
[]
[]
[]
[]
[]
[]
[]
[]
[]
[]
[]
[]
[]
[]
[]
[]
[]
[]
[]
[]
[]
[]
[]
[]
[]
[]
[]
[]
[]
[]
[]
[]
[]
[]
[]
[]
[]
[]
[]
[]
[]
[]
[]
[]
[]
[]
[]
[]
[]
[]
[]
[]
[]
[]
[]
[]
[]
[]
[]
[]
[]
[]
[]
[]
[]
[]
[]
[]
[]
[]
[]
[]
[]
[]
[]
[]
[]
[]
[]
[]
[]
[]
[]
[]
[]
[]
[]
[]
[]
[]
[]
[]
[]
[]
[]
[]
[]
[]
[]
[]
[]
[]
[]
[]
[]
[]
[]
[]
[]
[]
[]
[]
[]
[]
[]
[]
[]
[]
[]
[]
[]
[]
[]
[]
[]
[]
[]
[]
[]
[]
[]
[]
[]
[]
[]
[]
[]
[]
[]
[]
[]
[]
[]
[]
[]
[]
[]
[]
[]
[]
[]
[]
[]
[]
[]
[]
[]
[]
[]
[]
[]
[]
[]
[]
[]
[]
[]
[]
[]
[]
[]
[]
[]
[]
[]
[]
[]
[]
[]
[]
[]
[]
[]
[]
[]
[]
[]
[]
[]
[]
[]
[]
[]
[]
[]
[]
[]
[]
[]
[]
[]
[]
[]
[]
[]
[]
[]
[]
[]
[]
[]
[]
[]
[]
[]
[]
[]
[]
[]
[]
[]
[]
[]
[]
[]
[]
[]
[]
[]
[]
[]
[]
[]
[]
[]
[]
[]
[]
[]
[]
[]
[]
[]
[]
[]
[]
[]
[]
[]
[]
[]
[]
[]
[]
[]
[]
[]
[]
[]
[]
[]
[]
[]
[]
[]
[]
[]
[]
[]
[]
[]
[]
[]
[]
[]
[]
[]
[]
[]
[]
[]
[]
[]
[]
[]
[]
[]
[]
[]
[]
[]
[]
[]
[]
[]
[]
[]
[]
[]
[]
[]
[]
[]
[]
[]
[]
[]
[]
[]
[]
[]
[]
[]
[]
[]
[]
[]
[]
[]
[]
[]
[]
[]
[]
[]
[]
[]
[]
[]
[]
[]
[]
[]
[]
[]
[]
[]
[]
[]
[]
[]
[]
[]
[]
[]
[]
[]
[]
[]
[]
[]
[]
[]
[]
[]
[]
[]
[]
[]
[]
[]
[]
[]
[]
[]
[]
[]
[]
[]
[]
[]
[]
[]
[]
[]
[]
[]
[]
[]
[]
[]
[]
[]
[]
[]
[]
[]
[]
[]
[]
[]
[]
[]
[]
[]
[]
[]
[]
[]
[]
[]
[]
[]
[]
[]
[]
[]
[]
[]
[]
[]
[]
[]
[]
[]
[]
[]
[]
[]
[]
[]
[]
[]
[]
[]
[]
[]
[]
[]
[]
[]
[]
[]
[]
[]
[]
[]
[]
[]
[]
[]
[]
[]
[]
[]
[]
[]
[]
[]
[]
[]
[]
[]
[]
[]
[]
[]
[]
[]
[]
[]
[]
[]
[]
[]
[]
[]
[]
[]
[]
[]
[]
[]
[]
[]
[]
[]
[]
[]
[]
[]
[]
[]
[]
[]
[]
[]
[]
[]
[]
[]
[]
[]
[]
[]
[]
[]
[]
[]
[]
[]
[]
[]
[]
[]
[]
[]
[]
[]
[]
[]
[]
[]
[]
[]
[]
[]
[]
[]
[]
[]
[]
[]
[]
[]
[]
[]
[]
[]
[]
[]
[]
[]
[]
[]
[]
[]
[]
[]
[]
[]
[]
[]
[]
[]
[]
[]
[]
[]
[]
[]
[]
[]
[]
[]
[]
[]
[]
[]
[]
[]
[]
[]
[]
[]
[]
[]
[]
[]
[]
[]
[]
[]
[]
[]
[]
[]
[]
[]
[]
[]
[]
[]
[]
[]
[]
[]
[]
[]
[]
[]
[]
[]
[]
[]
[]
[]
[]
[]
[]
[]
[]
[]
[]
[]
[]
[]
[]
[]
[]
[]
[]
[]
[]
[]
[]
[]
[]
[]
[]
[]
[]
[]
[]
[]
[]
[]
[]
[]
[]
[]
[]
[]
[]
[]
[]
[]
[]
[]
[]
[]
[]
[]
[]
[]
[]
[]
[]
[]
[]
[]
[]
[]
[]
[]
[]
[]
[]
[]
[]
[]
[]
[]
[]
[]
[]
[]
[]
[]
[]
[]
[]
[]
[]
[]
[]
[]
[]
[]
[]
[]
[]
[]
[]
[]
[]
[]
[]
[]
[]
[]
[]
[]
[]
[]
[]
[]
[]
[]
[]
[]
[]
[]
[]
[]
[]
[]
[]
[]
[]
[]
[]
[]
[]
[]
[]
[]
[]
[]
[]
[]
[]
[]
[]
[]
[]
[]
[]
[]
[]
[]
[]
[]
[]
[]
[]
[]
[]
[]
[]
[]
[]
[]
[]
[]
[]
[]
[]
[]
[]
[]
[]
[]
[]
[]
[]
[]
[]
[]
[]
[]
[]
[]
[]
[]
[]
[]
[]
[]
[]
[]
[]
[]
[]
[]
[]
[]
[]
[]
[]
[]
[]
[]
[]
[]
[]
[]
[]
[]
[]
[]
[]
[]
[]
[]
[]
[]
[]
[]
[]
[]
[]
[]
[]
[]
[]
[]
[]
[]
[]
[]
[]
[]
[]
[]
[]
[]
[]
[]
[]
[]
[]
[]
[]
[]
[]
[]
[]
[]
[]
[]
[]
[]
[]
[]
[]
[]
[]
[]
[]
[]
[]
[]
[]
[]
[]
[]
[]
[]
[]
[]
[]
[]
[]
[]
[]
[]
[]
[]
[]
[]
[]
[]
[]
[]
[]
[]
[]
[]
[]
[]
[]
[]
[]
[]
[]
[]
[]
[]
[]
[]
[]
[]
[]
[]
[]
[]
[]
[]
[]
[]
[]
[]
[]
[]
[]
[]
[]
[]
[]
[]
[]
[]
[]
[]
[]
[]
[]
[]
[]
[]
[]
[]
[]
[]
[]
[]
[]
[]
[]
[]
[]
[]
[]
[]
[]
[]
[]
[]
[]
[]
[]
[]
[]
[]
[]
[]
[]
[]
[]
[]
[]
[]
[]
[]
[]
[]
[]
[]
[]
[]
[]
[]
[]
[]
[]
[]
[]
[]
[]
[]
[]
[]
[]
[]
[]
[]
[]
[]
[]
[]
[]
[]
[]
[]
[]
[]
[]
[]
[]
[]
[]
[]
[]
[]
[]
[]
[]
[]
[]
[]
[]
[]
[]
[]
[]
[]
[]
[]
[]
[]
[]
[]
[]
[]
[]
[]
[]
[]
[]
[]
[]
[]
[]
[]
[]
[]
[]
[]
[]
[]
[]
[]
[]
[]
[]
[]
[]
[]
[]
[]
[]
[]
[]
[]
[]
[]
[]
[]
[]
[]
[]
[]
[]
[]
[]
[]
[]
[]
[]
[]
[]
[]
[]
[]
[]
[]
[]
[]
[]
[]
[]
[]
[]
[]
[]
[]
[]
[]
[]
[]
[]
[]
[]
[]
[]
[]
[]
[]
[]
[]
[]
[]
[]
[]
[]
[]
[]
[]
[]
[]
[]
[]
[]
[]
[]
[]
[]
[]
[]
[]
[]
[]
[]
[]
[]
[]
[]
[]
[]
[]
[]
[]
[]
[]
[]
[]
[]
[]
[]
[]
[]
[]
[]
[]
[]
[]
[]
[]
[]
[]
[]
[]
[]
[]
[]
[]
[]
[]
[]
[]
[]
[]
[]
[]
[]
[]
[]
[]
[]
[]
[]
[]
[]
[]
[]
[]
[]
[]
[]
[]
[]
[]
[]
[]
[]
[]
[]
[]
[]
[]
[]
[]
[]
[]
[]
[]
[]
[]
[]
[]
[]
[]
[]
[]
[]
[]
[]
[]
[]
[]
[]
[]
[]
[]
[]
[]
[]
[]
[]
[]
[]
[]
[]
[]
[]
[]
[]
[]
[]
[]
[]
[]
[]
[]
[]
[]
[]
[]
[]
[]
[]
[]
[]
[]
[]
[]
[]
[]
[]
[]
[]
[]
[]
[]
[]
[]
[]
[]
[]
[]
[]
[]
[]
[]
[]
[]
[]
[]
[]
[]
[]
[]
[]
[]
[]
[]
[]
[]
[]
[]
[]
[]
[]
[]
[]
[]
[]
[]
[]
[]
[]
[]
[]
[]
[]
[]
[]
[]
[]
[]
[]
[]
[]
[]
[]
[]
[]
[]
[]
[]
[]
[]
[]
[]
[]
[]
[]
[]
[]
[]
[]
[]
[]
[]
[]
[]
[]
[]
[]
[]
[]
[]
[]
[]
[]
[]
[]
[]
[]
[]
[]
[]
[]
[]
[]
[]
[]
[]
[]
[]
[]
[]
[]
[]
[]
[]
[]
[]
[]
[]
[]
[]
[]
[]
[]
[]
[]
[]
[]
[]
[]
[]
[]
[]
[]
[]
[]
[]
[]
[]
[]
[]
[]
[]
[]
[]
[]
[]
[]
[]
[]
[]
[]
[]
[]
[]
[]
[]
[]
[]
[]
[]
[]
[]
[]
[]
[]
[]
[]
[]
[]
[]
[]
[]
[]
[]
[]
[]
[]
[]
[]
[]
[]
[]
[]
[]
[]
[]
[]
[]
[]
[]
[]
[]
[]
[]
[]
[]
[]
[]
[]
[]
[]
[]
[]
[]
[]
[]
[]
[]
[]
[]
[]
[]
[]
[]
[]
[]
[]
[]
[]
[]
[]
[]
[]
[]
[]
[]
[]
[]
[]
[]
[]
[]
[]
[]
[]
[]
[]
[]
[]
[]
[]
[]
[]
[]
[]
[]
[]
[]
[]
[]
[]
[]
[]
[]
[]
[]
[]
[]
[]
[]
[]
[]
[]
[]
[]
[]
[]
[]
[]
[]
[]
[]
[]
[]
[]
[]
[]
[]
[]
[]
[]
[]
[]
[]
[]
[]
[]
[]
[]
[]
[]
[]
[]
[]
[]
[]
[]
[]
[]
[]
[]
[]
[]
[]
[]
[]
[]
[]
[]
[]
[]
[]
[]
[]
[]
[]
[]
[]
[]
[]
[]
[]
[]
[]
[]
[]
[]
[]
[]
[]
[]
[]
[]
[]
[]
[]
[]
[]
[]
[]
[]
[]
[]
[]
[]
[]
[]
[]
[]
[]
[]
[]
[]
[]
[]
[]
[]
[]
[]
[]
[]
[]
[]
[]
[]
[]
[]
[]
[]
[]
[]
[]
[]
[]
[]
[]
[]
[]
[]
[]
[]
[]
[]
[]
[]
[]
[]
[]
[]
[]
[]
[]
[]
[]
[]
[]
[]
[]
[]
[]
[]
[]
[]
[]
[]
[]
[]
[]
[]
[]
[]
[]
[]
[]
[]
[]
[]
[]
[]
[]
[]
[]
[]
[]
[]
[]
[]
[]
[]
[]
[]
[]
[]
[]
[]
[]
[]
[]
[]
[]
[]
[]
[]
[]
[]
[]
[]
[]
[]
[]
[]
[]
[]
[]
[]
[]
[]
[]
[]
[]
[]
[]
[]
[]
[]
[]
[]
[]
[]
[]
[]
[]
[]
[]
[]
[]
[]
[]
[]
[]
[]
[]
[]
[]
[]
[]
[]
[]
[]
[]
[]
[]
[]
[]
[]
[]
[]
[]
[]
[]
[]
[]
[]
[]
[]
[]
[]
[]
[]
[]
[]
[]
[]
[]
[]
[]
[]
[]
[]
[]
[]
[]
[]
[]
[]
[]
[]
[]
[]
[]
[]
[]
[]
[]
[]
[]
[]
[]
[]
[]
[]
[]
[]
[]
[]
[]
[]
[]
[]
[]
[]
[]
[]
[]
[]
[]
[]
[]
[]
[]
[]
[]
[]
[]
[]
[]
[]
[]
[]
[]
[]
[]
[]
[]
[]
[]
[]
[]
[]
[]
[]
[]
[]
[]
[]
[]
[]
[]
[]
[]
[]
[]
[]
[]
[]
[]
[]
[]
[]
[]
[]
[]
[]
[]
[]
[]
[]
[]
[]
[]
[]
[]
[]
[]
[]
[]
[]
[]
[]
[]
[]
[]
[]
[]
[]
[]
[]
[]
[]
[]
[]
[]
[]
[]
[]
[]
[]
[]
[]
[]
[]
[]
[]
[]
[]
[]
[]
[]
[]
[]
[]
[]
[]
[]
[]
[]
[]
[]
[]
[]
[]
[]
[]
[]
[]
[]
[]
[]
[]
[]
[]
[]
[]
[]
[]
[]
[]
[]
[]
[]
[]
[]
[]
[]
[]
[]
[]
[]
[]
[]
[]
[]
[]
[]
[]
[]
[]
[]
[]
[]
[]
[]
[]
[]
[]
[]
[]
[]
[]
[]
[]
[]
[]
[]
[]
[]
[]
[]
[]
[]
[]
[]
[]
[]
[]
[]
[]
[]
[]
[]
[]
[]
[]
[]
[]
[]
[]
[]
[]
[]
[]
[]
[]
[]
[]
[]
[]
[]
[]
[]
[]
[]
[]
[]
[]
[]
[]
[]
[]
[]
[]
[]
[]
[]
[]
[]
[]
[]
[]
[]
[]
[]
[]
[]
[]
[]
[]
[]
[]
[]
[]
[]
[]
[]
[]
[]
[]
[]
[]
[]
[]
[]
[]
[]
[]
[]
[]
[]
[]
[]
[]
[]
[]
[]
[]
[]
[]
[]
[]
[]
[]
[]
[]
[]
[]
[]
[]
[]
[]
[]
[]
[]
[]
[]
[]
[]
[]
[]
[]
[]
[]
[]
[]
[]
[]
[]
[]
[]
[]
[]
[]
[]
[]
[]
[]
[]
[]
[]
[]
[]
[]
[]
[]
[]
[]
[]
[]
[]
[]
[]
[]
[]
[]
[]
[]
[]
[]
[]
[]
[]
[]
[]
[]
[]
[]
[]
[]
[]
[]
[]
[]
[]
[]
[]
[]
[]
[]
[]
[]
[]
[]
[]
[]
[]
[]
[]
[]
[]
[]
[]
[]
[]
[]
[]
[]
[]
[]
[]
[]
[]
[]
[]
[]
[]
[]
[]
[]
[]
[]
[]
[]
[]
[]
[]
[]
[]
[]
[]
[]
[]
[]
[]
[]
[]
[]
[]
[]
[]
[]
[]
[]
[]
[]
[]
[]
[]
[]
[]
[]
[]
[]
[]
[]
[]
[]
[]
[]
[]
[]
[]
[]
[]
[]
[]
[]
[]
[]
[]
[]
[]
[]
[]
[]
[]
[]
[]
[]
[]
[]
[]
[]
[]
[]
[]
[]
[]
[]
[]
[]
[]
[]
[]
[]
[]
[]
[]
[]
[]
[]
[]
[]
[]
[]
[]
[]
[]
[]
[]
[]
[]
[]
[]
[]
[]
[]
[]
[]
[]
[]
[]
[]
[]
[]
[]
[]
[]
[]
[]
[]
[]
[]
[]
[]
[]
[]
[]
[]
[]
[]
[]
[]
[]
[]
[]
[]
[]
[]
[]
[]
[]
[]
[]
[]
[]
[]
[]
[]
[]
[]
[]
[]
[]
[]
[]
[]
[]
[]
[]
[]
[]
[]
[]
[]
[]
[]
[]
[]
[]
[]
[]
[]
[]
[]
[]
[]
[]
[]
[]
[]
[]
[]
[]
[]
[]
[]
[]
[]
[]
[]
[]
[]
[]
[]
[]
[]
[]
[]
[]
[]
[]
[]
[]
[]
[]
[]
[]
[]
[]
[]
[]
[]
[]
[]
[]
[]
[]
[]
[]
[]
[]
[]
[]
[]
[]
[]
[]
[]
[]
[]
[]
[]
[]
[]
[]
[]
[]
[]
[]
[]
[]
[]
[]
[]
[]
[]
[]
[]
[]
[]
[]
[]
[]
[]
[]
[]
[]
[]
[]
[]
[]
[]
[]
[]
[]
[]
[]
[]
[]
[]
[]
[]
[]
[]
[]
[]
[]
[]
[]
[]
[]
[]
[]
[]
[]
[]
[]
[]
[]
[]
[]
[]
[]
[]
[]
[]
[]
[]
[]
[]
[]
[]
[]
[]
[]
[]
[]
[]
[]
[]
[]
[]
[]
[]
[]
[]
[]
[]
[]
[]
[]
[]
[]
[]
[]
[]
[]
[]
[]
[]
[]
[]
[]
[]
[]
[]
[]
[]
[]
[]
[]
[]
[]
[]
[]
[]
[]
[]
[]
[]
[]
[]
[]
[]
[]
[]
[]
[]
[]
[]
[]
[]
[]
[]
[]
[]
[]
[]
[]
[]
[]
[]
[]
[]
[]
[]
[]
[]
[]
[]
[]
[]
[]
[]
[]
[]
[]
[]
[]
[]
[]
[]
[]
[]
[]
[]
[]
[]
[]
[]
[]
[]
[]
[]
[]
[]
[]
[]
[]
[]
[]
[]
[]
[]
[]
[]
[]
[]
[]
[]
[]
[]
[]
[]
[]
[]
[]
[]
[]
[]
[]
[]
[]
[]
[]
[]
[]
[]
[]
[]
[]
[]
[]
[]
[]
[]
[]
[]
[]
[]
[]
[]
[]
[]
[]
[]
[]
[]
[]
[]
[]
[]
[]
[]
[]
[]
[]
[]
[]
[]
[]
[]
[]
[]
[]
[]
[]
[]
[]
[]
[]
[]
[]
[]
[]
[]
[]
[]
[]
[]
[]
[]
[]
[]
[]
[]
[]
[]
[]
[]
[]
[]
[]
[]
[]
[]
[]
[]
[]
[]
[]
[]
[]
[]
[]
[]
[]
[]
[]
[]
[]
[]
[]
[]
[]
[]
[]
[]
[]
[]
[]
[]
[]
[]
[]
[]
[]
[]
[]
[]
[]
[]
[]
[]
[]
[]
[]
[]
[]
[]
[]
[]
[]
[]
[]
[]
[]
[]
[]
[]
[]
[]
[]
[]
[]
[]
[]
[]
[]
[]
[]
[]
[]
[]
[]
[]
[]
[]
[]
[]
[]
[]
[]
[]
[]
[]
[]
[]
[]
[]
[]
[]
[]
[]
[]
[]
[]
[]
[]
[]
[]
[]
[]
[]
[]
[]
[]
[]
[]
[]
[]
[]
[]
[]
[]
[]
[]
[]
[]
[]
[]
[]
[]
[]
[]
[]
[]
[]
[]
[]
[]
[]
[]
[]
[]
[]
[]
[]
[]
[]
[]
[]
[]
[]
[]
[]
[]
[]
[]
[]
[]
[]
[]
[]
[]
[]
[]
[]
[]
[]
[]
[]
[]
[]
[]
[]
[]
[]
[]
[]
[]
[]
[]
[]
[]
[]
[]
[]
[]
[]
[]
[]
[]
[]
[]
[]
[]
[]
[]
[]
[]
[]
[]
[]
[]
[]
[]
[]
[]
[]
[]
[]
[]
[]
[]
[]
[]
[]
[]
[]
[]
[]
[]
[]
[]
[]
[]
[]
[]
[]
[]
[]
[]
[]
[]
[]
[]
[]
[]
[]
[]
[]
[]
[]
[]
[]
[]
[]
[]
[]
[]
[]
[]
[]
[]
[]
[]
[]
[]
[]
[]
[]
[]
[]
[]
[]
[]
[]
[]
[]
[]
[]
[]
[]
[]
[]
[]
[]
[]
[]
[]
[]
[]
[]
[]
[]
[]
[]
[]
[]
[]
[]
[]
[]
[]
[]
[]
[]
[]
[]
[]
[]
[]
[]
[]
[]
[]
[]
[]
[]
[]
[]
[]
[]
[]
[]
[]
[]
[]
[]
[]
[]
[]
[]
[]
[]
[]
[]
[]
[]
[]
[]
[]
[]
[]
[]
[]
[]
[]
[]
[]
[]
[]
[]
[]
[]
[]
[]
[]
[]
[]
[]
[]
[]
[]
[]
[]
[]
[]
[]
[]
[]
[]
[]
[]
[]
[]
[]
[]
[]
[]
[]
[]
[]
[]
[]
[]
[]
[]
[]
[]
[]
[]
[]
[]
[]
[]
[]
[]
[]
[]
[]
[]
[]
[]
[]
[]
[]
[]
[]
[]
[]
[]
[]
[]
[]
[]
[]
[]
[]
[]
[]
[]
[]
[]
[]
[]
[]
[]
[]
[]
[]
[]
[]
[]
[]
[]
[]
[]
[]
[]
[]
[]
[]
[]
[]
[]
[]
[]
[]
[]
[]
[]
[]
[]
[]
[]
[]
[]
[]
[]
[]
[]
[]
[]
[]
[]
[]
[]
[]
[]
[]
[]
[]
[]
[]
[]
[]
[]
[]
[]
[]
[]
[]
[]
[]
[]
[]
[]
[]
[]
[]
[]
[]
[]
[]
[]
[]
[]
[]
[]
[]
[]
[]
[]
[]
[]
[]
[]
[]
[]
[]
[]
[]
[]
[]
[]
[]
[]
[]
[]
[]
[]
[]
[]
[]
[]
[]
[]
[]
[]
[]
[]
[]
[]
[]
[]
[]
[]
[]
[]
[]
[]
[]
[]
[]
[]
[]
[]
[]
[]
[]
[]
[]
[]
[]
[]
[]
[]
[]
[]
[]
[]
[]
[]
[]
[]
[]
[]
[]
[]
[]
[]
[]
[]
[]
[]
[]
[]
[]
[]
[]
[]
[]
[]
[]
[]
[]
[]
[]
[]
[]
[]
[]
[]
[]
[]
[]
[]
[]
[]
[]
[]
[]
[]
[]
[]
[]
[]
[]
[]
[]
[]
[]
[]
[]
[]
[]
[]
[]
[]
[]
[]
[]
[]
[]
[]
[]
[]
[]
[]
[]
[]
[]
[]
[]
[]
[]
[]
[]
[]
[]
[]
[]
[]
[]
[]
[]
[]
[]
[]
[]
[]
[]
[]
[]
[]
[]
[]
[]
[]
[]
[]
[]
[]
[]
[]
[]
[]
[]
[]
[]
[]
[]
[]
[]
[]
[]
[]
[]
[]
[]
[]
[]
[]
[]
[]
[]
[]
[]
[]
[]
[]
[]
[]
[]
[]
[]
[]
[]
[]
[]
[]
[]
[]
[]
[]
[]
[]
[]
[]
[]
[]
[]
[]
[]
[]
[]
[]
[]
[]
[]
[]
[]
[]
[]
[]
[]
[]
[]
[]
[]
[]
[]
[]
[]
[]
[]
[]
[]
[]
[]
[]
[]
[]
[]
[]
[]
[]
[]
[]
[]
[]
[]
[]
[]
[]
[]
[]
[]
[]
[]
[]
[]
[]
[]
[]
[]
[]
[]
[]
[]
[]
[]
[]
[]
[]
[]
[]
[]
[]
[]
[]
[]
[]
[]
[]
[]
[]
[]
[]
[]
[]
[]
[]
[]
[]
[]
[]
[]
[]
[]
[]
[]
[]
[]
[]
[]
[]
[]
[]
[]
[]
[]
[]
[]
[]
[]
[]
[]
[]
[]
[]
[]
[]
[]
[]
[]
[]
[]
[]
[]
[]
[]
[]
[]
[]
[]
[]
[]
[]
[]
[]
[]
[]
[]
[]
[]
[]
[]
[]
[]
[]
[]
[]
[]
[]
[]
[]
[]
[]
[]
[]
[]
[]
[]
[]
[]
[]
[]
[]
[]
[]
[]
[]
[]
[]
[]
[]
[]
[]
[]
[]
[]
[]
[]
[]
[]
[]
[]
[]
[]
[]
[]
[]
[]
[]
[]
[]
[]
[]
[]
[]
[]
[]
[]
[]
[]
[]
[]
[]
[]
[]
[]
[]
[]
[]
[]
[]
[]
[]
[]
[]
[]
[]
[]
[]
[]
[]
[]
[]
[]
[]
[]
[]
[]
[]
[]
[]
[]
[]
[]
[]
[]
[]
[]
[]
[]
[]
[]
[]
[]
[]
[]
[]
[]
[]
[]
[]
[]
[]
[]
[]
[]
[]
[]
[]
[]
[]
[]
[]
[]
[]
[]
[]
[]
[]
[]
[]
[]
[]
[]
[]
[]
[]
[]
[]
[]
[]
[]
[]
[]
[]
[]
[]
[]
[]
[]
[]
[]
[]
[]
[]
[]
[]
[]
[]
[]
[]
[]
[]
[]
[]
[]
[]
[]
[]
[]
[]
[]
[]
[]
[]
[]
[]
[]
[]
[]
[]
[]
[]
[]
[]
[]
[]
[]
[]
[]
[]
[]
[]
[]
[]
[]
[]
[]
[]
[]
[]
[]
[]
[]
[]
[]
[]
[]
[]
[]
[]
[]
[]
[]
[]
[]
[]
[]
[]
[]
[]
[]
[]
[]
[]
[]
[]
[]
[]
[]
[]
[]
[]
[]
[]
[]
[]
[]
[]
[]
[]
[]
[]
[]
[]
[]
[]
[]
[]
[]
[]
[]
[]
[]
[]
[]
[]
[]
[]
[]
[]
[]
[]
[]
[]
[]
[]
[]
[]
[]
[]
[]
[]
[]
[]
[]
[]
[]
[]
[]
[]
[]
[]
[]
[]
[]
[]
[]
[]
[]
[]
[]
[]
[]
[]
[]
[]
[]
[]
[]
[]
[]
[]
[]
[]
[]
[]
[]
[]
[]
[]
[]
[]
[]
[]
[]
[]
[]
[]
[]
[]
[]
[]
[]
[]
[]
[]
[]
[]
[]
[]
[]
[]
[]
[]
[]
[]
[]
[]
[]
[]
[]
[]
[]
[]
[]
[]
[]
[]
[]
[]
[]
[]
[]
[]
[]
[]
[]
[]
[]
[]
[]
[]
[]
[]
[]
[]
[]
[]
[]
[]
[]
[]
[]
[]
[]
[]
[]
[]
[]
[]
[]
[]
[]
[]
[]
[]
[]
[]
[]
[]
[]
[]
[]
[]
[]
[]
[]
[]
[]
[]
[]
[]
[]
[]
[]
[]
[]
[]
[]
[]
[]
[]
[]
[]
[]
[]
[]
[]
[]
[]
[]
[]
[]
[]
[]
[]
[]
[]
[]
[]
[]
[]
[]
[]
[]
[]
[]
[]
[]
[]
[]
[]
["LISTADO DE UU.CC. USADAS EN COOPERATIVAS"]
[]
[]
[null,"Codigo","Descripción Ampliada"]
[null,"A00001","TERRENO",null,"A00001"]
[null,"AAA001","LIMPIEZA DEL TERRENO",null,"AAA001"]
[null,"AAA005","REPLANTEO",null,"AAA005"]
[null,"AAB001","CERCADO DEL PREDIO",null,"AAB001"]
[null,"AAB002","CARTEL DE OBRA",null,"AAB002"]
[null,"AAB003","OFICINA-SERVICIO",null,"AAB003"]
[null,"AAD001","DEMOLICIONES Y RETIROS",null,"AAD001"]
[null,"ABA001","DESMONTES CON RETIRO (C/OPERARIOS)",null,"ABA001"]
[null,"ABA002","DESMONTE A MÁQUINA, EN TIERRA SIN APORTE",null,"ABA002"]
[null,"ABA005","RELLENOS CON APORTES",null,"ABA005"]
[null,"ABB001","EXCAVACIONES CIMIENTOS",null,"ABB001"]
[null,"ABB002","DESCALCE DE VIGAS DE FUNDACIÓN",null,"ABB002"]
[null,"ACA001","DADOS (HORM.C.)",null,"ACA001"]
[null,"ACB001","PILOTES IN SITU (PERFORADOS Y/O ENTUBADOS)",null,"ACB001"]
[null,"ACB002","PILOTINES PERFORADOS",null,"ACB002"]
[null,"ACB003","PILOTES PREFABRICADOS",null,"ACB003"]
[null,"ACC001","PATINES",null,"ACC001"]
[null,"ACC002","ZAPATA CORRIDA",null,"ACC002"]
[null,"ACC004","VIGAS - FUNDACIONES",null,"ACC004"]
[null,"ACC006","PLATEAS",null,"ACC006"]
[null,"ACC007","CABEZALES DE PILOTES",null,"ACC007"]
[null,"ACC009","MUROS DE CONTENCIÓN HA - FUNDACIONES",null,"ACC009"]
[null,"ADA001","PILARES RECTANGULARES H.A.",null,"ADA001"]
[null,"ADA005","VIGAS H.A. S/NIVEL P.B.",null,"ADA005"]
[null,"ADA008","ANTEPECHOS H.A.",null,"ADA008"]
[null,"ADB002","LOSAS S/P.B (INTERMEDIAS)",null,"ADB002"]
[null,"ADB003","LOSAS AZOTEA",null,"ADB003"]
[null,"ADC001","ESCALERAS H.A",null,"ADC001"]
[null,"ADD001","TANQUE DE AGUA H.A.",null,"ADD001"]
[null,"ADE003","LOSAS HORM.PREFABRICADO",null,"ADE003"]
[null,"ADF003","LOSETAS CERÁMICA ARMADA",null,"ADF003"]
[null,"ADG003","VIGAS METÁLICAS C/PERFILES CONFORMADOS",null,"ADG003"]
[null,"ADG004","VIGAS METÁLICAS ELEMENTOS RETICULADOS",null,"ADG004"]
[null,"ADH002","VIGAS, CORREAS MADERA",null,"ADH002"]
[null,"AEA006","LADRILLO DE CAMPO (ESP.MURO=12CM)",null,"AEA006"]
[null,"AEA010","CERÁMICA HUECA (ESP.MURO=12CM)",null,"AEA010"]
[null,"AEA012","LADRILLO DE CAMPO (ESP.MURO=17CM)",null,"AEA012"]
[null,"AEA015","BLOQUES HORMIGÓN (ESP.MURO=20CM)",null,"AEA015"]
[null,"AEA020","CERÁMICA HUECA (ESP.MURO=25CM)",null,"AEA020"]
[null,"AEC001","POLIESTIRENO EXPANDIDO (AISL.MUROS)",null,"AEC001"]
[null,"AEC002","POLIURETANO PROYECTADO (AISL.MUROS)",null,"AEC002"]
[null,"AED001","AYP C/HIDRÓFUGO 1AS HILADAS EN MUROS",null,"AED001"]
[null,"AED002","AYP C/HIDRÓFUGO EN ANTEPECHOS",null,"AED002"]
[null,"AEF004","AMURE ABERTURAS",null,"AEF004"]
[null,"AGA001","VENTANAS (MADERA)",null,"AGA001"]
[null,"AGA002","PUERTAS INTERIORES (MADERA)",null,"AGA002"]
[null,"AGA003","PUERTAS EXTERIORES (MADERA)",null,"AGA003"]
[null,"AGA005","CAJONES DE CORTINA (MADERA)",null,"AGA005"]
[null,"AGB005","ALUMINIO GENERAL",null,"AGB005"]
[null,"AGC007","HERRERIA GENERAL",null,"AGC007"]
[null,"AGD003","CORTINAS DE ENROLLAR (PVC)",null,"AGD003"]
[null,"AGE002","VIDRIOS TRANSPARENTES 4 MM",null,"AGE002"]
[null,"AHA003","FINA CIELORRASOS",null,"AHA003"]
[null,"AHA004","FINA EN ESCALERAS",null,"AHA004"]
[null,"AHB003","FINA MUROS INT.",null,"AHB003"]
[null,"AHB006","REVOQUE BOLSEADO MUROS INT.",null,"AHB006"]
[null,"AHC001","AYP C/HIDRÓFUGO CARA EXT.MUROS",null,"AHC001"]
[null,"AHC002","AYP C/HIDRÓFUGO EN TANQUES DE AGUA",null,"AHC002"]
[null,"AHD002","FINA MUROS EXT.",null,"AHD002"]
[null,"AHD005","REVOQUE BOLSEADO MUROS EXT.",null,"AHD005"]
[null,"AHD006","MOCHETAS (EXTERIORES)",null,"AHD006"]
[null,"AHE001","APLACADO DE LADRILLO DE CAMPO",null,"AHE001"]
[null,"AHE003","APLACADO LADRILLO CHORIZO (CAMPO/PRENSA)",null,"AHE003"]
[null,"AHF003","CERÁMICA ESMALTADA BAÑOS/COCINAS",null,"AHF003"]
[null,"AHG003","PINTURA AL AGUA EN PARAMENTOS/CIELORRASOS",null,"AHG003"]
[null,"AHG005","PINTURA LATEX ACRILICA (EXTERIORES)",null,"AHG005"]
[null,"AHG010","ESMALTES SINTÉTICOS (S/MADERA/HERRERÍA)",null,"AHG010"]
[null,"AHH001","PLACAS ESPUMA POLIESTIRENO (CIELORRASOS)",null,"AHH001"]
[null,"AHH002","MADERA (CIELORRASOS)",null,"AHH002"]
[null,"AHH003","PLACAS YESO (CIELORRASOS)",null,"AHH003"]
[null,"AIA001","CONTRAPISO INTERIOR COMÚN SOBRE TERRENO",null,"AIA001"]
[null,"AIA003","CONTRAPISO EXTERIOR COMÚN SOBRE TERRENO",null,"AIA003"]
[null,"AIA005","CONTRAPISO INTERIOR EN ENTREPISOS",null,"AIA005"]
[null,"AIA006","CONTRAPISO EN BAÑOS",null,"AIA006"]
[null,"AIB001","ARENA Y PORTLAND LUSTRADO IN SITU (PISOS)",null,"AIB001"]
[null,"AID001","PARQUÉ ENGRAMPADO",null,"AID001"]
[null,"AID004","TABLA (PISOS)",null,"AID004"]
[null,"AIE007","PAVIMIENTO CERAMICA G3 y G4",null,"AIE007"]
[null,"AIH001","ARENA Y PORTLAND LUSTRADO (ESCALONES)",null,"AIH001"]
[null,"AIH006","LAJOTA (ESCALONES)",null,"AIH006"]
[null,"AIH011","MADERA (ESCALONES)",null,"AIH011"]
[null,"AIH012","NARIZ MADERA DURA",null,"AIH012"]
[null,"AII006","ZÓCALOS CERÁMICA",null,"AII006"]
[null,"AII008","ZÓCALOS MADERA",null,"AII008"]
[null,"AJA002","MESADAS MÁRMOL O GRANITO",null,"AJA002"]
[null,"AJB001","PLACARD BAJO MESADA",null,"AJB001"]
[null,"AKA001","ALISADO ARENA Y PORTLAND (AZOTEAS)",null,"AKA001"]
[null,"AKA002","RELLENOS Y PENDIENTES C/HORMIGÓN CASCOTE (AZOTEAS, TERR.)",null,"AKA002"]
[null,"AKA004","TEJUELA (AZOTEAS)",null,"AKA004"]
[null,"AKA006","LOSETAS PREFABICADAS HORMIGÓN (AZOTEAS)",null,"AKA006"]
[null,"AKA007","TEJAS S/CUBIERTA PESADA",null,"AKA007"]
[null,"AKA008","SOBRETECHO FIBROCEMENTO",null,"AKA008"]
[null,"AKA009","PRETILES Y GARGANTAS",null,"AKA009"]
[null,"AKA010","CANALONES",null,"AKA010"]
[null,"AKB002","POLIESTIRENO EXPANDIDO EN PLACAS (AZOTEAS Y BALCONES)",null,"AKB002"]
[null,"AKB003","POLIURETANO PROYECTADO (AZOTEAS/BALCONES)",null,"AKB003"]
[null,"AKB004","EMULSIÓN ASFALTICA C/VELO DE VIDRIO (AZOTEAS/BALCONES)",null,"AKB004"]
[null,"AKB005","MEMBRANA SOLDABLE (AZOTEAS/BALCONES)",null,"AKB005"]
[null,"AKB006","MEMBRANA AUTOADHESIVA (AZOTEAS/BALCONES)",null,"AKB006"]
[null,"ALA001","ENTABLONADO S/CORREAS MADERA (CUBIERTA LIV.)",null,"ALA001"]
[null,"ALA002","POLIETILENO S/ENTABLONADO (CUBIERTA LIV.)",null,"ALA002"]
[null,"ALA004","ESPUMA POLIESTIRENO EN PLACAS (CUBIERTA LIV.)",null,"ALA004"]
[null,"ALA005","TYVEC (CUBIERTA LIV.)",null,"ALA005"]
[null,"ALA006","MEMBRANA ASFALTICA (CUBIERTA LIV.)",null,"ALA006"]
[null,"ALB001","CUBIERTA HIERRO GALVANIZADO",null,"ALB001"]
[null,"ALC001","CUBIERTA FIBROCEMENTO",null,"ALC001"]
[null,"ALD001","TEJAS S/ENTRAMADO MADERA",null,"ALD001"]
[null,"AMA001","DESAGÜES P.V.C.",null,"AMA001"]
[null,"AMA005","RED AGUA POLIPROPILENO TERMOFUSIONADO",null,"AMA005"]
[null,"AMA006","CONEXIONES APARATOS SANITARIOS Y GRIFERÍA",null,"AMA006"]
[null,"AMC001","CANALIZACIONES EN LOSAS ( INST. ELÉCTRICA)",null,"AMC001"]
[null,"AMC002","CANALIZACIONES EN MUROS ( INST. ELÉCTRICA)",null,"AMC002"]
[null,"AMC004","ENHEBRADOS",null,"AMC004"]
[null,"AMC005","TERMINACIONES ENTABLEROS",null,"AMC005"]
[null,"AMC006","COLOCACIÓN DE MÓDULOS Y PLACAS",null,"AMC006"]
[null,"AME001","MOTOR (ASCENSORES)",null,"AME001"]
[null,"AME002","ESTRUCTURA DE CABINA ASCENSOR Y COM. PARCIAL",null,"AME002"]
[null,"AME003","TERMINACIÓN DE CABINA ASCENSOR Y COMANDOS",null,"AME003"]
[null,"AMF001","PORTERO ELÉCTRICO",null,"AMF001"]
[null,"ANB001","NICHOS DE MEDIDORES",null,"ANB001"]
[null,"BAA001","DESMONTE A TERRAPLÉN",null,"BAA001"]
[null,"BAA002","DESMONTE A RETIRO",null,"BAA002"]
[null,"BAC002","PAVIMENTO HORMIGÓN (VEHICULAR)",null,"BAC002"]
[null,"BAC003","PAVIMENTO HORMIGÓN (PEATONAL)",null,"BAC003"]
[null,"BAC004","TRATAMIENTO BITUMINOSO",null,"BAC004"]
[null,"BAC007","ADOQUINES DE HORMIGÓN",null,"BAC007"]
[null,"BBA002","SUMINISTRO Y COLOCACIÓN PVC 160 MM",null,"BBA002"]
[null,"BBA004","CÁMARAS DE INSPECCIÓN 60X60",null,"BBA004"]
[null,"BBA008","CONEXIONES DOMICILIARIAS A SANEAMIENTO",null,"BBA008"]
[null,"BBB002","SUMINISTRO Y COLOCACIÓN DE PVC DIÁMETRO 75 (AGUA POTABLE)",null,"BBB002"]
[null,"BBB009","CONEXIONES DOMICILIARIAS (AGUA POTABLE)",null,"BBB009"]
[null,"BBC001","DOBLE EQUIPO BOMBEO AGUA",null,"BBC001"]
[null,"BBC002","LLAVES Y PROTECCIONES ELECTROMAGNÉTICAS",null,"BBC002"]
[null,"BBC003","CONEXIÓN ELÉCTRICA BOMBAS",null,"BBC003"]
[null,"BBC004","CAÑERÍA SUBIDA Y BAJADA (A TANQUES DE AGUA)",null,"BBC004"]
[null,"BCA003","DUCTOS (BT SUBTERRÁNEA)",null,"BCA003"]
[null,"BCA006","CÁMARAS (BT SUBTERRÁNEA)",null,"BCA006"]
[null,"BCA007","CABLEADO (RED BT)",null,"BCA007"]
[null,"BCB001","SUMINISTRO Y MONTAJE DE COLUMNAS (RED BT)",null,"BCB001"]
[null,"BCB003","CABLEADO (RED BT)",null,"BCB003"]
[null,"BCB005","SUBESTACIÓN TRANSFORMADORA",null,"BCB005"]
[null,"BCB006","TASAS DE CONEXIÓN Y CARGA (UTE)",null,"BCB006"]
[null,"BCC002","SUMINISTRO Y MONTAJE DE COLUMNAS (RED ALUMBRADO)",null,"BCC002"]
[null,"BCC004","CÁMARAS (RED ALUMBRADO)",null,"BCC004"]
[null,"BCC006","CONDUCTORES (RED ALUMBRADO)",null,"BCC006"]
[null,"BCC007","ARTEFACTOS ILUMINACIÓN COMPLETOS",null,"BCC007"]
[null,"CAA001","HONORARIOS DE PROYECTO",null,"CAA001"]
[null,"CAA002","HONORARIOS DIRECCION DE OBRA",null,"CAA002"]
[null,"ZZX100","HONORARIOS DE ASESORES",null,"ZZX100"]
[null,"ZZX101","LEYES SOCIALES",null,"ZZX101"]
[null,"ZZX102","PERMISO DE CONSTRUCCIÓN",null,"ZZX102"]
[null,"ZZX103","RETENCIONES COOPERATIVAS",null,"ZZX103"]
[null,"ZZX104","GASTOS DE ESCRITURA",null,"ZZX104"]
[null,"ZZX105","AVANCE TOTAL DE OBRA",null,"ZZX105"]

{"sheet":"CRONOGRAMA","index":4,"n_rows":206,"n_cols":79,"rows_kept":206,"cut":false,"hidden":false,"merged":[[167,1,167,2],[13,72,13,73],[13,74,13,75],[13,77,13,78],[13,60,13,61],[13,62,13,63],[13,64,13,65],[13,66,13,67],[13,68,13,69],[13,52,13,53],[13,54,13,55],[13,56,13,57],[13,58,13,59],[13,70,13,71],[13,42,13,43],[13,44,13,45],[13,46,13,47],[13,48,13,49],[13,50,13,51],[13,32,13,33],[13,34,13,35],[13,36,13,37],[13,38,13,39],[13,40,13,41],[13,22,13,23],[13,24,13,25],[13,26,13,27],[13,28,13,29],[13,30,13,31],[13,12,13,13],[13,14,13,15],[13,16,13,17],[13,18,13,19],[13,20,13,21],[166,1,166,2],[13,4,13,5],[13,6,13,7],[13,8,13,9],[13,10,13,11]]}
[]
[]
[]
[]
[]
[]
[]
[]
[null,"PROPUESTA:",{"$f":"CARATULA!E14","v":0}]
[null,"NOMBRE :",{"$f":"+CARATULA!E15","v":0}]
[null,"FECHA:",{"$f":"IF(CARATULA!D7=\"\",\"\",CARATULA!D7)","v":""}]
[null,"ETAPA:",{"$f":"CARATULA!D8","v":0}]
[]
[null,"COD. UU.CC.","DESCRIPCIÓN UU.CC.","INVERSION",1,null,2,null,3,null,4,null,5,null,6,null,7,null,8,null,9,null,10,null,11,null,12,null,13,null,14,null,15,null,16,null,17,null,18,null,19,null,20,null,21,null,22,null,23,null,24,null,25,null,26,null,27,null,28,null,29,null,30,null,31,null,32,null,33,null,34,null,35,null,36,null,null,"VERIFICACIÓN"]
[null,"CAA002","HONORARIOS DIRECCION DE OBRA",{"$f":"+'DATOS SGO'!H36+0","v":0},{"$f":"IF($D$15=0,\"\",E177)","v":""},{"$f":"IF($D$15=0,\"\",$D15*E15)","v":""},{"$f":"IF($D$15=0,\"\",G177)","v":""},{"$f":"IF($D$15=0,\"\",$D15*G15)","v":""},{"$f":"IF($D$15=0,\"\",I177)","v":""},{"$f":"IF($D$15=0,\"\",$D15*I15)","v":""},{"$f":"IF($D$15=0,\"\",K177)","v":""},{"$f":"IF($D$15=0,\"\",$D15*K15)","v":""},{"$f":"IF($D$15=0,\"\",M177)","v":""},{"$f":"IF($D$15=0,\"\",$D15*M15)","v":""},{"$f":"IF($D$15=0,\"\",O177)","v":""},{"$f":"IF($D$15=0,\"\",$D15*O15)","v":""},{"$f":"IF($D$15=0,\"\",Q177)","v":""},{"$f":"IF($D$15=0,\"\",$D15*Q15)","v":""},{"$f":"IF($D$15=0,\"\",S177)","v":""},{"$f":"IF($D$15=0,\"\",$D15*S15)","v":""},{"$f":"IF($D$15=0,\"\",U177)","v":""},{"$f":"IF($D$15=0,\"\",$D15*U15)","v":""},{"$f":"IF($D$15=0,\"\",W177)","v":""},{"$f":"IF($D$15=0,\"\",$D15*W15)","v":""},{"$f":"IF($D$15=0,\"\",Y177)","v":""},{"$f":"IF($D$15=0,\"\",$D15*Y15)","v":""},{"$f":"IF($D$15=0,\"\",AA177)","v":""},{"$f":"IF($D$15=0,\"\",$D15*AA15)","v":""},{"$f":"IF($D$15=0,\"\",AC177)","v":""},{"$f":"IF($D$15=0,\"\",$D15*AC15)","v":""},{"$f":"IF($D$15=0,\"\",AE177)","v":""},{"$f":"IF($D$15=0,\"\",$D15*AE15)","v":""},{"$f":"IF($D$15=0,\"\",AG177)","v":""},{"$f":"IF($D$15=0,\"\",$D15*AG15)","v":""},{"$f":"IF($D$15=0,\"\",AI177)","v":""},{"$f":"IF($D$15=0,\"\",$D15*AI15)","v":""},{"$f":"IF($D$15=0,\"\",AK177)","v":""},{"$f":"IF($D$15=0,\"\",$D15*AK15)","v":""},{"$f":"IF($D$15=0,\"\",AM177)","v":""},{"$f":"IF($D$15=0,\"\",$D15*AM15)","v":""},{"$f":"IF($D$15=0,\"\",AO177)","v":""},{"$f":"IF($D$15=0,\"\",$D15*AO15)","v":""},{"$f":"IF($D$15=0,\"\",AQ177)","v":""},{"$f":"IF($D$15=0,\"\",$D15*AQ15)","v":""},{"$f":"IF($D$15=0,\"\",AS177)","v":""},{"$f":"IF($D$15=0,\"\",$D15*AS15)","v":""},{"$f":"IF($D$15=0,\"\",AU177)","v":""},{"$f":"IF($D$15=0,\"\",$D15*AU15)","v":""},{"$f":"IF($D$15=0,\"\",AW177)","v":""},{"$f":"IF($D$15=0,\"\",$D15*AW15)","v":""},{"$f":"IF($D$15=0,\"\",AY177)","v":""},{"$f":"IF($D$15=0,\"\",$D15*AY15)","v":""},{"$f":"IF($D$15=0,\"\",BA177)","v":""},{"$f":"IF($D$15=0,\"\",$D15*BA15)","v":""},{"$f":"IF($D$15=0,\"\",BC177)","v":""},{"$f":"IF($D$15=0,\"\",$D15*BC15)","v":""},{"$f":"IF($D$15=0,\"\",BE177)","v":""},{"$f":"IF($D$15=0,\"\",$D15*BE15)","v":""},{"$f":"IF($D$15=0,\"\",BG177)","v":""},{"$f":"IF($D$15=0,\"\",$D15*BG15)","v":""},{"$f":"IF($D$15=0,\"\",BI177)","v":""},{"$f":"IF($D$15=0,\"\",$D15*BI15)","v":""},{"$f":"IF($D$15=0,\"\",BK177)","v":""},{"$f":"IF($D$15=0,\"\",$D15*BK15)","v":""},{"$f":"IF($D$15=0,\"\",BM177)","v":""},{"$f":"IF($D$15=0,\"\",$D15*BM15)","v":""},{"$f":"IF($D$15=0,\"\",BO177)","v":""},{"$f":"IF($D$15=0,\"\",$D15*BO15)","v":""},{"$f":"IF($D$15=0,\"\",BQ177)","v":""},{"$f":"IF($D$15=0,\"\",$D15*BQ15)","v":""},{"$f":"IF($D$15=0,\"\",BS177)","v":""},{"$f":"IF($D$15=0,\"\",$D15*BS15)","v":""},{"$f":"IF($D$15=0,\"\",BU177)","v":""},{"$f":"IF($D$15=0,\"\",$D15*BU15)","v":""},{"$f":"IF($D$15=0,\"\",BW177)","v":""},{"$f":"IF($D$15=0,\"\",$D15*BW15)","v":""},null,{"$f":"IF(D15=0,0,+E15+G15+I15+K15+M15+O15+Q15+S15+U15+W15+Y15+AA15+AC15+AE15+AG15+AI15+AK15+AM15+AO15+AQ15+AS15+AU15+AW15+AY15+BA15+BC15+BE15+BG15+BI15+BK15+BM15+BO15+BQ15+BS15+BU15+BW15)","v":0},{"$f":"IF(D15=0,0,ROUND(F15+H15+J15+L15+N15+P15+R15+T15+V15+X15+Z15+AB15+AD15+AF15+AH15+AJ15+AL15+AN15+AP15+AR15+AT15+AV15+AX15+AZ15+BB15+BD15+BF15+BH15+BJ15+BL15+BN15+BP15+BR15+BT15+BV15+BX15,2))","v":0}]
[null,"ZZX241","LEYES SOCIALES",{"$f":"+'DATOS SGO'!H37+0","v":0},{"$f":"IF($D$16=0,\"\",E177)","v":""},{"$f":"IF($D$16=0,\"\",$D16*E16)","v":""},{"$f":"IF($D$16=0,\"\",G177)","v":""},{"$f":"IF($D$16=0,\"\",$D16*G16)","v":""},{"$f":"IF($D$16=0,\"\",I177)","v":""},{"$f":"IF($D$16=0,\"\",$D16*I16)","v":""},{"$f":"IF($D$16=0,\"\",K177)","v":""},{"$f":"IF($D$16=0,\"\",$D16*K16)","v":""},{"$f":"IF($D$16=0,\"\",M177)","v":""},{"$f":"IF($D$16=0,\"\",$D16*M16)","v":""},{"$f":"IF($D$16=0,\"\",O177)","v":""},{"$f":"IF($D$16=0,\"\",$D16*O16)","v":""},{"$f":"IF($D$16=0,\"\",Q177)","v":""},{"$f":"IF($D$16=0,\"\",$D16*Q16)","v":""},{"$f":"IF($D$16=0,\"\",S177)","v":""},{"$f":"IF($D$16=0,\"\",$D16*S16)","v":""},{"$f":"IF($D$16=0,\"\",U177)","v":""},{"$f":"IF($D$16=0,\"\",$D16*U16)","v":""},{"$f":"IF($D$16=0,\"\",W177)","v":""},{"$f":"IF($D$16=0,\"\",$D16*W16)","v":""},{"$f":"IF($D$16=0,\"\",Y177)","v":""},{"$f":"IF($D$16=0,\"\",$D16*Y16)","v":""},{"$f":"IF($D$16=0,\"\",AA177)","v":""},{"$f":"IF($D$16=0,\"\",$D16*AA16)","v":""},{"$f":"IF($D$16=0,\"\",AC177)","v":""},{"$f":"IF($D$16=0,\"\",$D16*AC16)","v":""},{"$f":"IF($D$16=0,\"\",AE177)","v":""},{"$f":"IF($D$16=0,\"\",$D16*AE16)","v":""},{"$f":"IF($D$16=0,\"\",AG177)","v":""},{"$f":"IF($D$16=0,\"\",$D16*AG16)","v":""},{"$f":"IF($D$16=0,\"\",AI177)","v":""},{"$f":"IF($D$16=0,\"\",$D16*AI16)","v":""},{"$f":"IF($D$16=0,\"\",AK177)","v":""},{"$f":"IF($D$16=0,\"\",$D16*AK16)","v":""},{"$f":"IF($D$16=0,\"\",AM177)","v":""},{"$f":"IF($D$16=0,\"\",$D16*AM16)","v":""},{"$f":"IF($D$16=0,\"\",AO177)","v":""},{"$f":"IF($D$16=0,\"\",$D16*AO16)","v":""},{"$f":"IF($D$16=0,\"\",AQ177)","v":""},{"$f":"IF($D$16=0,\"\",$D16*AQ16)","v":""},{"$f":"IF($D$16=0,\"\",AS177)","v":""},{"$f":"IF($D$16=0,\"\",$D16*AS16)","v":""},{"$f":"IF($D$16=0,\"\",AU177)","v":""},{"$f":"IF($D$16=0,\"\",$D16*AU16)","v":""},{"$f":"IF($D$16=0,\"\",AW177)","v":""},{"$f":"IF($D$16=0,\"\",$D16*AW16)","v":""},{"$f":"IF($D$16=0,\"\",AY177)","v":""},{"$f":"IF($D$16=0,\"\",$D16*AY16)","v":""},{"$f":"IF($D$16=0,\"\",BA177)","v":""},{"$f":"IF($D$16=0,\"\",$D16*BA16)","v":""},{"$f":"IF($D$16=0,\"\",BC177)","v":""},{"$f":"IF($D$16=0,\"\",$D16*BC16)","v":""},{"$f":"IF($D$16=0,\"\",BE177)","v":""},{"$f":"IF($D$16=0,\"\",$D16*BE16)","v":""},{"$f":"IF($D$16=0,\"\",BG177)","v":""},{"$f":"IF($D$16=0,\"\",$D16*BG16)","v":""},{"$f":"IF($D$16=0,\"\",BI177)","v":""},{"$f":"IF($D$16=0,\"\",$D16*BI16)","v":""},{"$f":"IF($D$16=0,\"\",BK177)","v":""},{"$f":"IF($D$16=0,\"\",$D16*BK16)","v":""},{"$f":"IF($D$16=0,\"\",BM177)","v":""},{"$f":"IF($D$16=0,\"\",$D16*BM16)","v":""},{"$f":"IF($D$16=0,\"\",BO177)","v":""},{"$f":"IF($D$16=0,\"\",$D16*BO16)","v":""},{"$f":"IF($D$16=0,\"\",BQ177)","v":""},{"$f":"IF($D$16=0,\"\",$D16*BQ16)","v":""},{"$f":"IF($D$16=0,\"\",BS177)","v":""},{"$f":"IF($D$16=0,\"\",$D16*BS16)","v":""},{"$f":"IF($D$16=0,\"\",BU177)","v":""},{"$f":"IF($D$16=0,\"\",$D16*BU16)","v":""},{"$f":"IF($D$16=0,\"\",BW177)","v":""},{"$f":"IF($D$16=0,\"\",$D16*BW16)","v":""},null,{"$f":"IF(D16=0,0,+E16+G16+I16+K16+M16+O16+Q16+S16+U16+W16+Y16+AA16+AC16+AE16+AG16+AI16+AK16+AM16+AO16+AQ16+AS16+AU16+AW16+AY16+BA16+BC16+BE16+BG16+BI16+BK16+BM16+BO16+BQ16+BS16+BU16+BW16)","v":0},{"$f":"IF(D16=0,0,ROUND(F16+H16+J16+L16+N16+P16+R16+T16+V16+X16+Z16+AB16+AD16+AF16+AH16+AJ16+AL16+AN16+AP16+AR16+AT16+AV16+AX16+AZ16+BB16+BD16+BF16+BH16+BJ16+BL16+BN16+BP16+BR16+BT16+BV16+BX16,2))","v":0}]
[null,{"$f":"+'DATOS SGO'!B38","v":0},{"$f":"IF(B17=0, \"\",VLOOKUP(B17,PRESUPUESTO!$B$17:$C$4611, 2, FALSE))","v":""},{"$f":"+'DATOS SGO'!H38","v":""},null,{"$f":"IF($D17=\"\",\"\",$D17*E17)","v":""},null,{"$f":"IF($D17=\"\",\"\",$D17*G17)","v":""},null,{"$f":"IF($D17=\"\",\"\",$D17*I17)","v":""},null,{"$f":"IF($D17=\"\",\"\",$D17*K17)","v":""},null,{"$f":"IF($D17=\"\",\"\",$D17*M17)","v":""},null,{"$f":"IF($D17=\"\",\"\",$D17*O17)","v":""},null,{"$f":"IF($D17=\"\",\"\",$D17*Q17)","v":""},null,{"$f":"IF($D17=\"\",\"\",$D17*S17)","v":""},null,{"$f":"IF($D17=\"\",\"\",$D17*U17)","v":""},null,{"$f":"IF($D17=\"\",\"\",$D17*W17)","v":""},null,{"$f":"IF($D17=\"\",\"\",$D17*Y17)","v":""},null,{"$f":"IF($D17=\"\",\"\",$D17*AA17)","v":""},null,{"$f":"IF($D17=\"\",\"\",$D17*AC17)","v":""},null,{"$f":"IF($D17=\"\",\"\",$D17*AE17)","v":""},null,{"$f":"IF($D17=\"\",\"\",$D17*AG17)","v":""},null,{"$f":"IF($D17=\"\",\"\",$D17*AI17)","v":""},null,{"$f":"IF($D17=\"\",\"\",$D17*AK17)","v":""},null,{"$f":"IF($D17=\"\",\"\",$D17*AM17)","v":""},null,{"$f":"IF($D17=\"\",\"\",$D17*AO17)","v":""},null,{"$f":"IF($D17=\"\",\"\",$D17*AQ17)","v":""},null,{"$f":"IF($D17=\"\",\"\",$D17*AS17)","v":""},null,{"$f":"IF($D17=\"\",\"\",$D17*AU17)","v":""},null,{"$f":"IF($D17=\"\",\"\",$D17*AW17)","v":""},null,{"$f":"IF($D17=\"\",\"\",$D17*AY17)","v":""},null,{"$f":"IF($D17=\"\",\"\",$D17*BA17)","v":""},null,{"$f":"IF($D17=\"\",\"\",$D17*BC17)","v":""},null,{"$f":"IF($D17=\"\",\"\",$D17*BE17)","v":""},null,{"$f":"IF($D17=\"\",\"\",$D17*BG17)","v":""},null,{"$f":"IF($D17=\"\",\"\",$D17*BI17)","v":""},null,{"$f":"IF($D17=\"\",\"\",$D17*BK17)","v":""},null,{"$f":"IF($D17=\"\",\"\",$D17*BM17)","v":""},null,{"$f":"IF($D17=\"\",\"\",$D17*BO17)","v":""},null,{"$f":"IF($D17=\"\",\"\",$D17*BQ17)","v":""},null,{"$f":"IF($D17=\"\",\"\",$D17*BS17)","v":""},null,{"$f":"IF($D17=\"\",\"\",$D17*BU17)","v":""},null,{"$f":"IF($D17=\"\",\"\",$D17*BW17)","v":""},null,{"$f":"+E17+G17+I17+K17+M17+O17+Q17+S17+U17+W17+Y17+AA17+AC17+AE17+AG17+AI17+AK17+AM17+AO17+AQ17+AS17+AU17+AW17+AY17+BA17+BC17+BE17+BG17+BI17+BK17+BM17+BO17+BQ17+BS17+BU17+BW17","v":0},{"$f":"IF(D17=\"\",\"\",ROUND(F17+H17+J17+L17+N17+P17+R17+T17+V17+X17+Z17+AB17+AD17+AF17+AH17+AJ17+AL17+AN17+AP17+AR17+AT17+AV17+AX17+AZ17+BB17+BD17+BF17+BH17+BJ17+BL17+BN17+BP17+BR17+BT17+BV17+BX17,2))","v":""}]
[null,{"$f":"+'DATOS SGO'!B39","v":0},{"$f":"IF(B18=0, \"\",VLOOKUP(B18,PRESUPUESTO!$B$17:$C$4611, 2, FALSE))","v":""},{"$f":"+'DATOS SGO'!H39","v":""},null,{"$f":"IF($D18=\"\",\"\",$D18*E18)","v":""},null,"",null,{"$f":"IF($D18=\"\",\"\",$D18*I18)","v":""},null,{"$f":"IF($D18=\"\",\"\",$D18*K18)","v":""},null,{"$f":"IF($D18=\"\",\"\",$D18*M18)","v":""},null,{"$f":"IF($D18=\"\",\"\",$D18*O18)","v":""},null,{"$f":"IF($D18=\"\",\"\",$D18*Q18)","v":""},null,{"$f":"IF($D18=\"\",\"\",$D18*S18)","v":""},null,{"$f":"IF($D18=\"\",\"\",$D18*U18)","v":""},null,{"$f":"IF($D18=\"\",\"\",$D18*W18)","v":""},null,{"$f":"IF($D18=\"\",\"\",$D18*Y18)","v":""},null,{"$f":"IF($D18=\"\",\"\",$D18*AA18)","v":""},null,{"$f":"IF($D18=\"\",\"\",$D18*AC18)","v":""},null,{"$f":"IF($D18=\"\",\"\",$D18*AE18)","v":""},null,{"$f":"IF($D18=\"\",\"\",$D18*AG18)","v":""},null,{"$f":"IF($D18=\"\",\"\",$D18*AI18)","v":""},null,{"$f":"IF($D18=\"\",\"\",$D18*AK18)","v":""},null,{"$f":"IF($D18=\"\",\"\",$D18*AM18)","v":""},null,{"$f":"IF($D18=\"\",\"\",$D18*AO18)","v":""},null,{"$f":"IF($D18=\"\",\"\",$D18*AQ18)","v":""},null,{"$f":"IF($D18=\"\",\"\",$D18*AS18)","v":""},null,{"$f":"IF($D18=\"\",\"\",$D18*AU18)","v":""},null,{"$f":"IF($D18=\"\",\"\",$D18*AW18)","v":""},null,{"$f":"IF($D18=\"\",\"\",$D18*AY18)","v":""},null,{"$f":"IF($D18=\"\",\"\",$D18*BA18)","v":""},null,{"$f":"IF($D18=\"\",\"\",$D18*BC18)","v":""},null,{"$f":"IF($D18=\"\",\"\",$D18*BE18)","v":""},null,{"$f":"IF($D18=\"\",\"\",$D18*BG18)","v":""},null,{"$f":"IF($D18=\"\",\"\",$D18*BI18)","v":""},null,{"$f":"IF($D18=\"\",\"\",$D18*BK18)","v":""},null,{"$f":"IF($D18=\"\",\"\",$D18*BM18)","v":""},null,{"$f":"IF($D18=\"\",\"\",$D18*BO18)","v":""},null,{"$f":"IF($D18=\"\",\"\",$D18*BQ18)","v":""},null,{"$f":"IF($D18=\"\",\"\",$D18*BS18)","v":""},null,{"$f":"IF($D18=\"\",\"\",$D18*BU18)","v":""},null,{"$f":"IF($D18=\"\",\"\",$D18*BW18)","v":""},null,0,""]
[null,{"$f":"+'DATOS SGO'!B40","v":0},{"$f":"IF(B19=0, \"\",VLOOKUP(B19,PRESUPUESTO!$B$17:$C$4611, 2, FALSE))","v":""},{"$f":"+'DATOS SGO'!H40","v":""},null,"",null,"",null,{"$f":"IF($D19=\"\",\"\",$D19*I19)","v":""},null,{"$f":"IF($D19=\"\",\"\",$D19*K19)","v":""},null,{"$f":"IF($D19=\"\",\"\",$D19*M19)","v":""},null,{"$f":"IF($D19=\"\",\"\",$D19*O19)","v":""},null,{"$f":"IF($D19=\"\",\"\",$D19*Q19)","v":""},null,{"$f":"IF($D19=\"\",\"\",$D19*S19)","v":""},null,{"$f":"IF($D19=\"\",\"\",$D19*U19)","v":""},null,{"$f":"IF($D19=\"\",\"\",$D19*W19)","v":""},null,{"$f":"IF($D19=\"\",\"\",$D19*Y19)","v":""},null,{"$f":"IF($D19=\"\",\"\",$D19*AA19)","v":""},null,{"$f":"IF($D19=\"\",\"\",$D19*AC19)","v":""},null,{"$f":"IF($D19=\"\",\"\",$D19*AE19)","v":""},null,{"$f":"IF($D19=\"\",\"\",$D19*AG19)","v":""},null,{"$f":"IF($D19=\"\",\"\",$D19*AI19)","v":""},null,{"$f":"IF($D19=\"\",\"\",$D19*AK19)","v":""},null,{"$f":"IF($D19=\"\",\"\",$D19*AM19)","v":""},null,{"$f":"IF($D19=\"\",\"\",$D19*AO19)","v":""},null,{"$f":"IF($D19=\"\",\"\",$D19*AQ19)","v":""},null,{"$f":"IF($D19=\"\",\"\",$D19*AS19)","v":""},null,{"$f":"IF($D19=\"\",\"\",$D19*AU19)","v":""},null,{"$f":"IF($D19=\"\",\"\",$D19*AW19)","v":""},null,{"$f":"IF($D19=\"\",\"\",$D19*AY19)","v":""},null,{"$f":"IF($D19=\"\",\"\",$D19*BA19)","v":""},null,{"$f":"IF($D19=\"\",\"\",$D19*BC19)","v":""},null,{"$f":"IF($D19=\"\",\"\",$D19*BE19)","v":""},null,{"$f":"IF($D19=\"\",\"\",$D19*BG19)","v":""},null,{"$f":"IF($D19=\"\",\"\",$D19*BI19)","v":""},null,{"$f":"IF($D19=\"\",\"\",$D19*BK19)","v":""},null,{"$f":"IF($D19=\"\",\"\",$D19*BM19)","v":""},null,{"$f":"IF($D19=\"\",\"\",$D19*BO19)","v":""},null,{"$f":"IF($D19=\"\",\"\",$D19*BQ19)","v":""},null,{"$f":"IF($D19=\"\",\"\",$D19*BS19)","v":""},null,{"$f":"IF($D19=\"\",\"\",$D19*BU19)","v":""},null,{"$f":"IF($D19=\"\",\"\",$D19*BW19)","v":""},null,0,""]
[null,{"$f":"+'DATOS SGO'!B41","v":0},{"$f":"IF(B20=0, \"\",VLOOKUP(B20,PRESUPUESTO!$B$17:$C$4611, 2, FALSE))","v":""},{"$f":"+'DATOS SGO'!H41","v":""},null,"",null,"",null,{"$f":"IF($D20=\"\",\"\",$D20*I20)","v":""},null,{"$f":"IF($D20=\"\",\"\",$D20*K20)","v":""},null,{"$f":"IF($D20=\"\",\"\",$D20*M20)","v":""},null,{"$f":"IF($D20=\"\",\"\",$D20*O20)","v":""},null,{"$f":"IF($D20=\"\",\"\",$D20*Q20)","v":""},null,{"$f":"IF($D20=\"\",\"\",$D20*S20)","v":""},null,{"$f":"IF($D20=\"\",\"\",$D20*U20)","v":""},null,{"$f":"IF($D20=\"\",\"\",$D20*W20)","v":""},null,{"$f":"IF($D20=\"\",\"\",$D20*Y20)","v":""},null,{"$f":"IF($D20=\"\",\"\",$D20*AA20)","v":""},null,{"$f":"IF($D20=\"\",\"\",$D20*AC20)","v":""},null,{"$f":"IF($D20=\"\",\"\",$D20*AE20)","v":""},null,{"$f":"IF($D20=\"\",\"\",$D20*AG20)","v":""},null,{"$f":"IF($D20=\"\",\"\",$D20*AI20)","v":""},null,{"$f":"IF($D20=\"\",\"\",$D20*AK20)","v":""},null,{"$f":"IF($D20=\"\",\"\",$D20*AM20)","v":""},null,{"$f":"IF($D20=\"\",\"\",$D20*AO20)","v":""},null,{"$f":"IF($D20=\"\",\"\",$D20*AQ20)","v":""},null,{"$f":"IF($D20=\"\",\"\",$D20*AS20)","v":""},null,{"$f":"IF($D20=\"\",\"\",$D20*AU20)","v":""},null,{"$f":"IF($D20=\"\",\"\",$D20*AW20)","v":""},null,{"$f":"IF($D20=\"\",\"\",$D20*AY20)","v":""},null,{"$f":"IF($D20=\"\",\"\",$D20*BA20)","v":""},null,{"$f":"IF($D20=\"\",\"\",$D20*BC20)","v":""},null,{"$f":"IF($D20=\"\",\"\",$D20*BE20)","v":""},null,{"$f":"IF($D20=\"\",\"\",$D20*BG20)","v":""},null,{"$f":"IF($D20=\"\",\"\",$D20*BI20)","v":""},null,{"$f":"IF($D20=\"\",\"\",$D20*BK20)","v":""},null,{"$f":"IF($D20=\"\",\"\",$D20*BM20)","v":""},null,{"$f":"IF($D20=\"\",\"\",$D20*BO20)","v":""},null,{"$f":"IF($D20=\"\",\"\",$D20*BQ20)","v":""},null,{"$f":"IF($D20=\"\",\"\",$D20*BS20)","v":""},null,{"$f":"IF($D20=\"\",\"\",$D20*BU20)","v":""},null,{"$f":"IF($D20=\"\",\"\",$D20*BW20)","v":""},null,0,""]
[null,{"$f":"+'DATOS SGO'!B42","v":0},{"$f":"IF(B21=0, \"\",VLOOKUP(B21,PRESUPUESTO!$B$17:$C$4611, 2, FALSE))","v":""},{"$f":"+'DATOS SGO'!H42","v":""},null,"",null,"",null,{"$f":"IF($D21=\"\",\"\",$D21*I21)","v":""},null,{"$f":"IF($D21=\"\",\"\",$D21*K21)","v":""},null,{"$f":"IF($D21=\"\",\"\",$D21*M21)","v":""},null,{"$f":"IF($D21=\"\",\"\",$D21*O21)","v":""},null,{"$f":"IF($D21=\"\",\"\",$D21*Q21)","v":""},null,{"$f":"IF($D21=\"\",\"\",$D21*S21)","v":""},null,{"$f":"IF($D21=\"\",\"\",$D21*U21)","v":""},null,{"$f":"IF($D21=\"\",\"\",$D21*W21)","v":""},null,{"$f":"IF($D21=\"\",\"\",$D21*Y21)","v":""},null,{"$f":"IF($D21=\"\",\"\",$D21*AA21)","v":""},null,{"$f":"IF($D21=\"\",\"\",$D21*AC21)","v":""},null,{"$f":"IF($D21=\"\",\"\",$D21*AE21)","v":""},null,{"$f":"IF($D21=\"\",\"\",$D21*AG21)","v":""},null,{"$f":"IF($D21=\"\",\"\",$D21*AI21)","v":""},null,{"$f":"IF($D21=\"\",\"\",$D21*AK21)","v":""},null,{"$f":"IF($D21=\"\",\"\",$D21*AM21)","v":""},null,{"$f":"IF($D21=\"\",\"\",$D21*AO21)","v":""},null,{"$f":"IF($D21=\"\",\"\",$D21*AQ21)","v":""},null,{"$f":"IF($D21=\"\",\"\",$D21*AS21)","v":""},null,{"$f":"IF($D21=\"\",\"\",$D21*AU21)","v":""},null,{"$f":"IF($D21=\"\",\"\",$D21*AW21)","v":""},null,{"$f":"IF($D21=\"\",\"\",$D21*AY21)","v":""},null,{"$f":"IF($D21=\"\",\"\",$D21*BA21)","v":""},null,{"$f":"IF($D21=\"\",\"\",$D21*BC21)","v":""},null,{"$f":"IF($D21=\"\",\"\",$D21*BE21)","v":""},null,{"$f":"IF($D21=\"\",\"\",$D21*BG21)","v":""},null,{"$f":"IF($D21=\"\",\"\",$D21*BI21)","v":""},null,{"$f":"IF($D21=\"\",\"\",$D21*BK21)","v":""},null,{"$f":"IF($D21=\"\",\"\",$D21*BM21)","v":""},null,{"$f":"IF($D21=\"\",\"\",$D21*BO21)","v":""},null,{"$f":"IF($D21=\"\",\"\",$D21*BQ21)","v":""},null,{"$f":"IF($D21=\"\",\"\",$D21*BS21)","v":""},null,{"$f":"IF($D21=\"\",\"\",$D21*BU21)","v":""},null,{"$f":"IF($D21=\"\",\"\",$D21*BW21)","v":""},null,0,""]
[null,{"$f":"+'DATOS SGO'!B43","v":0},{"$f":"IF(B22=0, \"\",VLOOKUP(B22,PRESUPUESTO!$B$17:$C$4611, 2, FALSE))","v":""},{"$f":"+'DATOS SGO'!H43","v":""},null,"",null,"",null,{"$f":"IF($D22=\"\",\"\",$D22*I22)","v":""},null,{"$f":"IF($D22=\"\",\"\",$D22*K22)","v":""},null,{"$f":"IF($D22=\"\",\"\",$D22*M22)","v":""},null,{"$f":"IF($D22=\"\",\"\",$D22*O22)","v":""},null,{"$f":"IF($D22=\"\",\"\",$D22*Q22)","v":""},null,{"$f":"IF($D22=\"\",\"\",$D22*S22)","v":""},null,{"$f":"IF($D22=\"\",\"\",$D22*U22)","v":""},null,{"$f":"IF($D22=\"\",\"\",$D22*W22)","v":""},null,{"$f":"IF($D22=\"\",\"\",$D22*Y22)","v":""},null,{"$f":"IF($D22=\"\",\"\",$D22*AA22)","v":""},null,{"$f":"IF($D22=\"\",\"\",$D22*AC22)","v":""},null,{"$f":"IF($D22=\"\",\"\",$D22*AE22)","v":""},null,{"$f":"IF($D22=\"\",\"\",$D22*AG22)","v":""},null,{"$f":"IF($D22=\"\",\"\",$D22*AI22)","v":""},null,{"$f":"IF($D22=\"\",\"\",$D22*AK22)","v":""},null,{"$f":"IF($D22=\"\",\"\",$D22*AM22)","v":""},null,{"$f":"IF($D22=\"\",\"\",$D22*AO22)","v":""},null,{"$f":"IF($D22=\"\",\"\",$D22*AQ22)","v":""},null,{"$f":"IF($D22=\"\",\"\",$D22*AS22)","v":""},null,{"$f":"IF($D22=\"\",\"\",$D22*AU22)","v":""},null,{"$f":"IF($D22=\"\",\"\",$D22*AW22)","v":""},null,{"$f":"IF($D22=\"\",\"\",$D22*AY22)","v":""},null,{"$f":"IF($D22=\"\",\"\",$D22*BA22)","v":""},null,{"$f":"IF($D22=\"\",\"\",$D22*BC22)","v":""},null,{"$f":"IF($D22=\"\",\"\",$D22*BE22)","v":""},null,{"$f":"IF($D22=\"\",\"\",$D22*BG22)","v":""},null,{"$f":"IF($D22=\"\",\"\",$D22*BI22)","v":""},null,{"$f":"IF($D22=\"\",\"\",$D22*BK22)","v":""},null,{"$f":"IF($D22=\"\",\"\",$D22*BM22)","v":""},null,{"$f":"IF($D22=\"\",\"\",$D22*BO22)","v":""},null,{"$f":"IF($D22=\"\",\"\",$D22*BQ22)","v":""},null,{"$f":"IF($D22=\"\",\"\",$D22*BS22)","v":""},null,{"$f":"IF($D22=\"\",\"\",$D22*BU22)","v":""},null,{"$f":"IF($D22=\"\",\"\",$D22*BW22)","v":""},null,0,""]
[null,{"$f":"+'DATOS SGO'!B44","v":0},{"$f":"IF(B23=0, \"\",VLOOKUP(B23,PRESUPUESTO!$B$17:$C$4611, 2, FALSE))","v":""},{"$f":"+'DATOS SGO'!H44","v":""},null,"",null,"",null,{"$f":"IF($D23=\"\",\"\",$D23*I23)","v":""},null,{"$f":"IF($D23=\"\",\"\",$D23*K23)","v":""},null,{"$f":"IF($D23=\"\",\"\",$D23*M23)","v":""},null,{"$f":"IF($D23=\"\",\"\",$D23*O23)","v":""},null,{"$f":"IF($D23=\"\",\"\",$D23*Q23)","v":""},null,{"$f":"IF($D23=\"\",\"\",$D23*S23)","v":""},null,{"$f":"IF($D23=\"\",\"\",$D23*U23)","v":""},null,{"$f":"IF($D23=\"\",\"\",$D23*W23)","v":""},null,{"$f":"IF($D23=\"\",\"\",$D23*Y23)","v":""},null,{"$f":"IF($D23=\"\",\"\",$D23*AA23)","v":""},null,{"$f":"IF($D23=\"\",\"\",$D23*AC23)","v":""},null,{"$f":"IF($D23=\"\",\"\",$D23*AE23)","v":""},null,{"$f":"IF($D23=\"\",\"\",$D23*AG23)","v":""},null,{"$f":"IF($D23=\"\",\"\",$D23*AI23)","v":""},null,{"$f":"IF($D23=\"\",\"\",$D23*AK23)","v":""},null,{"$f":"IF($D23=\"\",\"\",$D23*AM23)","v":""},null,{"$f":"IF($D23=\"\",\"\",$D23*AO23)","v":""},null,{"$f":"IF($D23=\"\",\"\",$D23*AQ23)","v":""},null,{"$f":"IF($D23=\"\",\"\",$D23*AS23)","v":""},null,{"$f":"IF($D23=\"\",\"\",$D23*AU23)","v":""},null,{"$f":"IF($D23=\"\",\"\",$D23*AW23)","v":""},null,{"$f":"IF($D23=\"\",\"\",$D23*AY23)","v":""},null,{"$f":"IF($D23=\"\",\"\",$D23*BA23)","v":""},null,{"$f":"IF($D23=\"\",\"\",$D23*BC23)","v":""},null,{"$f":"IF($D23=\"\",\"\",$D23*BE23)","v":""},null,{"$f":"IF($D23=\"\",\"\",$D23*BG23)","v":""},null,{"$f":"IF($D23=\"\",\"\",$D23*BI23)","v":""},null,{"$f":"IF($D23=\"\",\"\",$D23*BK23)","v":""},null,{"$f":"IF($D23=\"\",\"\",$D23*BM23)","v":""},null,{"$f":"IF($D23=\"\",\"\",$D23*BO23)","v":""},null,{"$f":"IF($D23=\"\",\"\",$D23*BQ23)","v":""},null,{"$f":"IF($D23=\"\",\"\",$D23*BS23)","v":""},null,{"$f":"IF($D23=\"\",\"\",$D23*BU23)","v":""},null,{"$f":"IF($D23=\"\",\"\",$D23*BW23)","v":""},null,0,""]
[null,{"$f":"+'DATOS SGO'!B45","v":0},{"$f":"IF(B24=0, \"\",VLOOKUP(B24,PRESUPUESTO!$B$17:$C$4611, 2, FALSE))","v":""},{"$f":"+'DATOS SGO'!H45","v":""},null,"",null,"",null,{"$f":"IF($D24=\"\",\"\",$D24*I24)","v":""},null,{"$f":"IF($D24=\"\",\"\",$D24*K24)","v":""},null,{"$f":"IF($D24=\"\",\"\",$D24*M24)","v":""},null,{"$f":"IF($D24=\"\",\"\",$D24*O24)","v":""},null,{"$f":"IF($D24=\"\",\"\",$D24*Q24)","v":""},null,{"$f":"IF($D24=\"\",\"\",$D24*S24)","v":""},null,{"$f":"IF($D24=\"\",\"\",$D24*U24)","v":""},null,{"$f":"IF($D24=\"\",\"\",$D24*W24)","v":""},null,{"$f":"IF($D24=\"\",\"\",$D24*Y24)","v":""},null,{"$f":"IF($D24=\"\",\"\",$D24*AA24)","v":""},null,{"$f":"IF($D24=\"\",\"\",$D24*AC24)","v":""},null,{"$f":"IF($D24=\"\",\"\",$D24*AE24)","v":""},null,{"$f":"IF($D24=\"\",\"\",$D24*AG24)","v":""},null,{"$f":"IF($D24=\"\",\"\",$D24*AI24)","v":""},null,{"$f":"IF($D24=\"\",\"\",$D24*AK24)","v":""},null,{"$f":"IF($D24=\"\",\"\",$D24*AM24)","v":""},null,{"$f":"IF($D24=\"\",\"\",$D24*AO24)","v":""},null,{"$f":"IF($D24=\"\",\"\",$D24*AQ24)","v":""},null,{"$f":"IF($D24=\"\",\"\",$D24*AS24)","v":""},null,{"$f":"IF($D24=\"\",\"\",$D24*AU24)","v":""},null,{"$f":"IF($D24=\"\",\"\",$D24*AW24)","v":""},null,{"$f":"IF($D24=\"\",\"\",$D24*AY24)","v":""},null,{"$f":"IF($D24=\"\",\"\",$D24*BA24)","v":""},null,{"$f":"IF($D24=\"\",\"\",$D24*BC24)","v":""},null,{"$f":"IF($D24=\"\",\"\",$D24*BE24)","v":""},null,{"$f":"IF($D24=\"\",\"\",$D24*BG24)","v":""},null,{"$f":"IF($D24=\"\",\"\",$D24*BI24)","v":""},null,{"$f":"IF($D24=\"\",\"\",$D24*BK24)","v":""},null,{"$f":"IF($D24=\"\",\"\",$D24*BM24)","v":""},null,{"$f":"IF($D24=\"\",\"\",$D24*BO24)","v":""},null,{"$f":"IF($D24=\"\",\"\",$D24*BQ24)","v":""},null,{"$f":"IF($D24=\"\",\"\",$D24*BS24)","v":""},null,{"$f":"IF($D24=\"\",\"\",$D24*BU24)","v":""},null,{"$f":"IF($D24=\"\",\"\",$D24*BW24)","v":""},null,0,""]
[null,{"$f":"+'DATOS SGO'!B46","v":0},{"$f":"IF(B25=0, \"\",VLOOKUP(B25,PRESUPUESTO!$B$17:$C$4611, 2, FALSE))","v":""},{"$f":"+'DATOS SGO'!H46","v":""},null,"",null,"",null,{"$f":"IF($D25=\"\",\"\",$D25*I25)","v":""},null,{"$f":"IF($D25=\"\",\"\",$D25*K25)","v":""},null,{"$f":"IF($D25=\"\",\"\",$D25*M25)","v":""},null,{"$f":"IF($D25=\"\",\"\",$D25*O25)","v":""},null,{"$f":"IF($D25=\"\",\"\",$D25*Q25)","v":""},null,{"$f":"IF($D25=\"\",\"\",$D25*S25)","v":""},null,{"$f":"IF($D25=\"\",\"\",$D25*U25)","v":""},null,{"$f":"IF($D25=\"\",\"\",$D25*W25)","v":""},null,{"$f":"IF($D25=\"\",\"\",$D25*Y25)","v":""},null,{"$f":"IF($D25=\"\",\"\",$D25*AA25)","v":""},null,{"$f":"IF($D25=\"\",\"\",$D25*AC25)","v":""},null,{"$f":"IF($D25=\"\",\"\",$D25*AE25)","v":""},null,{"$f":"IF($D25=\"\",\"\",$D25*AG25)","v":""},null,{"$f":"IF($D25=\"\",\"\",$D25*AI25)","v":""},null,{"$f":"IF($D25=\"\",\"\",$D25*AK25)","v":""},null,{"$f":"IF($D25=\"\",\"\",$D25*AM25)","v":""},null,{"$f":"IF($D25=\"\",\"\",$D25*AO25)","v":""},null,{"$f":"IF($D25=\"\",\"\",$D25*AQ25)","v":""},null,{"$f":"IF($D25=\"\",\"\",$D25*AS25)","v":""},null,{"$f":"IF($D25=\"\",\"\",$D25*AU25)","v":""},null,{"$f":"IF($D25=\"\",\"\",$D25*AW25)","v":""},null,{"$f":"IF($D25=\"\",\"\",$D25*AY25)","v":""},null,{"$f":"IF($D25=\"\",\"\",$D25*BA25)","v":""},null,{"$f":"IF($D25=\"\",\"\",$D25*BC25)","v":""},null,{"$f":"IF($D25=\"\",\"\",$D25*BE25)","v":""},null,{"$f":"IF($D25=\"\",\"\",$D25*BG25)","v":""},null,{"$f":"IF($D25=\"\",\"\",$D25*BI25)","v":""},null,{"$f":"IF($D25=\"\",\"\",$D25*BK25)","v":""},null,{"$f":"IF($D25=\"\",\"\",$D25*BM25)","v":""},null,{"$f":"IF($D25=\"\",\"\",$D25*BO25)","v":""},null,{"$f":"IF($D25=\"\",\"\",$D25*BQ25)","v":""},null,{"$f":"IF($D25=\"\",\"\",$D25*BS25)","v":""},null,{"$f":"IF($D25=\"\",\"\",$D25*BU25)","v":""},null,{"$f":"IF($D25=\"\",\"\",$D25*BW25)","v":""},null,0,""]
[null,{"$f":"+'DATOS SGO'!B47","v":0},{"$f":"IF(B26=0, \"\",VLOOKUP(B26,PRESUPUESTO!$B$17:$C$4611, 2, FALSE))","v":""},{"$f":"+'DATOS SGO'!H47","v":""},null,"",null,"",null,{"$f":"IF($D26=\"\",\"\",$D26*I26)","v":""},null,{"$f":"IF($D26=\"\",\"\",$D26*K26)","v":""},null,{"$f":"IF($D26=\"\",\"\",$D26*M26)","v":""},null,{"$f":"IF($D26=\"\",\"\",$D26*O26)","v":""},null,{"$f":"IF($D26=\"\",\"\",$D26*Q26)","v":""},null,{"$f":"IF($D26=\"\",\"\",$D26*S26)","v":""},null,{"$f":"IF($D26=\"\",\"\",$D26*U26)","v":""},null,{"$f":"IF($D26=\"\",\"\",$D26*W26)","v":""},null,{"$f":"IF($D26=\"\",\"\",$D26*Y26)","v":""},null,{"$f":"IF($D26=\"\",\"\",$D26*AA26)","v":""},null,{"$f":"IF($D26=\"\",\"\",$D26*AC26)","v":""},null,{"$f":"IF($D26=\"\",\"\",$D26*AE26)","v":""},null,{"$f":"IF($D26=\"\",\"\",$D26*AG26)","v":""},null,{"$f":"IF($D26=\"\",\"\",$D26*AI26)","v":""},null,{"$f":"IF($D26=\"\",\"\",$D26*AK26)","v":""},null,{"$f":"IF($D26=\"\",\"\",$D26*AM26)","v":""},null,{"$f":"IF($D26=\"\",\"\",$D26*AO26)","v":""},null,{"$f":"IF($D26=\"\",\"\",$D26*AQ26)","v":""},null,{"$f":"IF($D26=\"\",\"\",$D26*AS26)","v":""},null,{"$f":"IF($D26=\"\",\"\",$D26*AU26)","v":""},null,{"$f":"IF($D26=\"\",\"\",$D26*AW26)","v":""},null,{"$f":"IF($D26=\"\",\"\",$D26*AY26)","v":""},null,{"$f":"IF($D26=\"\",\"\",$D26*BA26)","v":""},null,{"$f":"IF($D26=\"\",\"\",$D26*BC26)","v":""},null,{"$f":"IF($D26=\"\",\"\",$D26*BE26)","v":""},null,{"$f":"IF($D26=\"\",\"\",$D26*BG26)","v":""},null,{"$f":"IF($D26=\"\",\"\",$D26*BI26)","v":""},null,{"$f":"IF($D26=\"\",\"\",$D26*BK26)","v":""},null,{"$f":"IF($D26=\"\",\"\",$D26*BM26)","v":""},null,{"$f":"IF($D26=\"\",\"\",$D26*BO26)","v":""},null,{"$f":"IF($D26=\"\",\"\",$D26*BQ26)","v":""},null,{"$f":"IF($D26=\"\",\"\",$D26*BS26)","v":""},null,{"$f":"IF($D26=\"\",\"\",$D26*BU26)","v":""},null,{"$f":"IF($D26=\"\",\"\",$D26*BW26)","v":""},null,0,""]
[null,{"$f":"+'DATOS SGO'!B48","v":0},{"$f":"IF(B27=0, \"\",VLOOKUP(B27,PRESUPUESTO!$B$17:$C$4611, 2, FALSE))","v":""},{"$f":"+'DATOS SGO'!H48","v":""},null,"",null,"",null,{"$f":"IF($D27=\"\",\"\",$D27*I27)","v":""},null,{"$f":"IF($D27=\"\",\"\",$D27*K27)","v":""},null,{"$f":"IF($D27=\"\",\"\",$D27*M27)","v":""},null,{"$f":"IF($D27=\"\",\"\",$D27*O27)","v":""},null,{"$f":"IF($D27=\"\",\"\",$D27*Q27)","v":""},null,{"$f":"IF($D27=\"\",\"\",$D27*S27)","v":""},null,{"$f":"IF($D27=\"\",\"\",$D27*U27)","v":""},null,{"$f":"IF($D27=\"\",\"\",$D27*W27)","v":""},null,{"$f":"IF($D27=\"\",\"\",$D27*Y27)","v":""},null,{"$f":"IF($D27=\"\",\"\",$D27*AA27)","v":""},null,{"$f":"IF($D27=\"\",\"\",$D27*AC27)","v":""},null,{"$f":"IF($D27=\"\",\"\",$D27*AE27)","v":""},null,{"$f":"IF($D27=\"\",\"\",$D27*AG27)","v":""},null,{"$f":"IF($D27=\"\",\"\",$D27*AI27)","v":""},null,{"$f":"IF($D27=\"\",\"\",$D27*AK27)","v":""},null,{"$f":"IF($D27=\"\",\"\",$D27*AM27)","v":""},null,{"$f":"IF($D27=\"\",\"\",$D27*AO27)","v":""},null,{"$f":"IF($D27=\"\",\"\",$D27*AQ27)","v":""},null,{"$f":"IF($D27=\"\",\"\",$D27*AS27)","v":""},null,{"$f":"IF($D27=\"\",\"\",$D27*AU27)","v":""},null,{"$f":"IF($D27=\"\",\"\",$D27*AW27)","v":""},null,{"$f":"IF($D27=\"\",\"\",$D27*AY27)","v":""},null,{"$f":"IF($D27=\"\",\"\",$D27*BA27)","v":""},null,{"$f":"IF($D27=\"\",\"\",$D27*BC27)","v":""},null,{"$f":"IF($D27=\"\",\"\",$D27*BE27)","v":""},null,{"$f":"IF($D27=\"\",\"\",$D27*BG27)","v":""},null,{"$f":"IF($D27=\"\",\"\",$D27*BI27)","v":""},null,{"$f":"IF($D27=\"\",\"\",$D27*BK27)","v":""},null,{"$f":"IF($D27=\"\",\"\",$D27*BM27)","v":""},null,{"$f":"IF($D27=\"\",\"\",$D27*BO27)","v":""},null,{"$f":"IF($D27=\"\",\"\",$D27*BQ27)","v":""},null,{"$f":"IF($D27=\"\",\"\",$D27*BS27)","v":""},null,{"$f":"IF($D27=\"\",\"\",$D27*BU27)","v":""},null,{"$f":"IF($D27=\"\",\"\",$D27*BW27)","v":""},null,0,""]
[null,{"$f":"+'DATOS SGO'!B49","v":0},{"$f":"IF(B28=0, \"\",VLOOKUP(B28,PRESUPUESTO!$B$17:$C$4611, 2, FALSE))","v":""},{"$f":"+'DATOS SGO'!H49","v":""},null,"",null,"",null,{"$f":"IF($D28=\"\",\"\",$D28*I28)","v":""},null,{"$f":"IF($D28=\"\",\"\",$D28*K28)","v":""},null,{"$f":"IF($D28=\"\",\"\",$D28*M28)","v":""},null,{"$f":"IF($D28=\"\",\"\",$D28*O28)","v":""},null,{"$f":"IF($D28=\"\",\"\",$D28*Q28)","v":""},null,{"$f":"IF($D28=\"\",\"\",$D28*S28)","v":""},null,{"$f":"IF($D28=\"\",\"\",$D28*U28)","v":""},null,{"$f":"IF($D28=\"\",\"\",$D28*W28)","v":""},null,{"$f":"IF($D28=\"\",\"\",$D28*Y28)","v":""},null,{"$f":"IF($D28=\"\",\"\",$D28*AA28)","v":""},null,{"$f":"IF($D28=\"\",\"\",$D28*AC28)","v":""},null,{"$f":"IF($D28=\"\",\"\",$D28*AE28)","v":""},null,{"$f":"IF($D28=\"\",\"\",$D28*AG28)","v":""},null,{"$f":"IF($D28=\"\",\"\",$D28*AI28)","v":""},null,{"$f":"IF($D28=\"\",\"\",$D28*AK28)","v":""},null,{"$f":"IF($D28=\"\",\"\",$D28*AM28)","v":""},null,{"$f":"IF($D28=\"\",\"\",$D28*AO28)","v":""},null,{"$f":"IF($D28=\"\",\"\",$D28*AQ28)","v":""},null,{"$f":"IF($D28=\"\",\"\",$D28*AS28)","v":""},null,{"$f":"IF($D28=\"\",\"\",$D28*AU28)","v":""},null,{"$f":"IF($D28=\"\",\"\",$D28*AW28)","v":""},null,{"$f":"IF($D28=\"\",\"\",$D28*AY28)","v":""},null,{"$f":"IF($D28=\"\",\"\",$D28*BA28)","v":""},null,{"$f":"IF($D28=\"\",\"\",$D28*BC28)","v":""},null,{"$f":"IF($D28=\"\",\"\",$D28*BE28)","v":""},null,{"$f":"IF($D28=\"\",\"\",$D28*BG28)","v":""},null,{"$f":"IF($D28=\"\",\"\",$D28*BI28)","v":""},null,{"$f":"IF($D28=\"\",\"\",$D28*BK28)","v":""},null,{"$f":"IF($D28=\"\",\"\",$D28*BM28)","v":""},null,{"$f":"IF($D28=\"\",\"\",$D28*BO28)","v":""},null,{"$f":"IF($D28=\"\",\"\",$D28*BQ28)","v":""},null,{"$f":"IF($D28=\"\",\"\",$D28*BS28)","v":""},null,{"$f":"IF($D28=\"\",\"\",$D28*BU28)","v":""},null,{"$f":"IF($D28=\"\",\"\",$D28*BW28)","v":""},null,0,""]
[null,{"$f":"+'DATOS SGO'!B50","v":0},{"$f":"IF(B29=0, \"\",VLOOKUP(B29,PRESUPUESTO!$B$17:$C$4611, 2, FALSE))","v":""},{"$f":"+'DATOS SGO'!H50","v":""},null,"",null,"",null,{"$f":"IF($D29=\"\",\"\",$D29*I29)","v":""},null,{"$f":"IF($D29=\"\",\"\",$D29*K29)","v":""},null,{"$f":"IF($D29=\"\",\"\",$D29*M29)","v":""},null,{"$f":"IF($D29=\"\",\"\",$D29*O29)","v":""},null,{"$f":"IF($D29=\"\",\"\",$D29*Q29)","v":""},null,{"$f":"IF($D29=\"\",\"\",$D29*S29)","v":""},null,{"$f":"IF($D29=\"\",\"\",$D29*U29)","v":""},null,{"$f":"IF($D29=\"\",\"\",$D29*W29)","v":""},null,{"$f":"IF($D29=\"\",\"\",$D29*Y29)","v":""},null,{"$f":"IF($D29=\"\",\"\",$D29*AA29)","v":""},null,{"$f":"IF($D29=\"\",\"\",$D29*AC29)","v":""},null,{"$f":"IF($D29=\"\",\"\",$D29*AE29)","v":""},null,{"$f":"IF($D29=\"\",\"\",$D29*AG29)","v":""},null,{"$f":"IF($D29=\"\",\"\",$D29*AI29)","v":""},null,{"$f":"IF($D29=\"\",\"\",$D29*AK29)","v":""},null,{"$f":"IF($D29=\"\",\"\",$D29*AM29)","v":""},null,{"$f":"IF($D29=\"\",\"\",$D29*AO29)","v":""},null,{"$f":"IF($D29=\"\",\"\",$D29*AQ29)","v":""},null,{"$f":"IF($D29=\"\",\"\",$D29*AS29)","v":""},null,{"$f":"IF($D29=\"\",\"\",$D29*AU29)","v":""},null,{"$f":"IF($D29=\"\",\"\",$D29*AW29)","v":""},null,{"$f":"IF($D29=\"\",\"\",$D29*AY29)","v":""},null,{"$f":"IF($D29=\"\",\"\",$D29*BA29)","v":""},null,{"$f":"IF($D29=\"\",\"\",$D29*BC29)","v":""},null,{"$f":"IF($D29=\"\",\"\",$D29*BE29)","v":""},null,{"$f":"IF($D29=\"\",\"\",$D29*BG29)","v":""},null,{"$f":"IF($D29=\"\",\"\",$D29*BI29)","v":""},null,{"$f":"IF($D29=\"\",\"\",$D29*BK29)","v":""},null,{"$f":"IF($D29=\"\",\"\",$D29*BM29)","v":""},null,{"$f":"IF($D29=\"\",\"\",$D29*BO29)","v":""},null,{"$f":"IF($D29=\"\",\"\",$D29*BQ29)","v":""},null,{"$f":"IF($D29=\"\",\"\",$D29*BS29)","v":""},null,{"$f":"IF($D29=\"\",\"\",$D29*BU29)","v":""},null,{"$f":"IF($D29=\"\",\"\",$D29*BW29)","v":""},null,0,""]
[null,{"$f":"+'DATOS SGO'!B51","v":0},{"$f":"IF(B30=0, \"\",VLOOKUP(B30,PRESUPUESTO!$B$17:$C$4611, 2, FALSE))","v":""},{"$f":"+'DATOS SGO'!H51","v":""},null,"",null,"",null,{"$f":"IF($D30=\"\",\"\",$D30*I30)","v":""},null,{"$f":"IF($D30=\"\",\"\",$D30*K30)","v":""},null,{"$f":"IF($D30=\"\",\"\",$D30*M30)","v":""},null,{"$f":"IF($D30=\"\",\"\",$D30*O30)","v":""},null,{"$f":"IF($D30=\"\",\"\",$D30*Q30)","v":""},null,{"$f":"IF($D30=\"\",\"\",$D30*S30)","v":""},null,{"$f":"IF($D30=\"\",\"\",$D30*U30)","v":""},null,{"$f":"IF($D30=\"\",\"\",$D30*W30)","v":""},null,{"$f":"IF($D30=\"\",\"\",$D30*Y30)","v":""},null,{"$f":"IF($D30=\"\",\"\",$D30*AA30)","v":""},null,{"$f":"IF($D30=\"\",\"\",$D30*AC30)","v":""},null,{"$f":"IF($D30=\"\",\"\",$D30*AE30)","v":""},null,{"$f":"IF($D30=\"\",\"\",$D30*AG30)","v":""},null,{"$f":"IF($D30=\"\",\"\",$D30*AI30)","v":""},null,{"$f":"IF($D30=\"\",\"\",$D30*AK30)","v":""},null,{"$f":"IF($D30=\"\",\"\",$D30*AM30)","v":""},null,{"$f":"IF($D30=\"\",\"\",$D30*AO30)","v":""},null,{"$f":"IF($D30=\"\",\"\",$D30*AQ30)","v":""},null,{"$f":"IF($D30=\"\",\"\",$D30*AS30)","v":""},null,{"$f":"IF($D30=\"\",\"\",$D30*AU30)","v":""},null,{"$f":"IF($D30=\"\",\"\",$D30*AW30)","v":""},null,{"$f":"IF($D30=\"\",\"\",$D30*AY30)","v":""},null,{"$f":"IF($D30=\"\",\"\",$D30*BA30)","v":""},null,{"$f":"IF($D30=\"\",\"\",$D30*BC30)","v":""},null,{"$f":"IF($D30=\"\",\"\",$D30*BE30)","v":""},null,{"$f":"IF($D30=\"\",\"\",$D30*BG30)","v":""},null,{"$f":"IF($D30=\"\",\"\",$D30*BI30)","v":""},null,{"$f":"IF($D30=\"\",\"\",$D30*BK30)","v":""},null,{"$f":"IF($D30=\"\",\"\",$D30*BM30)","v":""},null,{"$f":"IF($D30=\"\",\"\",$D30*BO30)","v":""},null,{"$f":"IF($D30=\"\",\"\",$D30*BQ30)","v":""},null,{"$f":"IF($D30=\"\",\"\",$D30*BS30)","v":""},null,{"$f":"IF($D30=\"\",\"\",$D30*BU30)","v":""},null,{"$f":"IF($D30=\"\",\"\",$D30*BW30)","v":""},null,0,""]
[null,{"$f":"+'DATOS SGO'!B52","v":0},{"$f":"IF(B31=0, \"\",VLOOKUP(B31,PRESUPUESTO!$B$17:$C$4611, 2, FALSE))","v":""},{"$f":"+'DATOS SGO'!H52","v":""},null,"",null,"",null,{"$f":"IF($D31=\"\",\"\",$D31*I31)","v":""},null,{"$f":"IF($D31=\"\",\"\",$D31*K31)","v":""},null,{"$f":"IF($D31=\"\",\"\",$D31*M31)","v":""},null,{"$f":"IF($D31=\"\",\"\",$D31*O31)","v":""},null,{"$f":"IF($D31=\"\",\"\",$D31*Q31)","v":""},null,{"$f":"IF($D31=\"\",\"\",$D31*S31)","v":""},null,{"$f":"IF($D31=\"\",\"\",$D31*U31)","v":""},null,{"$f":"IF($D31=\"\",\"\",$D31*W31)","v":""},null,{"$f":"IF($D31=\"\",\"\",$D31*Y31)","v":""},null,{"$f":"IF($D31=\"\",\"\",$D31*AA31)","v":""},null,{"$f":"IF($D31=\"\",\"\",$D31*AC31)","v":""},null,{"$f":"IF($D31=\"\",\"\",$D31*AE31)","v":""},null,{"$f":"IF($D31=\"\",\"\",$D31*AG31)","v":""},null,{"$f":"IF($D31=\"\",\"\",$D31*AI31)","v":""},null,{"$f":"IF($D31=\"\",\"\",$D31*AK31)","v":""},null,{"$f":"IF($D31=\"\",\"\",$D31*AM31)","v":""},null,{"$f":"IF($D31=\"\",\"\",$D31*AO31)","v":""},null,{"$f":"IF($D31=\"\",\"\",$D31*AQ31)","v":""},null,{"$f":"IF($D31=\"\",\"\",$D31*AS31)","v":""},null,{"$f":"IF($D31=\"\",\"\",$D31*AU31)","v":""},null,{"$f":"IF($D31=\"\",\"\",$D31*AW31)","v":""},null,{"$f":"IF($D31=\"\",\"\",$D31*AY31)","v":""},null,{"$f":"IF($D31=\"\",\"\",$D31*BA31)","v":""},null,{"$f":"IF($D31=\"\",\"\",$D31*BC31)","v":""},null,{"$f":"IF($D31=\"\",\"\",$D31*BE31)","v":""},null,{"$f":"IF($D31=\"\",\"\",$D31*BG31)","v":""},null,{"$f":"IF($D31=\"\",\"\",$D31*BI31)","v":""},null,{"$f":"IF($D31=\"\",\"\",$D31*BK31)","v":""},null,{"$f":"IF($D31=\"\",\"\",$D31*BM31)","v":""},null,{"$f":"IF($D31=\"\",\"\",$D31*BO31)","v":""},null,{"$f":"IF($D31=\"\",\"\",$D31*BQ31)","v":""},null,{"$f":"IF($D31=\"\",\"\",$D31*BS31)","v":""},null,{"$f":"IF($D31=\"\",\"\",$D31*BU31)","v":""},null,{"$f":"IF($D31=\"\",\"\",$D31*BW31)","v":""},null,0,""]
[null,{"$f":"+'DATOS SGO'!B53","v":0},{"$f":"IF(B32=0, \"\",VLOOKUP(B32,PRESUPUESTO!$B$17:$C$4611, 2, FALSE))","v":""},{"$f":"+'DATOS SGO'!H53","v":""},null,"",null,"",null,{"$f":"IF($D32=\"\",\"\",$D32*I32)","v":""},null,{"$f":"IF($D32=\"\",\"\",$D32*K32)","v":""},null,{"$f":"IF($D32=\"\",\"\",$D32*M32)","v":""},null,{"$f":"IF($D32=\"\",\"\",$D32*O32)","v":""},null,{"$f":"IF($D32=\"\",\"\",$D32*Q32)","v":""},null,{"$f":"IF($D32=\"\",\"\",$D32*S32)","v":""},null,{"$f":"IF($D32=\"\",\"\",$D32*U32)","v":""},null,{"$f":"IF($D32=\"\",\"\",$D32*W32)","v":""},null,{"$f":"IF($D32=\"\",\"\",$D32*Y32)","v":""},null,{"$f":"IF($D32=\"\",\"\",$D32*AA32)","v":""},null,{"$f":"IF($D32=\"\",\"\",$D32*AC32)","v":""},null,{"$f":"IF($D32=\"\",\"\",$D32*AE32)","v":""},null,{"$f":"IF($D32=\"\",\"\",$D32*AG32)","v":""},null,{"$f":"IF($D32=\"\",\"\",$D32*AI32)","v":""},null,{"$f":"IF($D32=\"\",\"\",$D32*AK32)","v":""},null,{"$f":"IF($D32=\"\",\"\",$D32*AM32)","v":""},null,{"$f":"IF($D32=\"\",\"\",$D32*AO32)","v":""},null,{"$f":"IF($D32=\"\",\"\",$D32*AQ32)","v":""},null,{"$f":"IF($D32=\"\",\"\",$D32*AS32)","v":""},null,{"$f":"IF($D32=\"\",\"\",$D32*AU32)","v":""},null,{"$f":"IF($D32=\"\",\"\",$D32*AW32)","v":""},null,{"$f":"IF($D32=\"\",\"\",$D32*AY32)","v":""},null,{"$f":"IF($D32=\"\",\"\",$D32*BA32)","v":""},null,{"$f":"IF($D32=\"\",\"\",$D32*BC32)","v":""},null,{"$f":"IF($D32=\"\",\"\",$D32*BE32)","v":""},null,{"$f":"IF($D32=\"\",\"\",$D32*BG32)","v":""},null,{"$f":"IF($D32=\"\",\"\",$D32*BI32)","v":""},null,{"$f":"IF($D32=\"\",\"\",$D32*BK32)","v":""},null,{"$f":"IF($D32=\"\",\"\",$D32*BM32)","v":""},null,{"$f":"IF($D32=\"\",\"\",$D32*BO32)","v":""},null,{"$f":"IF($D32=\"\",\"\",$D32*BQ32)","v":""},null,{"$f":"IF($D32=\"\",\"\",$D32*BS32)","v":""},null,{"$f":"IF($D32=\"\",\"\",$D32*BU32)","v":""},null,{"$f":"IF($D32=\"\",\"\",$D32*BW32)","v":""},null,0,""]
[null,{"$f":"+'DATOS SGO'!B54","v":0},{"$f":"IF(B33=0, \"\",VLOOKUP(B33,PRESUPUESTO!$B$17:$C$4611, 2, FALSE))","v":""},{"$f":"+'DATOS SGO'!H54","v":""},null,"",null,"",null,{"$f":"IF($D33=\"\",\"\",$D33*I33)","v":""},null,{"$f":"IF($D33=\"\",\"\",$D33*K33)","v":""},null,{"$f":"IF($D33=\"\",\"\",$D33*M33)","v":""},null,{"$f":"IF($D33=\"\",\"\",$D33*O33)","v":""},null,{"$f":"IF($D33=\"\",\"\",$D33*Q33)","v":""},null,{"$f":"IF($D33=\"\",\"\",$D33*S33)","v":""},null,{"$f":"IF($D33=\"\",\"\",$D33*U33)","v":""},null,{"$f":"IF($D33=\"\",\"\",$D33*W33)","v":""},null,{"$f":"IF($D33=\"\",\"\",$D33*Y33)","v":""},null,{"$f":"IF($D33=\"\",\"\",$D33*AA33)","v":""},null,{"$f":"IF($D33=\"\",\"\",$D33*AC33)","v":""},null,{"$f":"IF($D33=\"\",\"\",$D33*AE33)","v":""},null,{"$f":"IF($D33=\"\",\"\",$D33*AG33)","v":""},null,{"$f":"IF($D33=\"\",\"\",$D33*AI33)","v":""},null,{"$f":"IF($D33=\"\",\"\",$D33*AK33)","v":""},null,{"$f":"IF($D33=\"\",\"\",$D33*AM33)","v":""},null,{"$f":"IF($D33=\"\",\"\",$D33*AO33)","v":""},null,{"$f":"IF($D33=\"\",\"\",$D33*AQ33)","v":""},null,{"$f":"IF($D33=\"\",\"\",$D33*AS33)","v":""},null,{"$f":"IF($D33=\"\",\"\",$D33*AU33)","v":""},null,{"$f":"IF($D33=\"\",\"\",$D33*AW33)","v":""},null,{"$f":"IF($D33=\"\",\"\",$D33*AY33)","v":""},null,{"$f":"IF($D33=\"\",\"\",$D33*BA33)","v":""},null,{"$f":"IF($D33=\"\",\"\",$D33*BC33)","v":""},null,{"$f":"IF($D33=\"\",\"\",$D33*BE33)","v":""},null,{"$f":"IF($D33=\"\",\"\",$D33*BG33)","v":""},null,{"$f":"IF($D33=\"\",\"\",$D33*BI33)","v":""},null,{"$f":"IF($D33=\"\",\"\",$D33*BK33)","v":""},null,{"$f":"IF($D33=\"\",\"\",$D33*BM33)","v":""},null,{"$f":"IF($D33=\"\",\"\",$D33*BO33)","v":""},null,{"$f":"IF($D33=\"\",\"\",$D33*BQ33)","v":""},null,{"$f":"IF($D33=\"\",\"\",$D33*BS33)","v":""},null,{"$f":"IF($D33=\"\",\"\",$D33*BU33)","v":""},null,{"$f":"IF($D33=\"\",\"\",$D33*BW33)","v":""},null,0,""]
[null,{"$f":"+'DATOS SGO'!B55","v":0},{"$f":"IF(B34=0, \"\",VLOOKUP(B34,PRESUPUESTO!$B$17:$C$4611, 2, FALSE))","v":""},{"$f":"+'DATOS SGO'!H55","v":""},null,"",null,"",null,{"$f":"IF($D34=\"\",\"\",$D34*I34)","v":""},null,{"$f":"IF($D34=\"\",\"\",$D34*K34)","v":""},null,{"$f":"IF($D34=\"\",\"\",$D34*M34)","v":""},null,{"$f":"IF($D34=\"\",\"\",$D34*O34)","v":""},null,{"$f":"IF($D34=\"\",\"\",$D34*Q34)","v":""},null,{"$f":"IF($D34=\"\",\"\",$D34*S34)","v":""},null,{"$f":"IF($D34=\"\",\"\",$D34*U34)","v":""},null,{"$f":"IF($D34=\"\",\"\",$D34*W34)","v":""},null,{"$f":"IF($D34=\"\",\"\",$D34*Y34)","v":""},null,{"$f":"IF($D34=\"\",\"\",$D34*AA34)","v":""},null,{"$f":"IF($D34=\"\",\"\",$D34*AC34)","v":""},null,{"$f":"IF($D34=\"\",\"\",$D34*AE34)","v":""},null,{"$f":"IF($D34=\"\",\"\",$D34*AG34)","v":""},null,{"$f":"IF($D34=\"\",\"\",$D34*AI34)","v":""},null,{"$f":"IF($D34=\"\",\"\",$D34*AK34)","v":""},null,{"$f":"IF($D34=\"\",\"\",$D34*AM34)","v":""},null,{"$f":"IF($D34=\"\",\"\",$D34*AO34)","v":""},null,{"$f":"IF($D34=\"\",\"\",$D34*AQ34)","v":""},null,{"$f":"IF($D34=\"\",\"\",$D34*AS34)","v":""},null,{"$f":"IF($D34=\"\",\"\",$D34*AU34)","v":""},null,{"$f":"IF($D34=\"\",\"\",$D34*AW34)","v":""},null,{"$f":"IF($D34=\"\",\"\",$D34*AY34)","v":""},null,{"$f":"IF($D34=\"\",\"\",$D34*BA34)","v":""},null,{"$f":"IF($D34=\"\",\"\",$D34*BC34)","v":""},null,{"$f":"IF($D34=\"\",\"\",$D34*BE34)","v":""},null,{"$f":"IF($D34=\"\",\"\",$D34*BG34)","v":""},null,{"$f":"IF($D34=\"\",\"\",$D34*BI34)","v":""},null,{"$f":"IF($D34=\"\",\"\",$D34*BK34)","v":""},null,{"$f":"IF($D34=\"\",\"\",$D34*BM34)","v":""},null,{"$f":"IF($D34=\"\",\"\",$D34*BO34)","v":""},null,{"$f":"IF($D34=\"\",\"\",$D34*BQ34)","v":""},null,{"$f":"IF($D34=\"\",\"\",$D34*BS34)","v":""},null,{"$f":"IF($D34=\"\",\"\",$D34*BU34)","v":""},null,{"$f":"IF($D34=\"\",\"\",$D34*BW34)","v":""},null,0,""]
[null,{"$f":"+'DATOS SGO'!B56","v":0},{"$f":"IF(B35=0, \"\",VLOOKUP(B35,PRESUPUESTO!$B$17:$C$4611, 2, FALSE))","v":""},{"$f":"+'DATOS SGO'!H56","v":""},null,"",null,"",null,{"$f":"IF($D35=\"\",\"\",$D35*I35)","v":""},null,{"$f":"IF($D35=\"\",\"\",$D35*K35)","v":""},null,{"$f":"IF($D35=\"\",\"\",$D35*M35)","v":""},null,{"$f":"IF($D35=\"\",\"\",$D35*O35)","v":""},null,{"$f":"IF($D35=\"\",\"\",$D35*Q35)","v":""},null,{"$f":"IF($D35=\"\",\"\",$D35*S35)","v":""},null,{"$f":"IF($D35=\"\",\"\",$D35*U35)","v":""},null,{"$f":"IF($D35=\"\",\"\",$D35*W35)","v":""},null,{"$f":"IF($D35=\"\",\"\",$D35*Y35)","v":""},null,{"$f":"IF($D35=\"\",\"\",$D35*AA35)","v":""},null,{"$f":"IF($D35=\"\",\"\",$D35*AC35)","v":""},null,{"$f":"IF($D35=\"\",\"\",$D35*AE35)","v":""},null,{"$f":"IF($D35=\"\",\"\",$D35*AG35)","v":""},null,{"$f":"IF($D35=\"\",\"\",$D35*AI35)","v":""},null,{"$f":"IF($D35=\"\",\"\",$D35*AK35)","v":""},null,{"$f":"IF($D35=\"\",\"\",$D35*AM35)","v":""},null,{"$f":"IF($D35=\"\",\"\",$D35*AO35)","v":""},null,{"$f":"IF($D35=\"\",\"\",$D35*AQ35)","v":""},null,{"$f":"IF($D35=\"\",\"\",$D35*AS35)","v":""},null,{"$f":"IF($D35=\"\",\"\",$D35*AU35)","v":""},null,{"$f":"IF($D35=\"\",\"\",$D35*AW35)","v":""},null,{"$f":"IF($D35=\"\",\"\",$D35*AY35)","v":""},null,{"$f":"IF($D35=\"\",\"\",$D35*BA35)","v":""},null,{"$f":"IF($D35=\"\",\"\",$D35*BC35)","v":""},null,{"$f":"IF($D35=\"\",\"\",$D35*BE35)","v":""},null,{"$f":"IF($D35=\"\",\"\",$D35*BG35)","v":""},null,{"$f":"IF($D35=\"\",\"\",$D35*BI35)","v":""},null,{"$f":"IF($D35=\"\",\"\",$D35*BK35)","v":""},null,{"$f":"IF($D35=\"\",\"\",$D35*BM35)","v":""},null,{"$f":"IF($D35=\"\",\"\",$D35*BO35)","v":""},null,{"$f":"IF($D35=\"\",\"\",$D35*BQ35)","v":""},null,{"$f":"IF($D35=\"\",\"\",$D35*BS35)","v":""},null,{"$f":"IF($D35=\"\",\"\",$D35*BU35)","v":""},null,{"$f":"IF($D35=\"\",\"\",$D35*BW35)","v":""},null,0,""]
[null,{"$f":"+'DATOS SGO'!B57","v":0},{"$f":"IF(B36=0, \"\",VLOOKUP(B36,PRESUPUESTO!$B$17:$C$4611, 2, FALSE))","v":""},{"$f":"+'DATOS SGO'!H57","v":""},null,"",null,"",null,{"$f":"IF($D36=\"\",\"\",$D36*I36)","v":""},null,{"$f":"IF($D36=\"\",\"\",$D36*K36)","v":""},null,{"$f":"IF($D36=\"\",\"\",$D36*M36)","v":""},null,{"$f":"IF($D36=\"\",\"\",$D36*O36)","v":""},null,{"$f":"IF($D36=\"\",\"\",$D36*Q36)","v":""},null,{"$f":"IF($D36=\"\",\"\",$D36*S36)","v":""},null,{"$f":"IF($D36=\"\",\"\",$D36*U36)","v":""},null,{"$f":"IF($D36=\"\",\"\",$D36*W36)","v":""},null,{"$f":"IF($D36=\"\",\"\",$D36*Y36)","v":""},null,{"$f":"IF($D36=\"\",\"\",$D36*AA36)","v":""},null,{"$f":"IF($D36=\"\",\"\",$D36*AC36)","v":""},null,{"$f":"IF($D36=\"\",\"\",$D36*AE36)","v":""},null,{"$f":"IF($D36=\"\",\"\",$D36*AG36)","v":""},null,{"$f":"IF($D36=\"\",\"\",$D36*AI36)","v":""},null,{"$f":"IF($D36=\"\",\"\",$D36*AK36)","v":""},null,{"$f":"IF($D36=\"\",\"\",$D36*AM36)","v":""},null,{"$f":"IF($D36=\"\",\"\",$D36*AO36)","v":""},null,{"$f":"IF($D36=\"\",\"\",$D36*AQ36)","v":""},null,{"$f":"IF($D36=\"\",\"\",$D36*AS36)","v":""},null,{"$f":"IF($D36=\"\",\"\",$D36*AU36)","v":""},null,{"$f":"IF($D36=\"\",\"\",$D36*AW36)","v":""},null,{"$f":"IF($D36=\"\",\"\",$D36*AY36)","v":""},null,{"$f":"IF($D36=\"\",\"\",$D36*BA36)","v":""},null,{"$f":"IF($D36=\"\",\"\",$D36*BC36)","v":""},null,{"$f":"IF($D36=\"\",\"\",$D36*BE36)","v":""},null,{"$f":"IF($D36=\"\",\"\",$D36*BG36)","v":""},null,{"$f":"IF($D36=\"\",\"\",$D36*BI36)","v":""},null,{"$f":"IF($D36=\"\",\"\",$D36*BK36)","v":""},null,{"$f":"IF($D36=\"\",\"\",$D36*BM36)","v":""},null,{"$f":"IF($D36=\"\",\"\",$D36*BO36)","v":""},null,{"$f":"IF($D36=\"\",\"\",$D36*BQ36)","v":""},null,{"$f":"IF($D36=\"\",\"\",$D36*BS36)","v":""},null,{"$f":"IF($D36=\"\",\"\",$D36*BU36)","v":""},null,{"$f":"IF($D36=\"\",\"\",$D36*BW36)","v":""},null,0,""]
[null,{"$f":"+'DATOS SGO'!B58","v":0},{"$f":"IF(B37=0, \"\",VLOOKUP(B37,PRESUPUESTO!$B$17:$C$4611, 2, FALSE))","v":""},{"$f":"+'DATOS SGO'!H58","v":""},null,"",null,"",null,{"$f":"IF($D37=\"\",\"\",$D37*I37)","v":""},null,{"$f":"IF($D37=\"\",\"\",$D37*K37)","v":""},null,{"$f":"IF($D37=\"\",\"\",$D37*M37)","v":""},null,{"$f":"IF($D37=\"\",\"\",$D37*O37)","v":""},null,{"$f":"IF($D37=\"\",\"\",$D37*Q37)","v":""},null,{"$f":"IF($D37=\"\",\"\",$D37*S37)","v":""},null,{"$f":"IF($D37=\"\",\"\",$D37*U37)","v":""},null,{"$f":"IF($D37=\"\",\"\",$D37*W37)","v":""},null,{"$f":"IF($D37=\"\",\"\",$D37*Y37)","v":""},null,{"$f":"IF($D37=\"\",\"\",$D37*AA37)","v":""},null,{"$f":"IF($D37=\"\",\"\",$D37*AC37)","v":""},null,{"$f":"IF($D37=\"\",\"\",$D37*AE37)","v":""},null,{"$f":"IF($D37=\"\",\"\",$D37*AG37)","v":""},null,{"$f":"IF($D37=\"\",\"\",$D37*AI37)","v":""},null,{"$f":"IF($D37=\"\",\"\",$D37*AK37)","v":""},null,{"$f":"IF($D37=\"\",\"\",$D37*AM37)","v":""},null,{"$f":"IF($D37=\"\",\"\",$D37*AO37)","v":""},null,{"$f":"IF($D37=\"\",\"\",$D37*AQ37)","v":""},null,{"$f":"IF($D37=\"\",\"\",$D37*AS37)","v":""},null,{"$f":"IF($D37=\"\",\"\",$D37*AU37)","v":""},null,{"$f":"IF($D37=\"\",\"\",$D37*AW37)","v":""},null,{"$f":"IF($D37=\"\",\"\",$D37*AY37)","v":""},null,{"$f":"IF($D37=\"\",\"\",$D37*BA37)","v":""},null,{"$f":"IF($D37=\"\",\"\",$D37*BC37)","v":""},null,{"$f":"IF($D37=\"\",\"\",$D37*BE37)","v":""},null,{"$f":"IF($D37=\"\",\"\",$D37*BG37)","v":""},null,{"$f":"IF($D37=\"\",\"\",$D37*BI37)","v":""},null,{"$f":"IF($D37=\"\",\"\",$D37*BK37)","v":""},null,{"$f":"IF($D37=\"\",\"\",$D37*BM37)","v":""},null,{"$f":"IF($D37=\"\",\"\",$D37*BO37)","v":""},null,{"$f":"IF($D37=\"\",\"\",$D37*BQ37)","v":""},null,{"$f":"IF($D37=\"\",\"\",$D37*BS37)","v":""},null,{"$f":"IF($D37=\"\",\"\",$D37*BU37)","v":""},null,{"$f":"IF($D37=\"\",\"\",$D37*BW37)","v":""},null,0,""]
[null,{"$f":"+'DATOS SGO'!B59","v":0},{"$f":"IF(B38=0, \"\",VLOOKUP(B38,PRESUPUESTO!$B$17:$C$4611, 2, FALSE))","v":""},{"$f":"+'DATOS SGO'!H59","v":""},null,"",null,"",null,{"$f":"IF($D38=\"\",\"\",$D38*I38)","v":""},null,{"$f":"IF($D38=\"\",\"\",$D38*K38)","v":""},null,{"$f":"IF($D38=\"\",\"\",$D38*M38)","v":""},null,{"$f":"IF($D38=\"\",\"\",$D38*O38)","v":""},null,{"$f":"IF($D38=\"\",\"\",$D38*Q38)","v":""},null,{"$f":"IF($D38=\"\",\"\",$D38*S38)","v":""},null,{"$f":"IF($D38=\"\",\"\",$D38*U38)","v":""},null,{"$f":"IF($D38=\"\",\"\",$D38*W38)","v":""},null,{"$f":"IF($D38=\"\",\"\",$D38*Y38)","v":""},null,{"$f":"IF($D38=\"\",\"\",$D38*AA38)","v":""},null,{"$f":"IF($D38=\"\",\"\",$D38*AC38)","v":""},null,{"$f":"IF($D38=\"\",\"\",$D38*AE38)","v":""},null,{"$f":"IF($D38=\"\",\"\",$D38*AG38)","v":""},null,{"$f":"IF($D38=\"\",\"\",$D38*AI38)","v":""},null,{"$f":"IF($D38=\"\",\"\",$D38*AK38)","v":""},null,{"$f":"IF($D38=\"\",\"\",$D38*AM38)","v":""},null,{"$f":"IF($D38=\"\",\"\",$D38*AO38)","v":""},null,{"$f":"IF($D38=\"\",\"\",$D38*AQ38)","v":""},null,{"$f":"IF($D38=\"\",\"\",$D38*AS38)","v":""},null,{"$f":"IF($D38=\"\",\"\",$D38*AU38)","v":""},null,{"$f":"IF($D38=\"\",\"\",$D38*AW38)","v":""},null,{"$f":"IF($D38=\"\",\"\",$D38*AY38)","v":""},null,{"$f":"IF($D38=\"\",\"\",$D38*BA38)","v":""},null,{"$f":"IF($D38=\"\",\"\",$D38*BC38)","v":""},null,{"$f":"IF($D38=\"\",\"\",$D38*BE38)","v":""},null,{"$f":"IF($D38=\"\",\"\",$D38*BG38)","v":""},null,{"$f":"IF($D38=\"\",\"\",$D38*BI38)","v":""},null,{"$f":"IF($D38=\"\",\"\",$D38*BK38)","v":""},null,{"$f":"IF($D38=\"\",\"\",$D38*BM38)","v":""},null,{"$f":"IF($D38=\"\",\"\",$D38*BO38)","v":""},null,{"$f":"IF($D38=\"\",\"\",$D38*BQ38)","v":""},null,{"$f":"IF($D38=\"\",\"\",$D38*BS38)","v":""},null,{"$f":"IF($D38=\"\",\"\",$D38*BU38)","v":""},null,{"$f":"IF($D38=\"\",\"\",$D38*BW38)","v":""},null,0,""]
[null,{"$f":"+'DATOS SGO'!B60","v":0},{"$f":"IF(B39=0, \"\",VLOOKUP(B39,PRESUPUESTO!$B$17:$C$4611, 2, FALSE))","v":""},{"$f":"+'DATOS SGO'!H60","v":""},null,"",null,"",null,{"$f":"IF($D39=\"\",\"\",$D39*I39)","v":""},null,{"$f":"IF($D39=\"\",\"\",$D39*K39)","v":""},null,{"$f":"IF($D39=\"\",\"\",$D39*M39)","v":""},null,{"$f":"IF($D39=\"\",\"\",$D39*O39)","v":""},null,{"$f":"IF($D39=\"\",\"\",$D39*Q39)","v":""},null,{"$f":"IF($D39=\"\",\"\",$D39*S39)","v":""},null,{"$f":"IF($D39=\"\",\"\",$D39*U39)","v":""},null,{"$f":"IF($D39=\"\",\"\",$D39*W39)","v":""},null,{"$f":"IF($D39=\"\",\"\",$D39*Y39)","v":""},null,{"$f":"IF($D39=\"\",\"\",$D39*AA39)","v":""},null,{"$f":"IF($D39=\"\",\"\",$D39*AC39)","v":""},null,{"$f":"IF($D39=\"\",\"\",$D39*AE39)","v":""},null,{"$f":"IF($D39=\"\",\"\",$D39*AG39)","v":""},null,{"$f":"IF($D39=\"\",\"\",$D39*AI39)","v":""},null,{"$f":"IF($D39=\"\",\"\",$D39*AK39)","v":""},null,{"$f":"IF($D39=\"\",\"\",$D39*AM39)","v":""},null,{"$f":"IF($D39=\"\",\"\",$D39*AO39)","v":""},null,{"$f":"IF($D39=\"\",\"\",$D39*AQ39)","v":""},null,{"$f":"IF($D39=\"\",\"\",$D39*AS39)","v":""},null,{"$f":"IF($D39=\"\",\"\",$D39*AU39)","v":""},null,{"$f":"IF($D39=\"\",\"\",$D39*AW39)","v":""},null,{"$f":"IF($D39=\"\",\"\",$D39*AY39)","v":""},null,{"$f":"IF($D39=\"\",\"\",$D39*BA39)","v":""},null,{"$f":"IF($D39=\"\",\"\",$D39*BC39)","v":""},null,{"$f":"IF($D39=\"\",\"\",$D39*BE39)","v":""},null,{"$f":"IF($D39=\"\",\"\",$D39*BG39)","v":""},null,{"$f":"IF($D39=\"\",\"\",$D39*BI39)","v":""},null,{"$f":"IF($D39=\"\",\"\",$D39*BK39)","v":""},null,{"$f":"IF($D39=\"\",\"\",$D39*BM39)","v":""},null,{"$f":"IF($D39=\"\",\"\",$D39*BO39)","v":""},null,{"$f":"IF($D39=\"\",\"\",$D39*BQ39)","v":""},null,{"$f":"IF($D39=\"\",\"\",$D39*BS39)","v":""},null,{"$f":"IF($D39=\"\",\"\",$D39*BU39)","v":""},null,{"$f":"IF($D39=\"\",\"\",$D39*BW39)","v":""},null,0,""]
[null,{"$f":"+'DATOS SGO'!B61","v":0},{"$f":"IF(B40=0, \"\",VLOOKUP(B40,PRESUPUESTO!$B$17:$C$4611, 2, FALSE))","v":""},{"$f":"+'DATOS SGO'!H61","v":""},null,"",null,"",null,{"$f":"IF($D40=\"\",\"\",$D40*I40)","v":""},null,{"$f":"IF($D40=\"\",\"\",$D40*K40)","v":""},null,{"$f":"IF($D40=\"\",\"\",$D40*M40)","v":""},null,{"$f":"IF($D40=\"\",\"\",$D40*O40)","v":""},null,{"$f":"IF($D40=\"\",\"\",$D40*Q40)","v":""},null,{"$f":"IF($D40=\"\",\"\",$D40*S40)","v":""},null,{"$f":"IF($D40=\"\",\"\",$D40*U40)","v":""},null,{"$f":"IF($D40=\"\",\"\",$D40*W40)","v":""},null,{"$f":"IF($D40=\"\",\"\",$D40*Y40)","v":""},null,{"$f":"IF($D40=\"\",\"\",$D40*AA40)","v":""},null,{"$f":"IF($D40=\"\",\"\",$D40*AC40)","v":""},null,{"$f":"IF($D40=\"\",\"\",$D40*AE40)","v":""},null,{"$f":"IF($D40=\"\",\"\",$D40*AG40)","v":""},null,{"$f":"IF($D40=\"\",\"\",$D40*AI40)","v":""},null,{"$f":"IF($D40=\"\",\"\",$D40*AK40)","v":""},null,{"$f":"IF($D40=\"\",\"\",$D40*AM40)","v":""},null,{"$f":"IF($D40=\"\",\"\",$D40*AO40)","v":""},null,{"$f":"IF($D40=\"\",\"\",$D40*AQ40)","v":""},null,{"$f":"IF($D40=\"\",\"\",$D40*AS40)","v":""},null,{"$f":"IF($D40=\"\",\"\",$D40*AU40)","v":""},null,{"$f":"IF($D40=\"\",\"\",$D40*AW40)","v":""},null,{"$f":"IF($D40=\"\",\"\",$D40*AY40)","v":""},null,{"$f":"IF($D40=\"\",\"\",$D40*BA40)","v":""},null,{"$f":"IF($D40=\"\",\"\",$D40*BC40)","v":""},null,{"$f":"IF($D40=\"\",\"\",$D40*BE40)","v":""},null,{"$f":"IF($D40=\"\",\"\",$D40*BG40)","v":""},null,{"$f":"IF($D40=\"\",\"\",$D40*BI40)","v":""},null,{"$f":"IF($D40=\"\",\"\",$D40*BK40)","v":""},null,{"$f":"IF($D40=\"\",\"\",$D40*BM40)","v":""},null,{"$f":"IF($D40=\"\",\"\",$D40*BO40)","v":""},null,{"$f":"IF($D40=\"\",\"\",$D40*BQ40)","v":""},null,{"$f":"IF($D40=\"\",\"\",$D40*BS40)","v":""},null,{"$f":"IF($D40=\"\",\"\",$D40*BU40)","v":""},null,{"$f":"IF($D40=\"\",\"\",$D40*BW40)","v":""},null,0,""]
[null,{"$f":"+'DATOS SGO'!B62","v":0},{"$f":"IF(B41=0, \"\",VLOOKUP(B41,PRESUPUESTO!$B$17:$C$4611, 2, FALSE))","v":""},{"$f":"+'DATOS SGO'!H62","v":""},null,"",null,"",null,{"$f":"IF($D41=\"\",\"\",$D41*I41)","v":""},null,{"$f":"IF($D41=\"\",\"\",$D41*K41)","v":""},null,{"$f":"IF($D41=\"\",\"\",$D41*M41)","v":""},null,{"$f":"IF($D41=\"\",\"\",$D41*O41)","v":""},null,{"$f":"IF($D41=\"\",\"\",$D41*Q41)","v":""},null,{"$f":"IF($D41=\"\",\"\",$D41*S41)","v":""},null,{"$f":"IF($D41=\"\",\"\",$D41*U41)","v":""},null,{"$f":"IF($D41=\"\",\"\",$D41*W41)","v":""},null,{"$f":"IF($D41=\"\",\"\",$D41*Y41)","v":""},null,{"$f":"IF($D41=\"\",\"\",$D41*AA41)","v":""},null,{"$f":"IF($D41=\"\",\"\",$D41*AC41)","v":""},null,{"$f":"IF($D41=\"\",\"\",$D41*AE41)","v":""},null,{"$f":"IF($D41=\"\",\"\",$D41*AG41)","v":""},null,{"$f":"IF($D41=\"\",\"\",$D41*AI41)","v":""},null,{"$f":"IF($D41=\"\",\"\",$D41*AK41)","v":""},null,{"$f":"IF($D41=\"\",\"\",$D41*AM41)","v":""},null,{"$f":"IF($D41=\"\",\"\",$D41*AO41)","v":""},null,{"$f":"IF($D41=\"\",\"\",$D41*AQ41)","v":""},null,{"$f":"IF($D41=\"\",\"\",$D41*AS41)","v":""},null,{"$f":"IF($D41=\"\",\"\",$D41*AU41)","v":""},null,{"$f":"IF($D41=\"\",\"\",$D41*AW41)","v":""},null,{"$f":"IF($D41=\"\",\"\",$D41*AY41)","v":""},null,{"$f":"IF($D41=\"\",\"\",$D41*BA41)","v":""},null,{"$f":"IF($D41=\"\",\"\",$D41*BC41)","v":""},null,{"$f":"IF($D41=\"\",\"\",$D41*BE41)","v":""},null,{"$f":"IF($D41=\"\",\"\",$D41*BG41)","v":""},null,{"$f":"IF($D41=\"\",\"\",$D41*BI41)","v":""},null,{"$f":"IF($D41=\"\",\"\",$D41*BK41)","v":""},null,{"$f":"IF($D41=\"\",\"\",$D41*BM41)","v":""},null,{"$f":"IF($D41=\"\",\"\",$D41*BO41)","v":""},null,{"$f":"IF($D41=\"\",\"\",$D41*BQ41)","v":""},null,{"$f":"IF($D41=\"\",\"\",$D41*BS41)","v":""},null,{"$f":"IF($D41=\"\",\"\",$D41*BU41)","v":""},null,{"$f":"IF($D41=\"\",\"\",$D41*BW41)","v":""},null,0,""]
[null,{"$f":"+'DATOS SGO'!B63","v":0},{"$f":"IF(B42=0, \"\",VLOOKUP(B42,PRESUPUESTO!$B$17:$C$4611, 2, FALSE))","v":""},{"$f":"+'DATOS SGO'!H63","v":""},null,"",null,"",null,{"$f":"IF($D42=\"\",\"\",$D42*I42)","v":""},null,{"$f":"IF($D42=\"\",\"\",$D42*K42)","v":""},null,{"$f":"IF($D42=\"\",\"\",$D42*M42)","v":""},null,{"$f":"IF($D42=\"\",\"\",$D42*O42)","v":""},null,{"$f":"IF($D42=\"\",\"\",$D42*Q42)","v":""},null,{"$f":"IF($D42=\"\",\"\",$D42*S42)","v":""},null,{"$f":"IF($D42=\"\",\"\",$D42*U42)","v":""},null,{"$f":"IF($D42=\"\",\"\",$D42*W42)","v":""},null,{"$f":"IF($D42=\"\",\"\",$D42*Y42)","v":""},null,{"$f":"IF($D42=\"\",\"\",$D42*AA42)","v":""},null,{"$f":"IF($D42=\"\",\"\",$D42*AC42)","v":""},null,{"$f":"IF($D42=\"\",\"\",$D42*AE42)","v":""},null,{"$f":"IF($D42=\"\",\"\",$D42*AG42)","v":""},null,{"$f":"IF($D42=\"\",\"\",$D42*AI42)","v":""},null,{"$f":"IF($D42=\"\",\"\",$D42*AK42)","v":""},null,{"$f":"IF($D42=\"\",\"\",$D42*AM42)","v":""},null,{"$f":"IF($D42=\"\",\"\",$D42*AO42)","v":""},null,{"$f":"IF($D42=\"\",\"\",$D42*AQ42)","v":""},null,{"$f":"IF($D42=\"\",\"\",$D42*AS42)","v":""},null,{"$f":"IF($D42=\"\",\"\",$D42*AU42)","v":""},null,{"$f":"IF($D42=\"\",\"\",$D42*AW42)","v":""},null,{"$f":"IF($D42=\"\",\"\",$D42*AY42)","v":""},null,{"$f":"IF($D42=\"\",\"\",$D42*BA42)","v":""},null,{"$f":"IF($D42=\"\",\"\",$D42*BC42)","v":""},null,{"$f":"IF($D42=\"\",\"\",$D42*BE42)","v":""},null,{"$f":"IF($D42=\"\",\"\",$D42*BG42)","v":""},null,{"$f":"IF($D42=\"\",\"\",$D42*BI42)","v":""},null,{"$f":"IF($D42=\"\",\"\",$D42*BK42)","v":""},null,{"$f":"IF($D42=\"\",\"\",$D42*BM42)","v":""},null,{"$f":"IF($D42=\"\",\"\",$D42*BO42)","v":""},null,{"$f":"IF($D42=\"\",\"\",$D42*BQ42)","v":""},null,{"$f":"IF($D42=\"\",\"\",$D42*BS42)","v":""},null,{"$f":"IF($D42=\"\",\"\",$D42*BU42)","v":""},null,{"$f":"IF($D42=\"\",\"\",$D42*BW42)","v":""},null,0,""]
[null,{"$f":"+'DATOS SGO'!B64","v":0},{"$f":"IF(B43=0, \"\",VLOOKUP(B43,PRESUPUESTO!$B$17:$C$4611, 2, FALSE))","v":""},{"$f":"+'DATOS SGO'!H64","v":""},null,"",null,"",null,{"$f":"IF($D43=\"\",\"\",$D43*I43)","v":""},null,{"$f":"IF($D43=\"\",\"\",$D43*K43)","v":""},null,{"$f":"IF($D43=\"\",\"\",$D43*M43)","v":""},null,{"$f":"IF($D43=\"\",\"\",$D43*O43)","v":""},null,{"$f":"IF($D43=\"\",\"\",$D43*Q43)","v":""},null,{"$f":"IF($D43=\"\",\"\",$D43*S43)","v":""},null,{"$f":"IF($D43=\"\",\"\",$D43*U43)","v":""},null,{"$f":"IF($D43=\"\",\"\",$D43*W43)","v":""},null,{"$f":"IF($D43=\"\",\"\",$D43*Y43)","v":""},null,{"$f":"IF($D43=\"\",\"\",$D43*AA43)","v":""},null,{"$f":"IF($D43=\"\",\"\",$D43*AC43)","v":""},null,{"$f":"IF($D43=\"\",\"\",$D43*AE43)","v":""},null,{"$f":"IF($D43=\"\",\"\",$D43*AG43)","v":""},null,{"$f":"IF($D43=\"\",\"\",$D43*AI43)","v":""},null,{"$f":"IF($D43=\"\",\"\",$D43*AK43)","v":""},null,{"$f":"IF($D43=\"\",\"\",$D43*AM43)","v":""},null,{"$f":"IF($D43=\"\",\"\",$D43*AO43)","v":""},null,{"$f":"IF($D43=\"\",\"\",$D43*AQ43)","v":""},null,{"$f":"IF($D43=\"\",\"\",$D43*AS43)","v":""},null,{"$f":"IF($D43=\"\",\"\",$D43*AU43)","v":""},null,{"$f":"IF($D43=\"\",\"\",$D43*AW43)","v":""},null,{"$f":"IF($D43=\"\",\"\",$D43*AY43)","v":""},null,{"$f":"IF($D43=\"\",\"\",$D43*BA43)","v":""},null,{"$f":"IF($D43=\"\",\"\",$D43*BC43)","v":""},null,{"$f":"IF($D43=\"\",\"\",$D43*BE43)","v":""},null,{"$f":"IF($D43=\"\",\"\",$D43*BG43)","v":""},null,{"$f":"IF($D43=\"\",\"\",$D43*BI43)","v":""},null,{"$f":"IF($D43=\"\",\"\",$D43*BK43)","v":""},null,{"$f":"IF($D43=\"\",\"\",$D43*BM43)","v":""},null,{"$f":"IF($D43=\"\",\"\",$D43*BO43)","v":""},null,{"$f":"IF($D43=\"\",\"\",$D43*BQ43)","v":""},null,{"$f":"IF($D43=\"\",\"\",$D43*BS43)","v":""},null,{"$f":"IF($D43=\"\",\"\",$D43*BU43)","v":""},null,{"$f":"IF($D43=\"\",\"\",$D43*BW43)","v":""},null,0,""]
[null,{"$f":"+'DATOS SGO'!B65","v":0},{"$f":"IF(B44=0, \"\",VLOOKUP(B44,PRESUPUESTO!$B$17:$C$4611, 2, FALSE))","v":""},{"$f":"+'DATOS SGO'!H65","v":""},null,"",null,"",null,{"$f":"IF($D44=\"\",\"\",$D44*I44)","v":""},null,{"$f":"IF($D44=\"\",\"\",$D44*K44)","v":""},null,{"$f":"IF($D44=\"\",\"\",$D44*M44)","v":""},null,{"$f":"IF($D44=\"\",\"\",$D44*O44)","v":""},null,{"$f":"IF($D44=\"\",\"\",$D44*Q44)","v":""},null,{"$f":"IF($D44=\"\",\"\",$D44*S44)","v":""},null,{"$f":"IF($D44=\"\",\"\",$D44*U44)","v":""},null,{"$f":"IF($D44=\"\",\"\",$D44*W44)","v":""},null,{"$f":"IF($D44=\"\",\"\",$D44*Y44)","v":""},null,{"$f":"IF($D44=\"\",\"\",$D44*AA44)","v":""},null,{"$f":"IF($D44=\"\",\"\",$D44*AC44)","v":""},null,{"$f":"IF($D44=\"\",\"\",$D44*AE44)","v":""},null,{"$f":"IF($D44=\"\",\"\",$D44*AG44)","v":""},null,{"$f":"IF($D44=\"\",\"\",$D44*AI44)","v":""},null,{"$f":"IF($D44=\"\",\"\",$D44*AK44)","v":""},null,{"$f":"IF($D44=\"\",\"\",$D44*AM44)","v":""},null,{"$f":"IF($D44=\"\",\"\",$D44*AO44)","v":""},null,{"$f":"IF($D44=\"\",\"\",$D44*AQ44)","v":""},null,{"$f":"IF($D44=\"\",\"\",$D44*AS44)","v":""},null,{"$f":"IF($D44=\"\",\"\",$D44*AU44)","v":""},null,{"$f":"IF($D44=\"\",\"\",$D44*AW44)","v":""},null,{"$f":"IF($D44=\"\",\"\",$D44*AY44)","v":""},null,{"$f":"IF($D44=\"\",\"\",$D44*BA44)","v":""},null,{"$f":"IF($D44=\"\",\"\",$D44*BC44)","v":""},null,{"$f":"IF($D44=\"\",\"\",$D44*BE44)","v":""},null,{"$f":"IF($D44=\"\",\"\",$D44*BG44)","v":""},null,{"$f":"IF($D44=\"\",\"\",$D44*BI44)","v":""},null,{"$f":"IF($D44=\"\",\"\",$D44*BK44)","v":""},null,{"$f":"IF($D44=\"\",\"\",$D44*BM44)","v":""},null,{"$f":"IF($D44=\"\",\"\",$D44*BO44)","v":""},null,{"$f":"IF($D44=\"\",\"\",$D44*BQ44)","v":""},null,{"$f":"IF($D44=\"\",\"\",$D44*BS44)","v":""},null,{"$f":"IF($D44=\"\",\"\",$D44*BU44)","v":""},null,{"$f":"IF($D44=\"\",\"\",$D44*BW44)","v":""},null,0,""]
[null,{"$f":"+'DATOS SGO'!B66","v":0},{"$f":"IF(B45=0, \"\",VLOOKUP(B45,PRESUPUESTO!$B$17:$C$4611, 2, FALSE))","v":""},{"$f":"+'DATOS SGO'!H66","v":""},null,"",null,"",null,{"$f":"IF($D45=\"\",\"\",$D45*I45)","v":""},null,{"$f":"IF($D45=\"\",\"\",$D45*K45)","v":""},null,{"$f":"IF($D45=\"\",\"\",$D45*M45)","v":""},null,{"$f":"IF($D45=\"\",\"\",$D45*O45)","v":""},null,{"$f":"IF($D45=\"\",\"\",$D45*Q45)","v":""},null,{"$f":"IF($D45=\"\",\"\",$D45*S45)","v":""},null,{"$f":"IF($D45=\"\",\"\",$D45*U45)","v":""},null,{"$f":"IF($D45=\"\",\"\",$D45*W45)","v":""},null,{"$f":"IF($D45=\"\",\"\",$D45*Y45)","v":""},null,{"$f":"IF($D45=\"\",\"\",$D45*AA45)","v":""},null,{"$f":"IF($D45=\"\",\"\",$D45*AC45)","v":""},null,{"$f":"IF($D45=\"\",\"\",$D45*AE45)","v":""},null,{"$f":"IF($D45=\"\",\"\",$D45*AG45)","v":""},null,{"$f":"IF($D45=\"\",\"\",$D45*AI45)","v":""},null,{"$f":"IF($D45=\"\",\"\",$D45*AK45)","v":""},null,{"$f":"IF($D45=\"\",\"\",$D45*AM45)","v":""},null,{"$f":"IF($D45=\"\",\"\",$D45*AO45)","v":""},null,{"$f":"IF($D45=\"\",\"\",$D45*AQ45)","v":""},null,{"$f":"IF($D45=\"\",\"\",$D45*AS45)","v":""},null,{"$f":"IF($D45=\"\",\"\",$D45*AU45)","v":""},null,{"$f":"IF($D45=\"\",\"\",$D45*AW45)","v":""},null,{"$f":"IF($D45=\"\",\"\",$D45*AY45)","v":""},null,{"$f":"IF($D45=\"\",\"\",$D45*BA45)","v":""},null,{"$f":"IF($D45=\"\",\"\",$D45*BC45)","v":""},null,{"$f":"IF($D45=\"\",\"\",$D45*BE45)","v":""},null,{"$f":"IF($D45=\"\",\"\",$D45*BG45)","v":""},null,{"$f":"IF($D45=\"\",\"\",$D45*BI45)","v":""},null,{"$f":"IF($D45=\"\",\"\",$D45*BK45)","v":""},null,{"$f":"IF($D45=\"\",\"\",$D45*BM45)","v":""},null,{"$f":"IF($D45=\"\",\"\",$D45*BO45)","v":""},null,{"$f":"IF($D45=\"\",\"\",$D45*BQ45)","v":""},null,{"$f":"IF($D45=\"\",\"\",$D45*BS45)","v":""},null,{"$f":"IF($D45=\"\",\"\",$D45*BU45)","v":""},null,{"$f":"IF($D45=\"\",\"\",$D45*BW45)","v":""},null,0,""]
[null,{"$f":"+'DATOS SGO'!B67","v":0},{"$f":"IF(B46=0, \"\",VLOOKUP(B46,PRESUPUESTO!$B$17:$C$4611, 2, FALSE))","v":""},{"$f":"+'DATOS SGO'!H67","v":""},null,"",null,"",null,{"$f":"IF($D46=\"\",\"\",$D46*I46)","v":""},null,{"$f":"IF($D46=\"\",\"\",$D46*K46)","v":""},null,{"$f":"IF($D46=\"\",\"\",$D46*M46)","v":""},null,{"$f":"IF($D46=\"\",\"\",$D46*O46)","v":""},null,{"$f":"IF($D46=\"\",\"\",$D46*Q46)","v":""},null,{"$f":"IF($D46=\"\",\"\",$D46*S46)","v":""},null,{"$f":"IF($D46=\"\",\"\",$D46*U46)","v":""},null,{"$f":"IF($D46=\"\",\"\",$D46*W46)","v":""},null,{"$f":"IF($D46=\"\",\"\",$D46*Y46)","v":""},null,{"$f":"IF($D46=\"\",\"\",$D46*AA46)","v":""},null,{"$f":"IF($D46=\"\",\"\",$D46*AC46)","v":""},null,{"$f":"IF($D46=\"\",\"\",$D46*AE46)","v":""},null,{"$f":"IF($D46=\"\",\"\",$D46*AG46)","v":""},null,{"$f":"IF($D46=\"\",\"\",$D46*AI46)","v":""},null,{"$f":"IF($D46=\"\",\"\",$D46*AK46)","v":""},null,{"$f":"IF($D46=\"\",\"\",$D46*AM46)","v":""},null,{"$f":"IF($D46=\"\",\"\",$D46*AO46)","v":""},null,{"$f":"IF($D46=\"\",\"\",$D46*AQ46)","v":""},null,{"$f":"IF($D46=\"\",\"\",$D46*AS46)","v":""},null,{"$f":"IF($D46=\"\",\"\",$D46*AU46)","v":""},null,{"$f":"IF($D46=\"\",\"\",$D46*AW46)","v":""},null,{"$f":"IF($D46=\"\",\"\",$D46*AY46)","v":""},null,{"$f":"IF($D46=\"\",\"\",$D46*BA46)","v":""},null,{"$f":"IF($D46=\"\",\"\",$D46*BC46)","v":""},null,{"$f":"IF($D46=\"\",\"\",$D46*BE46)","v":""},null,{"$f":"IF($D46=\"\",\"\",$D46*BG46)","v":""},null,{"$f":"IF($D46=\"\",\"\",$D46*BI46)","v":""},null,{"$f":"IF($D46=\"\",\"\",$D46*BK46)","v":""},null,{"$f":"IF($D46=\"\",\"\",$D46*BM46)","v":""},null,{"$f":"IF($D46=\"\",\"\",$D46*BO46)","v":""},null,{"$f":"IF($D46=\"\",\"\",$D46*BQ46)","v":""},null,{"$f":"IF($D46=\"\",\"\",$D46*BS46)","v":""},null,{"$f":"IF($D46=\"\",\"\",$D46*BU46)","v":""},null,{"$f":"IF($D46=\"\",\"\",$D46*BW46)","v":""},null,0,""]
[null,{"$f":"+'DATOS SGO'!B68","v":0},{"$f":"IF(B47=0, \"\",VLOOKUP(B47,PRESUPUESTO!$B$17:$C$4611, 2, FALSE))","v":""},{"$f":"+'DATOS SGO'!H68","v":""},null,"",null,"",null,{"$f":"IF($D47=\"\",\"\",$D47*I47)","v":""},null,{"$f":"IF($D47=\"\",\"\",$D47*K47)","v":""},null,{"$f":"IF($D47=\"\",\"\",$D47*M47)","v":""},null,{"$f":"IF($D47=\"\",\"\",$D47*O47)","v":""},null,{"$f":"IF($D47=\"\",\"\",$D47*Q47)","v":""},null,{"$f":"IF($D47=\"\",\"\",$D47*S47)","v":""},null,{"$f":"IF($D47=\"\",\"\",$D47*U47)","v":""},null,{"$f":"IF($D47=\"\",\"\",$D47*W47)","v":""},null,{"$f":"IF($D47=\"\",\"\",$D47*Y47)","v":""},null,{"$f":"IF($D47=\"\",\"\",$D47*AA47)","v":""},null,{"$f":"IF($D47=\"\",\"\",$D47*AC47)","v":""},null,{"$f":"IF($D47=\"\",\"\",$D47*AE47)","v":""},null,{"$f":"IF($D47=\"\",\"\",$D47*AG47)","v":""},null,{"$f":"IF($D47=\"\",\"\",$D47*AI47)","v":""},null,{"$f":"IF($D47=\"\",\"\",$D47*AK47)","v":""},null,{"$f":"IF($D47=\"\",\"\",$D47*AM47)","v":""},null,{"$f":"IF($D47=\"\",\"\",$D47*AO47)","v":""},null,{"$f":"IF($D47=\"\",\"\",$D47*AQ47)","v":""},null,{"$f":"IF($D47=\"\",\"\",$D47*AS47)","v":""},null,{"$f":"IF($D47=\"\",\"\",$D47*AU47)","v":""},null,{"$f":"IF($D47=\"\",\"\",$D47*AW47)","v":""},null,{"$f":"IF($D47=\"\",\"\",$D47*AY47)","v":""},null,{"$f":"IF($D47=\"\",\"\",$D47*BA47)","v":""},null,{"$f":"IF($D47=\"\",\"\",$D47*BC47)","v":""},null,{"$f":"IF($D47=\"\",\"\",$D47*BE47)","v":""},null,{"$f":"IF($D47=\"\",\"\",$D47*BG47)","v":""},null,{"$f":"IF($D47=\"\",\"\",$D47*BI47)","v":""},null,{"$f":"IF($D47=\"\",\"\",$D47*BK47)","v":""},null,{"$f":"IF($D47=\"\",\"\",$D47*BM47)","v":""},null,{"$f":"IF($D47=\"\",\"\",$D47*BO47)","v":""},null,{"$f":"IF($D47=\"\",\"\",$D47*BQ47)","v":""},null,{"$f":"IF($D47=\"\",\"\",$D47*BS47)","v":""},null,{"$f":"IF($D47=\"\",\"\",$D47*BU47)","v":""},null,{"$f":"IF($D47=\"\",\"\",$D47*BW47)","v":""},null,0,""]
[null,{"$f":"+'DATOS SGO'!B69","v":0},{"$f":"IF(B48=0, \"\",VLOOKUP(B48,PRESUPUESTO!$B$17:$C$4611, 2, FALSE))","v":""},{"$f":"+'DATOS SGO'!H69","v":""},null,"",null,"",null,{"$f":"IF($D48=\"\",\"\",$D48*I48)","v":""},null,{"$f":"IF($D48=\"\",\"\",$D48*K48)","v":""},null,{"$f":"IF($D48=\"\",\"\",$D48*M48)","v":""},null,{"$f":"IF($D48=\"\",\"\",$D48*O48)","v":""},null,{"$f":"IF($D48=\"\",\"\",$D48*Q48)","v":""},null,{"$f":"IF($D48=\"\",\"\",$D48*S48)","v":""},null,{"$f":"IF($D48=\"\",\"\",$D48*U48)","v":""},null,{"$f":"IF($D48=\"\",\"\",$D48*W48)","v":""},null,{"$f":"IF($D48=\"\",\"\",$D48*Y48)","v":""},null,{"$f":"IF($D48=\"\",\"\",$D48*AA48)","v":""},null,{"$f":"IF($D48=\"\",\"\",$D48*AC48)","v":""},null,{"$f":"IF($D48=\"\",\"\",$D48*AE48)","v":""},null,{"$f":"IF($D48=\"\",\"\",$D48*AG48)","v":""},null,{"$f":"IF($D48=\"\",\"\",$D48*AI48)","v":""},null,{"$f":"IF($D48=\"\",\"\",$D48*AK48)","v":""},null,{"$f":"IF($D48=\"\",\"\",$D48*AM48)","v":""},null,{"$f":"IF($D48=\"\",\"\",$D48*AO48)","v":""},null,{"$f":"IF($D48=\"\",\"\",$D48*AQ48)","v":""},null,{"$f":"IF($D48=\"\",\"\",$D48*AS48)","v":""},null,{"$f":"IF($D48=\"\",\"\",$D48*AU48)","v":""},null,{"$f":"IF($D48=\"\",\"\",$D48*AW48)","v":""},null,{"$f":"IF($D48=\"\",\"\",$D48*AY48)","v":""},null,{"$f":"IF($D48=\"\",\"\",$D48*BA48)","v":""},null,{"$f":"IF($D48=\"\",\"\",$D48*BC48)","v":""},null,{"$f":"IF($D48=\"\",\"\",$D48*BE48)","v":""},null,{"$f":"IF($D48=\"\",\"\",$D48*BG48)","v":""},null,{"$f":"IF($D48=\"\",\"\",$D48*BI48)","v":""},null,{"$f":"IF($D48=\"\",\"\",$D48*BK48)","v":""},null,{"$f":"IF($D48=\"\",\"\",$D48*BM48)","v":""},null,{"$f":"IF($D48=\"\",\"\",$D48*BO48)","v":""},null,{"$f":"IF($D48=\"\",\"\",$D48*BQ48)","v":""},null,{"$f":"IF($D48=\"\",\"\",$D48*BS48)","v":""},null,{"$f":"IF($D48=\"\",\"\",$D48*BU48)","v":""},null,{"$f":"IF($D48=\"\",\"\",$D48*BW48)","v":""},null,0,""]
[null,{"$f":"+'DATOS SGO'!B70","v":0},{"$f":"IF(B49=0, \"\",VLOOKUP(B49,PRESUPUESTO!$B$17:$C$4611, 2, FALSE))","v":""},{"$f":"+'DATOS SGO'!H70","v":""},null,"",null,"",null,{"$f":"IF($D49=\"\",\"\",$D49*I49)","v":""},null,{"$f":"IF($D49=\"\",\"\",$D49*K49)","v":""},null,{"$f":"IF($D49=\"\",\"\",$D49*M49)","v":""},null,{"$f":"IF($D49=\"\",\"\",$D49*O49)","v":""},null,{"$f":"IF($D49=\"\",\"\",$D49*Q49)","v":""},null,{"$f":"IF($D49=\"\",\"\",$D49*S49)","v":""},null,{"$f":"IF($D49=\"\",\"\",$D49*U49)","v":""},null,{"$f":"IF($D49=\"\",\"\",$D49*W49)","v":""},null,{"$f":"IF($D49=\"\",\"\",$D49*Y49)","v":""},null,{"$f":"IF($D49=\"\",\"\",$D49*AA49)","v":""},null,{"$f":"IF($D49=\"\",\"\",$D49*AC49)","v":""},null,{"$f":"IF($D49=\"\",\"\",$D49*AE49)","v":""},null,{"$f":"IF($D49=\"\",\"\",$D49*AG49)","v":""},null,{"$f":"IF($D49=\"\",\"\",$D49*AI49)","v":""},null,{"$f":"IF($D49=\"\",\"\",$D49*AK49)","v":""},null,{"$f":"IF($D49=\"\",\"\",$D49*AM49)","v":""},null,{"$f":"IF($D49=\"\",\"\",$D49*AO49)","v":""},null,{"$f":"IF($D49=\"\",\"\",$D49*AQ49)","v":""},null,{"$f":"IF($D49=\"\",\"\",$D49*AS49)","v":""},null,{"$f":"IF($D49=\"\",\"\",$D49*AU49)","v":""},null,{"$f":"IF($D49=\"\",\"\",$D49*AW49)","v":""},null,{"$f":"IF($D49=\"\",\"\",$D49*AY49)","v":""},null,{"$f":"IF($D49=\"\",\"\",$D49*BA49)","v":""},null,{"$f":"IF($D49=\"\",\"\",$D49*BC49)","v":""},null,{"$f":"IF($D49=\"\",\"\",$D49*BE49)","v":""},null,{"$f":"IF($D49=\"\",\"\",$D49*BG49)","v":""},null,{"$f":"IF($D49=\"\",\"\",$D49*BI49)","v":""},null,{"$f":"IF($D49=\"\",\"\",$D49*BK49)","v":""},null,{"$f":"IF($D49=\"\",\"\",$D49*BM49)","v":""},null,{"$f":"IF($D49=\"\",\"\",$D49*BO49)","v":""},null,{"$f":"IF($D49=\"\",\"\",$D49*BQ49)","v":""},null,{"$f":"IF($D49=\"\",\"\",$D49*BS49)","v":""},null,{"$f":"IF($D49=\"\",\"\",$D49*BU49)","v":""},null,{"$f":"IF($D49=\"\",\"\",$D49*BW49)","v":""},null,{"$f":"+E49+G49+I49+K49+M49+O49+Q49+S49+U49+W49+Y49+AA49+AC49+AE49+AG49+AI49+AK49+AM49+AO49+AQ49+AS49+AU49+AW49+AY49+BA49+BC49+BE49+BG49+BI49+BK49+BM49+BO49+BQ49+BS49+BU49+BW49","v":0},""]
[null,{"$f":"+'DATOS SGO'!B71","v":0},{"$f":"IF(B50=0, \"\",VLOOKUP(B50,PRESUPUESTO!$B$17:$C$4611, 2, FALSE))","v":""},{"$f":"+'DATOS SGO'!H71","v":""},null,"",null,"",null,{"$f":"IF($D50=\"\",\"\",$D50*I50)","v":""},null,{"$f":"IF($D50=\"\",\"\",$D50*K50)","v":""},null,{"$f":"IF($D50=\"\",\"\",$D50*M50)","v":""},null,{"$f":"IF($D50=\"\",\"\",$D50*O50)","v":""},null,{"$f":"IF($D50=\"\",\"\",$D50*Q50)","v":""},null,{"$f":"IF($D50=\"\",\"\",$D50*S50)","v":""},null,{"$f":"IF($D50=\"\",\"\",$D50*U50)","v":""},null,{"$f":"IF($D50=\"\",\"\",$D50*W50)","v":""},null,{"$f":"IF($D50=\"\",\"\",$D50*Y50)","v":""},null,{"$f":"IF($D50=\"\",\"\",$D50*AA50)","v":""},null,{"$f":"IF($D50=\"\",\"\",$D50*AC50)","v":""},null,{"$f":"IF($D50=\"\",\"\",$D50*AE50)","v":""},null,{"$f":"IF($D50=\"\",\"\",$D50*AG50)","v":""},null,{"$f":"IF($D50=\"\",\"\",$D50*AI50)","v":""},null,{"$f":"IF($D50=\"\",\"\",$D50*AK50)","v":""},null,{"$f":"IF($D50=\"\",\"\",$D50*AM50)","v":""},null,{"$f":"IF($D50=\"\",\"\",$D50*AO50)","v":""},null,{"$f":"IF($D50=\"\",\"\",$D50*AQ50)","v":""},null,{"$f":"IF($D50=\"\",\"\",$D50*AS50)","v":""},null,{"$f":"IF($D50=\"\",\"\",$D50*AU50)","v":""},null,{"$f":"IF($D50=\"\",\"\",$D50*AW50)","v":""},null,{"$f":"IF($D50=\"\",\"\",$D50*AY50)","v":""},null,{"$f":"IF($D50=\"\",\"\",$D50*BA50)","v":""},null,{"$f":"IF($D50=\"\",\"\",$D50*BC50)","v":""},null,{"$f":"IF($D50=\"\",\"\",$D50*BE50)","v":""},null,{"$f":"IF($D50=\"\",\"\",$D50*BG50)","v":""},null,{"$f":"IF($D50=\"\",\"\",$D50*BI50)","v":""},null,{"$f":"IF($D50=\"\",\"\",$D50*BK50)","v":""},null,{"$f":"IF($D50=\"\",\"\",$D50*BM50)","v":""},null,{"$f":"IF($D50=\"\",\"\",$D50*BO50)","v":""},null,{"$f":"IF($D50=\"\",\"\",$D50*BQ50)","v":""},null,{"$f":"IF($D50=\"\",\"\",$D50*BS50)","v":""},null,{"$f":"IF($D50=\"\",\"\",$D50*BU50)","v":""},null,{"$f":"IF($D50=\"\",\"\",$D50*BW50)","v":""},null,0,""]
[null,{"$f":"+'DATOS SGO'!B72","v":0},{"$f":"IF(B51=0, \"\",VLOOKUP(B51,PRESUPUESTO!$B$17:$C$4611, 2, FALSE))","v":""},{"$f":"+'DATOS SGO'!H72","v":""},null,"",null,"",null,{"$f":"IF($D51=\"\",\"\",$D51*I51)","v":""},null,{"$f":"IF($D51=\"\",\"\",$D51*K51)","v":""},null,{"$f":"IF($D51=\"\",\"\",$D51*M51)","v":""},null,{"$f":"IF($D51=\"\",\"\",$D51*O51)","v":""},null,{"$f":"IF($D51=\"\",\"\",$D51*Q51)","v":""},null,{"$f":"IF($D51=\"\",\"\",$D51*S51)","v":""},null,{"$f":"IF($D51=\"\",\"\",$D51*U51)","v":""},null,{"$f":"IF($D51=\"\",\"\",$D51*W51)","v":""},null,{"$f":"IF($D51=\"\",\"\",$D51*Y51)","v":""},null,{"$f":"IF($D51=\"\",\"\",$D51*AA51)","v":""},null,{"$f":"IF($D51=\"\",\"\",$D51*AC51)","v":""},null,{"$f":"IF($D51=\"\",\"\",$D51*AE51)","v":""},null,{"$f":"IF($D51=\"\",\"\",$D51*AG51)","v":""},null,{"$f":"IF($D51=\"\",\"\",$D51*AI51)","v":""},null,{"$f":"IF($D51=\"\",\"\",$D51*AK51)","v":""},null,{"$f":"IF($D51=\"\",\"\",$D51*AM51)","v":""},null,{"$f":"IF($D51=\"\",\"\",$D51*AO51)","v":""},null,{"$f":"IF($D51=\"\",\"\",$D51*AQ51)","v":""},null,{"$f":"IF($D51=\"\",\"\",$D51*AS51)","v":""},null,{"$f":"IF($D51=\"\",\"\",$D51*AU51)","v":""},null,{"$f":"IF($D51=\"\",\"\",$D51*AW51)","v":""},null,{"$f":"IF($D51=\"\",\"\",$D51*AY51)","v":""},null,{"$f":"IF($D51=\"\",\"\",$D51*BA51)","v":""},null,{"$f":"IF($D51=\"\",\"\",$D51*BC51)","v":""},null,{"$f":"IF($D51=\"\",\"\",$D51*BE51)","v":""},null,{"$f":"IF($D51=\"\",\"\",$D51*BG51)","v":""},null,{"$f":"IF($D51=\"\",\"\",$D51*BI51)","v":""},null,{"$f":"IF($D51=\"\",\"\",$D51*BK51)","v":""},null,{"$f":"IF($D51=\"\",\"\",$D51*BM51)","v":""},null,{"$f":"IF($D51=\"\",\"\",$D51*BO51)","v":""},null,{"$f":"IF($D51=\"\",\"\",$D51*BQ51)","v":""},null,{"$f":"IF($D51=\"\",\"\",$D51*BS51)","v":""},null,{"$f":"IF($D51=\"\",\"\",$D51*BU51)","v":""},null,{"$f":"IF($D51=\"\",\"\",$D51*BW51)","v":""},null,0,""]
[null,{"$f":"+'DATOS SGO'!B73","v":0},{"$f":"IF(B52=0, \"\",VLOOKUP(B52,PRESUPUESTO!$B$17:$C$4611, 2, FALSE))","v":""},{"$f":"+'DATOS SGO'!H73","v":""},null,"",null,"",null,{"$f":"IF($D52=\"\",\"\",$D52*I52)","v":""},null,{"$f":"IF($D52=\"\",\"\",$D52*K52)","v":""},null,{"$f":"IF($D52=\"\",\"\",$D52*M52)","v":""},null,{"$f":"IF($D52=\"\",\"\",$D52*O52)","v":""},null,{"$f":"IF($D52=\"\",\"\",$D52*Q52)","v":""},null,{"$f":"IF($D52=\"\",\"\",$D52*S52)","v":""},null,{"$f":"IF($D52=\"\",\"\",$D52*U52)","v":""},null,{"$f":"IF($D52=\"\",\"\",$D52*W52)","v":""},null,{"$f":"IF($D52=\"\",\"\",$D52*Y52)","v":""},null,{"$f":"IF($D52=\"\",\"\",$D52*AA52)","v":""},null,{"$f":"IF($D52=\"\",\"\",$D52*AC52)","v":""},null,{"$f":"IF($D52=\"\",\"\",$D52*AE52)","v":""},null,{"$f":"IF($D52=\"\",\"\",$D52*AG52)","v":""},null,{"$f":"IF($D52=\"\",\"\",$D52*AI52)","v":""},null,{"$f":"IF($D52=\"\",\"\",$D52*AK52)","v":""},null,{"$f":"IF($D52=\"\",\"\",$D52*AM52)","v":""},null,{"$f":"IF($D52=\"\",\"\",$D52*AO52)","v":""},null,{"$f":"IF($D52=\"\",\"\",$D52*AQ52)","v":""},null,{"$f":"IF($D52=\"\",\"\",$D52*AS52)","v":""},null,{"$f":"IF($D52=\"\",\"\",$D52*AU52)","v":""},null,{"$f":"IF($D52=\"\",\"\",$D52*AW52)","v":""},null,{"$f":"IF($D52=\"\",\"\",$D52*AY52)","v":""},null,{"$f":"IF($D52=\"\",\"\",$D52*BA52)","v":""},null,{"$f":"IF($D52=\"\",\"\",$D52*BC52)","v":""},null,{"$f":"IF($D52=\"\",\"\",$D52*BE52)","v":""},null,{"$f":"IF($D52=\"\",\"\",$D52*BG52)","v":""},null,{"$f":"IF($D52=\"\",\"\",$D52*BI52)","v":""},null,{"$f":"IF($D52=\"\",\"\",$D52*BK52)","v":""},null,{"$f":"IF($D52=\"\",\"\",$D52*BM52)","v":""},null,{"$f":"IF($D52=\"\",\"\",$D52*BO52)","v":""},null,{"$f":"IF($D52=\"\",\"\",$D52*BQ52)","v":""},null,{"$f":"IF($D52=\"\",\"\",$D52*BS52)","v":""},null,{"$f":"IF($D52=\"\",\"\",$D52*BU52)","v":""},null,{"$f":"IF($D52=\"\",\"\",$D52*BW52)","v":""},null,0,""]
[null,{"$f":"+'DATOS SGO'!B74","v":0},{"$f":"IF(B53=0, \"\",VLOOKUP(B53,PRESUPUESTO!$B$17:$C$4611, 2, FALSE))","v":""},{"$f":"+'DATOS SGO'!H74","v":""},null,"",null,"",null,{"$f":"IF($D53=\"\",\"\",$D53*I53)","v":""},null,{"$f":"IF($D53=\"\",\"\",$D53*K53)","v":""},null,{"$f":"IF($D53=\"\",\"\",$D53*M53)","v":""},null,{"$f":"IF($D53=\"\",\"\",$D53*O53)","v":""},null,{"$f":"IF($D53=\"\",\"\",$D53*Q53)","v":""},null,{"$f":"IF($D53=\"\",\"\",$D53*S53)","v":""},null,{"$f":"IF($D53=\"\",\"\",$D53*U53)","v":""},null,{"$f":"IF($D53=\"\",\"\",$D53*W53)","v":""},null,{"$f":"IF($D53=\"\",\"\",$D53*Y53)","v":""},null,{"$f":"IF($D53=\"\",\"\",$D53*AA53)","v":""},null,{"$f":"IF($D53=\"\",\"\",$D53*AC53)","v":""},null,{"$f":"IF($D53=\"\",\"\",$D53*AE53)","v":""},null,{"$f":"IF($D53=\"\",\"\",$D53*AG53)","v":""},null,{"$f":"IF($D53=\"\",\"\",$D53*AI53)","v":""},null,{"$f":"IF($D53=\"\",\"\",$D53*AK53)","v":""},null,{"$f":"IF($D53=\"\",\"\",$D53*AM53)","v":""},null,{"$f":"IF($D53=\"\",\"\",$D53*AO53)","v":""},null,{"$f":"IF($D53=\"\",\"\",$D53*AQ53)","v":""},null,{"$f":"IF($D53=\"\",\"\",$D53*AS53)","v":""},null,{"$f":"IF($D53=\"\",\"\",$D53*AU53)","v":""},null,{"$f":"IF($D53=\"\",\"\",$D53*AW53)","v":""},null,{"$f":"IF($D53=\"\",\"\",$D53*AY53)","v":""},null,{"$f":"IF($D53=\"\",\"\",$D53*BA53)","v":""},null,{"$f":"IF($D53=\"\",\"\",$D53*BC53)","v":""},null,{"$f":"IF($D53=\"\",\"\",$D53*BE53)","v":""},null,{"$f":"IF($D53=\"\",\"\",$D53*BG53)","v":""},null,{"$f":"IF($D53=\"\",\"\",$D53*BI53)","v":""},null,{"$f":"IF($D53=\"\",\"\",$D53*BK53)","v":""},null,{"$f":"IF($D53=\"\",\"\",$D53*BM53)","v":""},null,{"$f":"IF($D53=\"\",\"\",$D53*BO53)","v":""},null,{"$f":"IF($D53=\"\",\"\",$D53*BQ53)","v":""},null,{"$f":"IF($D53=\"\",\"\",$D53*BS53)","v":""},null,{"$f":"IF($D53=\"\",\"\",$D53*BU53)","v":""},null,{"$f":"IF($D53=\"\",\"\",$D53*BW53)","v":""},null,0,""]
[null,{"$f":"+'DATOS SGO'!B75","v":0},{"$f":"IF(B54=0, \"\",VLOOKUP(B54,PRESUPUESTO!$B$17:$C$4611, 2, FALSE))","v":""},{"$f":"+'DATOS SGO'!H75","v":""},null,"",null,"",null,{"$f":"IF($D54=\"\",\"\",$D54*I54)","v":""},null,{"$f":"IF($D54=\"\",\"\",$D54*K54)","v":""},null,{"$f":"IF($D54=\"\",\"\",$D54*M54)","v":""},null,{"$f":"IF($D54=\"\",\"\",$D54*O54)","v":""},null,{"$f":"IF($D54=\"\",\"\",$D54*Q54)","v":""},null,{"$f":"IF($D54=\"\",\"\",$D54*S54)","v":""},null,{"$f":"IF($D54=\"\",\"\",$D54*U54)","v":""},null,{"$f":"IF($D54=\"\",\"\",$D54*W54)","v":""},null,{"$f":"IF($D54=\"\",\"\",$D54*Y54)","v":""},null,{"$f":"IF($D54=\"\",\"\",$D54*AA54)","v":""},null,{"$f":"IF($D54=\"\",\"\",$D54*AC54)","v":""},null,{"$f":"IF($D54=\"\",\"\",$D54*AE54)","v":""},null,{"$f":"IF($D54=\"\",\"\",$D54*AG54)","v":""},null,{"$f":"IF($D54=\"\",\"\",$D54*AI54)","v":""},null,{"$f":"IF($D54=\"\",\"\",$D54*AK54)","v":""},null,{"$f":"IF($D54=\"\",\"\",$D54*AM54)","v":""},null,{"$f":"IF($D54=\"\",\"\",$D54*AO54)","v":""},null,{"$f":"IF($D54=\"\",\"\",$D54*AQ54)","v":""},null,{"$f":"IF($D54=\"\",\"\",$D54*AS54)","v":""},null,{"$f":"IF($D54=\"\",\"\",$D54*AU54)","v":""},null,{"$f":"IF($D54=\"\",\"\",$D54*AW54)","v":""},null,{"$f":"IF($D54=\"\",\"\",$D54*AY54)","v":""},null,{"$f":"IF($D54=\"\",\"\",$D54*BA54)","v":""},null,{"$f":"IF($D54=\"\",\"\",$D54*BC54)","v":""},null,{"$f":"IF($D54=\"\",\"\",$D54*BE54)","v":""},null,{"$f":"IF($D54=\"\",\"\",$D54*BG54)","v":""},null,{"$f":"IF($D54=\"\",\"\",$D54*BI54)","v":""},null,{"$f":"IF($D54=\"\",\"\",$D54*BK54)","v":""},null,{"$f":"IF($D54=\"\",\"\",$D54*BM54)","v":""},null,{"$f":"IF($D54=\"\",\"\",$D54*BO54)","v":""},null,{"$f":"IF($D54=\"\",\"\",$D54*BQ54)","v":""},null,{"$f":"IF($D54=\"\",\"\",$D54*BS54)","v":""},null,{"$f":"IF($D54=\"\",\"\",$D54*BU54)","v":""},null,{"$f":"IF($D54=\"\",\"\",$D54*BW54)","v":""},null,0,""]
[null,{"$f":"+'DATOS SGO'!B76","v":0},{"$f":"IF(B55=0, \"\",VLOOKUP(B55,PRESUPUESTO!$B$17:$C$4611, 2, FALSE))","v":""},{"$f":"+'DATOS SGO'!H76","v":""},null,"",null,"",null,{"$f":"IF($D55=\"\",\"\",$D55*I55)","v":""},null,{"$f":"IF($D55=\"\",\"\",$D55*K55)","v":""},null,{"$f":"IF($D55=\"\",\"\",$D55*M55)","v":""},null,{"$f":"IF($D55=\"\",\"\",$D55*O55)","v":""},null,{"$f":"IF($D55=\"\",\"\",$D55*Q55)","v":""},null,{"$f":"IF($D55=\"\",\"\",$D55*S55)","v":""},null,{"$f":"IF($D55=\"\",\"\",$D55*U55)","v":""},null,{"$f":"IF($D55=\"\",\"\",$D55*W55)","v":""},null,{"$f":"IF($D55=\"\",\"\",$D55*Y55)","v":""},null,{"$f":"IF($D55=\"\",\"\",$D55*AA55)","v":""},null,{"$f":"IF($D55=\"\",\"\",$D55*AC55)","v":""},null,{"$f":"IF($D55=\"\",\"\",$D55*AE55)","v":""},null,{"$f":"IF($D55=\"\",\"\",$D55*AG55)","v":""},null,{"$f":"IF($D55=\"\",\"\",$D55*AI55)","v":""},null,{"$f":"IF($D55=\"\",\"\",$D55*AK55)","v":""},null,{"$f":"IF($D55=\"\",\"\",$D55*AM55)","v":""},null,{"$f":"IF($D55=\"\",\"\",$D55*AO55)","v":""},null,{"$f":"IF($D55=\"\",\"\",$D55*AQ55)","v":""},null,{"$f":"IF($D55=\"\",\"\",$D55*AS55)","v":""},null,{"$f":"IF($D55=\"\",\"\",$D55*AU55)","v":""},null,{"$f":"IF($D55=\"\",\"\",$D55*AW55)","v":""},null,{"$f":"IF($D55=\"\",\"\",$D55*AY55)","v":""},null,{"$f":"IF($D55=\"\",\"\",$D55*BA55)","v":""},null,{"$f":"IF($D55=\"\",\"\",$D55*BC55)","v":""},null,{"$f":"IF($D55=\"\",\"\",$D55*BE55)","v":""},null,{"$f":"IF($D55=\"\",\"\",$D55*BG55)","v":""},null,{"$f":"IF($D55=\"\",\"\",$D55*BI55)","v":""},null,{"$f":"IF($D55=\"\",\"\",$D55*BK55)","v":""},null,{"$f":"IF($D55=\"\",\"\",$D55*BM55)","v":""},null,{"$f":"IF($D55=\"\",\"\",$D55*BO55)","v":""},null,{"$f":"IF($D55=\"\",\"\",$D55*BQ55)","v":""},null,{"$f":"IF($D55=\"\",\"\",$D55*BS55)","v":""},null,{"$f":"IF($D55=\"\",\"\",$D55*BU55)","v":""},null,{"$f":"IF($D55=\"\",\"\",$D55*BW55)","v":""},null,0,""]
[null,{"$f":"+'DATOS SGO'!B77","v":0},{"$f":"IF(B56=0, \"\",VLOOKUP(B56,PRESUPUESTO!$B$17:$C$4611, 2, FALSE))","v":""},{"$f":"+'DATOS SGO'!H77","v":""},null,"",null,"",null,{"$f":"IF($D56=\"\",\"\",$D56*I56)","v":""},null,{"$f":"IF($D56=\"\",\"\",$D56*K56)","v":""},null,{"$f":"IF($D56=\"\",\"\",$D56*M56)","v":""},null,{"$f":"IF($D56=\"\",\"\",$D56*O56)","v":""},null,{"$f":"IF($D56=\"\",\"\",$D56*Q56)","v":""},null,{"$f":"IF($D56=\"\",\"\",$D56*S56)","v":""},null,{"$f":"IF($D56=\"\",\"\",$D56*U56)","v":""},null,{"$f":"IF($D56=\"\",\"\",$D56*W56)","v":""},null,{"$f":"IF($D56=\"\",\"\",$D56*Y56)","v":""},null,{"$f":"IF($D56=\"\",\"\",$D56*AA56)","v":""},null,{"$f":"IF($D56=\"\",\"\",$D56*AC56)","v":""},null,{"$f":"IF($D56=\"\",\"\",$D56*AE56)","v":""},null,{"$f":"IF($D56=\"\",\"\",$D56*AG56)","v":""},null,{"$f":"IF($D56=\"\",\"\",$D56*AI56)","v":""},null,{"$f":"IF($D56=\"\",\"\",$D56*AK56)","v":""},null,{"$f":"IF($D56=\"\",\"\",$D56*AM56)","v":""},null,{"$f":"IF($D56=\"\",\"\",$D56*AO56)","v":""},null,{"$f":"IF($D56=\"\",\"\",$D56*AQ56)","v":""},null,{"$f":"IF($D56=\"\",\"\",$D56*AS56)","v":""},null,{"$f":"IF($D56=\"\",\"\",$D56*AU56)","v":""},null,{"$f":"IF($D56=\"\",\"\",$D56*AW56)","v":""},null,{"$f":"IF($D56=\"\",\"\",$D56*AY56)","v":""},null,{"$f":"IF($D56=\"\",\"\",$D56*BA56)","v":""},null,{"$f":"IF($D56=\"\",\"\",$D56*BC56)","v":""},null,{"$f":"IF($D56=\"\",\"\",$D56*BE56)","v":""},null,{"$f":"IF($D56=\"\",\"\",$D56*BG56)","v":""},null,{"$f":"IF($D56=\"\",\"\",$D56*BI56)","v":""},null,{"$f":"IF($D56=\"\",\"\",$D56*BK56)","v":""},null,{"$f":"IF($D56=\"\",\"\",$D56*BM56)","v":""},null,{"$f":"IF($D56=\"\",\"\",$D56*BO56)","v":""},null,{"$f":"IF($D56=\"\",\"\",$D56*BQ56)","v":""},null,{"$f":"IF($D56=\"\",\"\",$D56*BS56)","v":""},null,{"$f":"IF($D56=\"\",\"\",$D56*BU56)","v":""},null,{"$f":"IF($D56=\"\",\"\",$D56*BW56)","v":""},null,0,""]
[null,{"$f":"+'DATOS SGO'!B78","v":0},{"$f":"IF(B57=0, \"\",VLOOKUP(B57,PRESUPUESTO!$B$17:$C$4611, 2, FALSE))","v":""},{"$f":"+'DATOS SGO'!H78","v":""},null,"",null,"",null,{"$f":"IF($D57=\"\",\"\",$D57*I57)","v":""},null,{"$f":"IF($D57=\"\",\"\",$D57*K57)","v":""},null,{"$f":"IF($D57=\"\",\"\",$D57*M57)","v":""},null,{"$f":"IF($D57=\"\",\"\",$D57*O57)","v":""},null,{"$f":"IF($D57=\"\",\"\",$D57*Q57)","v":""},null,{"$f":"IF($D57=\"\",\"\",$D57*S57)","v":""},null,{"$f":"IF($D57=\"\",\"\",$D57*U57)","v":""},null,{"$f":"IF($D57=\"\",\"\",$D57*W57)","v":""},null,{"$f":"IF($D57=\"\",\"\",$D57*Y57)","v":""},null,{"$f":"IF($D57=\"\",\"\",$D57*AA57)","v":""},null,{"$f":"IF($D57=\"\",\"\",$D57*AC57)","v":""},null,{"$f":"IF($D57=\"\",\"\",$D57*AE57)","v":""},null,{"$f":"IF($D57=\"\",\"\",$D57*AG57)","v":""},null,{"$f":"IF($D57=\"\",\"\",$D57*AI57)","v":""},null,{"$f":"IF($D57=\"\",\"\",$D57*AK57)","v":""},null,{"$f":"IF($D57=\"\",\"\",$D57*AM57)","v":""},null,{"$f":"IF($D57=\"\",\"\",$D57*AO57)","v":""},null,{"$f":"IF($D57=\"\",\"\",$D57*AQ57)","v":""},null,{"$f":"IF($D57=\"\",\"\",$D57*AS57)","v":""},null,{"$f":"IF($D57=\"\",\"\",$D57*AU57)","v":""},null,{"$f":"IF($D57=\"\",\"\",$D57*AW57)","v":""},null,{"$f":"IF($D57=\"\",\"\",$D57*AY57)","v":""},null,{"$f":"IF($D57=\"\",\"\",$D57*BA57)","v":""},null,{"$f":"IF($D57=\"\",\"\",$D57*BC57)","v":""},null,{"$f":"IF($D57=\"\",\"\",$D57*BE57)","v":""},null,{"$f":"IF($D57=\"\",\"\",$D57*BG57)","v":""},null,{"$f":"IF($D57=\"\",\"\",$D57*BI57)","v":""},null,{"$f":"IF($D57=\"\",\"\",$D57*BK57)","v":""},null,{"$f":"IF($D57=\"\",\"\",$D57*BM57)","v":""},null,{"$f":"IF($D57=\"\",\"\",$D57*BO57)","v":""},null,{"$f":"IF($D57=\"\",\"\",$D57*BQ57)","v":""},null,{"$f":"IF($D57=\"\",\"\",$D57*BS57)","v":""},null,{"$f":"IF($D57=\"\",\"\",$D57*BU57)","v":""},null,{"$f":"IF($D57=\"\",\"\",$D57*BW57)","v":""},null,0,""]
[null,{"$f":"+'DATOS SGO'!B79","v":0},{"$f":"IF(B58=0, \"\",VLOOKUP(B58,PRESUPUESTO!$B$17:$C$4611, 2, FALSE))","v":""},{"$f":"+'DATOS SGO'!H79","v":""},null,"",null,"",null,{"$f":"IF($D58=\"\",\"\",$D58*I58)","v":""},null,{"$f":"IF($D58=\"\",\"\",$D58*K58)","v":""},null,{"$f":"IF($D58=\"\",\"\",$D58*M58)","v":""},null,{"$f":"IF($D58=\"\",\"\",$D58*O58)","v":""},null,{"$f":"IF($D58=\"\",\"\",$D58*Q58)","v":""},null,{"$f":"IF($D58=\"\",\"\",$D58*S58)","v":""},null,{"$f":"IF($D58=\"\",\"\",$D58*U58)","v":""},null,{"$f":"IF($D58=\"\",\"\",$D58*W58)","v":""},null,{"$f":"IF($D58=\"\",\"\",$D58*Y58)","v":""},null,{"$f":"IF($D58=\"\",\"\",$D58*AA58)","v":""},null,{"$f":"IF($D58=\"\",\"\",$D58*AC58)","v":""},null,{"$f":"IF($D58=\"\",\"\",$D58*AE58)","v":""},null,{"$f":"IF($D58=\"\",\"\",$D58*AG58)","v":""},null,{"$f":"IF($D58=\"\",\"\",$D58*AI58)","v":""},null,{"$f":"IF($D58=\"\",\"\",$D58*AK58)","v":""},null,{"$f":"IF($D58=\"\",\"\",$D58*AM58)","v":""},null,{"$f":"IF($D58=\"\",\"\",$D58*AO58)","v":""},null,{"$f":"IF($D58=\"\",\"\",$D58*AQ58)","v":""},null,{"$f":"IF($D58=\"\",\"\",$D58*AS58)","v":""},null,{"$f":"IF($D58=\"\",\"\",$D58*AU58)","v":""},null,{"$f":"IF($D58=\"\",\"\",$D58*AW58)","v":""},null,{"$f":"IF($D58=\"\",\"\",$D58*AY58)","v":""},null,{"$f":"IF($D58=\"\",\"\",$D58*BA58)","v":""},null,{"$f":"IF($D58=\"\",\"\",$D58*BC58)","v":""},null,{"$f":"IF($D58=\"\",\"\",$D58*BE58)","v":""},null,{"$f":"IF($D58=\"\",\"\",$D58*BG58)","v":""},null,{"$f":"IF($D58=\"\",\"\",$D58*BI58)","v":""},null,{"$f":"IF($D58=\"\",\"\",$D58*BK58)","v":""},null,{"$f":"IF($D58=\"\",\"\",$D58*BM58)","v":""},null,{"$f":"IF($D58=\"\",\"\",$D58*BO58)","v":""},null,{"$f":"IF($D58=\"\",\"\",$D58*BQ58)","v":""},null,{"$f":"IF($D58=\"\",\"\",$D58*BS58)","v":""},null,{"$f":"IF($D58=\"\",\"\",$D58*BU58)","v":""},null,{"$f":"IF($D58=\"\",\"\",$D58*BW58)","v":""},null,0,""]
[null,{"$f":"+'DATOS SGO'!B80","v":0},{"$f":"IF(B59=0, \"\",VLOOKUP(B59,PRESUPUESTO!$B$17:$C$4611, 2, FALSE))","v":""},{"$f":"+'DATOS SGO'!H80","v":""},null,"",null,"",null,{"$f":"IF($D59=\"\",\"\",$D59*I59)","v":""},null,{"$f":"IF($D59=\"\",\"\",$D59*K59)","v":""},null,{"$f":"IF($D59=\"\",\"\",$D59*M59)","v":""},null,{"$f":"IF($D59=\"\",\"\",$D59*O59)","v":""},null,{"$f":"IF($D59=\"\",\"\",$D59*Q59)","v":""},null,{"$f":"IF($D59=\"\",\"\",$D59*S59)","v":""},null,{"$f":"IF($D59=\"\",\"\",$D59*U59)","v":""},null,{"$f":"IF($D59=\"\",\"\",$D59*W59)","v":""},null,{"$f":"IF($D59=\"\",\"\",$D59*Y59)","v":""},null,{"$f":"IF($D59=\"\",\"\",$D59*AA59)","v":""},null,{"$f":"IF($D59=\"\",\"\",$D59*AC59)","v":""},null,{"$f":"IF($D59=\"\",\"\",$D59*AE59)","v":""},null,{"$f":"IF($D59=\"\",\"\",$D59*AG59)","v":""},null,{"$f":"IF($D59=\"\",\"\",$D59*AI59)","v":""},null,{"$f":"IF($D59=\"\",\"\",$D59*AK59)","v":""},null,{"$f":"IF($D59=\"\",\"\",$D59*AM59)","v":""},null,{"$f":"IF($D59=\"\",\"\",$D59*AO59)","v":""},null,{"$f":"IF($D59=\"\",\"\",$D59*AQ59)","v":""},null,{"$f":"IF($D59=\"\",\"\",$D59*AS59)","v":""},null,{"$f":"IF($D59=\"\",\"\",$D59*AU59)","v":""},null,{"$f":"IF($D59=\"\",\"\",$D59*AW59)","v":""},null,{"$f":"IF($D59=\"\",\"\",$D59*AY59)","v":""},null,{"$f":"IF($D59=\"\",\"\",$D59*BA59)","v":""},null,{"$f":"IF($D59=\"\",\"\",$D59*BC59)","v":""},null,{"$f":"IF($D59=\"\",\"\",$D59*BE59)","v":""},null,{"$f":"IF($D59=\"\",\"\",$D59*BG59)","v":""},null,{"$f":"IF($D59=\"\",\"\",$D59*BI59)","v":""},null,{"$f":"IF($D59=\"\",\"\",$D59*BK59)","v":""},null,{"$f":"IF($D59=\"\",\"\",$D59*BM59)","v":""},null,{"$f":"IF($D59=\"\",\"\",$D59*BO59)","v":""},null,{"$f":"IF($D59=\"\",\"\",$D59*BQ59)","v":""},null,{"$f":"IF($D59=\"\",\"\",$D59*BS59)","v":""},null,{"$f":"IF($D59=\"\",\"\",$D59*BU59)","v":""},null,{"$f":"IF($D59=\"\",\"\",$D59*BW59)","v":""},null,0,""]
[null,{"$f":"+'DATOS SGO'!B81","v":0},{"$f":"IF(B60=0, \"\",VLOOKUP(B60,PRESUPUESTO!$B$17:$C$4611, 2, FALSE))","v":""},{"$f":"+'DATOS SGO'!H81","v":""},null,"",null,"",null,{"$f":"IF($D60=\"\",\"\",$D60*I60)","v":""},null,{"$f":"IF($D60=\"\",\"\",$D60*K60)","v":""},null,{"$f":"IF($D60=\"\",\"\",$D60*M60)","v":""},null,{"$f":"IF($D60=\"\",\"\",$D60*O60)","v":""},null,{"$f":"IF($D60=\"\",\"\",$D60*Q60)","v":""},null,{"$f":"IF($D60=\"\",\"\",$D60*S60)","v":""},null,{"$f":"IF($D60=\"\",\"\",$D60*U60)","v":""},null,{"$f":"IF($D60=\"\",\"\",$D60*W60)","v":""},null,{"$f":"IF($D60=\"\",\"\",$D60*Y60)","v":""},null,{"$f":"IF($D60=\"\",\"\",$D60*AA60)","v":""},null,{"$f":"IF($D60=\"\",\"\",$D60*AC60)","v":""},null,{"$f":"IF($D60=\"\",\"\",$D60*AE60)","v":""},null,{"$f":"IF($D60=\"\",\"\",$D60*AG60)","v":""},null,{"$f":"IF($D60=\"\",\"\",$D60*AI60)","v":""},null,{"$f":"IF($D60=\"\",\"\",$D60*AK60)","v":""},null,{"$f":"IF($D60=\"\",\"\",$D60*AM60)","v":""},null,{"$f":"IF($D60=\"\",\"\",$D60*AO60)","v":""},null,{"$f":"IF($D60=\"\",\"\",$D60*AQ60)","v":""},null,{"$f":"IF($D60=\"\",\"\",$D60*AS60)","v":""},null,{"$f":"IF($D60=\"\",\"\",$D60*AU60)","v":""},null,{"$f":"IF($D60=\"\",\"\",$D60*AW60)","v":""},null,{"$f":"IF($D60=\"\",\"\",$D60*AY60)","v":""},null,{"$f":"IF($D60=\"\",\"\",$D60*BA60)","v":""},null,{"$f":"IF($D60=\"\",\"\",$D60*BC60)","v":""},null,{"$f":"IF($D60=\"\",\"\",$D60*BE60)","v":""},null,{"$f":"IF($D60=\"\",\"\",$D60*BG60)","v":""},null,{"$f":"IF($D60=\"\",\"\",$D60*BI60)","v":""},null,{"$f":"IF($D60=\"\",\"\",$D60*BK60)","v":""},null,{"$f":"IF($D60=\"\",\"\",$D60*BM60)","v":""},null,{"$f":"IF($D60=\"\",\"\",$D60*BO60)","v":""},null,{"$f":"IF($D60=\"\",\"\",$D60*BQ60)","v":""},null,{"$f":"IF($D60=\"\",\"\",$D60*BS60)","v":""},null,{"$f":"IF($D60=\"\",\"\",$D60*BU60)","v":""},null,{"$f":"IF($D60=\"\",\"\",$D60*BW60)","v":""},null,0,""]
[null,{"$f":"+'DATOS SGO'!B82","v":0},{"$f":"IF(B61=0, \"\",VLOOKUP(B61,PRESUPUESTO!$B$17:$C$4611, 2, FALSE))","v":""},{"$f":"+'DATOS SGO'!H82","v":""},null,"",null,"",null,{"$f":"IF($D61=\"\",\"\",$D61*I61)","v":""},null,{"$f":"IF($D61=\"\",\"\",$D61*K61)","v":""},null,{"$f":"IF($D61=\"\",\"\",$D61*M61)","v":""},null,{"$f":"IF($D61=\"\",\"\",$D61*O61)","v":""},null,{"$f":"IF($D61=\"\",\"\",$D61*Q61)","v":""},null,{"$f":"IF($D61=\"\",\"\",$D61*S61)","v":""},null,{"$f":"IF($D61=\"\",\"\",$D61*U61)","v":""},null,{"$f":"IF($D61=\"\",\"\",$D61*W61)","v":""},null,{"$f":"IF($D61=\"\",\"\",$D61*Y61)","v":""},null,{"$f":"IF($D61=\"\",\"\",$D61*AA61)","v":""},null,{"$f":"IF($D61=\"\",\"\",$D61*AC61)","v":""},null,{"$f":"IF($D61=\"\",\"\",$D61*AE61)","v":""},null,{"$f":"IF($D61=\"\",\"\",$D61*AG61)","v":""},null,{"$f":"IF($D61=\"\",\"\",$D61*AI61)","v":""},null,{"$f":"IF($D61=\"\",\"\",$D61*AK61)","v":""},null,{"$f":"IF($D61=\"\",\"\",$D61*AM61)","v":""},null,{"$f":"IF($D61=\"\",\"\",$D61*AO61)","v":""},null,{"$f":"IF($D61=\"\",\"\",$D61*AQ61)","v":""},null,{"$f":"IF($D61=\"\",\"\",$D61*AS61)","v":""},null,{"$f":"IF($D61=\"\",\"\",$D61*AU61)","v":""},null,{"$f":"IF($D61=\"\",\"\",$D61*AW61)","v":""},null,{"$f":"IF($D61=\"\",\"\",$D61*AY61)","v":""},null,{"$f":"IF($D61=\"\",\"\",$D61*BA61)","v":""},null,{"$f":"IF($D61=\"\",\"\",$D61*BC61)","v":""},null,{"$f":"IF($D61=\"\",\"\",$D61*BE61)","v":""},null,{"$f":"IF($D61=\"\",\"\",$D61*BG61)","v":""},null,{"$f":"IF($D61=\"\",\"\",$D61*BI61)","v":""},null,{"$f":"IF($D61=\"\",\"\",$D61*BK61)","v":""},null,{"$f":"IF($D61=\"\",\"\",$D61*BM61)","v":""},null,{"$f":"IF($D61=\"\",\"\",$D61*BO61)","v":""},null,{"$f":"IF($D61=\"\",\"\",$D61*BQ61)","v":""},null,{"$f":"IF($D61=\"\",\"\",$D61*BS61)","v":""},null,{"$f":"IF($D61=\"\",\"\",$D61*BU61)","v":""},null,{"$f":"IF($D61=\"\",\"\",$D61*BW61)","v":""},null,0,""]
[null,{"$f":"+'DATOS SGO'!B83","v":0},{"$f":"IF(B62=0, \"\",VLOOKUP(B62,PRESUPUESTO!$B$17:$C$4611, 2, FALSE))","v":""},{"$f":"+'DATOS SGO'!H83","v":""},null,"",null,"",null,{"$f":"IF($D62=\"\",\"\",$D62*I62)","v":""},null,{"$f":"IF($D62=\"\",\"\",$D62*K62)","v":""},null,{"$f":"IF($D62=\"\",\"\",$D62*M62)","v":""},null,{"$f":"IF($D62=\"\",\"\",$D62*O62)","v":""},null,{"$f":"IF($D62=\"\",\"\",$D62*Q62)","v":""},null,{"$f":"IF($D62=\"\",\"\",$D62*S62)","v":""},null,{"$f":"IF($D62=\"\",\"\",$D62*U62)","v":""},null,{"$f":"IF($D62=\"\",\"\",$D62*W62)","v":""},null,{"$f":"IF($D62=\"\",\"\",$D62*Y62)","v":""},null,{"$f":"IF($D62=\"\",\"\",$D62*AA62)","v":""},null,{"$f":"IF($D62=\"\",\"\",$D62*AC62)","v":""},null,{"$f":"IF($D62=\"\",\"\",$D62*AE62)","v":""},null,{"$f":"IF($D62=\"\",\"\",$D62*AG62)","v":""},null,{"$f":"IF($D62=\"\",\"\",$D62*AI62)","v":""},null,{"$f":"IF($D62=\"\",\"\",$D62*AK62)","v":""},null,{"$f":"IF($D62=\"\",\"\",$D62*AM62)","v":""},null,{"$f":"IF($D62=\"\",\"\",$D62*AO62)","v":""},null,{"$f":"IF($D62=\"\",\"\",$D62*AQ62)","v":""},null,{"$f":"IF($D62=\"\",\"\",$D62*AS62)","v":""},null,{"$f":"IF($D62=\"\",\"\",$D62*AU62)","v":""},null,{"$f":"IF($D62=\"\",\"\",$D62*AW62)","v":""},null,{"$f":"IF($D62=\"\",\"\",$D62*AY62)","v":""},null,{"$f":"IF($D62=\"\",\"\",$D62*BA62)","v":""},null,{"$f":"IF($D62=\"\",\"\",$D62*BC62)","v":""},null,{"$f":"IF($D62=\"\",\"\",$D62*BE62)","v":""},null,{"$f":"IF($D62=\"\",\"\",$D62*BG62)","v":""},null,{"$f":"IF($D62=\"\",\"\",$D62*BI62)","v":""},null,{"$f":"IF($D62=\"\",\"\",$D62*BK62)","v":""},null,{"$f":"IF($D62=\"\",\"\",$D62*BM62)","v":""},null,{"$f":"IF($D62=\"\",\"\",$D62*BO62)","v":""},null,{"$f":"IF($D62=\"\",\"\",$D62*BQ62)","v":""},null,{"$f":"IF($D62=\"\",\"\",$D62*BS62)","v":""},null,{"$f":"IF($D62=\"\",\"\",$D62*BU62)","v":""},null,{"$f":"IF($D62=\"\",\"\",$D62*BW62)","v":""},null,0,""]
[null,{"$f":"+'DATOS SGO'!B84","v":0},{"$f":"IF(B63=0, \"\",VLOOKUP(B63,PRESUPUESTO!$B$17:$C$4611, 2, FALSE))","v":""},{"$f":"+'DATOS SGO'!H84","v":""},null,"",null,"",null,{"$f":"IF($D63=\"\",\"\",$D63*I63)","v":""},null,{"$f":"IF($D63=\"\",\"\",$D63*K63)","v":""},null,{"$f":"IF($D63=\"\",\"\",$D63*M63)","v":""},null,{"$f":"IF($D63=\"\",\"\",$D63*O63)","v":""},null,{"$f":"IF($D63=\"\",\"\",$D63*Q63)","v":""},null,{"$f":"IF($D63=\"\",\"\",$D63*S63)","v":""},null,{"$f":"IF($D63=\"\",\"\",$D63*U63)","v":""},null,{"$f":"IF($D63=\"\",\"\",$D63*W63)","v":""},null,{"$f":"IF($D63=\"\",\"\",$D63*Y63)","v":""},null,{"$f":"IF($D63=\"\",\"\",$D63*AA63)","v":""},null,{"$f":"IF($D63=\"\",\"\",$D63*AC63)","v":""},null,{"$f":"IF($D63=\"\",\"\",$D63*AE63)","v":""},null,{"$f":"IF($D63=\"\",\"\",$D63*AG63)","v":""},null,{"$f":"IF($D63=\"\",\"\",$D63*AI63)","v":""},null,{"$f":"IF($D63=\"\",\"\",$D63*AK63)","v":""},null,{"$f":"IF($D63=\"\",\"\",$D63*AM63)","v":""},null,{"$f":"IF($D63=\"\",\"\",$D63*AO63)","v":""},null,{"$f":"IF($D63=\"\",\"\",$D63*AQ63)","v":""},null,{"$f":"IF($D63=\"\",\"\",$D63*AS63)","v":""},null,{"$f":"IF($D63=\"\",\"\",$D63*AU63)","v":""},null,{"$f":"IF($D63=\"\",\"\",$D63*AW63)","v":""},null,{"$f":"IF($D63=\"\",\"\",$D63*AY63)","v":""},null,{"$f":"IF($D63=\"\",\"\",$D63*BA63)","v":""},null,{"$f":"IF($D63=\"\",\"\",$D63*BC63)","v":""},null,{"$f":"IF($D63=\"\",\"\",$D63*BE63)","v":""},null,{"$f":"IF($D63=\"\",\"\",$D63*BG63)","v":""},null,{"$f":"IF($D63=\"\",\"\",$D63*BI63)","v":""},null,{"$f":"IF($D63=\"\",\"\",$D63*BK63)","v":""},null,{"$f":"IF($D63=\"\",\"\",$D63*BM63)","v":""},null,{"$f":"IF($D63=\"\",\"\",$D63*BO63)","v":""},null,{"$f":"IF($D63=\"\",\"\",$D63*BQ63)","v":""},null,{"$f":"IF($D63=\"\",\"\",$D63*BS63)","v":""},null,{"$f":"IF($D63=\"\",\"\",$D63*BU63)","v":""},null,{"$f":"IF($D63=\"\",\"\",$D63*BW63)","v":""},null,0,""]
[null,{"$f":"+'DATOS SGO'!B85","v":0},{"$f":"IF(B64=0, \"\",VLOOKUP(B64,PRESUPUESTO!$B$17:$C$4611, 2, FALSE))","v":""},{"$f":"+'DATOS SGO'!H85","v":""},null,"",null,"",null,{"$f":"IF($D64=\"\",\"\",$D64*I64)","v":""},null,{"$f":"IF($D64=\"\",\"\",$D64*K64)","v":""},null,{"$f":"IF($D64=\"\",\"\",$D64*M64)","v":""},null,{"$f":"IF($D64=\"\",\"\",$D64*O64)","v":""},null,{"$f":"IF($D64=\"\",\"\",$D64*Q64)","v":""},null,{"$f":"IF($D64=\"\",\"\",$D64*S64)","v":""},null,{"$f":"IF($D64=\"\",\"\",$D64*U64)","v":""},null,{"$f":"IF($D64=\"\",\"\",$D64*W64)","v":""},null,{"$f":"IF($D64=\"\",\"\",$D64*Y64)","v":""},null,{"$f":"IF($D64=\"\",\"\",$D64*AA64)","v":""},null,{"$f":"IF($D64=\"\",\"\",$D64*AC64)","v":""},null,{"$f":"IF($D64=\"\",\"\",$D64*AE64)","v":""},null,{"$f":"IF($D64=\"\",\"\",$D64*AG64)","v":""},null,{"$f":"IF($D64=\"\",\"\",$D64*AI64)","v":""},null,{"$f":"IF($D64=\"\",\"\",$D64*AK64)","v":""},null,{"$f":"IF($D64=\"\",\"\",$D64*AM64)","v":""},null,{"$f":"IF($D64=\"\",\"\",$D64*AO64)","v":""},null,{"$f":"IF($D64=\"\",\"\",$D64*AQ64)","v":""},null,{"$f":"IF($D64=\"\",\"\",$D64*AS64)","v":""},null,{"$f":"IF($D64=\"\",\"\",$D64*AU64)","v":""},null,{"$f":"IF($D64=\"\",\"\",$D64*AW64)","v":""},null,{"$f":"IF($D64=\"\",\"\",$D64*AY64)","v":""},null,{"$f":"IF($D64=\"\",\"\",$D64*BA64)","v":""},null,{"$f":"IF($D64=\"\",\"\",$D64*BC64)","v":""},null,{"$f":"IF($D64=\"\",\"\",$D64*BE64)","v":""},null,{"$f":"IF($D64=\"\",\"\",$D64*BG64)","v":""},null,{"$f":"IF($D64=\"\",\"\",$D64*BI64)","v":""},null,{"$f":"IF($D64=\"\",\"\",$D64*BK64)","v":""},null,{"$f":"IF($D64=\"\",\"\",$D64*BM64)","v":""},null,{"$f":"IF($D64=\"\",\"\",$D64*BO64)","v":""},null,{"$f":"IF($D64=\"\",\"\",$D64*BQ64)","v":""},null,{"$f":"IF($D64=\"\",\"\",$D64*BS64)","v":""},null,{"$f":"IF($D64=\"\",\"\",$D64*BU64)","v":""},null,{"$f":"IF($D64=\"\",\"\",$D64*BW64)","v":""},null,0,""]
[null,{"$f":"+'DATOS SGO'!B86","v":0},{"$f":"IF(B65=0, \"\",VLOOKUP(B65,PRESUPUESTO!$B$17:$C$4611, 2, FALSE))","v":""},{"$f":"+'DATOS SGO'!H86","v":""},null,"",null,"",null,{"$f":"IF($D65=\"\",\"\",$D65*I65)","v":""},null,{"$f":"IF($D65=\"\",\"\",$D65*K65)","v":""},null,{"$f":"IF($D65=\"\",\"\",$D65*M65)","v":""},null,{"$f":"IF($D65=\"\",\"\",$D65*O65)","v":""},null,{"$f":"IF($D65=\"\",\"\",$D65*Q65)","v":""},null,{"$f":"IF($D65=\"\",\"\",$D65*S65)","v":""},null,{"$f":"IF($D65=\"\",\"\",$D65*U65)","v":""},null,{"$f":"IF($D65=\"\",\"\",$D65*W65)","v":""},null,{"$f":"IF($D65=\"\",\"\",$D65*Y65)","v":""},null,{"$f":"IF($D65=\"\",\"\",$D65*AA65)","v":""},null,{"$f":"IF($D65=\"\",\"\",$D65*AC65)","v":""},null,{"$f":"IF($D65=\"\",\"\",$D65*AE65)","v":""},null,{"$f":"IF($D65=\"\",\"\",$D65*AG65)","v":""},null,{"$f":"IF($D65=\"\",\"\",$D65*AI65)","v":""},null,{"$f":"IF($D65=\"\",\"\",$D65*AK65)","v":""},null,{"$f":"IF($D65=\"\",\"\",$D65*AM65)","v":""},null,{"$f":"IF($D65=\"\",\"\",$D65*AO65)","v":""},null,{"$f":"IF($D65=\"\",\"\",$D65*AQ65)","v":""},null,{"$f":"IF($D65=\"\",\"\",$D65*AS65)","v":""},null,{"$f":"IF($D65=\"\",\"\",$D65*AU65)","v":""},null,{"$f":"IF($D65=\"\",\"\",$D65*AW65)","v":""},null,{"$f":"IF($D65=\"\",\"\",$D65*AY65)","v":""},null,{"$f":"IF($D65=\"\",\"\",$D65*BA65)","v":""},null,{"$f":"IF($D65=\"\",\"\",$D65*BC65)","v":""},null,{"$f":"IF($D65=\"\",\"\",$D65*BE65)","v":""},null,{"$f":"IF($D65=\"\",\"\",$D65*BG65)","v":""},null,{"$f":"IF($D65=\"\",\"\",$D65*BI65)","v":""},null,{"$f":"IF($D65=\"\",\"\",$D65*BK65)","v":""},null,{"$f":"IF($D65=\"\",\"\",$D65*BM65)","v":""},null,{"$f":"IF($D65=\"\",\"\",$D65*BO65)","v":""},null,{"$f":"IF($D65=\"\",\"\",$D65*BQ65)","v":""},null,{"$f":"IF($D65=\"\",\"\",$D65*BS65)","v":""},null,{"$f":"IF($D65=\"\",\"\",$D65*BU65)","v":""},null,{"$f":"IF($D65=\"\",\"\",$D65*BW65)","v":""},null,0,""]
[null,{"$f":"+'DATOS SGO'!B87","v":0},{"$f":"IF(B66=0, \"\",VLOOKUP(B66,PRESUPUESTO!$B$17:$C$4611, 2, FALSE))","v":""},{"$f":"+'DATOS SGO'!H87","v":""},null,"",null,"",null,{"$f":"IF($D66=\"\",\"\",$D66*I66)","v":""},null,{"$f":"IF($D66=\"\",\"\",$D66*K66)","v":""},null,{"$f":"IF($D66=\"\",\"\",$D66*M66)","v":""},null,{"$f":"IF($D66=\"\",\"\",$D66*O66)","v":""},null,{"$f":"IF($D66=\"\",\"\",$D66*Q66)","v":""},null,{"$f":"IF($D66=\"\",\"\",$D66*S66)","v":""},null,{"$f":"IF($D66=\"\",\"\",$D66*U66)","v":""},null,{"$f":"IF($D66=\"\",\"\",$D66*W66)","v":""},null,{"$f":"IF($D66=\"\",\"\",$D66*Y66)","v":""},null,{"$f":"IF($D66=\"\",\"\",$D66*AA66)","v":""},null,{"$f":"IF($D66=\"\",\"\",$D66*AC66)","v":""},null,{"$f":"IF($D66=\"\",\"\",$D66*AE66)","v":""},null,{"$f":"IF($D66=\"\",\"\",$D66*AG66)","v":""},null,{"$f":"IF($D66=\"\",\"\",$D66*AI66)","v":""},null,{"$f":"IF($D66=\"\",\"\",$D66*AK66)","v":""},null,{"$f":"IF($D66=\"\",\"\",$D66*AM66)","v":""},null,{"$f":"IF($D66=\"\",\"\",$D66*AO66)","v":""},null,{"$f":"IF($D66=\"\",\"\",$D66*AQ66)","v":""},null,{"$f":"IF($D66=\"\",\"\",$D66*AS66)","v":""},null,{"$f":"IF($D66=\"\",\"\",$D66*AU66)","v":""},null,{"$f":"IF($D66=\"\",\"\",$D66*AW66)","v":""},null,{"$f":"IF($D66=\"\",\"\",$D66*AY66)","v":""},null,{"$f":"IF($D66=\"\",\"\",$D66*BA66)","v":""},null,{"$f":"IF($D66=\"\",\"\",$D66*BC66)","v":""},null,{"$f":"IF($D66=\"\",\"\",$D66*BE66)","v":""},null,{"$f":"IF($D66=\"\",\"\",$D66*BG66)","v":""},null,{"$f":"IF($D66=\"\",\"\",$D66*BI66)","v":""},null,{"$f":"IF($D66=\"\",\"\",$D66*BK66)","v":""},null,{"$f":"IF($D66=\"\",\"\",$D66*BM66)","v":""},null,{"$f":"IF($D66=\"\",\"\",$D66*BO66)","v":""},null,{"$f":"IF($D66=\"\",\"\",$D66*BQ66)","v":""},null,{"$f":"IF($D66=\"\",\"\",$D66*BS66)","v":""},null,{"$f":"IF($D66=\"\",\"\",$D66*BU66)","v":""},null,{"$f":"IF($D66=\"\",\"\",$D66*BW66)","v":""},null,0,""]
[null,{"$f":"+'DATOS SGO'!B88","v":0},{"$f":"IF(B67=0, \"\",VLOOKUP(B67,PRESUPUESTO!$B$17:$C$4611, 2, FALSE))","v":""},{"$f":"+'DATOS SGO'!H88","v":""},null,"",null,"",null,{"$f":"IF($D67=\"\",\"\",$D67*I67)","v":""},null,{"$f":"IF($D67=\"\",\"\",$D67*K67)","v":""},null,{"$f":"IF($D67=\"\",\"\",$D67*M67)","v":""},null,{"$f":"IF($D67=\"\",\"\",$D67*O67)","v":""},null,{"$f":"IF($D67=\"\",\"\",$D67*Q67)","v":""},null,{"$f":"IF($D67=\"\",\"\",$D67*S67)","v":""},null,{"$f":"IF($D67=\"\",\"\",$D67*U67)","v":""},null,{"$f":"IF($D67=\"\",\"\",$D67*W67)","v":""},null,{"$f":"IF($D67=\"\",\"\",$D67*Y67)","v":""},null,{"$f":"IF($D67=\"\",\"\",$D67*AA67)","v":""},null,{"$f":"IF($D67=\"\",\"\",$D67*AC67)","v":""},null,{"$f":"IF($D67=\"\",\"\",$D67*AE67)","v":""},null,{"$f":"IF($D67=\"\",\"\",$D67*AG67)","v":""},null,{"$f":"IF($D67=\"\",\"\",$D67*AI67)","v":""},null,{"$f":"IF($D67=\"\",\"\",$D67*AK67)","v":""},null,{"$f":"IF($D67=\"\",\"\",$D67*AM67)","v":""},null,{"$f":"IF($D67=\"\",\"\",$D67*AO67)","v":""},null,{"$f":"IF($D67=\"\",\"\",$D67*AQ67)","v":""},null,{"$f":"IF($D67=\"\",\"\",$D67*AS67)","v":""},null,{"$f":"IF($D67=\"\",\"\",$D67*AU67)","v":""},null,{"$f":"IF($D67=\"\",\"\",$D67*AW67)","v":""},null,{"$f":"IF($D67=\"\",\"\",$D67*AY67)","v":""},null,{"$f":"IF($D67=\"\",\"\",$D67*BA67)","v":""},null,{"$f":"IF($D67=\"\",\"\",$D67*BC67)","v":""},null,{"$f":"IF($D67=\"\",\"\",$D67*BE67)","v":""},null,{"$f":"IF($D67=\"\",\"\",$D67*BG67)","v":""},null,{"$f":"IF($D67=\"\",\"\",$D67*BI67)","v":""},null,{"$f":"IF($D67=\"\",\"\",$D67*BK67)","v":""},null,{"$f":"IF($D67=\"\",\"\",$D67*BM67)","v":""},null,{"$f":"IF($D67=\"\",\"\",$D67*BO67)","v":""},null,{"$f":"IF($D67=\"\",\"\",$D67*BQ67)","v":""},null,{"$f":"IF($D67=\"\",\"\",$D67*BS67)","v":""},null,{"$f":"IF($D67=\"\",\"\",$D67*BU67)","v":""},null,{"$f":"IF($D67=\"\",\"\",$D67*BW67)","v":""},null,0,""]
[null,{"$f":"+'DATOS SGO'!B89","v":0},{"$f":"IF(B68=0, \"\",VLOOKUP(B68,PRESUPUESTO!$B$17:$C$4611, 2, FALSE))","v":""},{"$f":"+'DATOS SGO'!H89","v":""},null,"",null,"",null,{"$f":"IF($D68=\"\",\"\",$D68*I68)","v":""},null,{"$f":"IF($D68=\"\",\"\",$D68*K68)","v":""},null,{"$f":"IF($D68=\"\",\"\",$D68*M68)","v":""},null,{"$f":"IF($D68=\"\",\"\",$D68*O68)","v":""},null,{"$f":"IF($D68=\"\",\"\",$D68*Q68)","v":""},null,{"$f":"IF($D68=\"\",\"\",$D68*S68)","v":""},null,{"$f":"IF($D68=\"\",\"\",$D68*U68)","v":""},null,{"$f":"IF($D68=\"\",\"\",$D68*W68)","v":""},null,{"$f":"IF($D68=\"\",\"\",$D68*Y68)","v":""},null,{"$f":"IF($D68=\"\",\"\",$D68*AA68)","v":""},null,{"$f":"IF($D68=\"\",\"\",$D68*AC68)","v":""},null,{"$f":"IF($D68=\"\",\"\",$D68*AE68)","v":""},null,{"$f":"IF($D68=\"\",\"\",$D68*AG68)","v":""},null,{"$f":"IF($D68=\"\",\"\",$D68*AI68)","v":""},null,{"$f":"IF($D68=\"\",\"\",$D68*AK68)","v":""},null,{"$f":"IF($D68=\"\",\"\",$D68*AM68)","v":""},null,{"$f":"IF($D68=\"\",\"\",$D68*AO68)","v":""},null,{"$f":"IF($D68=\"\",\"\",$D68*AQ68)","v":""},null,{"$f":"IF($D68=\"\",\"\",$D68*AS68)","v":""},null,{"$f":"IF($D68=\"\",\"\",$D68*AU68)","v":""},null,{"$f":"IF($D68=\"\",\"\",$D68*AW68)","v":""},null,{"$f":"IF($D68=\"\",\"\",$D68*AY68)","v":""},null,{"$f":"IF($D68=\"\",\"\",$D68*BA68)","v":""},null,{"$f":"IF($D68=\"\",\"\",$D68*BC68)","v":""},null,{"$f":"IF($D68=\"\",\"\",$D68*BE68)","v":""},null,{"$f":"IF($D68=\"\",\"\",$D68*BG68)","v":""},null,{"$f":"IF($D68=\"\",\"\",$D68*BI68)","v":""},null,{"$f":"IF($D68=\"\",\"\",$D68*BK68)","v":""},null,{"$f":"IF($D68=\"\",\"\",$D68*BM68)","v":""},null,{"$f":"IF($D68=\"\",\"\",$D68*BO68)","v":""},null,{"$f":"IF($D68=\"\",\"\",$D68*BQ68)","v":""},null,{"$f":"IF($D68=\"\",\"\",$D68*BS68)","v":""},null,{"$f":"IF($D68=\"\",\"\",$D68*BU68)","v":""},null,{"$f":"IF($D68=\"\",\"\",$D68*BW68)","v":""},null,0,""]
[null,{"$f":"+'DATOS SGO'!B90","v":0},{"$f":"IF(B69=0, \"\",VLOOKUP(B69,PRESUPUESTO!$B$17:$C$4611, 2, FALSE))","v":""},{"$f":"+'DATOS SGO'!H90","v":""},null,"",null,"",null,{"$f":"IF($D69=\"\",\"\",$D69*I69)","v":""},null,{"$f":"IF($D69=\"\",\"\",$D69*K69)","v":""},null,{"$f":"IF($D69=\"\",\"\",$D69*M69)","v":""},null,{"$f":"IF($D69=\"\",\"\",$D69*O69)","v":""},null,{"$f":"IF($D69=\"\",\"\",$D69*Q69)","v":""},null,{"$f":"IF($D69=\"\",\"\",$D69*S69)","v":""},null,{"$f":"IF($D69=\"\",\"\",$D69*U69)","v":""},null,{"$f":"IF($D69=\"\",\"\",$D69*W69)","v":""},null,{"$f":"IF($D69=\"\",\"\",$D69*Y69)","v":""},null,{"$f":"IF($D69=\"\",\"\",$D69*AA69)","v":""},null,{"$f":"IF($D69=\"\",\"\",$D69*AC69)","v":""},null,{"$f":"IF($D69=\"\",\"\",$D69*AE69)","v":""},null,{"$f":"IF($D69=\"\",\"\",$D69*AG69)","v":""},null,{"$f":"IF($D69=\"\",\"\",$D69*AI69)","v":""},null,{"$f":"IF($D69=\"\",\"\",$D69*AK69)","v":""},null,{"$f":"IF($D69=\"\",\"\",$D69*AM69)","v":""},null,{"$f":"IF($D69=\"\",\"\",$D69*AO69)","v":""},null,{"$f":"IF($D69=\"\",\"\",$D69*AQ69)","v":""},null,{"$f":"IF($D69=\"\",\"\",$D69*AS69)","v":""},null,{"$f":"IF($D69=\"\",\"\",$D69*AU69)","v":""},null,{"$f":"IF($D69=\"\",\"\",$D69*AW69)","v":""},null,{"$f":"IF($D69=\"\",\"\",$D69*AY69)","v":""},null,{"$f":"IF($D69=\"\",\"\",$D69*BA69)","v":""},null,{"$f":"IF($D69=\"\",\"\",$D69*BC69)","v":""},null,{"$f":"IF($D69=\"\",\"\",$D69*BE69)","v":""},null,{"$f":"IF($D69=\"\",\"\",$D69*BG69)","v":""},null,{"$f":"IF($D69=\"\",\"\",$D69*BI69)","v":""},null,{"$f":"IF($D69=\"\",\"\",$D69*BK69)","v":""},null,{"$f":"IF($D69=\"\",\"\",$D69*BM69)","v":""},null,{"$f":"IF($D69=\"\",\"\",$D69*BO69)","v":""},null,{"$f":"IF($D69=\"\",\"\",$D69*BQ69)","v":""},null,{"$f":"IF($D69=\"\",\"\",$D69*BS69)","v":""},null,{"$f":"IF($D69=\"\",\"\",$D69*BU69)","v":""},null,{"$f":"IF($D69=\"\",\"\",$D69*BW69)","v":""},null,0,""]
[null,{"$f":"+'DATOS SGO'!B91","v":0},{"$f":"IF(B70=0, \"\",VLOOKUP(B70,PRESUPUESTO!$B$17:$C$4611, 2, FALSE))","v":""},{"$f":"+'DATOS SGO'!H91","v":""},null,"",null,"",null,{"$f":"IF($D70=\"\",\"\",$D70*I70)","v":""},null,{"$f":"IF($D70=\"\",\"\",$D70*K70)","v":""},null,{"$f":"IF($D70=\"\",\"\",$D70*M70)","v":""},null,{"$f":"IF($D70=\"\",\"\",$D70*O70)","v":""},null,{"$f":"IF($D70=\"\",\"\",$D70*Q70)","v":""},null,{"$f":"IF($D70=\"\",\"\",$D70*S70)","v":""},null,{"$f":"IF($D70=\"\",\"\",$D70*U70)","v":""},null,{"$f":"IF($D70=\"\",\"\",$D70*W70)","v":""},null,{"$f":"IF($D70=\"\",\"\",$D70*Y70)","v":""},null,{"$f":"IF($D70=\"\",\"\",$D70*AA70)","v":""},null,{"$f":"IF($D70=\"\",\"\",$D70*AC70)","v":""},null,{"$f":"IF($D70=\"\",\"\",$D70*AE70)","v":""},null,{"$f":"IF($D70=\"\",\"\",$D70*AG70)","v":""},null,{"$f":"IF($D70=\"\",\"\",$D70*AI70)","v":""},null,{"$f":"IF($D70=\"\",\"\",$D70*AK70)","v":""},null,{"$f":"IF($D70=\"\",\"\",$D70*AM70)","v":""},null,{"$f":"IF($D70=\"\",\"\",$D70*AO70)","v":""},null,{"$f":"IF($D70=\"\",\"\",$D70*AQ70)","v":""},null,{"$f":"IF($D70=\"\",\"\",$D70*AS70)","v":""},null,{"$f":"IF($D70=\"\",\"\",$D70*AU70)","v":""},null,{"$f":"IF($D70=\"\",\"\",$D70*AW70)","v":""},null,{"$f":"IF($D70=\"\",\"\",$D70*AY70)","v":""},null,{"$f":"IF($D70=\"\",\"\",$D70*BA70)","v":""},null,{"$f":"IF($D70=\"\",\"\",$D70*BC70)","v":""},null,{"$f":"IF($D70=\"\",\"\",$D70*BE70)","v":""},null,{"$f":"IF($D70=\"\",\"\",$D70*BG70)","v":""},null,{"$f":"IF($D70=\"\",\"\",$D70*BI70)","v":""},null,{"$f":"IF($D70=\"\",\"\",$D70*BK70)","v":""},null,{"$f":"IF($D70=\"\",\"\",$D70*BM70)","v":""},null,{"$f":"IF($D70=\"\",\"\",$D70*BO70)","v":""},null,{"$f":"IF($D70=\"\",\"\",$D70*BQ70)","v":""},null,{"$f":"IF($D70=\"\",\"\",$D70*BS70)","v":""},null,{"$f":"IF($D70=\"\",\"\",$D70*BU70)","v":""},null,{"$f":"IF($D70=\"\",\"\",$D70*BW70)","v":""},null,0,{"$f":"IF(D70=\"\",\"\",ROUND(F70+H70+J70+L70+N70+P70+R70+T70+V70+X70+Z70+AB70+AD70+AF70+AH70+AJ70+AL70+AN70+AP70+AR70+AT70+AV70+AX70+AZ70+BB70+BD70+BF70+BH70+BJ70+BL70+BN70+BP70+BR70+BT70+BV70+BX70,2))","v":""}]
[null,{"$f":"+'DATOS SGO'!B92","v":0},{"$f":"IF(B71=0, \"\",VLOOKUP(B71,PRESUPUESTO!$B$17:$C$4611, 2, FALSE))","v":""},{"$f":"+'DATOS SGO'!H92","v":""},null,"",null,"",null,{"$f":"IF($D71=\"\",\"\",$D71*I71)","v":""},null,{"$f":"IF($D71=\"\",\"\",$D71*K71)","v":""},null,{"$f":"IF($D71=\"\",\"\",$D71*M71)","v":""},null,{"$f":"IF($D71=\"\",\"\",$D71*O71)","v":""},null,{"$f":"IF($D71=\"\",\"\",$D71*Q71)","v":""},null,{"$f":"IF($D71=\"\",\"\",$D71*S71)","v":""},null,{"$f":"IF($D71=\"\",\"\",$D71*U71)","v":""},null,{"$f":"IF($D71=\"\",\"\",$D71*W71)","v":""},null,{"$f":"IF($D71=\"\",\"\",$D71*Y71)","v":""},null,{"$f":"IF($D71=\"\",\"\",$D71*AA71)","v":""},null,{"$f":"IF($D71=\"\",\"\",$D71*AC71)","v":""},null,{"$f":"IF($D71=\"\",\"\",$D71*AE71)","v":""},null,{"$f":"IF($D71=\"\",\"\",$D71*AG71)","v":""},null,{"$f":"IF($D71=\"\",\"\",$D71*AI71)","v":""},null,{"$f":"IF($D71=\"\",\"\",$D71*AK71)","v":""},null,{"$f":"IF($D71=\"\",\"\",$D71*AM71)","v":""},null,{"$f":"IF($D71=\"\",\"\",$D71*AO71)","v":""},null,{"$f":"IF($D71=\"\",\"\",$D71*AQ71)","v":""},null,{"$f":"IF($D71=\"\",\"\",$D71*AS71)","v":""},null,{"$f":"IF($D71=\"\",\"\",$D71*AU71)","v":""},null,{"$f":"IF($D71=\"\",\"\",$D71*AW71)","v":""},null,{"$f":"IF($D71=\"\",\"\",$D71*AY71)","v":""},null,{"$f":"IF($D71=\"\",\"\",$D71*BA71)","v":""},null,{"$f":"IF($D71=\"\",\"\",$D71*BC71)","v":""},null,{"$f":"IF($D71=\"\",\"\",$D71*BE71)","v":""},null,{"$f":"IF($D71=\"\",\"\",$D71*BG71)","v":""},null,{"$f":"IF($D71=\"\",\"\",$D71*BI71)","v":""},null,{"$f":"IF($D71=\"\",\"\",$D71*BK71)","v":""},null,{"$f":"IF($D71=\"\",\"\",$D71*BM71)","v":""},null,{"$f":"IF($D71=\"\",\"\",$D71*BO71)","v":""},null,{"$f":"IF($D71=\"\",\"\",$D71*BQ71)","v":""},null,{"$f":"IF($D71=\"\",\"\",$D71*BS71)","v":""},null,{"$f":"IF($D71=\"\",\"\",$D71*BU71)","v":""},null,{"$f":"IF($D71=\"\",\"\",$D71*BW71)","v":""},null,0,{"$f":"IF(D71=\"\",\"\",ROUND(F71+H71+J71+L71+N71+P71+R71+T71+V71+X71+Z71+AB71+AD71+AF71+AH71+AJ71+AL71+AN71+AP71+AR71+AT71+AV71+AX71+AZ71+BB71+BD71+BF71+BH71+BJ71+BL71+BN71+BP71+BR71+BT71+BV71+BX71,2))","v":""}]
[null,{"$f":"+'DATOS SGO'!B93","v":0},{"$f":"IF(B72=0, \"\",VLOOKUP(B72,PRESUPUESTO!$B$17:$C$4611, 2, FALSE))","v":""},{"$f":"+'DATOS SGO'!H93","v":""},null,"",null,"",null,{"$f":"IF($D72=\"\",\"\",$D72*I72)","v":""},null,{"$f":"IF($D72=\"\",\"\",$D72*K72)","v":""},null,{"$f":"IF($D72=\"\",\"\",$D72*M72)","v":""},null,{"$f":"IF($D72=\"\",\"\",$D72*O72)","v":""},null,{"$f":"IF($D72=\"\",\"\",$D72*Q72)","v":""},null,{"$f":"IF($D72=\"\",\"\",$D72*S72)","v":""},null,{"$f":"IF($D72=\"\",\"\",$D72*U72)","v":""},null,{"$f":"IF($D72=\"\",\"\",$D72*W72)","v":""},null,{"$f":"IF($D72=\"\",\"\",$D72*Y72)","v":""},null,{"$f":"IF($D72=\"\",\"\",$D72*AA72)","v":""},null,{"$f":"IF($D72=\"\",\"\",$D72*AC72)","v":""},null,{"$f":"IF($D72=\"\",\"\",$D72*AE72)","v":""},null,{"$f":"IF($D72=\"\",\"\",$D72*AG72)","v":""},null,{"$f":"IF($D72=\"\",\"\",$D72*AI72)","v":""},null,{"$f":"IF($D72=\"\",\"\",$D72*AK72)","v":""},null,{"$f":"IF($D72=\"\",\"\",$D72*AM72)","v":""},null,{"$f":"IF($D72=\"\",\"\",$D72*AO72)","v":""},null,{"$f":"IF($D72=\"\",\"\",$D72*AQ72)","v":""},null,{"$f":"IF($D72=\"\",\"\",$D72*AS72)","v":""},null,{"$f":"IF($D72=\"\",\"\",$D72*AU72)","v":""},null,{"$f":"IF($D72=\"\",\"\",$D72*AW72)","v":""},null,{"$f":"IF($D72=\"\",\"\",$D72*AY72)","v":""},null,{"$f":"IF($D72=\"\",\"\",$D72*BA72)","v":""},null,{"$f":"IF($D72=\"\",\"\",$D72*BC72)","v":""},null,{"$f":"IF($D72=\"\",\"\",$D72*BE72)","v":""},null,{"$f":"IF($D72=\"\",\"\",$D72*BG72)","v":""},null,{"$f":"IF($D72=\"\",\"\",$D72*BI72)","v":""},null,{"$f":"IF($D72=\"\",\"\",$D72*BK72)","v":""},null,{"$f":"IF($D72=\"\",\"\",$D72*BM72)","v":""},null,{"$f":"IF($D72=\"\",\"\",$D72*BO72)","v":""},null,{"$f":"IF($D72=\"\",\"\",$D72*BQ72)","v":""},null,{"$f":"IF($D72=\"\",\"\",$D72*BS72)","v":""},null,{"$f":"IF($D72=\"\",\"\",$D72*BU72)","v":""},null,{"$f":"IF($D72=\"\",\"\",$D72*BW72)","v":""},null,0,""]
[null,{"$f":"+'DATOS SGO'!B94","v":0},{"$f":"IF(B73=0, \"\",VLOOKUP(B73,PRESUPUESTO!$B$17:$C$4611, 2, FALSE))","v":""},{"$f":"+'DATOS SGO'!H94","v":""},null,"",null,"",null,{"$f":"IF($D73=\"\",\"\",$D73*I73)","v":""},null,{"$f":"IF($D73=\"\",\"\",$D73*K73)","v":""},null,{"$f":"IF($D73=\"\",\"\",$D73*M73)","v":""},null,{"$f":"IF($D73=\"\",\"\",$D73*O73)","v":""},null,{"$f":"IF($D73=\"\",\"\",$D73*Q73)","v":""},null,{"$f":"IF($D73=\"\",\"\",$D73*S73)","v":""},null,{"$f":"IF($D73=\"\",\"\",$D73*U73)","v":""},null,{"$f":"IF($D73=\"\",\"\",$D73*W73)","v":""},null,{"$f":"IF($D73=\"\",\"\",$D73*Y73)","v":""},null,{"$f":"IF($D73=\"\",\"\",$D73*AA73)","v":""},null,{"$f":"IF($D73=\"\",\"\",$D73*AC73)","v":""},null,{"$f":"IF($D73=\"\",\"\",$D73*AE73)","v":""},null,{"$f":"IF($D73=\"\",\"\",$D73*AG73)","v":""},null,{"$f":"IF($D73=\"\",\"\",$D73*AI73)","v":""},null,{"$f":"IF($D73=\"\",\"\",$D73*AK73)","v":""},null,{"$f":"IF($D73=\"\",\"\",$D73*AM73)","v":""},null,{"$f":"IF($D73=\"\",\"\",$D73*AO73)","v":""},null,{"$f":"IF($D73=\"\",\"\",$D73*AQ73)","v":""},null,{"$f":"IF($D73=\"\",\"\",$D73*AS73)","v":""},null,{"$f":"IF($D73=\"\",\"\",$D73*AU73)","v":""},null,{"$f":"IF($D73=\"\",\"\",$D73*AW73)","v":""},null,{"$f":"IF($D73=\"\",\"\",$D73*AY73)","v":""},null,{"$f":"IF($D73=\"\",\"\",$D73*BA73)","v":""},null,{"$f":"IF($D73=\"\",\"\",$D73*BC73)","v":""},null,{"$f":"IF($D73=\"\",\"\",$D73*BE73)","v":""},null,{"$f":"IF($D73=\"\",\"\",$D73*BG73)","v":""},null,{"$f":"IF($D73=\"\",\"\",$D73*BI73)","v":""},null,{"$f":"IF($D73=\"\",\"\",$D73*BK73)","v":""},null,{"$f":"IF($D73=\"\",\"\",$D73*BM73)","v":""},null,{"$f":"IF($D73=\"\",\"\",$D73*BO73)","v":""},null,{"$f":"IF($D73=\"\",\"\",$D73*BQ73)","v":""},null,{"$f":"IF($D73=\"\",\"\",$D73*BS73)","v":""},null,{"$f":"IF($D73=\"\",\"\",$D73*BU73)","v":""},null,{"$f":"IF($D73=\"\",\"\",$D73*BW73)","v":""},null,0,""]
[null,{"$f":"+'DATOS SGO'!B95","v":0},{"$f":"IF(B74=0, \"\",VLOOKUP(B74,PRESUPUESTO!$B$17:$C$4611, 2, FALSE))","v":""},{"$f":"+'DATOS SGO'!H95","v":""},null,"",null,"",null,{"$f":"IF($D74=\"\",\"\",$D74*I74)","v":""},null,{"$f":"IF($D74=\"\",\"\",$D74*K74)","v":""},null,{"$f":"IF($D74=\"\",\"\",$D74*M74)","v":""},null,{"$f":"IF($D74=\"\",\"\",$D74*O74)","v":""},null,{"$f":"IF($D74=\"\",\"\",$D74*Q74)","v":""},null,{"$f":"IF($D74=\"\",\"\",$D74*S74)","v":""},null,{"$f":"IF($D74=\"\",\"\",$D74*U74)","v":""},null,{"$f":"IF($D74=\"\",\"\",$D74*W74)","v":""},null,{"$f":"IF($D74=\"\",\"\",$D74*Y74)","v":""},null,{"$f":"IF($D74=\"\",\"\",$D74*AA74)","v":""},null,{"$f":"IF($D74=\"\",\"\",$D74*AC74)","v":""},null,{"$f":"IF($D74=\"\",\"\",$D74*AE74)","v":""},null,{"$f":"IF($D74=\"\",\"\",$D74*AG74)","v":""},null,{"$f":"IF($D74=\"\",\"\",$D74*AI74)","v":""},null,{"$f":"IF($D74=\"\",\"\",$D74*AK74)","v":""},null,{"$f":"IF($D74=\"\",\"\",$D74*AM74)","v":""},null,{"$f":"IF($D74=\"\",\"\",$D74*AO74)","v":""},null,{"$f":"IF($D74=\"\",\"\",$D74*AQ74)","v":""},null,{"$f":"IF($D74=\"\",\"\",$D74*AS74)","v":""},null,{"$f":"IF($D74=\"\",\"\",$D74*AU74)","v":""},null,{"$f":"IF($D74=\"\",\"\",$D74*AW74)","v":""},null,{"$f":"IF($D74=\"\",\"\",$D74*AY74)","v":""},null,{"$f":"IF($D74=\"\",\"\",$D74*BA74)","v":""},null,{"$f":"IF($D74=\"\",\"\",$D74*BC74)","v":""},null,{"$f":"IF($D74=\"\",\"\",$D74*BE74)","v":""},null,{"$f":"IF($D74=\"\",\"\",$D74*BG74)","v":""},null,{"$f":"IF($D74=\"\",\"\",$D74*BI74)","v":""},null,{"$f":"IF($D74=\"\",\"\",$D74*BK74)","v":""},null,{"$f":"IF($D74=\"\",\"\",$D74*BM74)","v":""},null,{"$f":"IF($D74=\"\",\"\",$D74*BO74)","v":""},null,{"$f":"IF($D74=\"\",\"\",$D74*BQ74)","v":""},null,{"$f":"IF($D74=\"\",\"\",$D74*BS74)","v":""},null,{"$f":"IF($D74=\"\",\"\",$D74*BU74)","v":""},null,{"$f":"IF($D74=\"\",\"\",$D74*BW74)","v":""},null,0,""]
[null,{"$f":"+'DATOS SGO'!B96","v":0},{"$f":"IF(B75=0, \"\",VLOOKUP(B75,PRESUPUESTO!$B$17:$C$4611, 2, FALSE))","v":""},{"$f":"+'DATOS SGO'!H96","v":""},null,"",null,"",null,{"$f":"IF($D75=\"\",\"\",$D75*I75)","v":""},null,{"$f":"IF($D75=\"\",\"\",$D75*K75)","v":""},null,{"$f":"IF($D75=\"\",\"\",$D75*M75)","v":""},null,{"$f":"IF($D75=\"\",\"\",$D75*O75)","v":""},null,{"$f":"IF($D75=\"\",\"\",$D75*Q75)","v":""},null,{"$f":"IF($D75=\"\",\"\",$D75*S75)","v":""},null,{"$f":"IF($D75=\"\",\"\",$D75*U75)","v":""},null,{"$f":"IF($D75=\"\",\"\",$D75*W75)","v":""},null,{"$f":"IF($D75=\"\",\"\",$D75*Y75)","v":""},null,{"$f":"IF($D75=\"\",\"\",$D75*AA75)","v":""},null,{"$f":"IF($D75=\"\",\"\",$D75*AC75)","v":""},null,{"$f":"IF($D75=\"\",\"\",$D75*AE75)","v":""},null,{"$f":"IF($D75=\"\",\"\",$D75*AG75)","v":""},null,{"$f":"IF($D75=\"\",\"\",$D75*AI75)","v":""},null,{"$f":"IF($D75=\"\",\"\",$D75*AK75)","v":""},null,{"$f":"IF($D75=\"\",\"\",$D75*AM75)","v":""},null,{"$f":"IF($D75=\"\",\"\",$D75*AO75)","v":""},null,{"$f":"IF($D75=\"\",\"\",$D75*AQ75)","v":""},null,{"$f":"IF($D75=\"\",\"\",$D75*AS75)","v":""},null,{"$f":"IF($D75=\"\",\"\",$D75*AU75)","v":""},null,{"$f":"IF($D75=\"\",\"\",$D75*AW75)","v":""},null,{"$f":"IF($D75=\"\",\"\",$D75*AY75)","v":""},null,{"$f":"IF($D75=\"\",\"\",$D75*BA75)","v":""},null,{"$f":"IF($D75=\"\",\"\",$D75*BC75)","v":""},null,{"$f":"IF($D75=\"\",\"\",$D75*BE75)","v":""},null,{"$f":"IF($D75=\"\",\"\",$D75*BG75)","v":""},null,{"$f":"IF($D75=\"\",\"\",$D75*BI75)","v":""},null,{"$f":"IF($D75=\"\",\"\",$D75*BK75)","v":""},null,{"$f":"IF($D75=\"\",\"\",$D75*BM75)","v":""},null,{"$f":"IF($D75=\"\",\"\",$D75*BO75)","v":""},null,{"$f":"IF($D75=\"\",\"\",$D75*BQ75)","v":""},null,{"$f":"IF($D75=\"\",\"\",$D75*BS75)","v":""},null,{"$f":"IF($D75=\"\",\"\",$D75*BU75)","v":""},null,{"$f":"IF($D75=\"\",\"\",$D75*BW75)","v":""},null,0,""]
[null,{"$f":"+'DATOS SGO'!B97","v":0},{"$f":"IF(B76=0, \"\",VLOOKUP(B76,PRESUPUESTO!$B$17:$C$4611, 2, FALSE))","v":""},{"$f":"+'DATOS SGO'!H97","v":""},null,"",null,"",null,{"$f":"IF($D76=\"\",\"\",$D76*I76)","v":""},null,{"$f":"IF($D76=\"\",\"\",$D76*K76)","v":""},null,{"$f":"IF($D76=\"\",\"\",$D76*M76)","v":""},null,{"$f":"IF($D76=\"\",\"\",$D76*O76)","v":""},null,{"$f":"IF($D76=\"\",\"\",$D76*Q76)","v":""},null,{"$f":"IF($D76=\"\",\"\",$D76*S76)","v":""},null,{"$f":"IF($D76=\"\",\"\",$D76*U76)","v":""},null,{"$f":"IF($D76=\"\",\"\",$D76*W76)","v":""},null,{"$f":"IF($D76=\"\",\"\",$D76*Y76)","v":""},null,{"$f":"IF($D76=\"\",\"\",$D76*AA76)","v":""},null,{"$f":"IF($D76=\"\",\"\",$D76*AC76)","v":""},null,{"$f":"IF($D76=\"\",\"\",$D76*AE76)","v":""},null,{"$f":"IF($D76=\"\",\"\",$D76*AG76)","v":""},null,{"$f":"IF($D76=\"\",\"\",$D76*AI76)","v":""},null,{"$f":"IF($D76=\"\",\"\",$D76*AK76)","v":""},null,{"$f":"IF($D76=\"\",\"\",$D76*AM76)","v":""},null,{"$f":"IF($D76=\"\",\"\",$D76*AO76)","v":""},null,{"$f":"IF($D76=\"\",\"\",$D76*AQ76)","v":""},null,{"$f":"IF($D76=\"\",\"\",$D76*AS76)","v":""},null,{"$f":"IF($D76=\"\",\"\",$D76*AU76)","v":""},null,{"$f":"IF($D76=\"\",\"\",$D76*AW76)","v":""},null,{"$f":"IF($D76=\"\",\"\",$D76*AY76)","v":""},null,{"$f":"IF($D76=\"\",\"\",$D76*BA76)","v":""},null,{"$f":"IF($D76=\"\",\"\",$D76*BC76)","v":""},null,{"$f":"IF($D76=\"\",\"\",$D76*BE76)","v":""},null,{"$f":"IF($D76=\"\",\"\",$D76*BG76)","v":""},null,{"$f":"IF($D76=\"\",\"\",$D76*BI76)","v":""},null,{"$f":"IF($D76=\"\",\"\",$D76*BK76)","v":""},null,{"$f":"IF($D76=\"\",\"\",$D76*BM76)","v":""},null,{"$f":"IF($D76=\"\",\"\",$D76*BO76)","v":""},null,{"$f":"IF($D76=\"\",\"\",$D76*BQ76)","v":""},null,{"$f":"IF($D76=\"\",\"\",$D76*BS76)","v":""},null,{"$f":"IF($D76=\"\",\"\",$D76*BU76)","v":""},null,{"$f":"IF($D76=\"\",\"\",$D76*BW76)","v":""},null,0,""]
[null,{"$f":"+'DATOS SGO'!B98","v":0},{"$f":"IF(B77=0, \"\",VLOOKUP(B77,PRESUPUESTO!$B$17:$C$4611, 2, FALSE))","v":""},{"$f":"+'DATOS SGO'!H98","v":""},null,"",null,"",null,{"$f":"IF($D77=\"\",\"\",$D77*I77)","v":""},null,{"$f":"IF($D77=\"\",\"\",$D77*K77)","v":""},null,{"$f":"IF($D77=\"\",\"\",$D77*M77)","v":""},null,{"$f":"IF($D77=\"\",\"\",$D77*O77)","v":""},null,{"$f":"IF($D77=\"\",\"\",$D77*Q77)","v":""},null,{"$f":"IF($D77=\"\",\"\",$D77*S77)","v":""},null,{"$f":"IF($D77=\"\",\"\",$D77*U77)","v":""},null,{"$f":"IF($D77=\"\",\"\",$D77*W77)","v":""},null,{"$f":"IF($D77=\"\",\"\",$D77*Y77)","v":""},null,{"$f":"IF($D77=\"\",\"\",$D77*AA77)","v":""},null,{"$f":"IF($D77=\"\",\"\",$D77*AC77)","v":""},null,{"$f":"IF($D77=\"\",\"\",$D77*AE77)","v":""},null,{"$f":"IF($D77=\"\",\"\",$D77*AG77)","v":""},null,{"$f":"IF($D77=\"\",\"\",$D77*AI77)","v":""},null,{"$f":"IF($D77=\"\",\"\",$D77*AK77)","v":""},null,{"$f":"IF($D77=\"\",\"\",$D77*AM77)","v":""},null,{"$f":"IF($D77=\"\",\"\",$D77*AO77)","v":""},null,{"$f":"IF($D77=\"\",\"\",$D77*AQ77)","v":""},null,{"$f":"IF($D77=\"\",\"\",$D77*AS77)","v":""},null,{"$f":"IF($D77=\"\",\"\",$D77*AU77)","v":""},null,{"$f":"IF($D77=\"\",\"\",$D77*AW77)","v":""},null,{"$f":"IF($D77=\"\",\"\",$D77*AY77)","v":""},null,{"$f":"IF($D77=\"\",\"\",$D77*BA77)","v":""},null,{"$f":"IF($D77=\"\",\"\",$D77*BC77)","v":""},null,{"$f":"IF($D77=\"\",\"\",$D77*BE77)","v":""},null,{"$f":"IF($D77=\"\",\"\",$D77*BG77)","v":""},null,{"$f":"IF($D77=\"\",\"\",$D77*BI77)","v":""},null,{"$f":"IF($D77=\"\",\"\",$D77*BK77)","v":""},null,{"$f":"IF($D77=\"\",\"\",$D77*BM77)","v":""},null,{"$f":"IF($D77=\"\",\"\",$D77*BO77)","v":""},null,{"$f":"IF($D77=\"\",\"\",$D77*BQ77)","v":""},null,{"$f":"IF($D77=\"\",\"\",$D77*BS77)","v":""},null,{"$f":"IF($D77=\"\",\"\",$D77*BU77)","v":""},null,{"$f":"IF($D77=\"\",\"\",$D77*BW77)","v":""},null,0,""]
[null,{"$f":"+'DATOS SGO'!B99","v":0},{"$f":"IF(B78=0, \"\",VLOOKUP(B78,PRESUPUESTO!$B$17:$C$4611, 2, FALSE))","v":""},{"$f":"+'DATOS SGO'!H99","v":""},null,"",null,"",null,{"$f":"IF($D78=\"\",\"\",$D78*I78)","v":""},null,{"$f":"IF($D78=\"\",\"\",$D78*K78)","v":""},null,{"$f":"IF($D78=\"\",\"\",$D78*M78)","v":""},null,{"$f":"IF($D78=\"\",\"\",$D78*O78)","v":""},null,{"$f":"IF($D78=\"\",\"\",$D78*Q78)","v":""},null,{"$f":"IF($D78=\"\",\"\",$D78*S78)","v":""},null,{"$f":"IF($D78=\"\",\"\",$D78*U78)","v":""},null,{"$f":"IF($D78=\"\",\"\",$D78*W78)","v":""},null,{"$f":"IF($D78=\"\",\"\",$D78*Y78)","v":""},null,{"$f":"IF($D78=\"\",\"\",$D78*AA78)","v":""},null,{"$f":"IF($D78=\"\",\"\",$D78*AC78)","v":""},null,{"$f":"IF($D78=\"\",\"\",$D78*AE78)","v":""},null,{"$f":"IF($D78=\"\",\"\",$D78*AG78)","v":""},null,{"$f":"IF($D78=\"\",\"\",$D78*AI78)","v":""},null,{"$f":"IF($D78=\"\",\"\",$D78*AK78)","v":""},null,{"$f":"IF($D78=\"\",\"\",$D78*AM78)","v":""},null,{"$f":"IF($D78=\"\",\"\",$D78*AO78)","v":""},null,{"$f":"IF($D78=\"\",\"\",$D78*AQ78)","v":""},null,{"$f":"IF($D78=\"\",\"\",$D78*AS78)","v":""},null,{"$f":"IF($D78=\"\",\"\",$D78*AU78)","v":""},null,{"$f":"IF($D78=\"\",\"\",$D78*AW78)","v":""},null,{"$f":"IF($D78=\"\",\"\",$D78*AY78)","v":""},null,{"$f":"IF($D78=\"\",\"\",$D78*BA78)","v":""},null,{"$f":"IF($D78=\"\",\"\",$D78*BC78)","v":""},null,{"$f":"IF($D78=\"\",\"\",$D78*BE78)","v":""},null,{"$f":"IF($D78=\"\",\"\",$D78*BG78)","v":""},null,{"$f":"IF($D78=\"\",\"\",$D78*BI78)","v":""},null,{"$f":"IF($D78=\"\",\"\",$D78*BK78)","v":""},null,{"$f":"IF($D78=\"\",\"\",$D78*BM78)","v":""},null,{"$f":"IF($D78=\"\",\"\",$D78*BO78)","v":""},null,{"$f":"IF($D78=\"\",\"\",$D78*BQ78)","v":""},null,{"$f":"IF($D78=\"\",\"\",$D78*BS78)","v":""},null,{"$f":"IF($D78=\"\",\"\",$D78*BU78)","v":""},null,{"$f":"IF($D78=\"\",\"\",$D78*BW78)","v":""},null,0,""]
[null,{"$f":"+'DATOS SGO'!B100","v":0},{"$f":"IF(B79=0, \"\",VLOOKUP(B79,PRESUPUESTO!$B$17:$C$4611, 2, FALSE))","v":""},{"$f":"+'DATOS SGO'!H100","v":""},null,"",null,"",null,{"$f":"IF($D79=\"\",\"\",$D79*I79)","v":""},null,{"$f":"IF($D79=\"\",\"\",$D79*K79)","v":""},null,{"$f":"IF($D79=\"\",\"\",$D79*M79)","v":""},null,{"$f":"IF($D79=\"\",\"\",$D79*O79)","v":""},null,{"$f":"IF($D79=\"\",\"\",$D79*Q79)","v":""},null,{"$f":"IF($D79=\"\",\"\",$D79*S79)","v":""},null,{"$f":"IF($D79=\"\",\"\",$D79*U79)","v":""},null,{"$f":"IF($D79=\"\",\"\",$D79*W79)","v":""},null,{"$f":"IF($D79=\"\",\"\",$D79*Y79)","v":""},null,{"$f":"IF($D79=\"\",\"\",$D79*AA79)","v":""},null,{"$f":"IF($D79=\"\",\"\",$D79*AC79)","v":""},null,{"$f":"IF($D79=\"\",\"\",$D79*AE79)","v":""},null,{"$f":"IF($D79=\"\",\"\",$D79*AG79)","v":""},null,{"$f":"IF($D79=\"\",\"\",$D79*AI79)","v":""},null,{"$f":"IF($D79=\"\",\"\",$D79*AK79)","v":""},null,{"$f":"IF($D79=\"\",\"\",$D79*AM79)","v":""},null,{"$f":"IF($D79=\"\",\"\",$D79*AO79)","v":""},null,{"$f":"IF($D79=\"\",\"\",$D79*AQ79)","v":""},null,{"$f":"IF($D79=\"\",\"\",$D79*AS79)","v":""},null,{"$f":"IF($D79=\"\",\"\",$D79*AU79)","v":""},null,{"$f":"IF($D79=\"\",\"\",$D79*AW79)","v":""},null,{"$f":"IF($D79=\"\",\"\",$D79*AY79)","v":""},null,{"$f":"IF($D79=\"\",\"\",$D79*BA79)","v":""},null,{"$f":"IF($D79=\"\",\"\",$D79*BC79)","v":""},null,{"$f":"IF($D79=\"\",\"\",$D79*BE79)","v":""},null,{"$f":"IF($D79=\"\",\"\",$D79*BG79)","v":""},null,{"$f":"IF($D79=\"\",\"\",$D79*BI79)","v":""},null,{"$f":"IF($D79=\"\",\"\",$D79*BK79)","v":""},null,{"$f":"IF($D79=\"\",\"\",$D79*BM79)","v":""},null,{"$f":"IF($D79=\"\",\"\",$D79*BO79)","v":""},null,{"$f":"IF($D79=\"\",\"\",$D79*BQ79)","v":""},null,{"$f":"IF($D79=\"\",\"\",$D79*BS79)","v":""},null,{"$f":"IF($D79=\"\",\"\",$D79*BU79)","v":""},null,{"$f":"IF($D79=\"\",\"\",$D79*BW79)","v":""},null,0,""]
[null,{"$f":"+'DATOS SGO'!B101","v":0},{"$f":"IF(B80=0, \"\",VLOOKUP(B80,PRESUPUESTO!$B$17:$C$4611, 2, FALSE))","v":""},{"$f":"+'DATOS SGO'!H101","v":""},null,"",null,"",null,{"$f":"IF($D80=\"\",\"\",$D80*I80)","v":""},null,{"$f":"IF($D80=\"\",\"\",$D80*K80)","v":""},null,{"$f":"IF($D80=\"\",\"\",$D80*M80)","v":""},null,{"$f":"IF($D80=\"\",\"\",$D80*O80)","v":""},null,{"$f":"IF($D80=\"\",\"\",$D80*Q80)","v":""},null,{"$f":"IF($D80=\"\",\"\",$D80*S80)","v":""},null,{"$f":"IF($D80=\"\",\"\",$D80*U80)","v":""},null,{"$f":"IF($D80=\"\",\"\",$D80*W80)","v":""},null,{"$f":"IF($D80=\"\",\"\",$D80*Y80)","v":""},null,{"$f":"IF($D80=\"\",\"\",$D80*AA80)","v":""},null,{"$f":"IF($D80=\"\",\"\",$D80*AC80)","v":""},null,{"$f":"IF($D80=\"\",\"\",$D80*AE80)","v":""},null,{"$f":"IF($D80=\"\",\"\",$D80*AG80)","v":""},null,{"$f":"IF($D80=\"\",\"\",$D80*AI80)","v":""},null,{"$f":"IF($D80=\"\",\"\",$D80*AK80)","v":""},null,{"$f":"IF($D80=\"\",\"\",$D80*AM80)","v":""},null,{"$f":"IF($D80=\"\",\"\",$D80*AO80)","v":""},null,{"$f":"IF($D80=\"\",\"\",$D80*AQ80)","v":""},null,{"$f":"IF($D80=\"\",\"\",$D80*AS80)","v":""},null,{"$f":"IF($D80=\"\",\"\",$D80*AU80)","v":""},null,{"$f":"IF($D80=\"\",\"\",$D80*AW80)","v":""},null,{"$f":"IF($D80=\"\",\"\",$D80*AY80)","v":""},null,{"$f":"IF($D80=\"\",\"\",$D80*BA80)","v":""},null,{"$f":"IF($D80=\"\",\"\",$D80*BC80)","v":""},null,{"$f":"IF($D80=\"\",\"\",$D80*BE80)","v":""},null,{"$f":"IF($D80=\"\",\"\",$D80*BG80)","v":""},null,{"$f":"IF($D80=\"\",\"\",$D80*BI80)","v":""},null,{"$f":"IF($D80=\"\",\"\",$D80*BK80)","v":""},null,{"$f":"IF($D80=\"\",\"\",$D80*BM80)","v":""},null,{"$f":"IF($D80=\"\",\"\",$D80*BO80)","v":""},null,{"$f":"IF($D80=\"\",\"\",$D80*BQ80)","v":""},null,{"$f":"IF($D80=\"\",\"\",$D80*BS80)","v":""},null,{"$f":"IF($D80=\"\",\"\",$D80*BU80)","v":""},null,{"$f":"IF($D80=\"\",\"\",$D80*BW80)","v":""},null,0,""]
[null,{"$f":"+'DATOS SGO'!B102","v":0},{"$f":"IF(B81=0, \"\",VLOOKUP(B81,PRESUPUESTO!$B$17:$C$4611, 2, FALSE))","v":""},{"$f":"+'DATOS SGO'!H102","v":""},null,"",null,"",null,{"$f":"IF($D81=\"\",\"\",$D81*I81)","v":""},null,{"$f":"IF($D81=\"\",\"\",$D81*K81)","v":""},null,{"$f":"IF($D81=\"\",\"\",$D81*M81)","v":""},null,{"$f":"IF($D81=\"\",\"\",$D81*O81)","v":""},null,{"$f":"IF($D81=\"\",\"\",$D81*Q81)","v":""},null,{"$f":"IF($D81=\"\",\"\",$D81*S81)","v":""},null,{"$f":"IF($D81=\"\",\"\",$D81*U81)","v":""},null,{"$f":"IF($D81=\"\",\"\",$D81*W81)","v":""},null,{"$f":"IF($D81=\"\",\"\",$D81*Y81)","v":""},null,{"$f":"IF($D81=\"\",\"\",$D81*AA81)","v":""},null,{"$f":"IF($D81=\"\",\"\",$D81*AC81)","v":""},null,{"$f":"IF($D81=\"\",\"\",$D81*AE81)","v":""},null,{"$f":"IF($D81=\"\",\"\",$D81*AG81)","v":""},null,{"$f":"IF($D81=\"\",\"\",$D81*AI81)","v":""},null,{"$f":"IF($D81=\"\",\"\",$D81*AK81)","v":""},null,{"$f":"IF($D81=\"\",\"\",$D81*AM81)","v":""},null,{"$f":"IF($D81=\"\",\"\",$D81*AO81)","v":""},null,{"$f":"IF($D81=\"\",\"\",$D81*AQ81)","v":""},null,{"$f":"IF($D81=\"\",\"\",$D81*AS81)","v":""},null,{"$f":"IF($D81=\"\",\"\",$D81*AU81)","v":""},null,{"$f":"IF($D81=\"\",\"\",$D81*AW81)","v":""},null,{"$f":"IF($D81=\"\",\"\",$D81*AY81)","v":""},null,{"$f":"IF($D81=\"\",\"\",$D81*BA81)","v":""},null,{"$f":"IF($D81=\"\",\"\",$D81*BC81)","v":""},null,{"$f":"IF($D81=\"\",\"\",$D81*BE81)","v":""},null,{"$f":"IF($D81=\"\",\"\",$D81*BG81)","v":""},null,{"$f":"IF($D81=\"\",\"\",$D81*BI81)","v":""},null,{"$f":"IF($D81=\"\",\"\",$D81*BK81)","v":""},null,{"$f":"IF($D81=\"\",\"\",$D81*BM81)","v":""},null,{"$f":"IF($D81=\"\",\"\",$D81*BO81)","v":""},null,{"$f":"IF($D81=\"\",\"\",$D81*BQ81)","v":""},null,{"$f":"IF($D81=\"\",\"\",$D81*BS81)","v":""},null,{"$f":"IF($D81=\"\",\"\",$D81*BU81)","v":""},null,{"$f":"IF($D81=\"\",\"\",$D81*BW81)","v":""},null,{"$f":"+E81+G81+I81+K81+M81+O81+Q81+S81+U81+W81+Y81+AA81+AC81+AE81+AG81+AI81+AK81+AM81+AO81+AQ81+AS81+AU81+AW81+AY81+BA81+BC81+BE81+BG81+BI81+BK81+BM81+BO81+BQ81+BS81+BU81+BW81","v":0},""]
[null,{"$f":"+'DATOS SGO'!B103","v":0},{"$f":"IF(B82=0, \"\",VLOOKUP(B82,PRESUPUESTO!$B$17:$C$4611, 2, FALSE))","v":""},{"$f":"+'DATOS SGO'!H103","v":""},null,{"$f":"IF($D82=\"\",\"\",$D82*E82)","v":""},null,"",null,{"$f":"IF($D82=\"\",\"\",$D82*I82)","v":""},null,{"$f":"IF($D82=\"\",\"\",$D82*K82)","v":""},null,{"$f":"IF($D82=\"\",\"\",$D82*M82)","v":""},null,{"$f":"IF($D82=\"\",\"\",$D82*O82)","v":""},null,{"$f":"IF($D82=\"\",\"\",$D82*Q82)","v":""},null,{"$f":"IF($D82=\"\",\"\",$D82*S82)","v":""},null,{"$f":"IF($D82=\"\",\"\",$D82*U82)","v":""},null,{"$f":"IF($D82=\"\",\"\",$D82*W82)","v":""},null,{"$f":"IF($D82=\"\",\"\",$D82*Y82)","v":""},null,{"$f":"IF($D82=\"\",\"\",$D82*AA82)","v":""},null,{"$f":"IF($D82=\"\",\"\",$D82*AC82)","v":""},null,{"$f":"IF($D82=\"\",\"\",$D82*AE82)","v":""},null,{"$f":"IF($D82=\"\",\"\",$D82*AG82)","v":""},null,{"$f":"IF($D82=\"\",\"\",$D82*AI82)","v":""},null,{"$f":"IF($D82=\"\",\"\",$D82*AK82)","v":""},null,{"$f":"IF($D82=\"\",\"\",$D82*AM82)","v":""},null,{"$f":"IF($D82=\"\",\"\",$D82*AO82)","v":""},null,{"$f":"IF($D82=\"\",\"\",$D82*AQ82)","v":""},null,{"$f":"IF($D82=\"\",\"\",$D82*AS82)","v":""},null,{"$f":"IF($D82=\"\",\"\",$D82*AU82)","v":""},null,{"$f":"IF($D82=\"\",\"\",$D82*AW82)","v":""},null,{"$f":"IF($D82=\"\",\"\",$D82*AY82)","v":""},null,{"$f":"IF($D82=\"\",\"\",$D82*BA82)","v":""},null,{"$f":"IF($D82=\"\",\"\",$D82*BC82)","v":""},null,{"$f":"IF($D82=\"\",\"\",$D82*BE82)","v":""},null,{"$f":"IF($D82=\"\",\"\",$D82*BG82)","v":""},null,{"$f":"IF($D82=\"\",\"\",$D82*BI82)","v":""},null,{"$f":"IF($D82=\"\",\"\",$D82*BK82)","v":""},null,{"$f":"IF($D82=\"\",\"\",$D82*BM82)","v":""},null,{"$f":"IF($D82=\"\",\"\",$D82*BO82)","v":""},null,{"$f":"IF($D82=\"\",\"\",$D82*BQ82)","v":""},null,{"$f":"IF($D82=\"\",\"\",$D82*BS82)","v":""},null,{"$f":"IF($D82=\"\",\"\",$D82*BU82)","v":""},null,{"$f":"IF($D82=\"\",\"\",$D82*BW82)","v":""},null,0,""]
[null,{"$f":"+'DATOS SGO'!B104","v":0},{"$f":"IF(B83=0, \"\",VLOOKUP(B83,PRESUPUESTO!$B$17:$C$4611, 2, FALSE))","v":""},{"$f":"+'DATOS SGO'!H104","v":""},null,"",null,"",null,{"$f":"IF($D83=\"\",\"\",$D83*I83)","v":""},null,{"$f":"IF($D83=\"\",\"\",$D83*K83)","v":""},null,{"$f":"IF($D83=\"\",\"\",$D83*M83)","v":""},null,{"$f":"IF($D83=\"\",\"\",$D83*O83)","v":""},null,{"$f":"IF($D83=\"\",\"\",$D83*Q83)","v":""},null,{"$f":"IF($D83=\"\",\"\",$D83*S83)","v":""},null,{"$f":"IF($D83=\"\",\"\",$D83*U83)","v":""},null,{"$f":"IF($D83=\"\",\"\",$D83*W83)","v":""},null,{"$f":"IF($D83=\"\",\"\",$D83*Y83)","v":""},null,{"$f":"IF($D83=\"\",\"\",$D83*AA83)","v":""},null,{"$f":"IF($D83=\"\",\"\",$D83*AC83)","v":""},null,{"$f":"IF($D83=\"\",\"\",$D83*AE83)","v":""},null,{"$f":"IF($D83=\"\",\"\",$D83*AG83)","v":""},null,{"$f":"IF($D83=\"\",\"\",$D83*AI83)","v":""},null,{"$f":"IF($D83=\"\",\"\",$D83*AK83)","v":""},null,{"$f":"IF($D83=\"\",\"\",$D83*AM83)","v":""},null,{"$f":"IF($D83=\"\",\"\",$D83*AO83)","v":""},null,{"$f":"IF($D83=\"\",\"\",$D83*AQ83)","v":""},null,{"$f":"IF($D83=\"\",\"\",$D83*AS83)","v":""},null,{"$f":"IF($D83=\"\",\"\",$D83*AU83)","v":""},null,{"$f":"IF($D83=\"\",\"\",$D83*AW83)","v":""},null,{"$f":"IF($D83=\"\",\"\",$D83*AY83)","v":""},null,{"$f":"IF($D83=\"\",\"\",$D83*BA83)","v":""},null,{"$f":"IF($D83=\"\",\"\",$D83*BC83)","v":""},null,{"$f":"IF($D83=\"\",\"\",$D83*BE83)","v":""},null,{"$f":"IF($D83=\"\",\"\",$D83*BG83)","v":""},null,{"$f":"IF($D83=\"\",\"\",$D83*BI83)","v":""},null,{"$f":"IF($D83=\"\",\"\",$D83*BK83)","v":""},null,{"$f":"IF($D83=\"\",\"\",$D83*BM83)","v":""},null,{"$f":"IF($D83=\"\",\"\",$D83*BO83)","v":""},null,{"$f":"IF($D83=\"\",\"\",$D83*BQ83)","v":""},null,{"$f":"IF($D83=\"\",\"\",$D83*BS83)","v":""},null,{"$f":"IF($D83=\"\",\"\",$D83*BU83)","v":""},null,{"$f":"IF($D83=\"\",\"\",$D83*BW83)","v":""},null,0,""]
[null,{"$f":"+'DATOS SGO'!B105","v":0},{"$f":"IF(B84=0, \"\",VLOOKUP(B84,PRESUPUESTO!$B$17:$C$4611, 2, FALSE))","v":""},{"$f":"+'DATOS SGO'!H105","v":""},null,"",null,"",null,{"$f":"IF($D84=\"\",\"\",$D84*I84)","v":""},null,{"$f":"IF($D84=\"\",\"\",$D84*K84)","v":""},null,{"$f":"IF($D84=\"\",\"\",$D84*M84)","v":""},null,{"$f":"IF($D84=\"\",\"\",$D84*O84)","v":""},null,{"$f":"IF($D84=\"\",\"\",$D84*Q84)","v":""},null,{"$f":"IF($D84=\"\",\"\",$D84*S84)","v":""},null,{"$f":"IF($D84=\"\",\"\",$D84*U84)","v":""},null,{"$f":"IF($D84=\"\",\"\",$D84*W84)","v":""},null,{"$f":"IF($D84=\"\",\"\",$D84*Y84)","v":""},null,{"$f":"IF($D84=\"\",\"\",$D84*AA84)","v":""},null,{"$f":"IF($D84=\"\",\"\",$D84*AC84)","v":""},null,{"$f":"IF($D84=\"\",\"\",$D84*AE84)","v":""},null,{"$f":"IF($D84=\"\",\"\",$D84*AG84)","v":""},null,{"$f":"IF($D84=\"\",\"\",$D84*AI84)","v":""},null,{"$f":"IF($D84=\"\",\"\",$D84*AK84)","v":""},null,{"$f":"IF($D84=\"\",\"\",$D84*AM84)","v":""},null,{"$f":"IF($D84=\"\",\"\",$D84*AO84)","v":""},null,{"$f":"IF($D84=\"\",\"\",$D84*AQ84)","v":""},null,{"$f":"IF($D84=\"\",\"\",$D84*AS84)","v":""},null,{"$f":"IF($D84=\"\",\"\",$D84*AU84)","v":""},null,{"$f":"IF($D84=\"\",\"\",$D84*AW84)","v":""},null,{"$f":"IF($D84=\"\",\"\",$D84*AY84)","v":""},null,{"$f":"IF($D84=\"\",\"\",$D84*BA84)","v":""},null,{"$f":"IF($D84=\"\",\"\",$D84*BC84)","v":""},null,{"$f":"IF($D84=\"\",\"\",$D84*BE84)","v":""},null,{"$f":"IF($D84=\"\",\"\",$D84*BG84)","v":""},null,{"$f":"IF($D84=\"\",\"\",$D84*BI84)","v":""},null,{"$f":"IF($D84=\"\",\"\",$D84*BK84)","v":""},null,{"$f":"IF($D84=\"\",\"\",$D84*BM84)","v":""},null,{"$f":"IF($D84=\"\",\"\",$D84*BO84)","v":""},null,{"$f":"IF($D84=\"\",\"\",$D84*BQ84)","v":""},null,{"$f":"IF($D84=\"\",\"\",$D84*BS84)","v":""},null,{"$f":"IF($D84=\"\",\"\",$D84*BU84)","v":""},null,{"$f":"IF($D84=\"\",\"\",$D84*BW84)","v":""},null,0,""]
[null,{"$f":"+'DATOS SGO'!B106","v":0},{"$f":"IF(B85=0, \"\",VLOOKUP(B85,PRESUPUESTO!$B$17:$C$4611, 2, FALSE))","v":""},{"$f":"+'DATOS SGO'!H106","v":""},null,"",null,"",null,{"$f":"IF($D85=\"\",\"\",$D85*I85)","v":""},null,{"$f":"IF($D85=\"\",\"\",$D85*K85)","v":""},null,{"$f":"IF($D85=\"\",\"\",$D85*M85)","v":""},null,{"$f":"IF($D85=\"\",\"\",$D85*O85)","v":""},null,{"$f":"IF($D85=\"\",\"\",$D85*Q85)","v":""},null,{"$f":"IF($D85=\"\",\"\",$D85*S85)","v":""},null,{"$f":"IF($D85=\"\",\"\",$D85*U85)","v":""},null,{"$f":"IF($D85=\"\",\"\",$D85*W85)","v":""},null,{"$f":"IF($D85=\"\",\"\",$D85*Y85)","v":""},null,{"$f":"IF($D85=\"\",\"\",$D85*AA85)","v":""},null,{"$f":"IF($D85=\"\",\"\",$D85*AC85)","v":""},null,{"$f":"IF($D85=\"\",\"\",$D85*AE85)","v":""},null,{"$f":"IF($D85=\"\",\"\",$D85*AG85)","v":""},null,{"$f":"IF($D85=\"\",\"\",$D85*AI85)","v":""},null,{"$f":"IF($D85=\"\",\"\",$D85*AK85)","v":""},null,{"$f":"IF($D85=\"\",\"\",$D85*AM85)","v":""},null,{"$f":"IF($D85=\"\",\"\",$D85*AO85)","v":""},null,{"$f":"IF($D85=\"\",\"\",$D85*AQ85)","v":""},null,{"$f":"IF($D85=\"\",\"\",$D85*AS85)","v":""},null,{"$f":"IF($D85=\"\",\"\",$D85*AU85)","v":""},null,{"$f":"IF($D85=\"\",\"\",$D85*AW85)","v":""},null,{"$f":"IF($D85=\"\",\"\",$D85*AY85)","v":""},null,{"$f":"IF($D85=\"\",\"\",$D85*BA85)","v":""},null,{"$f":"IF($D85=\"\",\"\",$D85*BC85)","v":""},null,{"$f":"IF($D85=\"\",\"\",$D85*BE85)","v":""},null,{"$f":"IF($D85=\"\",\"\",$D85*BG85)","v":""},null,{"$f":"IF($D85=\"\",\"\",$D85*BI85)","v":""},null,{"$f":"IF($D85=\"\",\"\",$D85*BK85)","v":""},null,{"$f":"IF($D85=\"\",\"\",$D85*BM85)","v":""},null,{"$f":"IF($D85=\"\",\"\",$D85*BO85)","v":""},null,{"$f":"IF($D85=\"\",\"\",$D85*BQ85)","v":""},null,{"$f":"IF($D85=\"\",\"\",$D85*BS85)","v":""},null,{"$f":"IF($D85=\"\",\"\",$D85*BU85)","v":""},null,{"$f":"IF($D85=\"\",\"\",$D85*BW85)","v":""},null,0,""]
[null,{"$f":"+'DATOS SGO'!B107","v":0},{"$f":"IF(B86=0, \"\",VLOOKUP(B86,PRESUPUESTO!$B$17:$C$4611, 2, FALSE))","v":""},{"$f":"+'DATOS SGO'!H107","v":""},null,"",null,"",null,{"$f":"IF($D86=\"\",\"\",$D86*I86)","v":""},null,{"$f":"IF($D86=\"\",\"\",$D86*K86)","v":""},null,{"$f":"IF($D86=\"\",\"\",$D86*M86)","v":""},null,{"$f":"IF($D86=\"\",\"\",$D86*O86)","v":""},null,{"$f":"IF($D86=\"\",\"\",$D86*Q86)","v":""},null,{"$f":"IF($D86=\"\",\"\",$D86*S86)","v":""},null,{"$f":"IF($D86=\"\",\"\",$D86*U86)","v":""},null,{"$f":"IF($D86=\"\",\"\",$D86*W86)","v":""},null,{"$f":"IF($D86=\"\",\"\",$D86*Y86)","v":""},null,{"$f":"IF($D86=\"\",\"\",$D86*AA86)","v":""},null,{"$f":"IF($D86=\"\",\"\",$D86*AC86)","v":""},null,{"$f":"IF($D86=\"\",\"\",$D86*AE86)","v":""},null,{"$f":"IF($D86=\"\",\"\",$D86*AG86)","v":""},null,{"$f":"IF($D86=\"\",\"\",$D86*AI86)","v":""},null,{"$f":"IF($D86=\"\",\"\",$D86*AK86)","v":""},null,{"$f":"IF($D86=\"\",\"\",$D86*AM86)","v":""},null,{"$f":"IF($D86=\"\",\"\",$D86*AO86)","v":""},null,{"$f":"IF($D86=\"\",\"\",$D86*AQ86)","v":""},null,{"$f":"IF($D86=\"\",\"\",$D86*AS86)","v":""},null,{"$f":"IF($D86=\"\",\"\",$D86*AU86)","v":""},null,{"$f":"IF($D86=\"\",\"\",$D86*AW86)","v":""},null,{"$f":"IF($D86=\"\",\"\",$D86*AY86)","v":""},null,{"$f":"IF($D86=\"\",\"\",$D86*BA86)","v":""},null,{"$f":"IF($D86=\"\",\"\",$D86*BC86)","v":""},null,{"$f":"IF($D86=\"\",\"\",$D86*BE86)","v":""},null,{"$f":"IF($D86=\"\",\"\",$D86*BG86)","v":""},null,{"$f":"IF($D86=\"\",\"\",$D86*BI86)","v":""},null,{"$f":"IF($D86=\"\",\"\",$D86*BK86)","v":""},null,{"$f":"IF($D86=\"\",\"\",$D86*BM86)","v":""},null,{"$f":"IF($D86=\"\",\"\",$D86*BO86)","v":""},null,{"$f":"IF($D86=\"\",\"\",$D86*BQ86)","v":""},null,{"$f":"IF($D86=\"\",\"\",$D86*BS86)","v":""},null,{"$f":"IF($D86=\"\",\"\",$D86*BU86)","v":""},null,{"$f":"IF($D86=\"\",\"\",$D86*BW86)","v":""},null,0,""]
[null,{"$f":"+'DATOS SGO'!B108","v":0},{"$f":"IF(B87=0, \"\",VLOOKUP(B87,PRESUPUESTO!$B$17:$C$4611, 2, FALSE))","v":""},{"$f":"+'DATOS SGO'!H108","v":""},null,"",null,"",null,{"$f":"IF($D87=\"\",\"\",$D87*I87)","v":""},null,{"$f":"IF($D87=\"\",\"\",$D87*K87)","v":""},null,{"$f":"IF($D87=\"\",\"\",$D87*M87)","v":""},null,{"$f":"IF($D87=\"\",\"\",$D87*O87)","v":""},null,{"$f":"IF($D87=\"\",\"\",$D87*Q87)","v":""},null,{"$f":"IF($D87=\"\",\"\",$D87*S87)","v":""},null,{"$f":"IF($D87=\"\",\"\",$D87*U87)","v":""},null,{"$f":"IF($D87=\"\",\"\",$D87*W87)","v":""},null,{"$f":"IF($D87=\"\",\"\",$D87*Y87)","v":""},null,{"$f":"IF($D87=\"\",\"\",$D87*AA87)","v":""},null,{"$f":"IF($D87=\"\",\"\",$D87*AC87)","v":""},null,{"$f":"IF($D87=\"\",\"\",$D87*AE87)","v":""},null,{"$f":"IF($D87=\"\",\"\",$D87*AG87)","v":""},null,{"$f":"IF($D87=\"\",\"\",$D87*AI87)","v":""},null,{"$f":"IF($D87=\"\",\"\",$D87*AK87)","v":""},null,{"$f":"IF($D87=\"\",\"\",$D87*AM87)","v":""},null,{"$f":"IF($D87=\"\",\"\",$D87*AO87)","v":""},null,{"$f":"IF($D87=\"\",\"\",$D87*AQ87)","v":""},null,{"$f":"IF($D87=\"\",\"\",$D87*AS87)","v":""},null,{"$f":"IF($D87=\"\",\"\",$D87*AU87)","v":""},null,{"$f":"IF($D87=\"\",\"\",$D87*AW87)","v":""},null,{"$f":"IF($D87=\"\",\"\",$D87*AY87)","v":""},null,{"$f":"IF($D87=\"\",\"\",$D87*BA87)","v":""},null,{"$f":"IF($D87=\"\",\"\",$D87*BC87)","v":""},null,{"$f":"IF($D87=\"\",\"\",$D87*BE87)","v":""},null,{"$f":"IF($D87=\"\",\"\",$D87*BG87)","v":""},null,{"$f":"IF($D87=\"\",\"\",$D87*BI87)","v":""},null,{"$f":"IF($D87=\"\",\"\",$D87*BK87)","v":""},null,{"$f":"IF($D87=\"\",\"\",$D87*BM87)","v":""},null,{"$f":"IF($D87=\"\",\"\",$D87*BO87)","v":""},null,{"$f":"IF($D87=\"\",\"\",$D87*BQ87)","v":""},null,{"$f":"IF($D87=\"\",\"\",$D87*BS87)","v":""},null,{"$f":"IF($D87=\"\",\"\",$D87*BU87)","v":""},null,{"$f":"IF($D87=\"\",\"\",$D87*BW87)","v":""},null,0,""]
[null,{"$f":"+'DATOS SGO'!B109","v":0},{"$f":"IF(B88=0, \"\",VLOOKUP(B88,PRESUPUESTO!$B$17:$C$4611, 2, FALSE))","v":""},{"$f":"+'DATOS SGO'!H109","v":""},null,"",null,"",null,{"$f":"IF($D88=\"\",\"\",$D88*I88)","v":""},null,{"$f":"IF($D88=\"\",\"\",$D88*K88)","v":""},null,{"$f":"IF($D88=\"\",\"\",$D88*M88)","v":""},null,{"$f":"IF($D88=\"\",\"\",$D88*O88)","v":""},null,{"$f":"IF($D88=\"\",\"\",$D88*Q88)","v":""},null,{"$f":"IF($D88=\"\",\"\",$D88*S88)","v":""},null,{"$f":"IF($D88=\"\",\"\",$D88*U88)","v":""},null,{"$f":"IF($D88=\"\",\"\",$D88*W88)","v":""},null,{"$f":"IF($D88=\"\",\"\",$D88*Y88)","v":""},null,{"$f":"IF($D88=\"\",\"\",$D88*AA88)","v":""},null,{"$f":"IF($D88=\"\",\"\",$D88*AC88)","v":""},null,{"$f":"IF($D88=\"\",\"\",$D88*AE88)","v":""},null,{"$f":"IF($D88=\"\",\"\",$D88*AG88)","v":""},null,{"$f":"IF($D88=\"\",\"\",$D88*AI88)","v":""},null,{"$f":"IF($D88=\"\",\"\",$D88*AK88)","v":""},null,{"$f":"IF($D88=\"\",\"\",$D88*AM88)","v":""},null,{"$f":"IF($D88=\"\",\"\",$D88*AO88)","v":""},null,{"$f":"IF($D88=\"\",\"\",$D88*AQ88)","v":""},null,{"$f":"IF($D88=\"\",\"\",$D88*AS88)","v":""},null,{"$f":"IF($D88=\"\",\"\",$D88*AU88)","v":""},null,{"$f":"IF($D88=\"\",\"\",$D88*AW88)","v":""},null,{"$f":"IF($D88=\"\",\"\",$D88*AY88)","v":""},null,{"$f":"IF($D88=\"\",\"\",$D88*BA88)","v":""},null,{"$f":"IF($D88=\"\",\"\",$D88*BC88)","v":""},null,{"$f":"IF($D88=\"\",\"\",$D88*BE88)","v":""},null,{"$f":"IF($D88=\"\",\"\",$D88*BG88)","v":""},null,{"$f":"IF($D88=\"\",\"\",$D88*BI88)","v":""},null,{"$f":"IF($D88=\"\",\"\",$D88*BK88)","v":""},null,{"$f":"IF($D88=\"\",\"\",$D88*BM88)","v":""},null,{"$f":"IF($D88=\"\",\"\",$D88*BO88)","v":""},null,{"$f":"IF($D88=\"\",\"\",$D88*BQ88)","v":""},null,{"$f":"IF($D88=\"\",\"\",$D88*BS88)","v":""},null,{"$f":"IF($D88=\"\",\"\",$D88*BU88)","v":""},null,{"$f":"IF($D88=\"\",\"\",$D88*BW88)","v":""},null,0,""]
[null,{"$f":"+'DATOS SGO'!B110","v":0},{"$f":"IF(B89=0, \"\",VLOOKUP(B89,PRESUPUESTO!$B$17:$C$4611, 2, FALSE))","v":""},{"$f":"+'DATOS SGO'!H110","v":""},null,"",null,"",null,{"$f":"IF($D89=\"\",\"\",$D89*I89)","v":""},null,{"$f":"IF($D89=\"\",\"\",$D89*K89)","v":""},null,{"$f":"IF($D89=\"\",\"\",$D89*M89)","v":""},null,{"$f":"IF($D89=\"\",\"\",$D89*O89)","v":""},null,{"$f":"IF($D89=\"\",\"\",$D89*Q89)","v":""},null,{"$f":"IF($D89=\"\",\"\",$D89*S89)","v":""},null,{"$f":"IF($D89=\"\",\"\",$D89*U89)","v":""},null,{"$f":"IF($D89=\"\",\"\",$D89*W89)","v":""},null,{"$f":"IF($D89=\"\",\"\",$D89*Y89)","v":""},null,{"$f":"IF($D89=\"\",\"\",$D89*AA89)","v":""},null,{"$f":"IF($D89=\"\",\"\",$D89*AC89)","v":""},null,{"$f":"IF($D89=\"\",\"\",$D89*AE89)","v":""},null,{"$f":"IF($D89=\"\",\"\",$D89*AG89)","v":""},null,{"$f":"IF($D89=\"\",\"\",$D89*AI89)","v":""},null,{"$f":"IF($D89=\"\",\"\",$D89*AK89)","v":""},null,{"$f":"IF($D89=\"\",\"\",$D89*AM89)","v":""},null,{"$f":"IF($D89=\"\",\"\",$D89*AO89)","v":""},null,{"$f":"IF($D89=\"\",\"\",$D89*AQ89)","v":""},null,{"$f":"IF($D89=\"\",\"\",$D89*AS89)","v":""},null,{"$f":"IF($D89=\"\",\"\",$D89*AU89)","v":""},null,{"$f":"IF($D89=\"\",\"\",$D89*AW89)","v":""},null,{"$f":"IF($D89=\"\",\"\",$D89*AY89)","v":""},null,{"$f":"IF($D89=\"\",\"\",$D89*BA89)","v":""},null,{"$f":"IF($D89=\"\",\"\",$D89*BC89)","v":""},null,{"$f":"IF($D89=\"\",\"\",$D89*BE89)","v":""},null,{"$f":"IF($D89=\"\",\"\",$D89*BG89)","v":""},null,{"$f":"IF($D89=\"\",\"\",$D89*BI89)","v":""},null,{"$f":"IF($D89=\"\",\"\",$D89*BK89)","v":""},null,{"$f":"IF($D89=\"\",\"\",$D89*BM89)","v":""},null,{"$f":"IF($D89=\"\",\"\",$D89*BO89)","v":""},null,{"$f":"IF($D89=\"\",\"\",$D89*BQ89)","v":""},null,{"$f":"IF($D89=\"\",\"\",$D89*BS89)","v":""},null,{"$f":"IF($D89=\"\",\"\",$D89*BU89)","v":""},null,{"$f":"IF($D89=\"\",\"\",$D89*BW89)","v":""},null,0,""]
[null,{"$f":"+'DATOS SGO'!B111","v":0},{"$f":"IF(B90=0, \"\",VLOOKUP(B90,PRESUPUESTO!$B$17:$C$4611, 2, FALSE))","v":""},{"$f":"+'DATOS SGO'!H111","v":""},null,"",null,"",null,{"$f":"IF($D90=\"\",\"\",$D90*I90)","v":""},null,{"$f":"IF($D90=\"\",\"\",$D90*K90)","v":""},null,{"$f":"IF($D90=\"\",\"\",$D90*M90)","v":""},null,{"$f":"IF($D90=\"\",\"\",$D90*O90)","v":""},null,{"$f":"IF($D90=\"\",\"\",$D90*Q90)","v":""},null,{"$f":"IF($D90=\"\",\"\",$D90*S90)","v":""},null,{"$f":"IF($D90=\"\",\"\",$D90*U90)","v":""},null,{"$f":"IF($D90=\"\",\"\",$D90*W90)","v":""},null,{"$f":"IF($D90=\"\",\"\",$D90*Y90)","v":""},null,{"$f":"IF($D90=\"\",\"\",$D90*AA90)","v":""},null,{"$f":"IF($D90=\"\",\"\",$D90*AC90)","v":""},null,{"$f":"IF($D90=\"\",\"\",$D90*AE90)","v":""},null,{"$f":"IF($D90=\"\",\"\",$D90*AG90)","v":""},null,{"$f":"IF($D90=\"\",\"\",$D90*AI90)","v":""},null,{"$f":"IF($D90=\"\",\"\",$D90*AK90)","v":""},null,{"$f":"IF($D90=\"\",\"\",$D90*AM90)","v":""},null,{"$f":"IF($D90=\"\",\"\",$D90*AO90)","v":""},null,{"$f":"IF($D90=\"\",\"\",$D90*AQ90)","v":""},null,{"$f":"IF($D90=\"\",\"\",$D90*AS90)","v":""},null,{"$f":"IF($D90=\"\",\"\",$D90*AU90)","v":""},null,{"$f":"IF($D90=\"\",\"\",$D90*AW90)","v":""},null,{"$f":"IF($D90=\"\",\"\",$D90*AY90)","v":""},null,{"$f":"IF($D90=\"\",\"\",$D90*BA90)","v":""},null,{"$f":"IF($D90=\"\",\"\",$D90*BC90)","v":""},null,{"$f":"IF($D90=\"\",\"\",$D90*BE90)","v":""},null,{"$f":"IF($D90=\"\",\"\",$D90*BG90)","v":""},null,{"$f":"IF($D90=\"\",\"\",$D90*BI90)","v":""},null,{"$f":"IF($D90=\"\",\"\",$D90*BK90)","v":""},null,{"$f":"IF($D90=\"\",\"\",$D90*BM90)","v":""},null,{"$f":"IF($D90=\"\",\"\",$D90*BO90)","v":""},null,{"$f":"IF($D90=\"\",\"\",$D90*BQ90)","v":""},null,{"$f":"IF($D90=\"\",\"\",$D90*BS90)","v":""},null,{"$f":"IF($D90=\"\",\"\",$D90*BU90)","v":""},null,{"$f":"IF($D90=\"\",\"\",$D90*BW90)","v":""},null,0,""]
[null,{"$f":"+'DATOS SGO'!B112","v":0},{"$f":"IF(B91=0, \"\",VLOOKUP(B91,PRESUPUESTO!$B$17:$C$4611, 2, FALSE))","v":""},{"$f":"+'DATOS SGO'!H112","v":""},null,"",null,"",null,{"$f":"IF($D91=\"\",\"\",$D91*I91)","v":""},null,{"$f":"IF($D91=\"\",\"\",$D91*K91)","v":""},null,{"$f":"IF($D91=\"\",\"\",$D91*M91)","v":""},null,{"$f":"IF($D91=\"\",\"\",$D91*O91)","v":""},null,{"$f":"IF($D91=\"\",\"\",$D91*Q91)","v":""},null,{"$f":"IF($D91=\"\",\"\",$D91*S91)","v":""},null,{"$f":"IF($D91=\"\",\"\",$D91*U91)","v":""},null,{"$f":"IF($D91=\"\",\"\",$D91*W91)","v":""},null,{"$f":"IF($D91=\"\",\"\",$D91*Y91)","v":""},null,{"$f":"IF($D91=\"\",\"\",$D91*AA91)","v":""},null,{"$f":"IF($D91=\"\",\"\",$D91*AC91)","v":""},null,{"$f":"IF($D91=\"\",\"\",$D91*AE91)","v":""},null,{"$f":"IF($D91=\"\",\"\",$D91*AG91)","v":""},null,{"$f":"IF($D91=\"\",\"\",$D91*AI91)","v":""},null,{"$f":"IF($D91=\"\",\"\",$D91*AK91)","v":""},null,{"$f":"IF($D91=\"\",\"\",$D91*AM91)","v":""},null,{"$f":"IF($D91=\"\",\"\",$D91*AO91)","v":""},null,{"$f":"IF($D91=\"\",\"\",$D91*AQ91)","v":""},null,{"$f":"IF($D91=\"\",\"\",$D91*AS91)","v":""},null,{"$f":"IF($D91=\"\",\"\",$D91*AU91)","v":""},null,{"$f":"IF($D91=\"\",\"\",$D91*AW91)","v":""},null,{"$f":"IF($D91=\"\",\"\",$D91*AY91)","v":""},null,{"$f":"IF($D91=\"\",\"\",$D91*BA91)","v":""},null,{"$f":"IF($D91=\"\",\"\",$D91*BC91)","v":""},null,{"$f":"IF($D91=\"\",\"\",$D91*BE91)","v":""},null,{"$f":"IF($D91=\"\",\"\",$D91*BG91)","v":""},null,{"$f":"IF($D91=\"\",\"\",$D91*BI91)","v":""},null,{"$f":"IF($D91=\"\",\"\",$D91*BK91)","v":""},null,{"$f":"IF($D91=\"\",\"\",$D91*BM91)","v":""},null,{"$f":"IF($D91=\"\",\"\",$D91*BO91)","v":""},null,{"$f":"IF($D91=\"\",\"\",$D91*BQ91)","v":""},null,{"$f":"IF($D91=\"\",\"\",$D91*BS91)","v":""},null,{"$f":"IF($D91=\"\",\"\",$D91*BU91)","v":""},null,{"$f":"IF($D91=\"\",\"\",$D91*BW91)","v":""},null,0,""]
[null,{"$f":"+'DATOS SGO'!B113","v":0},{"$f":"IF(B92=0, \"\",VLOOKUP(B92,PRESUPUESTO!$B$17:$C$4611, 2, FALSE))","v":""},{"$f":"+'DATOS SGO'!H113","v":""},null,"",null,"",null,{"$f":"IF($D92=\"\",\"\",$D92*I92)","v":""},null,{"$f":"IF($D92=\"\",\"\",$D92*K92)","v":""},null,{"$f":"IF($D92=\"\",\"\",$D92*M92)","v":""},null,{"$f":"IF($D92=\"\",\"\",$D92*O92)","v":""},null,{"$f":"IF($D92=\"\",\"\",$D92*Q92)","v":""},null,{"$f":"IF($D92=\"\",\"\",$D92*S92)","v":""},null,{"$f":"IF($D92=\"\",\"\",$D92*U92)","v":""},null,{"$f":"IF($D92=\"\",\"\",$D92*W92)","v":""},null,{"$f":"IF($D92=\"\",\"\",$D92*Y92)","v":""},null,{"$f":"IF($D92=\"\",\"\",$D92*AA92)","v":""},null,{"$f":"IF($D92=\"\",\"\",$D92*AC92)","v":""},null,{"$f":"IF($D92=\"\",\"\",$D92*AE92)","v":""},null,{"$f":"IF($D92=\"\",\"\",$D92*AG92)","v":""},null,{"$f":"IF($D92=\"\",\"\",$D92*AI92)","v":""},null,{"$f":"IF($D92=\"\",\"\",$D92*AK92)","v":""},null,{"$f":"IF($D92=\"\",\"\",$D92*AM92)","v":""},null,{"$f":"IF($D92=\"\",\"\",$D92*AO92)","v":""},null,{"$f":"IF($D92=\"\",\"\",$D92*AQ92)","v":""},null,{"$f":"IF($D92=\"\",\"\",$D92*AS92)","v":""},null,{"$f":"IF($D92=\"\",\"\",$D92*AU92)","v":""},null,{"$f":"IF($D92=\"\",\"\",$D92*AW92)","v":""},null,{"$f":"IF($D92=\"\",\"\",$D92*AY92)","v":""},null,{"$f":"IF($D92=\"\",\"\",$D92*BA92)","v":""},null,{"$f":"IF($D92=\"\",\"\",$D92*BC92)","v":""},null,{"$f":"IF($D92=\"\",\"\",$D92*BE92)","v":""},null,{"$f":"IF($D92=\"\",\"\",$D92*BG92)","v":""},null,{"$f":"IF($D92=\"\",\"\",$D92*BI92)","v":""},null,{"$f":"IF($D92=\"\",\"\",$D92*BK92)","v":""},null,{"$f":"IF($D92=\"\",\"\",$D92*BM92)","v":""},null,{"$f":"IF($D92=\"\",\"\",$D92*BO92)","v":""},null,{"$f":"IF($D92=\"\",\"\",$D92*BQ92)","v":""},null,{"$f":"IF($D92=\"\",\"\",$D92*BS92)","v":""},null,{"$f":"IF($D92=\"\",\"\",$D92*BU92)","v":""},null,{"$f":"IF($D92=\"\",\"\",$D92*BW92)","v":""},null,0,""]
[null,{"$f":"+'DATOS SGO'!B114","v":0},{"$f":"IF(B93=0, \"\",VLOOKUP(B93,PRESUPUESTO!$B$17:$C$4611, 2, FALSE))","v":""},{"$f":"+'DATOS SGO'!H114","v":""},null,"",null,"",null,{"$f":"IF($D93=\"\",\"\",$D93*I93)","v":""},null,{"$f":"IF($D93=\"\",\"\",$D93*K93)","v":""},null,{"$f":"IF($D93=\"\",\"\",$D93*M93)","v":""},null,{"$f":"IF($D93=\"\",\"\",$D93*O93)","v":""},null,{"$f":"IF($D93=\"\",\"\",$D93*Q93)","v":""},null,{"$f":"IF($D93=\"\",\"\",$D93*S93)","v":""},null,{"$f":"IF($D93=\"\",\"\",$D93*U93)","v":""},null,{"$f":"IF($D93=\"\",\"\",$D93*W93)","v":""},null,{"$f":"IF($D93=\"\",\"\",$D93*Y93)","v":""},null,{"$f":"IF($D93=\"\",\"\",$D93*AA93)","v":""},null,{"$f":"IF($D93=\"\",\"\",$D93*AC93)","v":""},null,{"$f":"IF($D93=\"\",\"\",$D93*AE93)","v":""},null,{"$f":"IF($D93=\"\",\"\",$D93*AG93)","v":""},null,{"$f":"IF($D93=\"\",\"\",$D93*AI93)","v":""},null,{"$f":"IF($D93=\"\",\"\",$D93*AK93)","v":""},null,{"$f":"IF($D93=\"\",\"\",$D93*AM93)","v":""},null,{"$f":"IF($D93=\"\",\"\",$D93*AO93)","v":""},null,{"$f":"IF($D93=\"\",\"\",$D93*AQ93)","v":""},null,{"$f":"IF($D93=\"\",\"\",$D93*AS93)","v":""},null,{"$f":"IF($D93=\"\",\"\",$D93*AU93)","v":""},null,{"$f":"IF($D93=\"\",\"\",$D93*AW93)","v":""},null,{"$f":"IF($D93=\"\",\"\",$D93*AY93)","v":""},null,{"$f":"IF($D93=\"\",\"\",$D93*BA93)","v":""},null,{"$f":"IF($D93=\"\",\"\",$D93*BC93)","v":""},null,{"$f":"IF($D93=\"\",\"\",$D93*BE93)","v":""},null,{"$f":"IF($D93=\"\",\"\",$D93*BG93)","v":""},null,{"$f":"IF($D93=\"\",\"\",$D93*BI93)","v":""},null,{"$f":"IF($D93=\"\",\"\",$D93*BK93)","v":""},null,{"$f":"IF($D93=\"\",\"\",$D93*BM93)","v":""},null,{"$f":"IF($D93=\"\",\"\",$D93*BO93)","v":""},null,{"$f":"IF($D93=\"\",\"\",$D93*BQ93)","v":""},null,{"$f":"IF($D93=\"\",\"\",$D93*BS93)","v":""},null,{"$f":"IF($D93=\"\",\"\",$D93*BU93)","v":""},null,{"$f":"IF($D93=\"\",\"\",$D93*BW93)","v":""},null,0,""]
[null,{"$f":"+'DATOS SGO'!B115","v":0},{"$f":"IF(B94=0, \"\",VLOOKUP(B94,PRESUPUESTO!$B$17:$C$4611, 2, FALSE))","v":""},{"$f":"+'DATOS SGO'!H115","v":""},null,"",null,"",null,{"$f":"IF($D94=\"\",\"\",$D94*I94)","v":""},null,{"$f":"IF($D94=\"\",\"\",$D94*K94)","v":""},null,{"$f":"IF($D94=\"\",\"\",$D94*M94)","v":""},null,{"$f":"IF($D94=\"\",\"\",$D94*O94)","v":""},null,{"$f":"IF($D94=\"\",\"\",$D94*Q94)","v":""},null,{"$f":"IF($D94=\"\",\"\",$D94*S94)","v":""},null,{"$f":"IF($D94=\"\",\"\",$D94*U94)","v":""},null,{"$f":"IF($D94=\"\",\"\",$D94*W94)","v":""},null,{"$f":"IF($D94=\"\",\"\",$D94*Y94)","v":""},null,{"$f":"IF($D94=\"\",\"\",$D94*AA94)","v":""},null,{"$f":"IF($D94=\"\",\"\",$D94*AC94)","v":""},null,{"$f":"IF($D94=\"\",\"\",$D94*AE94)","v":""},null,{"$f":"IF($D94=\"\",\"\",$D94*AG94)","v":""},null,{"$f":"IF($D94=\"\",\"\",$D94*AI94)","v":""},null,{"$f":"IF($D94=\"\",\"\",$D94*AK94)","v":""},null,{"$f":"IF($D94=\"\",\"\",$D94*AM94)","v":""},null,{"$f":"IF($D94=\"\",\"\",$D94*AO94)","v":""},null,{"$f":"IF($D94=\"\",\"\",$D94*AQ94)","v":""},null,{"$f":"IF($D94=\"\",\"\",$D94*AS94)","v":""},null,{"$f":"IF($D94=\"\",\"\",$D94*AU94)","v":""},null,{"$f":"IF($D94=\"\",\"\",$D94*AW94)","v":""},null,{"$f":"IF($D94=\"\",\"\",$D94*AY94)","v":""},null,{"$f":"IF($D94=\"\",\"\",$D94*BA94)","v":""},null,{"$f":"IF($D94=\"\",\"\",$D94*BC94)","v":""},null,{"$f":"IF($D94=\"\",\"\",$D94*BE94)","v":""},null,{"$f":"IF($D94=\"\",\"\",$D94*BG94)","v":""},null,{"$f":"IF($D94=\"\",\"\",$D94*BI94)","v":""},null,{"$f":"IF($D94=\"\",\"\",$D94*BK94)","v":""},null,{"$f":"IF($D94=\"\",\"\",$D94*BM94)","v":""},null,{"$f":"IF($D94=\"\",\"\",$D94*BO94)","v":""},null,{"$f":"IF($D94=\"\",\"\",$D94*BQ94)","v":""},null,{"$f":"IF($D94=\"\",\"\",$D94*BS94)","v":""},null,{"$f":"IF($D94=\"\",\"\",$D94*BU94)","v":""},null,{"$f":"IF($D94=\"\",\"\",$D94*BW94)","v":""},null,0,""]
[null,{"$f":"+'DATOS SGO'!B116","v":0},{"$f":"IF(B95=0, \"\",VLOOKUP(B95,PRESUPUESTO!$B$17:$C$4611, 2, FALSE))","v":""},{"$f":"+'DATOS SGO'!H116","v":""},null,"",null,"",null,{"$f":"IF($D95=\"\",\"\",$D95*I95)","v":""},null,{"$f":"IF($D95=\"\",\"\",$D95*K95)","v":""},null,{"$f":"IF($D95=\"\",\"\",$D95*M95)","v":""},null,{"$f":"IF($D95=\"\",\"\",$D95*O95)","v":""},null,{"$f":"IF($D95=\"\",\"\",$D95*Q95)","v":""},null,{"$f":"IF($D95=\"\",\"\",$D95*S95)","v":""},null,{"$f":"IF($D95=\"\",\"\",$D95*U95)","v":""},null,{"$f":"IF($D95=\"\",\"\",$D95*W95)","v":""},null,{"$f":"IF($D95=\"\",\"\",$D95*Y95)","v":""},null,{"$f":"IF($D95=\"\",\"\",$D95*AA95)","v":""},null,{"$f":"IF($D95=\"\",\"\",$D95*AC95)","v":""},null,{"$f":"IF($D95=\"\",\"\",$D95*AE95)","v":""},null,{"$f":"IF($D95=\"\",\"\",$D95*AG95)","v":""},null,{"$f":"IF($D95=\"\",\"\",$D95*AI95)","v":""},null,{"$f":"IF($D95=\"\",\"\",$D95*AK95)","v":""},null,{"$f":"IF($D95=\"\",\"\",$D95*AM95)","v":""},null,{"$f":"IF($D95=\"\",\"\",$D95*AO95)","v":""},null,{"$f":"IF($D95=\"\",\"\",$D95*AQ95)","v":""},null,{"$f":"IF($D95=\"\",\"\",$D95*AS95)","v":""},null,{"$f":"IF($D95=\"\",\"\",$D95*AU95)","v":""},null,{"$f":"IF($D95=\"\",\"\",$D95*AW95)","v":""},null,{"$f":"IF($D95=\"\",\"\",$D95*AY95)","v":""},null,{"$f":"IF($D95=\"\",\"\",$D95*BA95)","v":""},null,{"$f":"IF($D95=\"\",\"\",$D95*BC95)","v":""},null,{"$f":"IF($D95=\"\",\"\",$D95*BE95)","v":""},null,{"$f":"IF($D95=\"\",\"\",$D95*BG95)","v":""},null,{"$f":"IF($D95=\"\",\"\",$D95*BI95)","v":""},null,{"$f":"IF($D95=\"\",\"\",$D95*BK95)","v":""},null,{"$f":"IF($D95=\"\",\"\",$D95*BM95)","v":""},null,{"$f":"IF($D95=\"\",\"\",$D95*BO95)","v":""},null,{"$f":"IF($D95=\"\",\"\",$D95*BQ95)","v":""},null,{"$f":"IF($D95=\"\",\"\",$D95*BS95)","v":""},null,{"$f":"IF($D95=\"\",\"\",$D95*BU95)","v":""},null,{"$f":"IF($D95=\"\",\"\",$D95*BW95)","v":""},null,0,""]
[null,{"$f":"+'DATOS SGO'!B117","v":0},{"$f":"IF(B96=0, \"\",VLOOKUP(B96,PRESUPUESTO!$B$17:$C$4611, 2, FALSE))","v":""},{"$f":"+'DATOS SGO'!H117","v":""},null,"",null,"",null,{"$f":"IF($D96=\"\",\"\",$D96*I96)","v":""},null,{"$f":"IF($D96=\"\",\"\",$D96*K96)","v":""},null,{"$f":"IF($D96=\"\",\"\",$D96*M96)","v":""},null,{"$f":"IF($D96=\"\",\"\",$D96*O96)","v":""},null,{"$f":"IF($D96=\"\",\"\",$D96*Q96)","v":""},null,{"$f":"IF($D96=\"\",\"\",$D96*S96)","v":""},null,{"$f":"IF($D96=\"\",\"\",$D96*U96)","v":""},null,{"$f":"IF($D96=\"\",\"\",$D96*W96)","v":""},null,{"$f":"IF($D96=\"\",\"\",$D96*Y96)","v":""},null,{"$f":"IF($D96=\"\",\"\",$D96*AA96)","v":""},null,{"$f":"IF($D96=\"\",\"\",$D96*AC96)","v":""},null,{"$f":"IF($D96=\"\",\"\",$D96*AE96)","v":""},null,{"$f":"IF($D96=\"\",\"\",$D96*AG96)","v":""},null,{"$f":"IF($D96=\"\",\"\",$D96*AI96)","v":""},null,{"$f":"IF($D96=\"\",\"\",$D96*AK96)","v":""},null,{"$f":"IF($D96=\"\",\"\",$D96*AM96)","v":""},null,{"$f":"IF($D96=\"\",\"\",$D96*AO96)","v":""},null,{"$f":"IF($D96=\"\",\"\",$D96*AQ96)","v":""},null,{"$f":"IF($D96=\"\",\"\",$D96*AS96)","v":""},null,{"$f":"IF($D96=\"\",\"\",$D96*AU96)","v":""},null,{"$f":"IF($D96=\"\",\"\",$D96*AW96)","v":""},null,{"$f":"IF($D96=\"\",\"\",$D96*AY96)","v":""},null,{"$f":"IF($D96=\"\",\"\",$D96*BA96)","v":""},null,{"$f":"IF($D96=\"\",\"\",$D96*BC96)","v":""},null,{"$f":"IF($D96=\"\",\"\",$D96*BE96)","v":""},null,{"$f":"IF($D96=\"\",\"\",$D96*BG96)","v":""},null,{"$f":"IF($D96=\"\",\"\",$D96*BI96)","v":""},null,{"$f":"IF($D96=\"\",\"\",$D96*BK96)","v":""},null,{"$f":"IF($D96=\"\",\"\",$D96*BM96)","v":""},null,{"$f":"IF($D96=\"\",\"\",$D96*BO96)","v":""},null,{"$f":"IF($D96=\"\",\"\",$D96*BQ96)","v":""},null,{"$f":"IF($D96=\"\",\"\",$D96*BS96)","v":""},null,{"$f":"IF($D96=\"\",\"\",$D96*BU96)","v":""},null,{"$f":"IF($D96=\"\",\"\",$D96*BW96)","v":""},null,0,""]
[null,{"$f":"+'DATOS SGO'!B118","v":0},{"$f":"IF(B97=0, \"\",VLOOKUP(B97,PRESUPUESTO!$B$17:$C$4611, 2, FALSE))","v":""},{"$f":"+'DATOS SGO'!H118","v":""},null,"",null,"",null,{"$f":"IF($D97=\"\",\"\",$D97*I97)","v":""},null,{"$f":"IF($D97=\"\",\"\",$D97*K97)","v":""},null,{"$f":"IF($D97=\"\",\"\",$D97*M97)","v":""},null,{"$f":"IF($D97=\"\",\"\",$D97*O97)","v":""},null,{"$f":"IF($D97=\"\",\"\",$D97*Q97)","v":""},null,{"$f":"IF($D97=\"\",\"\",$D97*S97)","v":""},null,{"$f":"IF($D97=\"\",\"\",$D97*U97)","v":""},null,{"$f":"IF($D97=\"\",\"\",$D97*W97)","v":""},null,{"$f":"IF($D97=\"\",\"\",$D97*Y97)","v":""},null,{"$f":"IF($D97=\"\",\"\",$D97*AA97)","v":""},null,{"$f":"IF($D97=\"\",\"\",$D97*AC97)","v":""},null,{"$f":"IF($D97=\"\",\"\",$D97*AE97)","v":""},null,{"$f":"IF($D97=\"\",\"\",$D97*AG97)","v":""},null,{"$f":"IF($D97=\"\",\"\",$D97*AI97)","v":""},null,{"$f":"IF($D97=\"\",\"\",$D97*AK97)","v":""},null,{"$f":"IF($D97=\"\",\"\",$D97*AM97)","v":""},null,{"$f":"IF($D97=\"\",\"\",$D97*AO97)","v":""},null,{"$f":"IF($D97=\"\",\"\",$D97*AQ97)","v":""},null,{"$f":"IF($D97=\"\",\"\",$D97*AS97)","v":""},null,{"$f":"IF($D97=\"\",\"\",$D97*AU97)","v":""},null,{"$f":"IF($D97=\"\",\"\",$D97*AW97)","v":""},null,{"$f":"IF($D97=\"\",\"\",$D97*AY97)","v":""},null,{"$f":"IF($D97=\"\",\"\",$D97*BA97)","v":""},null,{"$f":"IF($D97=\"\",\"\",$D97*BC97)","v":""},null,{"$f":"IF($D97=\"\",\"\",$D97*BE97)","v":""},null,{"$f":"IF($D97=\"\",\"\",$D97*BG97)","v":""},null,{"$f":"IF($D97=\"\",\"\",$D97*BI97)","v":""},null,{"$f":"IF($D97=\"\",\"\",$D97*BK97)","v":""},null,{"$f":"IF($D97=\"\",\"\",$D97*BM97)","v":""},null,{"$f":"IF($D97=\"\",\"\",$D97*BO97)","v":""},null,{"$f":"IF($D97=\"\",\"\",$D97*BQ97)","v":""},null,{"$f":"IF($D97=\"\",\"\",$D97*BS97)","v":""},null,{"$f":"IF($D97=\"\",\"\",$D97*BU97)","v":""},null,{"$f":"IF($D97=\"\",\"\",$D97*BW97)","v":""},null,0,""]
[null,{"$f":"+'DATOS SGO'!B119","v":0},{"$f":"IF(B98=0, \"\",VLOOKUP(B98,PRESUPUESTO!$B$17:$C$4611, 2, FALSE))","v":""},{"$f":"+'DATOS SGO'!H119","v":""},null,"",null,"",null,{"$f":"IF($D98=\"\",\"\",$D98*I98)","v":""},null,{"$f":"IF($D98=\"\",\"\",$D98*K98)","v":""},null,{"$f":"IF($D98=\"\",\"\",$D98*M98)","v":""},null,{"$f":"IF($D98=\"\",\"\",$D98*O98)","v":""},null,{"$f":"IF($D98=\"\",\"\",$D98*Q98)","v":""},null,{"$f":"IF($D98=\"\",\"\",$D98*S98)","v":""},null,{"$f":"IF($D98=\"\",\"\",$D98*U98)","v":""},null,{"$f":"IF($D98=\"\",\"\",$D98*W98)","v":""},null,{"$f":"IF($D98=\"\",\"\",$D98*Y98)","v":""},null,{"$f":"IF($D98=\"\",\"\",$D98*AA98)","v":""},null,{"$f":"IF($D98=\"\",\"\",$D98*AC98)","v":""},null,{"$f":"IF($D98=\"\",\"\",$D98*AE98)","v":""},null,{"$f":"IF($D98=\"\",\"\",$D98*AG98)","v":""},null,{"$f":"IF($D98=\"\",\"\",$D98*AI98)","v":""},null,{"$f":"IF($D98=\"\",\"\",$D98*AK98)","v":""},null,{"$f":"IF($D98=\"\",\"\",$D98*AM98)","v":""},null,{"$f":"IF($D98=\"\",\"\",$D98*AO98)","v":""},null,{"$f":"IF($D98=\"\",\"\",$D98*AQ98)","v":""},null,{"$f":"IF($D98=\"\",\"\",$D98*AS98)","v":""},null,{"$f":"IF($D98=\"\",\"\",$D98*AU98)","v":""},null,{"$f":"IF($D98=\"\",\"\",$D98*AW98)","v":""},null,{"$f":"IF($D98=\"\",\"\",$D98*AY98)","v":""},null,{"$f":"IF($D98=\"\",\"\",$D98*BA98)","v":""},null,{"$f":"IF($D98=\"\",\"\",$D98*BC98)","v":""},null,{"$f":"IF($D98=\"\",\"\",$D98*BE98)","v":""},null,{"$f":"IF($D98=\"\",\"\",$D98*BG98)","v":""},null,{"$f":"IF($D98=\"\",\"\",$D98*BI98)","v":""},null,{"$f":"IF($D98=\"\",\"\",$D98*BK98)","v":""},null,{"$f":"IF($D98=\"\",\"\",$D98*BM98)","v":""},null,{"$f":"IF($D98=\"\",\"\",$D98*BO98)","v":""},null,{"$f":"IF($D98=\"\",\"\",$D98*BQ98)","v":""},null,{"$f":"IF($D98=\"\",\"\",$D98*BS98)","v":""},null,{"$f":"IF($D98=\"\",\"\",$D98*BU98)","v":""},null,{"$f":"IF($D98=\"\",\"\",$D98*BW98)","v":""},null,0,""]
[null,{"$f":"+'DATOS SGO'!B120","v":0},{"$f":"IF(B99=0, \"\",VLOOKUP(B99,PRESUPUESTO!$B$17:$C$4611, 2, FALSE))","v":""},{"$f":"+'DATOS SGO'!H120","v":""},null,"",null,"",null,{"$f":"IF($D99=\"\",\"\",$D99*I99)","v":""},null,{"$f":"IF($D99=\"\",\"\",$D99*K99)","v":""},null,{"$f":"IF($D99=\"\",\"\",$D99*M99)","v":""},null,{"$f":"IF($D99=\"\",\"\",$D99*O99)","v":""},null,{"$f":"IF($D99=\"\",\"\",$D99*Q99)","v":""},null,{"$f":"IF($D99=\"\",\"\",$D99*S99)","v":""},null,{"$f":"IF($D99=\"\",\"\",$D99*U99)","v":""},null,{"$f":"IF($D99=\"\",\"\",$D99*W99)","v":""},null,{"$f":"IF($D99=\"\",\"\",$D99*Y99)","v":""},null,{"$f":"IF($D99=\"\",\"\",$D99*AA99)","v":""},null,{"$f":"IF($D99=\"\",\"\",$D99*AC99)","v":""},null,{"$f":"IF($D99=\"\",\"\",$D99*AE99)","v":""},null,{"$f":"IF($D99=\"\",\"\",$D99*AG99)","v":""},null,{"$f":"IF($D99=\"\",\"\",$D99*AI99)","v":""},null,{"$f":"IF($D99=\"\",\"\",$D99*AK99)","v":""},null,{"$f":"IF($D99=\"\",\"\",$D99*AM99)","v":""},null,{"$f":"IF($D99=\"\",\"\",$D99*AO99)","v":""},null,{"$f":"IF($D99=\"\",\"\",$D99*AQ99)","v":""},null,{"$f":"IF($D99=\"\",\"\",$D99*AS99)","v":""},null,{"$f":"IF($D99=\"\",\"\",$D99*AU99)","v":""},null,{"$f":"IF($D99=\"\",\"\",$D99*AW99)","v":""},null,{"$f":"IF($D99=\"\",\"\",$D99*AY99)","v":""},null,{"$f":"IF($D99=\"\",\"\",$D99*BA99)","v":""},null,{"$f":"IF($D99=\"\",\"\",$D99*BC99)","v":""},null,{"$f":"IF($D99=\"\",\"\",$D99*BE99)","v":""},null,{"$f":"IF($D99=\"\",\"\",$D99*BG99)","v":""},null,{"$f":"IF($D99=\"\",\"\",$D99*BI99)","v":""},null,{"$f":"IF($D99=\"\",\"\",$D99*BK99)","v":""},null,{"$f":"IF($D99=\"\",\"\",$D99*BM99)","v":""},null,{"$f":"IF($D99=\"\",\"\",$D99*BO99)","v":""},null,{"$f":"IF($D99=\"\",\"\",$D99*BQ99)","v":""},null,{"$f":"IF($D99=\"\",\"\",$D99*BS99)","v":""},null,{"$f":"IF($D99=\"\",\"\",$D99*BU99)","v":""},null,{"$f":"IF($D99=\"\",\"\",$D99*BW99)","v":""},null,0,""]
[null,{"$f":"+'DATOS SGO'!B121","v":0},{"$f":"IF(B100=0, \"\",VLOOKUP(B100,PRESUPUESTO!$B$17:$C$4611, 2, FALSE))","v":""},{"$f":"+'DATOS SGO'!H121","v":""},null,"",null,"",null,{"$f":"IF($D100=\"\",\"\",$D100*I100)","v":""},null,{"$f":"IF($D100=\"\",\"\",$D100*K100)","v":""},null,{"$f":"IF($D100=\"\",\"\",$D100*M100)","v":""},null,{"$f":"IF($D100=\"\",\"\",$D100*O100)","v":""},null,{"$f":"IF($D100=\"\",\"\",$D100*Q100)","v":""},null,{"$f":"IF($D100=\"\",\"\",$D100*S100)","v":""},null,{"$f":"IF($D100=\"\",\"\",$D100*U100)","v":""},null,{"$f":"IF($D100=\"\",\"\",$D100*W100)","v":""},null,{"$f":"IF($D100=\"\",\"\",$D100*Y100)","v":""},null,{"$f":"IF($D100=\"\",\"\",$D100*AA100)","v":""},null,{"$f":"IF($D100=\"\",\"\",$D100*AC100)","v":""},null,{"$f":"IF($D100=\"\",\"\",$D100*AE100)","v":""},null,{"$f":"IF($D100=\"\",\"\",$D100*AG100)","v":""},null,{"$f":"IF($D100=\"\",\"\",$D100*AI100)","v":""},null,{"$f":"IF($D100=\"\",\"\",$D100*AK100)","v":""},null,{"$f":"IF($D100=\"\",\"\",$D100*AM100)","v":""},null,{"$f":"IF($D100=\"\",\"\",$D100*AO100)","v":""},null,{"$f":"IF($D100=\"\",\"\",$D100*AQ100)","v":""},null,{"$f":"IF($D100=\"\",\"\",$D100*AS100)","v":""},null,{"$f":"IF($D100=\"\",\"\",$D100*AU100)","v":""},null,{"$f":"IF($D100=\"\",\"\",$D100*AW100)","v":""},null,{"$f":"IF($D100=\"\",\"\",$D100*AY100)","v":""},null,{"$f":"IF($D100=\"\",\"\",$D100*BA100)","v":""},null,{"$f":"IF($D100=\"\",\"\",$D100*BC100)","v":""},null,{"$f":"IF($D100=\"\",\"\",$D100*BE100)","v":""},null,{"$f":"IF($D100=\"\",\"\",$D100*BG100)","v":""},null,{"$f":"IF($D100=\"\",\"\",$D100*BI100)","v":""},null,{"$f":"IF($D100=\"\",\"\",$D100*BK100)","v":""},null,{"$f":"IF($D100=\"\",\"\",$D100*BM100)","v":""},null,{"$f":"IF($D100=\"\",\"\",$D100*BO100)","v":""},null,{"$f":"IF($D100=\"\",\"\",$D100*BQ100)","v":""},null,{"$f":"IF($D100=\"\",\"\",$D100*BS100)","v":""},null,{"$f":"IF($D100=\"\",\"\",$D100*BU100)","v":""},null,{"$f":"IF($D100=\"\",\"\",$D100*BW100)","v":""},null,0,""]
[null,{"$f":"+'DATOS SGO'!B122","v":0},{"$f":"IF(B101=0, \"\",VLOOKUP(B101,PRESUPUESTO!$B$17:$C$4611, 2, FALSE))","v":""},{"$f":"+'DATOS SGO'!H122","v":""},null,"",null,"",null,{"$f":"IF($D101=\"\",\"\",$D101*I101)","v":""},null,{"$f":"IF($D101=\"\",\"\",$D101*K101)","v":""},null,{"$f":"IF($D101=\"\",\"\",$D101*M101)","v":""},null,{"$f":"IF($D101=\"\",\"\",$D101*O101)","v":""},null,{"$f":"IF($D101=\"\",\"\",$D101*Q101)","v":""},null,{"$f":"IF($D101=\"\",\"\",$D101*S101)","v":""},null,{"$f":"IF($D101=\"\",\"\",$D101*U101)","v":""},null,{"$f":"IF($D101=\"\",\"\",$D101*W101)","v":""},null,{"$f":"IF($D101=\"\",\"\",$D101*Y101)","v":""},null,{"$f":"IF($D101=\"\",\"\",$D101*AA101)","v":""},null,{"$f":"IF($D101=\"\",\"\",$D101*AC101)","v":""},null,{"$f":"IF($D101=\"\",\"\",$D101*AE101)","v":""},null,{"$f":"IF($D101=\"\",\"\",$D101*AG101)","v":""},null,{"$f":"IF($D101=\"\",\"\",$D101*AI101)","v":""},null,{"$f":"IF($D101=\"\",\"\",$D101*AK101)","v":""},null,{"$f":"IF($D101=\"\",\"\",$D101*AM101)","v":""},null,{"$f":"IF($D101=\"\",\"\",$D101*AO101)","v":""},null,{"$f":"IF($D101=\"\",\"\",$D101*AQ101)","v":""},null,{"$f":"IF($D101=\"\",\"\",$D101*AS101)","v":""},null,{"$f":"IF($D101=\"\",\"\",$D101*AU101)","v":""},null,{"$f":"IF($D101=\"\",\"\",$D101*AW101)","v":""},null,{"$f":"IF($D101=\"\",\"\",$D101*AY101)","v":""},null,{"$f":"IF($D101=\"\",\"\",$D101*BA101)","v":""},null,{"$f":"IF($D101=\"\",\"\",$D101*BC101)","v":""},null,{"$f":"IF($D101=\"\",\"\",$D101*BE101)","v":""},null,{"$f":"IF($D101=\"\",\"\",$D101*BG101)","v":""},null,{"$f":"IF($D101=\"\",\"\",$D101*BI101)","v":""},null,{"$f":"IF($D101=\"\",\"\",$D101*BK101)","v":""},null,{"$f":"IF($D101=\"\",\"\",$D101*BM101)","v":""},null,{"$f":"IF($D101=\"\",\"\",$D101*BO101)","v":""},null,{"$f":"IF($D101=\"\",\"\",$D101*BQ101)","v":""},null,{"$f":"IF($D101=\"\",\"\",$D101*BS101)","v":""},null,{"$f":"IF($D101=\"\",\"\",$D101*BU101)","v":""},null,{"$f":"IF($D101=\"\",\"\",$D101*BW101)","v":""},null,0,""]
[null,{"$f":"+'DATOS SGO'!B123","v":0},{"$f":"IF(B102=0, \"\",VLOOKUP(B102,PRESUPUESTO!$B$17:$C$4611, 2, FALSE))","v":""},{"$f":"+'DATOS SGO'!H123","v":""},null,"",null,"",null,{"$f":"IF($D102=\"\",\"\",$D102*I102)","v":""},null,{"$f":"IF($D102=\"\",\"\",$D102*K102)","v":""},null,{"$f":"IF($D102=\"\",\"\",$D102*M102)","v":""},null,{"$f":"IF($D102=\"\",\"\",$D102*O102)","v":""},null,{"$f":"IF($D102=\"\",\"\",$D102*Q102)","v":""},null,{"$f":"IF($D102=\"\",\"\",$D102*S102)","v":""},null,{"$f":"IF($D102=\"\",\"\",$D102*U102)","v":""},null,{"$f":"IF($D102=\"\",\"\",$D102*W102)","v":""},null,{"$f":"IF($D102=\"\",\"\",$D102*Y102)","v":""},null,{"$f":"IF($D102=\"\",\"\",$D102*AA102)","v":""},null,{"$f":"IF($D102=\"\",\"\",$D102*AC102)","v":""},null,{"$f":"IF($D102=\"\",\"\",$D102*AE102)","v":""},null,{"$f":"IF($D102=\"\",\"\",$D102*AG102)","v":""},null,{"$f":"IF($D102=\"\",\"\",$D102*AI102)","v":""},null,{"$f":"IF($D102=\"\",\"\",$D102*AK102)","v":""},null,{"$f":"IF($D102=\"\",\"\",$D102*AM102)","v":""},null,{"$f":"IF($D102=\"\",\"\",$D102*AO102)","v":""},null,{"$f":"IF($D102=\"\",\"\",$D102*AQ102)","v":""},null,{"$f":"IF($D102=\"\",\"\",$D102*AS102)","v":""},null,{"$f":"IF($D102=\"\",\"\",$D102*AU102)","v":""},null,{"$f":"IF($D102=\"\",\"\",$D102*AW102)","v":""},null,{"$f":"IF($D102=\"\",\"\",$D102*AY102)","v":""},null,{"$f":"IF($D102=\"\",\"\",$D102*BA102)","v":""},null,{"$f":"IF($D102=\"\",\"\",$D102*BC102)","v":""},null,{"$f":"IF($D102=\"\",\"\",$D102*BE102)","v":""},null,{"$f":"IF($D102=\"\",\"\",$D102*BG102)","v":""},null,{"$f":"IF($D102=\"\",\"\",$D102*BI102)","v":""},null,{"$f":"IF($D102=\"\",\"\",$D102*BK102)","v":""},null,{"$f":"IF($D102=\"\",\"\",$D102*BM102)","v":""},null,{"$f":"IF($D102=\"\",\"\",$D102*BO102)","v":""},null,{"$f":"IF($D102=\"\",\"\",$D102*BQ102)","v":""},null,{"$f":"IF($D102=\"\",\"\",$D102*BS102)","v":""},null,{"$f":"IF($D102=\"\",\"\",$D102*BU102)","v":""},null,{"$f":"IF($D102=\"\",\"\",$D102*BW102)","v":""},null,0,""]
[null,{"$f":"+'DATOS SGO'!B124","v":0},{"$f":"IF(B103=0, \"\",VLOOKUP(B103,PRESUPUESTO!$B$17:$C$4611, 2, FALSE))","v":""},{"$f":"+'DATOS SGO'!H124","v":""},null,"",null,"",null,{"$f":"IF($D103=\"\",\"\",$D103*I103)","v":""},null,{"$f":"IF($D103=\"\",\"\",$D103*K103)","v":""},null,{"$f":"IF($D103=\"\",\"\",$D103*M103)","v":""},null,{"$f":"IF($D103=\"\",\"\",$D103*O103)","v":""},null,{"$f":"IF($D103=\"\",\"\",$D103*Q103)","v":""},null,{"$f":"IF($D103=\"\",\"\",$D103*S103)","v":""},null,{"$f":"IF($D103=\"\",\"\",$D103*U103)","v":""},null,{"$f":"IF($D103=\"\",\"\",$D103*W103)","v":""},null,{"$f":"IF($D103=\"\",\"\",$D103*Y103)","v":""},null,{"$f":"IF($D103=\"\",\"\",$D103*AA103)","v":""},null,{"$f":"IF($D103=\"\",\"\",$D103*AC103)","v":""},null,{"$f":"IF($D103=\"\",\"\",$D103*AE103)","v":""},null,{"$f":"IF($D103=\"\",\"\",$D103*AG103)","v":""},null,{"$f":"IF($D103=\"\",\"\",$D103*AI103)","v":""},null,{"$f":"IF($D103=\"\",\"\",$D103*AK103)","v":""},null,{"$f":"IF($D103=\"\",\"\",$D103*AM103)","v":""},null,{"$f":"IF($D103=\"\",\"\",$D103*AO103)","v":""},null,{"$f":"IF($D103=\"\",\"\",$D103*AQ103)","v":""},null,{"$f":"IF($D103=\"\",\"\",$D103*AS103)","v":""},null,{"$f":"IF($D103=\"\",\"\",$D103*AU103)","v":""},null,{"$f":"IF($D103=\"\",\"\",$D103*AW103)","v":""},null,{"$f":"IF($D103=\"\",\"\",$D103*AY103)","v":""},null,{"$f":"IF($D103=\"\",\"\",$D103*BA103)","v":""},null,{"$f":"IF($D103=\"\",\"\",$D103*BC103)","v":""},null,{"$f":"IF($D103=\"\",\"\",$D103*BE103)","v":""},null,{"$f":"IF($D103=\"\",\"\",$D103*BG103)","v":""},null,{"$f":"IF($D103=\"\",\"\",$D103*BI103)","v":""},null,{"$f":"IF($D103=\"\",\"\",$D103*BK103)","v":""},null,{"$f":"IF($D103=\"\",\"\",$D103*BM103)","v":""},null,{"$f":"IF($D103=\"\",\"\",$D103*BO103)","v":""},null,{"$f":"IF($D103=\"\",\"\",$D103*BQ103)","v":""},null,{"$f":"IF($D103=\"\",\"\",$D103*BS103)","v":""},null,{"$f":"IF($D103=\"\",\"\",$D103*BU103)","v":""},null,{"$f":"IF($D103=\"\",\"\",$D103*BW103)","v":""},null,0,""]
[null,{"$f":"+'DATOS SGO'!B125","v":0},{"$f":"IF(B104=0, \"\",VLOOKUP(B104,PRESUPUESTO!$B$17:$C$4611, 2, FALSE))","v":""},{"$f":"+'DATOS SGO'!H125","v":""},null,"",null,"",null,{"$f":"IF($D104=\"\",\"\",$D104*I104)","v":""},null,{"$f":"IF($D104=\"\",\"\",$D104*K104)","v":""},null,{"$f":"IF($D104=\"\",\"\",$D104*M104)","v":""},null,{"$f":"IF($D104=\"\",\"\",$D104*O104)","v":""},null,{"$f":"IF($D104=\"\",\"\",$D104*Q104)","v":""},null,{"$f":"IF($D104=\"\",\"\",$D104*S104)","v":""},null,{"$f":"IF($D104=\"\",\"\",$D104*U104)","v":""},null,{"$f":"IF($D104=\"\",\"\",$D104*W104)","v":""},null,{"$f":"IF($D104=\"\",\"\",$D104*Y104)","v":""},null,{"$f":"IF($D104=\"\",\"\",$D104*AA104)","v":""},null,{"$f":"IF($D104=\"\",\"\",$D104*AC104)","v":""},null,{"$f":"IF($D104=\"\",\"\",$D104*AE104)","v":""},null,{"$f":"IF($D104=\"\",\"\",$D104*AG104)","v":""},null,{"$f":"IF($D104=\"\",\"\",$D104*AI104)","v":""},null,{"$f":"IF($D104=\"\",\"\",$D104*AK104)","v":""},null,{"$f":"IF($D104=\"\",\"\",$D104*AM104)","v":""},null,{"$f":"IF($D104=\"\",\"\",$D104*AO104)","v":""},null,{"$f":"IF($D104=\"\",\"\",$D104*AQ104)","v":""},null,{"$f":"IF($D104=\"\",\"\",$D104*AS104)","v":""},null,{"$f":"IF($D104=\"\",\"\",$D104*AU104)","v":""},null,{"$f":"IF($D104=\"\",\"\",$D104*AW104)","v":""},null,{"$f":"IF($D104=\"\",\"\",$D104*AY104)","v":""},null,{"$f":"IF($D104=\"\",\"\",$D104*BA104)","v":""},null,{"$f":"IF($D104=\"\",\"\",$D104*BC104)","v":""},null,{"$f":"IF($D104=\"\",\"\",$D104*BE104)","v":""},null,{"$f":"IF($D104=\"\",\"\",$D104*BG104)","v":""},null,{"$f":"IF($D104=\"\",\"\",$D104*BI104)","v":""},null,{"$f":"IF($D104=\"\",\"\",$D104*BK104)","v":""},null,{"$f":"IF($D104=\"\",\"\",$D104*BM104)","v":""},null,{"$f":"IF($D104=\"\",\"\",$D104*BO104)","v":""},null,{"$f":"IF($D104=\"\",\"\",$D104*BQ104)","v":""},null,{"$f":"IF($D104=\"\",\"\",$D104*BS104)","v":""},null,{"$f":"IF($D104=\"\",\"\",$D104*BU104)","v":""},null,{"$f":"IF($D104=\"\",\"\",$D104*BW104)","v":""},null,0,""]
[null,{"$f":"+'DATOS SGO'!B126","v":0},{"$f":"IF(B105=0, \"\",VLOOKUP(B105,PRESUPUESTO!$B$17:$C$4611, 2, FALSE))","v":""},{"$f":"+'DATOS SGO'!H126","v":""},null,"",null,"",null,{"$f":"IF($D105=\"\",\"\",$D105*I105)","v":""},null,{"$f":"IF($D105=\"\",\"\",$D105*K105)","v":""},null,{"$f":"IF($D105=\"\",\"\",$D105*M105)","v":""},null,{"$f":"IF($D105=\"\",\"\",$D105*O105)","v":""},null,{"$f":"IF($D105=\"\",\"\",$D105*Q105)","v":""},null,{"$f":"IF($D105=\"\",\"\",$D105*S105)","v":""},null,{"$f":"IF($D105=\"\",\"\",$D105*U105)","v":""},null,{"$f":"IF($D105=\"\",\"\",$D105*W105)","v":""},null,{"$f":"IF($D105=\"\",\"\",$D105*Y105)","v":""},null,{"$f":"IF($D105=\"\",\"\",$D105*AA105)","v":""},null,{"$f":"IF($D105=\"\",\"\",$D105*AC105)","v":""},null,{"$f":"IF($D105=\"\",\"\",$D105*AE105)","v":""},null,{"$f":"IF($D105=\"\",\"\",$D105*AG105)","v":""},null,{"$f":"IF($D105=\"\",\"\",$D105*AI105)","v":""},null,{"$f":"IF($D105=\"\",\"\",$D105*AK105)","v":""},null,{"$f":"IF($D105=\"\",\"\",$D105*AM105)","v":""},null,{"$f":"IF($D105=\"\",\"\",$D105*AO105)","v":""},null,{"$f":"IF($D105=\"\",\"\",$D105*AQ105)","v":""},null,{"$f":"IF($D105=\"\",\"\",$D105*AS105)","v":""},null,{"$f":"IF($D105=\"\",\"\",$D105*AU105)","v":""},null,{"$f":"IF($D105=\"\",\"\",$D105*AW105)","v":""},null,{"$f":"IF($D105=\"\",\"\",$D105*AY105)","v":""},null,{"$f":"IF($D105=\"\",\"\",$D105*BA105)","v":""},null,{"$f":"IF($D105=\"\",\"\",$D105*BC105)","v":""},null,{"$f":"IF($D105=\"\",\"\",$D105*BE105)","v":""},null,{"$f":"IF($D105=\"\",\"\",$D105*BG105)","v":""},null,{"$f":"IF($D105=\"\",\"\",$D105*BI105)","v":""},null,{"$f":"IF($D105=\"\",\"\",$D105*BK105)","v":""},null,{"$f":"IF($D105=\"\",\"\",$D105*BM105)","v":""},null,{"$f":"IF($D105=\"\",\"\",$D105*BO105)","v":""},null,{"$f":"IF($D105=\"\",\"\",$D105*BQ105)","v":""},null,{"$f":"IF($D105=\"\",\"\",$D105*BS105)","v":""},null,{"$f":"IF($D105=\"\",\"\",$D105*BU105)","v":""},null,{"$f":"IF($D105=\"\",\"\",$D105*BW105)","v":""},null,0,""]
[null,{"$f":"+'DATOS SGO'!B127","v":0},{"$f":"IF(B106=0, \"\",VLOOKUP(B106,PRESUPUESTO!$B$17:$C$4611, 2, FALSE))","v":""},{"$f":"+'DATOS SGO'!H127","v":""},null,"",null,"",null,{"$f":"IF($D106=\"\",\"\",$D106*I106)","v":""},null,{"$f":"IF($D106=\"\",\"\",$D106*K106)","v":""},null,{"$f":"IF($D106=\"\",\"\",$D106*M106)","v":""},null,{"$f":"IF($D106=\"\",\"\",$D106*O106)","v":""},null,{"$f":"IF($D106=\"\",\"\",$D106*Q106)","v":""},null,{"$f":"IF($D106=\"\",\"\",$D106*S106)","v":""},null,{"$f":"IF($D106=\"\",\"\",$D106*U106)","v":""},null,{"$f":"IF($D106=\"\",\"\",$D106*W106)","v":""},null,{"$f":"IF($D106=\"\",\"\",$D106*Y106)","v":""},null,{"$f":"IF($D106=\"\",\"\",$D106*AA106)","v":""},null,{"$f":"IF($D106=\"\",\"\",$D106*AC106)","v":""},null,{"$f":"IF($D106=\"\",\"\",$D106*AE106)","v":""},null,{"$f":"IF($D106=\"\",\"\",$D106*AG106)","v":""},null,{"$f":"IF($D106=\"\",\"\",$D106*AI106)","v":""},null,{"$f":"IF($D106=\"\",\"\",$D106*AK106)","v":""},null,{"$f":"IF($D106=\"\",\"\",$D106*AM106)","v":""},null,{"$f":"IF($D106=\"\",\"\",$D106*AO106)","v":""},null,{"$f":"IF($D106=\"\",\"\",$D106*AQ106)","v":""},null,{"$f":"IF($D106=\"\",\"\",$D106*AS106)","v":""},null,{"$f":"IF($D106=\"\",\"\",$D106*AU106)","v":""},null,{"$f":"IF($D106=\"\",\"\",$D106*AW106)","v":""},null,{"$f":"IF($D106=\"\",\"\",$D106*AY106)","v":""},null,{"$f":"IF($D106=\"\",\"\",$D106*BA106)","v":""},null,{"$f":"IF($D106=\"\",\"\",$D106*BC106)","v":""},null,{"$f":"IF($D106=\"\",\"\",$D106*BE106)","v":""},null,{"$f":"IF($D106=\"\",\"\",$D106*BG106)","v":""},null,{"$f":"IF($D106=\"\",\"\",$D106*BI106)","v":""},null,{"$f":"IF($D106=\"\",\"\",$D106*BK106)","v":""},null,{"$f":"IF($D106=\"\",\"\",$D106*BM106)","v":""},null,{"$f":"IF($D106=\"\",\"\",$D106*BO106)","v":""},null,{"$f":"IF($D106=\"\",\"\",$D106*BQ106)","v":""},null,{"$f":"IF($D106=\"\",\"\",$D106*BS106)","v":""},null,{"$f":"IF($D106=\"\",\"\",$D106*BU106)","v":""},null,{"$f":"IF($D106=\"\",\"\",$D106*BW106)","v":""},null,0,""]
[null,{"$f":"+'DATOS SGO'!B128","v":0},{"$f":"IF(B107=0, \"\",VLOOKUP(B107,PRESUPUESTO!$B$17:$C$4611, 2, FALSE))","v":""},{"$f":"+'DATOS SGO'!H128","v":""},null,"",null,"",null,{"$f":"IF($D107=\"\",\"\",$D107*I107)","v":""},null,{"$f":"IF($D107=\"\",\"\",$D107*K107)","v":""},null,{"$f":"IF($D107=\"\",\"\",$D107*M107)","v":""},null,{"$f":"IF($D107=\"\",\"\",$D107*O107)","v":""},null,{"$f":"IF($D107=\"\",\"\",$D107*Q107)","v":""},null,{"$f":"IF($D107=\"\",\"\",$D107*S107)","v":""},null,{"$f":"IF($D107=\"\",\"\",$D107*U107)","v":""},null,{"$f":"IF($D107=\"\",\"\",$D107*W107)","v":""},null,{"$f":"IF($D107=\"\",\"\",$D107*Y107)","v":""},null,{"$f":"IF($D107=\"\",\"\",$D107*AA107)","v":""},null,{"$f":"IF($D107=\"\",\"\",$D107*AC107)","v":""},null,{"$f":"IF($D107=\"\",\"\",$D107*AE107)","v":""},null,{"$f":"IF($D107=\"\",\"\",$D107*AG107)","v":""},null,{"$f":"IF($D107=\"\",\"\",$D107*AI107)","v":""},null,{"$f":"IF($D107=\"\",\"\",$D107*AK107)","v":""},null,{"$f":"IF($D107=\"\",\"\",$D107*AM107)","v":""},null,{"$f":"IF($D107=\"\",\"\",$D107*AO107)","v":""},null,{"$f":"IF($D107=\"\",\"\",$D107*AQ107)","v":""},null,{"$f":"IF($D107=\"\",\"\",$D107*AS107)","v":""},null,{"$f":"IF($D107=\"\",\"\",$D107*AU107)","v":""},null,{"$f":"IF($D107=\"\",\"\",$D107*AW107)","v":""},null,{"$f":"IF($D107=\"\",\"\",$D107*AY107)","v":""},null,{"$f":"IF($D107=\"\",\"\",$D107*BA107)","v":""},null,{"$f":"IF($D107=\"\",\"\",$D107*BC107)","v":""},null,{"$f":"IF($D107=\"\",\"\",$D107*BE107)","v":""},null,{"$f":"IF($D107=\"\",\"\",$D107*BG107)","v":""},null,{"$f":"IF($D107=\"\",\"\",$D107*BI107)","v":""},null,{"$f":"IF($D107=\"\",\"\",$D107*BK107)","v":""},null,{"$f":"IF($D107=\"\",\"\",$D107*BM107)","v":""},null,{"$f":"IF($D107=\"\",\"\",$D107*BO107)","v":""},null,{"$f":"IF($D107=\"\",\"\",$D107*BQ107)","v":""},null,{"$f":"IF($D107=\"\",\"\",$D107*BS107)","v":""},null,{"$f":"IF($D107=\"\",\"\",$D107*BU107)","v":""},null,{"$f":"IF($D107=\"\",\"\",$D107*BW107)","v":""},null,0,""]
[null,{"$f":"+'DATOS SGO'!B129","v":0},{"$f":"IF(B108=0, \"\",VLOOKUP(B108,PRESUPUESTO!$B$17:$C$4611, 2, FALSE))","v":""},{"$f":"+'DATOS SGO'!H129","v":""},null,"",null,"",null,{"$f":"IF($D108=\"\",\"\",$D108*I108)","v":""},null,{"$f":"IF($D108=\"\",\"\",$D108*K108)","v":""},null,{"$f":"IF($D108=\"\",\"\",$D108*M108)","v":""},null,{"$f":"IF($D108=\"\",\"\",$D108*O108)","v":""},null,{"$f":"IF($D108=\"\",\"\",$D108*Q108)","v":""},null,{"$f":"IF($D108=\"\",\"\",$D108*S108)","v":""},null,{"$f":"IF($D108=\"\",\"\",$D108*U108)","v":""},null,{"$f":"IF($D108=\"\",\"\",$D108*W108)","v":""},null,{"$f":"IF($D108=\"\",\"\",$D108*Y108)","v":""},null,{"$f":"IF($D108=\"\",\"\",$D108*AA108)","v":""},null,{"$f":"IF($D108=\"\",\"\",$D108*AC108)","v":""},null,{"$f":"IF($D108=\"\",\"\",$D108*AE108)","v":""},null,{"$f":"IF($D108=\"\",\"\",$D108*AG108)","v":""},null,{"$f":"IF($D108=\"\",\"\",$D108*AI108)","v":""},null,{"$f":"IF($D108=\"\",\"\",$D108*AK108)","v":""},null,{"$f":"IF($D108=\"\",\"\",$D108*AM108)","v":""},null,{"$f":"IF($D108=\"\",\"\",$D108*AO108)","v":""},null,{"$f":"IF($D108=\"\",\"\",$D108*AQ108)","v":""},null,{"$f":"IF($D108=\"\",\"\",$D108*AS108)","v":""},null,{"$f":"IF($D108=\"\",\"\",$D108*AU108)","v":""},null,{"$f":"IF($D108=\"\",\"\",$D108*AW108)","v":""},null,{"$f":"IF($D108=\"\",\"\",$D108*AY108)","v":""},null,{"$f":"IF($D108=\"\",\"\",$D108*BA108)","v":""},null,{"$f":"IF($D108=\"\",\"\",$D108*BC108)","v":""},null,{"$f":"IF($D108=\"\",\"\",$D108*BE108)","v":""},null,{"$f":"IF($D108=\"\",\"\",$D108*BG108)","v":""},null,{"$f":"IF($D108=\"\",\"\",$D108*BI108)","v":""},null,{"$f":"IF($D108=\"\",\"\",$D108*BK108)","v":""},null,{"$f":"IF($D108=\"\",\"\",$D108*BM108)","v":""},null,{"$f":"IF($D108=\"\",\"\",$D108*BO108)","v":""},null,{"$f":"IF($D108=\"\",\"\",$D108*BQ108)","v":""},null,{"$f":"IF($D108=\"\",\"\",$D108*BS108)","v":""},null,{"$f":"IF($D108=\"\",\"\",$D108*BU108)","v":""},null,{"$f":"IF($D108=\"\",\"\",$D108*BW108)","v":""},null,0,""]
[null,{"$f":"+'DATOS SGO'!B130","v":0},{"$f":"IF(B109=0, \"\",VLOOKUP(B109,PRESUPUESTO!$B$17:$C$4611, 2, FALSE))","v":""},{"$f":"+'DATOS SGO'!H130","v":""},null,"",null,"",null,{"$f":"IF($D109=\"\",\"\",$D109*I109)","v":""},null,{"$f":"IF($D109=\"\",\"\",$D109*K109)","v":""},null,{"$f":"IF($D109=\"\",\"\",$D109*M109)","v":""},null,{"$f":"IF($D109=\"\",\"\",$D109*O109)","v":""},null,{"$f":"IF($D109=\"\",\"\",$D109*Q109)","v":""},null,{"$f":"IF($D109=\"\",\"\",$D109*S109)","v":""},null,{"$f":"IF($D109=\"\",\"\",$D109*U109)","v":""},null,{"$f":"IF($D109=\"\",\"\",$D109*W109)","v":""},null,{"$f":"IF($D109=\"\",\"\",$D109*Y109)","v":""},null,{"$f":"IF($D109=\"\",\"\",$D109*AA109)","v":""},null,{"$f":"IF($D109=\"\",\"\",$D109*AC109)","v":""},null,{"$f":"IF($D109=\"\",\"\",$D109*AE109)","v":""},null,{"$f":"IF($D109=\"\",\"\",$D109*AG109)","v":""},null,{"$f":"IF($D109=\"\",\"\",$D109*AI109)","v":""},null,{"$f":"IF($D109=\"\",\"\",$D109*AK109)","v":""},null,{"$f":"IF($D109=\"\",\"\",$D109*AM109)","v":""},null,{"$f":"IF($D109=\"\",\"\",$D109*AO109)","v":""},null,{"$f":"IF($D109=\"\",\"\",$D109*AQ109)","v":""},null,{"$f":"IF($D109=\"\",\"\",$D109*AS109)","v":""},null,{"$f":"IF($D109=\"\",\"\",$D109*AU109)","v":""},null,{"$f":"IF($D109=\"\",\"\",$D109*AW109)","v":""},null,{"$f":"IF($D109=\"\",\"\",$D109*AY109)","v":""},null,{"$f":"IF($D109=\"\",\"\",$D109*BA109)","v":""},null,{"$f":"IF($D109=\"\",\"\",$D109*BC109)","v":""},null,{"$f":"IF($D109=\"\",\"\",$D109*BE109)","v":""},null,{"$f":"IF($D109=\"\",\"\",$D109*BG109)","v":""},null,{"$f":"IF($D109=\"\",\"\",$D109*BI109)","v":""},null,{"$f":"IF($D109=\"\",\"\",$D109*BK109)","v":""},null,{"$f":"IF($D109=\"\",\"\",$D109*BM109)","v":""},null,{"$f":"IF($D109=\"\",\"\",$D109*BO109)","v":""},null,{"$f":"IF($D109=\"\",\"\",$D109*BQ109)","v":""},null,{"$f":"IF($D109=\"\",\"\",$D109*BS109)","v":""},null,{"$f":"IF($D109=\"\",\"\",$D109*BU109)","v":""},null,{"$f":"IF($D109=\"\",\"\",$D109*BW109)","v":""},null,0,""]
[null,{"$f":"+'DATOS SGO'!B131","v":0},{"$f":"IF(B110=0, \"\",VLOOKUP(B110,PRESUPUESTO!$B$17:$C$4611, 2, FALSE))","v":""},{"$f":"+'DATOS SGO'!H131","v":""},null,"",null,"",null,{"$f":"IF($D110=\"\",\"\",$D110*I110)","v":""},null,{"$f":"IF($D110=\"\",\"\",$D110*K110)","v":""},null,{"$f":"IF($D110=\"\",\"\",$D110*M110)","v":""},null,{"$f":"IF($D110=\"\",\"\",$D110*O110)","v":""},null,{"$f":"IF($D110=\"\",\"\",$D110*Q110)","v":""},null,{"$f":"IF($D110=\"\",\"\",$D110*S110)","v":""},null,{"$f":"IF($D110=\"\",\"\",$D110*U110)","v":""},null,{"$f":"IF($D110=\"\",\"\",$D110*W110)","v":""},null,{"$f":"IF($D110=\"\",\"\",$D110*Y110)","v":""},null,{"$f":"IF($D110=\"\",\"\",$D110*AA110)","v":""},null,{"$f":"IF($D110=\"\",\"\",$D110*AC110)","v":""},null,{"$f":"IF($D110=\"\",\"\",$D110*AE110)","v":""},null,{"$f":"IF($D110=\"\",\"\",$D110*AG110)","v":""},null,{"$f":"IF($D110=\"\",\"\",$D110*AI110)","v":""},null,{"$f":"IF($D110=\"\",\"\",$D110*AK110)","v":""},null,{"$f":"IF($D110=\"\",\"\",$D110*AM110)","v":""},null,{"$f":"IF($D110=\"\",\"\",$D110*AO110)","v":""},null,{"$f":"IF($D110=\"\",\"\",$D110*AQ110)","v":""},null,{"$f":"IF($D110=\"\",\"\",$D110*AS110)","v":""},null,{"$f":"IF($D110=\"\",\"\",$D110*AU110)","v":""},null,{"$f":"IF($D110=\"\",\"\",$D110*AW110)","v":""},null,{"$f":"IF($D110=\"\",\"\",$D110*AY110)","v":""},null,{"$f":"IF($D110=\"\",\"\",$D110*BA110)","v":""},null,{"$f":"IF($D110=\"\",\"\",$D110*BC110)","v":""},null,{"$f":"IF($D110=\"\",\"\",$D110*BE110)","v":""},null,{"$f":"IF($D110=\"\",\"\",$D110*BG110)","v":""},null,{"$f":"IF($D110=\"\",\"\",$D110*BI110)","v":""},null,{"$f":"IF($D110=\"\",\"\",$D110*BK110)","v":""},null,{"$f":"IF($D110=\"\",\"\",$D110*BM110)","v":""},null,{"$f":"IF($D110=\"\",\"\",$D110*BO110)","v":""},null,{"$f":"IF($D110=\"\",\"\",$D110*BQ110)","v":""},null,{"$f":"IF($D110=\"\",\"\",$D110*BS110)","v":""},null,{"$f":"IF($D110=\"\",\"\",$D110*BU110)","v":""},null,{"$f":"IF($D110=\"\",\"\",$D110*BW110)","v":""},null,0,""]
[null,{"$f":"+'DATOS SGO'!B132","v":0},{"$f":"IF(B111=0, \"\",VLOOKUP(B111,PRESUPUESTO!$B$17:$C$4611, 2, FALSE))","v":""},{"$f":"+'DATOS SGO'!H132","v":""},null,"",null,"",null,{"$f":"IF($D111=\"\",\"\",$D111*I111)","v":""},null,{"$f":"IF($D111=\"\",\"\",$D111*K111)","v":""},null,{"$f":"IF($D111=\"\",\"\",$D111*M111)","v":""},null,{"$f":"IF($D111=\"\",\"\",$D111*O111)","v":""},null,{"$f":"IF($D111=\"\",\"\",$D111*Q111)","v":""},null,{"$f":"IF($D111=\"\",\"\",$D111*S111)","v":""},null,{"$f":"IF($D111=\"\",\"\",$D111*U111)","v":""},null,{"$f":"IF($D111=\"\",\"\",$D111*W111)","v":""},null,{"$f":"IF($D111=\"\",\"\",$D111*Y111)","v":""},null,{"$f":"IF($D111=\"\",\"\",$D111*AA111)","v":""},null,{"$f":"IF($D111=\"\",\"\",$D111*AC111)","v":""},null,{"$f":"IF($D111=\"\",\"\",$D111*AE111)","v":""},null,{"$f":"IF($D111=\"\",\"\",$D111*AG111)","v":""},null,{"$f":"IF($D111=\"\",\"\",$D111*AI111)","v":""},null,{"$f":"IF($D111=\"\",\"\",$D111*AK111)","v":""},null,{"$f":"IF($D111=\"\",\"\",$D111*AM111)","v":""},null,{"$f":"IF($D111=\"\",\"\",$D111*AO111)","v":""},null,{"$f":"IF($D111=\"\",\"\",$D111*AQ111)","v":""},null,{"$f":"IF($D111=\"\",\"\",$D111*AS111)","v":""},null,{"$f":"IF($D111=\"\",\"\",$D111*AU111)","v":""},null,{"$f":"IF($D111=\"\",\"\",$D111*AW111)","v":""},null,{"$f":"IF($D111=\"\",\"\",$D111*AY111)","v":""},null,{"$f":"IF($D111=\"\",\"\",$D111*BA111)","v":""},null,{"$f":"IF($D111=\"\",\"\",$D111*BC111)","v":""},null,{"$f":"IF($D111=\"\",\"\",$D111*BE111)","v":""},null,{"$f":"IF($D111=\"\",\"\",$D111*BG111)","v":""},null,{"$f":"IF($D111=\"\",\"\",$D111*BI111)","v":""},null,{"$f":"IF($D111=\"\",\"\",$D111*BK111)","v":""},null,{"$f":"IF($D111=\"\",\"\",$D111*BM111)","v":""},null,{"$f":"IF($D111=\"\",\"\",$D111*BO111)","v":""},null,{"$f":"IF($D111=\"\",\"\",$D111*BQ111)","v":""},null,{"$f":"IF($D111=\"\",\"\",$D111*BS111)","v":""},null,{"$f":"IF($D111=\"\",\"\",$D111*BU111)","v":""},null,{"$f":"IF($D111=\"\",\"\",$D111*BW111)","v":""},null,0,""]
[null,{"$f":"+'DATOS SGO'!B133","v":0},{"$f":"IF(B112=0, \"\",VLOOKUP(B112,PRESUPUESTO!$B$17:$C$4611, 2, FALSE))","v":""},{"$f":"+'DATOS SGO'!H133","v":""},null,"",null,"",null,{"$f":"IF($D112=\"\",\"\",$D112*I112)","v":""},null,{"$f":"IF($D112=\"\",\"\",$D112*K112)","v":""},null,{"$f":"IF($D112=\"\",\"\",$D112*M112)","v":""},null,{"$f":"IF($D112=\"\",\"\",$D112*O112)","v":""},null,{"$f":"IF($D112=\"\",\"\",$D112*Q112)","v":""},null,{"$f":"IF($D112=\"\",\"\",$D112*S112)","v":""},null,{"$f":"IF($D112=\"\",\"\",$D112*U112)","v":""},null,{"$f":"IF($D112=\"\",\"\",$D112*W112)","v":""},null,{"$f":"IF($D112=\"\",\"\",$D112*Y112)","v":""},null,{"$f":"IF($D112=\"\",\"\",$D112*AA112)","v":""},null,{"$f":"IF($D112=\"\",\"\",$D112*AC112)","v":""},null,{"$f":"IF($D112=\"\",\"\",$D112*AE112)","v":""},null,{"$f":"IF($D112=\"\",\"\",$D112*AG112)","v":""},null,{"$f":"IF($D112=\"\",\"\",$D112*AI112)","v":""},null,{"$f":"IF($D112=\"\",\"\",$D112*AK112)","v":""},null,{"$f":"IF($D112=\"\",\"\",$D112*AM112)","v":""},null,{"$f":"IF($D112=\"\",\"\",$D112*AO112)","v":""},null,{"$f":"IF($D112=\"\",\"\",$D112*AQ112)","v":""},null,{"$f":"IF($D112=\"\",\"\",$D112*AS112)","v":""},null,{"$f":"IF($D112=\"\",\"\",$D112*AU112)","v":""},null,{"$f":"IF($D112=\"\",\"\",$D112*AW112)","v":""},null,{"$f":"IF($D112=\"\",\"\",$D112*AY112)","v":""},null,{"$f":"IF($D112=\"\",\"\",$D112*BA112)","v":""},null,{"$f":"IF($D112=\"\",\"\",$D112*BC112)","v":""},null,{"$f":"IF($D112=\"\",\"\",$D112*BE112)","v":""},null,{"$f":"IF($D112=\"\",\"\",$D112*BG112)","v":""},null,{"$f":"IF($D112=\"\",\"\",$D112*BI112)","v":""},null,{"$f":"IF($D112=\"\",\"\",$D112*BK112)","v":""},null,{"$f":"IF($D112=\"\",\"\",$D112*BM112)","v":""},null,{"$f":"IF($D112=\"\",\"\",$D112*BO112)","v":""},null,{"$f":"IF($D112=\"\",\"\",$D112*BQ112)","v":""},null,{"$f":"IF($D112=\"\",\"\",$D112*BS112)","v":""},null,{"$f":"IF($D112=\"\",\"\",$D112*BU112)","v":""},null,{"$f":"IF($D112=\"\",\"\",$D112*BW112)","v":""},null,0,""]
[null,{"$f":"+'DATOS SGO'!B134","v":0},{"$f":"IF(B113=0, \"\",VLOOKUP(B113,PRESUPUESTO!$B$17:$C$4611, 2, FALSE))","v":""},{"$f":"+'DATOS SGO'!H134","v":""},null,"",null,"",null,{"$f":"IF($D113=\"\",\"\",$D113*I113)","v":""},null,{"$f":"IF($D113=\"\",\"\",$D113*K113)","v":""},null,{"$f":"IF($D113=\"\",\"\",$D113*M113)","v":""},null,{"$f":"IF($D113=\"\",\"\",$D113*O113)","v":""},null,{"$f":"IF($D113=\"\",\"\",$D113*Q113)","v":""},null,{"$f":"IF($D113=\"\",\"\",$D113*S113)","v":""},null,{"$f":"IF($D113=\"\",\"\",$D113*U113)","v":""},null,{"$f":"IF($D113=\"\",\"\",$D113*W113)","v":""},null,{"$f":"IF($D113=\"\",\"\",$D113*Y113)","v":""},null,{"$f":"IF($D113=\"\",\"\",$D113*AA113)","v":""},null,{"$f":"IF($D113=\"\",\"\",$D113*AC113)","v":""},null,{"$f":"IF($D113=\"\",\"\",$D113*AE113)","v":""},null,{"$f":"IF($D113=\"\",\"\",$D113*AG113)","v":""},null,{"$f":"IF($D113=\"\",\"\",$D113*AI113)","v":""},null,{"$f":"IF($D113=\"\",\"\",$D113*AK113)","v":""},null,{"$f":"IF($D113=\"\",\"\",$D113*AM113)","v":""},null,{"$f":"IF($D113=\"\",\"\",$D113*AO113)","v":""},null,{"$f":"IF($D113=\"\",\"\",$D113*AQ113)","v":""},null,{"$f":"IF($D113=\"\",\"\",$D113*AS113)","v":""},null,{"$f":"IF($D113=\"\",\"\",$D113*AU113)","v":""},null,{"$f":"IF($D113=\"\",\"\",$D113*AW113)","v":""},null,{"$f":"IF($D113=\"\",\"\",$D113*AY113)","v":""},null,{"$f":"IF($D113=\"\",\"\",$D113*BA113)","v":""},null,{"$f":"IF($D113=\"\",\"\",$D113*BC113)","v":""},null,{"$f":"IF($D113=\"\",\"\",$D113*BE113)","v":""},null,{"$f":"IF($D113=\"\",\"\",$D113*BG113)","v":""},null,{"$f":"IF($D113=\"\",\"\",$D113*BI113)","v":""},null,{"$f":"IF($D113=\"\",\"\",$D113*BK113)","v":""},null,{"$f":"IF($D113=\"\",\"\",$D113*BM113)","v":""},null,{"$f":"IF($D113=\"\",\"\",$D113*BO113)","v":""},null,{"$f":"IF($D113=\"\",\"\",$D113*BQ113)","v":""},null,{"$f":"IF($D113=\"\",\"\",$D113*BS113)","v":""},null,{"$f":"IF($D113=\"\",\"\",$D113*BU113)","v":""},null,{"$f":"IF($D113=\"\",\"\",$D113*BW113)","v":""},null,{"$f":"+E113+G113+I113+K113+M113+O113+Q113+S113+U113+W113+Y113+AA113+AC113+AE113+AG113+AI113+AK113+AM113+AO113+AQ113+AS113+AU113+AW113+AY113+BA113+BC113+BE113+BG113+BI113+BK113+BM113+BO113+BQ113+BS113+BU113+BW113","v":0},""]
[null,{"$f":"+'DATOS SGO'!B135","v":0},{"$f":"IF(B114=0, \"\",VLOOKUP(B114,PRESUPUESTO!$B$17:$C$4611, 2, FALSE))","v":""},{"$f":"+'DATOS SGO'!H135","v":""},null,"",null,"",null,{"$f":"IF($D114=\"\",\"\",$D114*I114)","v":""},null,{"$f":"IF($D114=\"\",\"\",$D114*K114)","v":""},null,{"$f":"IF($D114=\"\",\"\",$D114*M114)","v":""},null,{"$f":"IF($D114=\"\",\"\",$D114*O114)","v":""},null,{"$f":"IF($D114=\"\",\"\",$D114*Q114)","v":""},null,{"$f":"IF($D114=\"\",\"\",$D114*S114)","v":""},null,{"$f":"IF($D114=\"\",\"\",$D114*U114)","v":""},null,{"$f":"IF($D114=\"\",\"\",$D114*W114)","v":""},null,{"$f":"IF($D114=\"\",\"\",$D114*Y114)","v":""},null,{"$f":"IF($D114=\"\",\"\",$D114*AA114)","v":""},null,{"$f":"IF($D114=\"\",\"\",$D114*AC114)","v":""},null,{"$f":"IF($D114=\"\",\"\",$D114*AE114)","v":""},null,{"$f":"IF($D114=\"\",\"\",$D114*AG114)","v":""},null,{"$f":"IF($D114=\"\",\"\",$D114*AI114)","v":""},null,{"$f":"IF($D114=\"\",\"\",$D114*AK114)","v":""},null,{"$f":"IF($D114=\"\",\"\",$D114*AM114)","v":""},null,{"$f":"IF($D114=\"\",\"\",$D114*AO114)","v":""},null,{"$f":"IF($D114=\"\",\"\",$D114*AQ114)","v":""},null,{"$f":"IF($D114=\"\",\"\",$D114*AS114)","v":""},null,{"$f":"IF($D114=\"\",\"\",$D114*AU114)","v":""},null,{"$f":"IF($D114=\"\",\"\",$D114*AW114)","v":""},null,{"$f":"IF($D114=\"\",\"\",$D114*AY114)","v":""},null,{"$f":"IF($D114=\"\",\"\",$D114*BA114)","v":""},null,{"$f":"IF($D114=\"\",\"\",$D114*BC114)","v":""},null,{"$f":"IF($D114=\"\",\"\",$D114*BE114)","v":""},null,{"$f":"IF($D114=\"\",\"\",$D114*BG114)","v":""},null,{"$f":"IF($D114=\"\",\"\",$D114*BI114)","v":""},null,{"$f":"IF($D114=\"\",\"\",$D114*BK114)","v":""},null,{"$f":"IF($D114=\"\",\"\",$D114*BM114)","v":""},null,{"$f":"IF($D114=\"\",\"\",$D114*BO114)","v":""},null,{"$f":"IF($D114=\"\",\"\",$D114*BQ114)","v":""},null,{"$f":"IF($D114=\"\",\"\",$D114*BS114)","v":""},null,{"$f":"IF($D114=\"\",\"\",$D114*BU114)","v":""},null,{"$f":"IF($D114=\"\",\"\",$D114*BW114)","v":""},null,0,""]
[null,{"$f":"+'DATOS SGO'!B136","v":0},{"$f":"IF(B115=0, \"\",VLOOKUP(B115,PRESUPUESTO!$B$17:$C$4611, 2, FALSE))","v":""},{"$f":"+'DATOS SGO'!H136","v":""},null,"",null,"",null,{"$f":"IF($D115=\"\",\"\",$D115*I115)","v":""},null,{"$f":"IF($D115=\"\",\"\",$D115*K115)","v":""},null,{"$f":"IF($D115=\"\",\"\",$D115*M115)","v":""},null,{"$f":"IF($D115=\"\",\"\",$D115*O115)","v":""},null,{"$f":"IF($D115=\"\",\"\",$D115*Q115)","v":""},null,{"$f":"IF($D115=\"\",\"\",$D115*S115)","v":""},null,{"$f":"IF($D115=\"\",\"\",$D115*U115)","v":""},null,{"$f":"IF($D115=\"\",\"\",$D115*W115)","v":""},null,{"$f":"IF($D115=\"\",\"\",$D115*Y115)","v":""},null,{"$f":"IF($D115=\"\",\"\",$D115*AA115)","v":""},null,{"$f":"IF($D115=\"\",\"\",$D115*AC115)","v":""},null,{"$f":"IF($D115=\"\",\"\",$D115*AE115)","v":""},null,{"$f":"IF($D115=\"\",\"\",$D115*AG115)","v":""},null,{"$f":"IF($D115=\"\",\"\",$D115*AI115)","v":""},null,{"$f":"IF($D115=\"\",\"\",$D115*AK115)","v":""},null,{"$f":"IF($D115=\"\",\"\",$D115*AM115)","v":""},null,{"$f":"IF($D115=\"\",\"\",$D115*AO115)","v":""},null,{"$f":"IF($D115=\"\",\"\",$D115*AQ115)","v":""},null,{"$f":"IF($D115=\"\",\"\",$D115*AS115)","v":""},null,{"$f":"IF($D115=\"\",\"\",$D115*AU115)","v":""},null,{"$f":"IF($D115=\"\",\"\",$D115*AW115)","v":""},null,{"$f":"IF($D115=\"\",\"\",$D115*AY115)","v":""},null,{"$f":"IF($D115=\"\",\"\",$D115*BA115)","v":""},null,{"$f":"IF($D115=\"\",\"\",$D115*BC115)","v":""},null,{"$f":"IF($D115=\"\",\"\",$D115*BE115)","v":""},null,{"$f":"IF($D115=\"\",\"\",$D115*BG115)","v":""},null,{"$f":"IF($D115=\"\",\"\",$D115*BI115)","v":""},null,{"$f":"IF($D115=\"\",\"\",$D115*BK115)","v":""},null,{"$f":"IF($D115=\"\",\"\",$D115*BM115)","v":""},null,{"$f":"IF($D115=\"\",\"\",$D115*BO115)","v":""},null,{"$f":"IF($D115=\"\",\"\",$D115*BQ115)","v":""},null,{"$f":"IF($D115=\"\",\"\",$D115*BS115)","v":""},null,{"$f":"IF($D115=\"\",\"\",$D115*BU115)","v":""},null,{"$f":"IF($D115=\"\",\"\",$D115*BW115)","v":""},null,0,""]
[null,{"$f":"+'DATOS SGO'!B137","v":0},{"$f":"IF(B116=0, \"\",VLOOKUP(B116,PRESUPUESTO!$B$17:$C$4611, 2, FALSE))","v":""},{"$f":"+'DATOS SGO'!H137","v":""},null,"",null,"",null,{"$f":"IF($D116=\"\",\"\",$D116*I116)","v":""},null,{"$f":"IF($D116=\"\",\"\",$D116*K116)","v":""},null,{"$f":"IF($D116=\"\",\"\",$D116*M116)","v":""},null,{"$f":"IF($D116=\"\",\"\",$D116*O116)","v":""},null,{"$f":"IF($D116=\"\",\"\",$D116*Q116)","v":""},null,{"$f":"IF($D116=\"\",\"\",$D116*S116)","v":""},null,{"$f":"IF($D116=\"\",\"\",$D116*U116)","v":""},null,{"$f":"IF($D116=\"\",\"\",$D116*W116)","v":""},null,{"$f":"IF($D116=\"\",\"\",$D116*Y116)","v":""},null,{"$f":"IF($D116=\"\",\"\",$D116*AA116)","v":""},null,{"$f":"IF($D116=\"\",\"\",$D116*AC116)","v":""},null,{"$f":"IF($D116=\"\",\"\",$D116*AE116)","v":""},null,{"$f":"IF($D116=\"\",\"\",$D116*AG116)","v":""},null,{"$f":"IF($D116=\"\",\"\",$D116*AI116)","v":""},null,{"$f":"IF($D116=\"\",\"\",$D116*AK116)","v":""},null,{"$f":"IF($D116=\"\",\"\",$D116*AM116)","v":""},null,{"$f":"IF($D116=\"\",\"\",$D116*AO116)","v":""},null,{"$f":"IF($D116=\"\",\"\",$D116*AQ116)","v":""},null,{"$f":"IF($D116=\"\",\"\",$D116*AS116)","v":""},null,{"$f":"IF($D116=\"\",\"\",$D116*AU116)","v":""},null,{"$f":"IF($D116=\"\",\"\",$D116*AW116)","v":""},null,{"$f":"IF($D116=\"\",\"\",$D116*AY116)","v":""},null,{"$f":"IF($D116=\"\",\"\",$D116*BA116)","v":""},null,{"$f":"IF($D116=\"\",\"\",$D116*BC116)","v":""},null,{"$f":"IF($D116=\"\",\"\",$D116*BE116)","v":""},null,{"$f":"IF($D116=\"\",\"\",$D116*BG116)","v":""},null,{"$f":"IF($D116=\"\",\"\",$D116*BI116)","v":""},null,{"$f":"IF($D116=\"\",\"\",$D116*BK116)","v":""},null,{"$f":"IF($D116=\"\",\"\",$D116*BM116)","v":""},null,{"$f":"IF($D116=\"\",\"\",$D116*BO116)","v":""},null,{"$f":"IF($D116=\"\",\"\",$D116*BQ116)","v":""},null,{"$f":"IF($D116=\"\",\"\",$D116*BS116)","v":""},null,{"$f":"IF($D116=\"\",\"\",$D116*BU116)","v":""},null,{"$f":"IF($D116=\"\",\"\",$D116*BW116)","v":""},null,0,""]
[null,{"$f":"+'DATOS SGO'!B138","v":0},{"$f":"IF(B117=0, \"\",VLOOKUP(B117,PRESUPUESTO!$B$17:$C$4611, 2, FALSE))","v":""},{"$f":"+'DATOS SGO'!H138","v":""},null,{"$f":"IF($D117=\"\",\"\",$D117*E117)","v":""},null,{"$f":"IF($D117=\"\",\"\",$D117*G117)","v":""},null,{"$f":"IF($D117=\"\",\"\",$D117*I117)","v":""},null,{"$f":"IF($D117=\"\",\"\",$D117*K117)","v":""},null,{"$f":"IF($D117=\"\",\"\",$D117*M117)","v":""},null,{"$f":"IF($D117=\"\",\"\",$D117*O117)","v":""},null,{"$f":"IF($D117=\"\",\"\",$D117*Q117)","v":""},null,{"$f":"IF($D117=\"\",\"\",$D117*S117)","v":""},null,{"$f":"IF($D117=\"\",\"\",$D117*U117)","v":""},null,{"$f":"IF($D117=\"\",\"\",$D117*W117)","v":""},null,{"$f":"IF($D117=\"\",\"\",$D117*Y117)","v":""},null,{"$f":"IF($D117=\"\",\"\",$D117*AA117)","v":""},null,{"$f":"IF($D117=\"\",\"\",$D117*AC117)","v":""},null,{"$f":"IF($D117=\"\",\"\",$D117*AE117)","v":""},null,{"$f":"IF($D117=\"\",\"\",$D117*AG117)","v":""},null,{"$f":"IF($D117=\"\",\"\",$D117*AI117)","v":""},null,{"$f":"IF($D117=\"\",\"\",$D117*AK117)","v":""},null,{"$f":"IF($D117=\"\",\"\",$D117*AM117)","v":""},null,{"$f":"IF($D117=\"\",\"\",$D117*AO117)","v":""},null,{"$f":"IF($D117=\"\",\"\",$D117*AQ117)","v":""},null,{"$f":"IF($D117=\"\",\"\",$D117*AS117)","v":""},null,{"$f":"IF($D117=\"\",\"\",$D117*AU117)","v":""},null,{"$f":"IF($D117=\"\",\"\",$D117*AW117)","v":""},null,{"$f":"IF($D117=\"\",\"\",$D117*AY117)","v":""},null,{"$f":"IF($D117=\"\",\"\",$D117*BA117)","v":""},null,{"$f":"IF($D117=\"\",\"\",$D117*BC117)","v":""},null,{"$f":"IF($D117=\"\",\"\",$D117*BE117)","v":""},null,{"$f":"IF($D117=\"\",\"\",$D117*BG117)","v":""},null,{"$f":"IF($D117=\"\",\"\",$D117*BI117)","v":""},null,{"$f":"IF($D117=\"\",\"\",$D117*BK117)","v":""},null,{"$f":"IF($D117=\"\",\"\",$D117*BM117)","v":""},null,{"$f":"IF($D117=\"\",\"\",$D117*BO117)","v":""},null,{"$f":"IF($D117=\"\",\"\",$D117*BQ117)","v":""},null,{"$f":"IF($D117=\"\",\"\",$D117*BS117)","v":""},null,{"$f":"IF($D117=\"\",\"\",$D117*BU117)","v":""},null,{"$f":"IF($D117=\"\",\"\",$D117*BW117)","v":""},null,{"$f":"+E117+G117+I117+K117+M117+O117+Q117+S117+U117+W117+Y117+AA117+AC117+AE117+AG117+AI117+AK117+AM117+AO117+AQ117+AS117+AU117+AW117+AY117+BA117+BC117+BE117+BG117+BI117+BK117+BM117+BO117+BQ117+BS117+BU117+BW117","v":0},{"$f":"IF(D117=\"\",\"\",ROUND(F117+H117+J117+L117+N117+P117+R117+T117+V117+X117+Z117+AB117+AD117+AF117+AH117+AJ117+AL117+AN117+AP117+AR117+AT117+AV117+AX117+AZ117+BB117+BD117+BF117+BH117+BJ117+BL117+BN117+BP117+BR117+BT117+BV117+BX117,2))","v":""}]
[null,{"$f":"+'DATOS SGO'!B139","v":0},{"$f":"IF(B118=0, \"\",VLOOKUP(B118,PRESUPUESTO!$B$17:$C$4611, 2, FALSE))","v":""},{"$f":"+'DATOS SGO'!H139","v":""},null,"",null,"",null,"",null,"",null,"",null,"",null,"",null,"",null,"",null,"",null,"",null,"",null,"",null,"",null,"",null,"",null,"",null,"",null,"",null,"",null,"",null,"",null,"",null,"",null,"",null,"",null,"",null,"",null,"",null,"",null,"",null,"",null,"",null,"",null,"",null,"",null,0,""]
[null,{"$f":"+'DATOS SGO'!B140","v":0},{"$f":"IF(B119=0, \"\",VLOOKUP(B119,PRESUPUESTO!$B$17:$C$4611, 2, FALSE))","v":""},{"$f":"+'DATOS SGO'!H140","v":""},null,"",null,"",null,"",null,"",null,"",null,"",null,"",null,"",null,"",null,"",null,"",null,"",null,"",null,"",null,"",null,"",null,"",null,"",null,"",null,"",null,"",null,"",null,"",null,"",null,"",null,"",null,"",null,"",null,"",null,"",null,"",null,"",null,"",null,"",null,"",null,"",null,0,""]
[null,{"$f":"+'DATOS SGO'!B141","v":0},{"$f":"IF(B120=0, \"\",VLOOKUP(B120,PRESUPUESTO!$B$17:$C$4611, 2, FALSE))","v":""},{"$f":"+'DATOS SGO'!H141","v":""},null,"",null,"",null,"",null,"",null,"",null,"",null,"",null,"",null,"",null,"",null,"",null,"",null,"",null,"",null,"",null,"",null,"",null,"",null,"",null,"",null,"",null,"",null,"",null,"",null,"",null,"",null,"",null,"",null,"",null,"",null,"",null,"",null,"",null,"",null,"",null,"",null,0,""]
[null,{"$f":"+'DATOS SGO'!B142","v":0},{"$f":"IF(B121=0, \"\",VLOOKUP(B121,PRESUPUESTO!$B$17:$C$4611, 2, FALSE))","v":""},{"$f":"+'DATOS SGO'!H142","v":""},null,"",null,"",null,"",null,"",null,"",null,"",null,"",null,"",null,"",null,"",null,"",null,"",null,"",null,"",null,"",null,"",null,"",null,"",null,"",null,"",null,"",null,"",null,"",null,"",null,"",null,"",null,"",null,"",null,"",null,"",null,"",null,"",null,"",null,"",null,"",null,"",null,0,""]
[null,{"$f":"+'DATOS SGO'!B143","v":0},{"$f":"IF(B122=0, \"\",VLOOKUP(B122,PRESUPUESTO!$B$17:$C$4611, 2, FALSE))","v":""},{"$f":"+'DATOS SGO'!H143","v":""},null,"",null,"",null,"",null,"",null,"",null,"",null,"",null,"",null,"",null,"",null,"",null,"",null,"",null,"",null,"",null,"",null,"",null,"",null,"",null,"",null,"",null,"",null,"",null,"",null,"",null,"",null,"",null,"",null,"",null,"",null,"",null,"",null,"",null,"",null,"",null,"",null,0,""]
[null,{"$f":"+'DATOS SGO'!B144","v":0},{"$f":"IF(B123=0, \"\",VLOOKUP(B123,PRESUPUESTO!$B$17:$C$4611, 2, FALSE))","v":""},{"$f":"+'DATOS SGO'!H144","v":""},null,"",null,"",null,"",null,"",null,"",null,"",null,"",null,"",null,"",null,"",null,"",null,"",null,"",null,"",null,"",null,"",null,"",null,"",null,"",null,"",null,"",null,"",null,"",null,"",null,"",null,"",null,"",null,"",null,"",null,"",null,"",null,"",null,"",null,"",null,"",null,"",null,0,""]
[null,{"$f":"+'DATOS SGO'!B145","v":0},{"$f":"IF(B124=0, \"\",VLOOKUP(B124,PRESUPUESTO!$B$17:$C$4611, 2, FALSE))","v":""},{"$f":"+'DATOS SGO'!H145","v":""},null,"",null,"",null,"",null,"",null,"",null,"",null,"",null,"",null,"",null,"",null,"",null,"",null,"",null,"",null,"",null,"",null,"",null,"",null,"",null,"",null,"",null,"",null,"",null,"",null,"",null,"",null,"",null,"",null,"",null,"",null,"",null,"",null,"",null,"",null,"",null,"",null,0,""]
[null,{"$f":"+'DATOS SGO'!B146","v":0},{"$f":"IF(B125=0, \"\",VLOOKUP(B125,PRESUPUESTO!$B$17:$C$4611, 2, FALSE))","v":""},{"$f":"+'DATOS SGO'!H146","v":""},null,"",null,"",null,"",null,"",null,"",null,"",null,"",null,"",null,"",null,"",null,"",null,"",null,"",null,"",null,"",null,"",null,"",null,"",null,"",null,"",null,"",null,"",null,"",null,"",null,"",null,"",null,"",null,"",null,"",null,"",null,"",null,"",null,"",null,"",null,"",null,"",null,0,""]
[null,{"$f":"+'DATOS SGO'!B147","v":0},{"$f":"IF(B126=0, \"\",VLOOKUP(B126,PRESUPUESTO!$B$17:$C$4611, 2, FALSE))","v":""},{"$f":"+'DATOS SGO'!H147","v":""},null,"",null,"",null,"",null,"",null,"",null,"",null,"",null,"",null,"",null,"",null,"",null,"",null,"",null,"",null,"",null,"",null,"",null,"",null,"",null,"",null,"",null,"",null,"",null,"",null,"",null,"",null,"",null,"",null,"",null,"",null,"",null,"",null,"",null,"",null,"",null,"",null,0,""]
[null,{"$f":"+'DATOS SGO'!B148","v":0},{"$f":"IF(B127=0, \"\",VLOOKUP(B127,PRESUPUESTO!$B$17:$C$4611, 2, FALSE))","v":""},{"$f":"+'DATOS SGO'!H148","v":""},null,"",null,"",null,"",null,"",null,"",null,"",null,"",null,"",null,"",null,"",null,"",null,"",null,"",null,"",null,"",null,"",null,"",null,"",null,"",null,"",null,"",null,"",null,"",null,"",null,"",null,"",null,"",null,"",null,"",null,"",null,"",null,"",null,"",null,"",null,"",null,"",null,0,""]
[null,{"$f":"+'DATOS SGO'!B149","v":0},{"$f":"IF(B128=0, \"\",VLOOKUP(B128,PRESUPUESTO!$B$17:$C$4611, 2, FALSE))","v":""},{"$f":"+'DATOS SGO'!H149","v":""},null,"",null,"",null,"",null,"",null,"",null,"",null,"",null,"",null,"",null,"",null,"",null,"",null,"",null,"",null,"",null,"",null,"",null,"",null,"",null,"",null,"",null,"",null,"",null,"",null,"",null,"",null,"",null,"",null,"",null,"",null,"",null,"",null,"",null,"",null,"",null,"",null,0,""]
[null,{"$f":"+'DATOS SGO'!B150","v":0},{"$f":"IF(B129=0, \"\",VLOOKUP(B129,PRESUPUESTO!$B$17:$C$4611, 2, FALSE))","v":""},{"$f":"+'DATOS SGO'!H150","v":""},null,"",null,"",null,"",null,"",null,"",null,"",null,"",null,"",null,"",null,"",null,"",null,"",null,"",null,"",null,"",null,"",null,"",null,"",null,"",null,"",null,"",null,"",null,"",null,"",null,"",null,"",null,"",null,"",null,"",null,"",null,"",null,"",null,"",null,"",null,"",null,"",null,0,""]
[null,{"$f":"+'DATOS SGO'!B151","v":0},{"$f":"IF(B130=0, \"\",VLOOKUP(B130,PRESUPUESTO!$B$17:$C$4611, 2, FALSE))","v":""},{"$f":"+'DATOS SGO'!H151","v":""},null,"",null,"",null,"",null,"",null,"",null,"",null,"",null,"",null,"",null,"",null,"",null,"",null,"",null,"",null,"",null,"",null,"",null,"",null,"",null,"",null,"",null,"",null,"",null,"",null,"",null,"",null,"",null,"",null,"",null,"",null,"",null,"",null,"",null,"",null,"",null,"",null,0,""]
[null,{"$f":"+'DATOS SGO'!B152","v":0},{"$f":"IF(B131=0, \"\",VLOOKUP(B131,PRESUPUESTO!$B$17:$C$4611, 2, FALSE))","v":""},{"$f":"+'DATOS SGO'!H152","v":""},null,"",null,"",null,"",null,"",null,"",null,"",null,"",null,"",null,"",null,"",null,"",null,"",null,"",null,"",null,"",null,"",null,"",null,"",null,"",null,"",null,"",null,"",null,"",null,"",null,"",null,"",null,"",null,"",null,"",null,"",null,"",null,"",null,"",null,"",null,"",null,"",null,0,""]
[null,{"$f":"+'DATOS SGO'!B153","v":0},{"$f":"IF(B132=0, \"\",VLOOKUP(B132,PRESUPUESTO!$B$17:$C$4611, 2, FALSE))","v":""},{"$f":"+'DATOS SGO'!H153","v":""},null,"",null,"",null,"",null,"",null,"",null,"",null,"",null,"",null,"",null,"",null,"",null,"",null,"",null,"",null,"",null,"",null,"",null,"",null,"",null,"",null,"",null,"",null,"",null,"",null,"",null,"",null,"",null,"",null,"",null,"",null,"",null,"",null,"",null,"",null,"",null,"",null,0,""]
[null,{"$f":"+'DATOS SGO'!B154","v":0},{"$f":"IF(B133=0, \"\",VLOOKUP(B133,PRESUPUESTO!$B$17:$C$4611, 2, FALSE))","v":""},{"$f":"+'DATOS SGO'!H154","v":""},null,"",null,"",null,"",null,"",null,"",null,"",null,"",null,"",null,"",null,"",null,"",null,"",null,"",null,"",null,"",null,"",null,"",null,"",null,"",null,"",null,"",null,"",null,"",null,"",null,"",null,"",null,"",null,"",null,"",null,"",null,"",null,"",null,"",null,"",null,"",null,"",null,0,""]
[null,{"$f":"+'DATOS SGO'!B155","v":0},{"$f":"IF(B134=0, \"\",VLOOKUP(B134,PRESUPUESTO!$B$17:$C$4611, 2, FALSE))","v":""},{"$f":"+'DATOS SGO'!H155","v":""},null,"",null,"",null,"",null,"",null,"",null,"",null,"",null,"",null,"",null,"",null,"",null,"",null,"",null,"",null,"",null,"",null,"",null,"",null,"",null,"",null,"",null,"",null,"",null,"",null,"",null,"",null,"",null,"",null,"",null,"",null,"",null,"",null,"",null,"",null,"",null,"",null,0,""]
[null,{"$f":"+'DATOS SGO'!B156","v":0},{"$f":"IF(B135=0, \"\",VLOOKUP(B135,PRESUPUESTO!$B$17:$C$4611, 2, FALSE))","v":""},{"$f":"+'DATOS SGO'!H156","v":""},null,"",null,"",null,"",null,"",null,"",null,"",null,"",null,"",null,"",null,"",null,"",null,"",null,"",null,"",null,"",null,"",null,"",null,"",null,"",null,"",null,"",null,"",null,"",null,"",null,"",null,"",null,"",null,"",null,"",null,"",null,"",null,"",null,"",null,"",null,"",null,"",null,0,""]
[null,{"$f":"+'DATOS SGO'!B157","v":0},{"$f":"IF(B136=0, \"\",VLOOKUP(B136,PRESUPUESTO!$B$17:$C$4611, 2, FALSE))","v":""},{"$f":"+'DATOS SGO'!H157","v":""},null,"",null,"",null,"",null,"",null,"",null,"",null,"",null,"",null,"",null,"",null,"",null,"",null,"",null,"",null,"",null,"",null,"",null,"",null,"",null,"",null,"",null,"",null,"",null,"",null,"",null,"",null,"",null,"",null,"",null,"",null,"",null,"",null,"",null,"",null,"",null,"",null,0,""]
[null,{"$f":"+'DATOS SGO'!B158","v":0},{"$f":"IF(B137=0, \"\",VLOOKUP(B137,PRESUPUESTO!$B$17:$C$4611, 2, FALSE))","v":""},{"$f":"+'DATOS SGO'!H158","v":""},null,"",null,"",null,"",null,"",null,"",null,"",null,"",null,"",null,"",null,"",null,"",null,"",null,"",null,"",null,"",null,"",null,"",null,"",null,"",null,"",null,"",null,"",null,"",null,"",null,"",null,"",null,"",null,"",null,"",null,"",null,"",null,"",null,"",null,"",null,"",null,"",null,0,""]
[null,{"$f":"+'DATOS SGO'!B159","v":0},{"$f":"IF(B138=0, \"\",VLOOKUP(B138,PRESUPUESTO!$B$17:$C$4611, 2, FALSE))","v":""},{"$f":"+'DATOS SGO'!H159","v":""},null,"",null,"",null,"",null,"",null,"",null,"",null,"",null,"",null,"",null,"",null,"",null,"",null,"",null,"",null,"",null,"",null,"",null,"",null,"",null,"",null,"",null,"",null,"",null,"",null,"",null,"",null,"",null,"",null,"",null,"",null,"",null,"",null,"",null,"",null,"",null,"",null,0,""]
[null,{"$f":"+'DATOS SGO'!B160","v":0},{"$f":"IF(B139=0, \"\",VLOOKUP(B139,PRESUPUESTO!$B$17:$C$4611, 2, FALSE))","v":""},{"$f":"+'DATOS SGO'!H160","v":""},null,"",null,"",null,"",null,"",null,"",null,"",null,"",null,"",null,"",null,"",null,"",null,"",null,"",null,"",null,"",null,"",null,"",null,"",null,"",null,"",null,"",null,"",null,"",null,"",null,"",null,"",null,"",null,"",null,"",null,"",null,"",null,"",null,"",null,"",null,"",null,"",null,0,""]
[null,{"$f":"+'DATOS SGO'!B161","v":0},{"$f":"IF(B140=0, \"\",VLOOKUP(B140,PRESUPUESTO!$B$17:$C$4611, 2, FALSE))","v":""},{"$f":"+'DATOS SGO'!H161","v":""},null,"",null,"",null,"",null,"",null,"",null,"",null,"",null,"",null,"",null,"",null,"",null,"",null,"",null,"",null,"",null,"",null,"",null,"",null,"",null,"",null,"",null,"",null,"",null,"",null,"",null,"",null,"",null,"",null,"",null,"",null,"",null,"",null,"",null,"",null,"",null,"",null,0,""]
[null,{"$f":"+'DATOS SGO'!B162","v":0},{"$f":"IF(B141=0, \"\",VLOOKUP(B141,PRESUPUESTO!$B$17:$C$4611, 2, FALSE))","v":""},{"$f":"+'DATOS SGO'!H162","v":""},null,"",null,"",null,"",null,"",null,"",null,"",null,"",null,"",null,"",null,"",null,"",null,"",null,"",null,"",null,"",null,"",null,"",null,"",null,"",null,"",null,"",null,"",null,"",null,"",null,"",null,"",null,"",null,"",null,"",null,"",null,"",null,"",null,"",null,"",null,"",null,"",null,0,""]
[null,{"$f":"+'DATOS SGO'!B163","v":0},{"$f":"IF(B142=0, \"\",VLOOKUP(B142,PRESUPUESTO!$B$17:$C$4611, 2, FALSE))","v":""},{"$f":"+'DATOS SGO'!H163","v":""},null,"",null,"",null,"",null,"",null,"",null,"",null,"",null,"",null,"",null,"",null,"",null,"",null,"",null,"",null,"",null,"",null,"",null,"",null,"",null,"",null,"",null,"",null,"",null,"",null,"",null,"",null,"",null,"",null,"",null,"",null,"",null,"",null,"",null,"",null,"",null,"",null,0,""]
[null,{"$f":"+'DATOS SGO'!B164","v":0},{"$f":"IF(B143=0, \"\",VLOOKUP(B143,PRESUPUESTO!$B$17:$C$4611, 2, FALSE))","v":""},{"$f":"+'DATOS SGO'!H164","v":""},null,"",null,"",null,"",null,"",null,"",null,"",null,"",null,"",null,"",null,"",null,"",null,"",null,"",null,"",null,"",null,"",null,"",null,"",null,"",null,"",null,"",null,"",null,"",null,"",null,"",null,"",null,"",null,"",null,"",null,"",null,"",null,"",null,"",null,"",null,"",null,"",null,0,""]
[null,{"$f":"+'DATOS SGO'!B165","v":0},{"$f":"IF(B144=0, \"\",VLOOKUP(B144,PRESUPUESTO!$B$17:$C$4611, 2, FALSE))","v":""},{"$f":"+'DATOS SGO'!H165","v":""},null,"",null,"",null,"",null,"",null,"",null,"",null,"",null,"",null,"",null,"",null,"",null,"",null,"",null,"",null,"",null,"",null,"",null,"",null,"",null,"",null,"",null,"",null,"",null,"",null,"",null,"",null,"",null,"",null,"",null,"",null,"",null,"",null,"",null,"",null,"",null,"",null,0,""]
[null,{"$f":"+'DATOS SGO'!B166","v":0},{"$f":"IF(B145=0, \"\",VLOOKUP(B145,PRESUPUESTO!$B$17:$C$4611, 2, FALSE))","v":""},{"$f":"+'DATOS SGO'!H166","v":""},null,"",null,"",null,"",null,"",null,"",null,"",null,"",null,"",null,"",null,"",null,"",null,"",null,"",null,"",null,"",null,"",null,"",null,"",null,"",null,"",null,"",null,"",null,"",null,"",null,"",null,"",null,"",null,"",null,"",null,"",null,"",null,"",null,"",null,"",null,"",null,"",null,0,""]
[null,{"$f":"+'DATOS SGO'!B167","v":0},{"$f":"IF(B146=0, \"\",VLOOKUP(B146,PRESUPUESTO!$B$17:$C$4611, 2, FALSE))","v":""},{"$f":"+'DATOS SGO'!H167","v":""},null,"",null,"",null,"",null,"",null,"",null,"",null,"",null,"",null,"",null,"",null,"",null,"",null,"",null,"",null,"",null,"",null,"",null,"",null,"",null,"",null,"",null,"",null,"",null,"",null,"",null,"",null,"",null,"",null,"",null,"",null,"",null,"",null,"",null,"",null,"",null,"",null,0,""]
[null,{"$f":"+'DATOS SGO'!B168","v":0},{"$f":"IF(B147=0, \"\",VLOOKUP(B147,PRESUPUESTO!$B$17:$C$4611, 2, FALSE))","v":""},{"$f":"+'DATOS SGO'!H168","v":""},null,"",null,"",null,"",null,"",null,"",null,"",null,"",null,"",null,"",null,"",null,"",null,"",null,"",null,"",null,"",null,"",null,"",null,"",null,"",null,"",null,"",null,"",null,"",null,"",null,"",null,"",null,"",null,"",null,"",null,"",null,"",null,"",null,"",null,"",null,"",null,"",null,0,""]
[null,{"$f":"+'DATOS SGO'!B169","v":0},{"$f":"IF(B148=0, \"\",VLOOKUP(B148,PRESUPUESTO!$B$17:$C$4611, 2, FALSE))","v":""},{"$f":"+'DATOS SGO'!H169","v":""},null,"",null,"",null,"",null,"",null,"",null,"",null,"",null,"",null,"",null,"",null,"",null,"",null,"",null,"",null,"",null,"",null,"",null,"",null,"",null,"",null,"",null,"",null,"",null,"",null,"",null,"",null,"",null,"",null,"",null,"",null,"",null,"",null,"",null,"",null,"",null,"",null,0,""]
[null,{"$f":"+'DATOS SGO'!B170","v":0},{"$f":"IF(B149=0, \"\",VLOOKUP(B149,PRESUPUESTO!$B$17:$C$4611, 2, FALSE))","v":""},{"$f":"+'DATOS SGO'!H170","v":""},null,"",null,"",null,"",null,"",null,"",null,"",null,"",null,"",null,"",null,"",null,"",null,"",null,"",null,"",null,"",null,"",null,"",null,"",null,"",null,"",null,"",null,"",null,"",null,"",null,"",null,"",null,"",null,"",null,"",null,"",null,"",null,"",null,"",null,"",null,"",null,"",null,0,""]
[null,{"$f":"+'DATOS SGO'!B171","v":0},{"$f":"IF(B150=0, \"\",VLOOKUP(B150,PRESUPUESTO!$B$17:$C$4611, 2, FALSE))","v":""},{"$f":"+'DATOS SGO'!H171","v":""},null,"",null,"",null,"",null,"",null,"",null,"",null,"",null,"",null,"",null,"",null,"",null,"",null,"",null,"",null,"",null,"",null,"",null,"",null,"",null,"",null,"",null,"",null,"",null,"",null,"",null,"",null,"",null,"",null,"",null,"",null,"",null,"",null,"",null,"",null,"",null,"",null,0,""]
[null,{"$f":"+'DATOS SGO'!B172","v":0},{"$f":"IF(B151=0, \"\",VLOOKUP(B151,PRESUPUESTO!$B$17:$C$4611, 2, FALSE))","v":""},{"$f":"+'DATOS SGO'!H172","v":""},null,"",null,"",null,"",null,"",null,"",null,"",null,"",null,"",null,"",null,"",null,"",null,"",null,"",null,"",null,"",null,"",null,"",null,"",null,"",null,"",null,"",null,"",null,"",null,"",null,"",null,"",null,"",null,"",null,"",null,"",null,"",null,"",null,"",null,"",null,"",null,"",null,0,""]
[null,{"$f":"+'DATOS SGO'!B173","v":0},{"$f":"IF(B152=0, \"\",VLOOKUP(B152,PRESUPUESTO!$B$17:$C$4611, 2, FALSE))","v":""},{"$f":"+'DATOS SGO'!H173","v":""},null,"",null,"",null,"",null,"",null,"",null,"",null,"",null,"",null,"",null,"",null,"",null,"",null,"",null,"",null,"",null,"",null,"",null,"",null,"",null,"",null,"",null,"",null,"",null,"",null,"",null,"",null,"",null,"",null,"",null,"",null,"",null,"",null,"",null,"",null,"",null,"",null,0,""]
[null,{"$f":"+'DATOS SGO'!B174","v":0},{"$f":"IF(B153=0, \"\",VLOOKUP(B153,PRESUPUESTO!$B$17:$C$4611, 2, FALSE))","v":""},{"$f":"+'DATOS SGO'!H174","v":""},null,"",null,"",null,"",null,"",null,"",null,"",null,"",null,"",null,"",null,"",null,"",null,"",null,"",null,"",null,"",null,"",null,"",null,"",null,"",null,"",null,"",null,"",null,"",null,"",null,"",null,"",null,"",null,"",null,"",null,"",null,"",null,"",null,"",null,"",null,"",null,"",null,0,""]
[null,{"$f":"+'DATOS SGO'!B175","v":0},{"$f":"IF(B154=0, \"\",VLOOKUP(B154,PRESUPUESTO!$B$17:$C$4611, 2, FALSE))","v":""},{"$f":"+'DATOS SGO'!H175","v":""},null,"",null,"",null,"",null,"",null,"",null,"",null,"",null,"",null,"",null,"",null,"",null,"",null,"",null,"",null,"",null,"",null,"",null,"",null,"",null,"",null,"",null,"",null,"",null,"",null,"",null,"",null,"",null,"",null,"",null,"",null,"",null,"",null,"",null,"",null,"",null,"",null,0,""]
[null,{"$f":"+'DATOS SGO'!B176","v":0},{"$f":"IF(B155=0, \"\",VLOOKUP(B155,PRESUPUESTO!$B$17:$C$4611, 2, FALSE))","v":""},{"$f":"+'DATOS SGO'!H176","v":""},null,"",null,"",null,"",null,"",null,"",null,"",null,"",null,"",null,"",null,"",null,"",null,"",null,"",null,"",null,"",null,"",null,"",null,"",null,"",null,"",null,"",null,"",null,"",null,"",null,"",null,"",null,"",null,"",null,"",null,"",null,"",null,"",null,"",null,"",null,"",null,"",null,0,""]
[null,{"$f":"+'DATOS SGO'!B177","v":0},{"$f":"IF(B156=0, \"\",VLOOKUP(B156,PRESUPUESTO!$B$17:$C$4611, 2, FALSE))","v":""},{"$f":"+'DATOS SGO'!H177","v":""},null,"",null,"",null,"",null,"",null,"",null,"",null,"",null,"",null,"",null,"",null,"",null,"",null,"",null,"",null,"",null,"",null,"",null,"",null,"",null,"",null,"",null,"",null,"",null,"",null,"",null,"",null,"",null,"",null,"",null,"",null,"",null,"",null,"",null,"",null,"",null,"",null,0,""]
[null,{"$f":"+'DATOS SGO'!B178","v":0},{"$f":"IF(B157=0, \"\",VLOOKUP(B157,PRESUPUESTO!$B$17:$C$4611, 2, FALSE))","v":""},{"$f":"+'DATOS SGO'!H178","v":""},null,"",null,"",null,"",null,"",null,"",null,"",null,"",null,"",null,"",null,"",null,"",null,"",null,"",null,"",null,"",null,"",null,"",null,"",null,"",null,"",null,"",null,"",null,"",null,"",null,"",null,"",null,"",null,"",null,"",null,"",null,"",null,"",null,"",null,"",null,"",null,"",null,0,""]
[null,{"$f":"+'DATOS SGO'!B179","v":0},{"$f":"IF(B158=0, \"\",VLOOKUP(B158,PRESUPUESTO!$B$17:$C$4611, 2, FALSE))","v":""},{"$f":"+'DATOS SGO'!H179","v":""},null,"",null,"",null,"",null,"",null,"",null,"",null,"",null,"",null,"",null,"",null,"",null,"",null,"",null,"",null,"",null,"",null,"",null,"",null,"",null,"",null,"",null,"",null,"",null,"",null,"",null,"",null,"",null,"",null,"",null,"",null,"",null,"",null,"",null,"",null,"",null,"",null,0,""]
[null,{"$f":"+'DATOS SGO'!B180","v":0},{"$f":"IF(B159=0, \"\",VLOOKUP(B159,PRESUPUESTO!$B$17:$C$4611, 2, FALSE))","v":""},{"$f":"+'DATOS SGO'!H180","v":""},null,"",null,"",null,"",null,"",null,"",null,"",null,"",null,"",null,"",null,"",null,"",null,"",null,"",null,"",null,"",null,"",null,"",null,"",null,"",null,"",null,"",null,"",null,"",null,"",null,"",null,"",null,"",null,"",null,"",null,"",null,"",null,"",null,"",null,"",null,"",null,"",null,0,""]
[null,{"$f":"+'DATOS SGO'!B181","v":0},{"$f":"IF(B160=0, \"\",VLOOKUP(B160,PRESUPUESTO!$B$17:$C$4611, 2, FALSE))","v":""},{"$f":"+'DATOS SGO'!H181","v":""},null,"",null,"",null,"",null,"",null,"",null,"",null,"",null,"",null,"",null,"",null,"",null,"",null,"",null,"",null,"",null,"",null,"",null,"",null,"",null,"",null,"",null,"",null,"",null,"",null,"",null,"",null,"",null,"",null,"",null,"",null,"",null,"",null,"",null,"",null,"",null,"",null,0,""]
[null,{"$f":"+'DATOS SGO'!B182","v":0},{"$f":"IF(B161=0, \"\",VLOOKUP(B161,PRESUPUESTO!$B$17:$C$4611, 2, FALSE))","v":""},{"$f":"+'DATOS SGO'!H182","v":""},null,"",null,"",null,"",null,"",null,"",null,"",null,"",null,"",null,"",null,"",null,"",null,"",null,"",null,"",null,"",null,"",null,"",null,"",null,"",null,"",null,"",null,"",null,"",null,"",null,"",null,"",null,"",null,"",null,"",null,"",null,"",null,"",null,"",null,"",null,"",null,"",null,0,""]
[null,{"$f":"+'DATOS SGO'!B183","v":0},{"$f":"IF(B162=0, \"\",VLOOKUP(B162,PRESUPUESTO!$B$17:$C$4611, 2, FALSE))","v":""},{"$f":"+'DATOS SGO'!H183","v":""},null,"",null,"",null,"",null,"",null,"",null,"",null,"",null,"",null,"",null,"",null,"",null,"",null,"",null,"",null,"",null,"",null,"",null,"",null,"",null,"",null,"",null,"",null,"",null,"",null,"",null,"",null,"",null,"",null,"",null,"",null,"",null,"",null,"",null,"",null,"",null,"",null,0,""]
[null,{"$f":"+'DATOS SGO'!B184","v":0},{"$f":"IF(B163=0, \"\",VLOOKUP(B163,PRESUPUESTO!$B$17:$C$4611, 2, FALSE))","v":""},{"$f":"+'DATOS SGO'!H184","v":""},null,"",null,"",null,"",null,"",null,"",null,"",null,"",null,"",null,"",null,"",null,"",null,"",null,"",null,"",null,"",null,"",null,"",null,"",null,"",null,"",null,"",null,"",null,"",null,"",null,"",null,"",null,"",null,"",null,"",null,"",null,"",null,"",null,"",null,"",null,"",null,"",null,0,""]
[null,{"$f":"+'DATOS SGO'!B185","v":0},{"$f":"IF(B164=0, \"\",VLOOKUP(B164,PRESUPUESTO!$B$17:$C$4611, 2, FALSE))","v":""},{"$f":"+'DATOS SGO'!H185","v":""},null,"",null,"",null,"",null,"",null,"",null,"",null,"",null,"",null,"",null,"",null,"",null,"",null,"",null,"",null,"",null,"",null,"",null,"",null,"",null,"",null,"",null,"",null,"",null,"",null,"",null,"",null,"",null,"",null,"",null,"",null,"",null,"",null,"",null,"",null,"",null,"",null,0,""]
[null,{"$f":"+'DATOS SGO'!B186","v":0},{"$f":"IF(B165=0, \"\",VLOOKUP(B165,PRESUPUESTO!$B$17:$C$4611, 2, FALSE))","v":""},{"$f":"+'DATOS SGO'!H186","v":""},null,"",null,"",null,"",null,"",null,"",null,"",null,"",null,"",null,"",null,"",null,"",null,"",null,"",null,"",null,"",null,"",null,"",null,"",null,"",null,"",null,"",null,"",null,"",null,"",null,"",null,"",null,"",null,"",null,"",null,"",null,"",null,"",null,"",null,"",null,"",null,"",null,0,""]
[null,{"$f":"+'DATOS SGO'!B187","v":0},{"$f":"IF(B166=0, \"\",VLOOKUP(B166,PRESUPUESTO!$B$17:$C$4611, 2, FALSE))","v":""},{"$f":"+'DATOS SGO'!H187","v":""},null,"",null,"",null,"",null,"",null,"",null,"",null,"",null,"",null,"",null,"",null,"",null,"",null,"",null,"",null,"",null,"",null,"",null,"",null,"",null,"",null,"",null,"",null,"",null,"",null,"",null,"",null,"",null,"",null,"",null,"",null,"",null,"",null,"",null,"",null,"",null,"",null,0,""]
[null,"PORCENTAJE / INVERSION MENSUAL",null,{"$f":"SUM(D15:D166)","v":0},{"$f":"IF($D$167=0,\"\",F167/$D$167)","v":""},{"$f":"ROUND(SUM(F15:F166),2)","v":0},{"$f":"IF($D$167=0,\"\",H167/$D$167)","v":""},{"$f":"ROUND(SUM(H15:H166),2)","v":0},{"$f":"IF($D$167=0,\"\",J167/$D$167)","v":""},{"$f":"ROUND(SUM(J15:J166),2)","v":0},{"$f":"IF($D$167=0,\"\",L167/$D$167)","v":""},{"$f":"ROUND(SUM(L15:L166),2)","v":0},{"$f":"IF($D$167=0,\"\",N167/$D$167)","v":""},{"$f":"ROUND(SUM(N15:N166),2)","v":0},{"$f":"IF($D$167=0,\"\",P167/$D$167)","v":""},{"$f":"ROUND(SUM(P15:P166),2)","v":0},{"$f":"IF($D$167=0,\"\",R167/$D$167)","v":""},{"$f":"ROUND(SUM(R15:R166),2)","v":0},{"$f":"IF($D$167=0,\"\",T167/$D$167)","v":""},{"$f":"ROUND(SUM(T15:T166),2)","v":0},{"$f":"IF($D$167=0,\"\",V167/$D$167)","v":""},{"$f":"ROUND(SUM(V15:V166),2)","v":0},{"$f":"IF($D$167=0,\"\",X167/$D$167)","v":""},{"$f":"ROUND(SUM(X15:X166),2)","v":0},{"$f":"IF($D$167=0,\"\",Z167/$D$167)","v":""},{"$f":"ROUND(SUM(Z15:Z166),2)","v":0},{"$f":"IF($D$167=0,\"\",AB167/$D$167)","v":""},{"$f":"ROUND(SUM(AB15:AB166),2)","v":0},{"$f":"IF($D$167=0,\"\",AD167/$D$167)","v":""},{"$f":"ROUND(SUM(AD15:AD166),2)","v":0},{"$f":"IF($D$167=0,\"\",AF167/$D$167)","v":""},{"$f":"ROUND(SUM(AF15:AF166),2)","v":0},{"$f":"IF($D$167=0,\"\",AH167/$D$167)","v":""},{"$f":"ROUND(SUM(AH15:AH166),2)","v":0},{"$f":"IF($D$167=0,\"\",AJ167/$D$167)","v":""},{"$f":"ROUND(SUM(AJ15:AJ166),2)","v":0},{"$f":"IF($D$167=0,\"\",AL167/$D$167)","v":""},{"$f":"ROUND(SUM(AL15:AL166),2)","v":0},{"$f":"IF($D$167=0,\"\",AN167/$D$167)","v":""},{"$f":"ROUND(SUM(AN15:AN166),2)","v":0},{"$f":"IF($D$167=0,\"\",AP167/$D$167)","v":""},{"$f":"ROUND(SUM(AP15:AP166),2)","v":0},{"$f":"IF($D$167=0,\"\",AR167/$D$167)","v":""},{"$f":"ROUND(SUM(AR15:AR166),2)","v":0},{"$f":"IF($D$167=0,\"\",AT167/$D$167)","v":""},{"$f":"ROUND(SUM(AT15:AT166),2)","v":0},{"$f":"IF($D$167=0,\"\",AV167/$D$167)","v":""},{"$f":"ROUND(SUM(AV15:AV166),2)","v":0},{"$f":"IF($D$167=0,\"\",AX167/$D$167)","v":""},{"$f":"ROUND(SUM(AX15:AX166),2)","v":0},{"$f":"IF($D$167=0,\"\",AZ167/$D$167)","v":""},{"$f":"ROUND(SUM(AZ15:AZ166),2)","v":0},{"$f":"IF($D$167=0,\"\",BB167/$D$167)","v":""},{"$f":"ROUND(SUM(BB15:BB166),2)","v":0},{"$f":"IF($D$167=0,\"\",BD167/$D$167)","v":""},{"$f":"ROUND(SUM(BD15:BD166),2)","v":0},{"$f":"IF($D$167=0,\"\",BF167/$D$167)","v":""},{"$f":"ROUND(SUM(BF15:BF166),2)","v":0},{"$f":"IF($D$167=0,\"\",BH167/$D$167)","v":""},{"$f":"ROUND(SUM(BH15:BH166),2)","v":0},{"$f":"IF($D$167=0,\"\",BJ167/$D$167)","v":""},{"$f":"ROUND(SUM(BJ15:BJ166),2)","v":0},{"$f":"IF($D$167=0,\"\",BL167/$D$167)","v":""},{"$f":"ROUND(SUM(BL15:BL166),2)","v":0},{"$f":"IF($D$167=0,\"\",BN167/$D$167)","v":""},{"$f":"ROUND(SUM(BN15:BN166),2)","v":0},{"$f":"IF($D$167=0,\"\",BP167/$D$167)","v":""},{"$f":"ROUND(SUM(BP15:BP166),2)","v":0},{"$f":"IF($D$167=0,\"\",BR167/$D$167)","v":""},{"$f":"ROUND(SUM(BR15:BR166),2)","v":0},{"$f":"IF($D$167=0,\"\",BT167/$D$167)","v":""},{"$f":"ROUND(SUM(BT15:BT166),2)","v":0},{"$f":"IF($D$167=0,\"\",BV167/$D$167)","v":""},{"$f":"ROUND(SUM(BV15:BV166),2)","v":0},{"$f":"IF($D$167=0,\"\",BX167/$D$167)","v":""},{"$f":"ROUND(SUM(BX15:BX166),2)","v":0},null,{"$error":"#VALUE!"},{"$f":"IF(BZ167=0,\"\",(F167+H167+J167+L167+N167+P167+R167+T167+V167+X167+Z167+AB167+AD167+AF167+AH167+AJ167+AL167+AN167+AP167+AR167+AT167+AV167+AX167+AZ167+BB167+BD167+BF167+BH167+BJ167+BL167+BN167+BP167+BR167+BT167+BV167+BX167))","v":{"$error":"#VALUE!"}}]
[null,"PORCENTAJE AVANCE ACUMULADO",{"$f":"IF(ISBLANK(B168), \"\",VLOOKUP(B168,PRESUPUESTO!$B$17:$C$347, 2, FALSE))","v":{"$error":"#N/A"}},null,{"$f":"+E167","v":""},null,{"$f":"+E168+G167","v":{"$error":"#VALUE!"}},null,{"$f":"+G168+I167","v":{"$error":"#VALUE!"}},null,{"$f":"+I168+K167","v":{"$error":"#VALUE!"}},null,{"$f":"+K168+M167","v":{"$error":"#VALUE!"}},null,{"$f":"+M168+O167","v":{"$error":"#VALUE!"}},null,{"$f":"+O168+Q167","v":{"$error":"#VALUE!"}},null,{"$f":"+Q168+S167","v":{"$error":"#VALUE!"}},null,{"$f":"+S168+U167","v":{"$error":"#VALUE!"}},null,{"$f":"+U168+W167","v":{"$error":"#VALUE!"}},null,{"$f":"+W168+Y167","v":{"$error":"#VALUE!"}},null,{"$f":"+Y168+AA167","v":{"$error":"#VALUE!"}},null,{"$f":"+AA168+AC167","v":{"$error":"#VALUE!"}},null,{"$f":"+AC168+AE167","v":{"$error":"#VALUE!"}},null,{"$f":"+AE168+AG167","v":{"$error":"#VALUE!"}},null,{"$f":"+AG168+AI167","v":{"$error":"#VALUE!"}},null,{"$f":"+AI168+AK167","v":{"$error":"#VALUE!"}},null,{"$f":"+AK168+AM167","v":{"$error":"#VALUE!"}},null,{"$f":"+AM168+AO167","v":{"$error":"#VALUE!"}},null,{"$f":"+AO168+AQ167","v":{"$error":"#VALUE!"}},null,{"$f":"+AQ168+AS167","v":{"$error":"#VALUE!"}},null,{"$f":"+AS168+AU167","v":{"$error":"#VALUE!"}},null,{"$f":"+AU168+AW167","v":{"$error":"#VALUE!"}},null,{"$f":"+AW168+AY167","v":{"$error":"#VALUE!"}},null,{"$f":"+AY168+BA167","v":{"$error":"#VALUE!"}},null,{"$f":"+BA168+BC167","v":{"$error":"#VALUE!"}},null,{"$f":"+BC168+BE167","v":{"$error":"#VALUE!"}},null,{"$f":"+BE168+BG167","v":{"$error":"#VALUE!"}},null,{"$f":"+BG168+BI167","v":{"$error":"#VALUE!"}},null,{"$f":"+BI168+BK167","v":{"$error":"#VALUE!"}},null,{"$f":"+BK168+BM167","v":{"$error":"#VALUE!"}},null,{"$f":"+BM168+BO167","v":{"$error":"#VALUE!"}},null,{"$f":"+BO168+BQ167","v":{"$error":"#VALUE!"}},null,{"$f":"+BQ168+BS167","v":{"$error":"#VALUE!"}},null,{"$f":"+BS168+BU167","v":{"$error":"#VALUE!"}},null,{"$f":"+BU168+BW167","v":{"$error":"#VALUE!"}}]
[]
[null,null,{"$f":"IF(ISBLANK(B170), \"\",VLOOKUP(B170,PRESUPUESTO!$B$17:$C$347, 2, FALSE))","v":""}]
[]
[null,null,{"$f":"IF(ISBLANK(B172), \"\",VLOOKUP(B172,PRESUPUESTO!$B$17:$C$347, 2, FALSE))","v":""}]
[null,null,{"$f":"IF(ISBLANK(B173), \"\",VLOOKUP(B173,PRESUPUESTO!$B$17:$C$347, 2, FALSE))","v":""}]
[null,null,{"$f":"IF(ISBLANK(B174), \"\",VLOOKUP(B174,PRESUPUESTO!$B$17:$C$347, 2, FALSE))","v":""}]
[null,null,{"$f":"IF(ISBLANK(B175), \"\",VLOOKUP(B175,PRESUPUESTO!$B$17:$C$347, 2, FALSE))","v":""}]
[null,null,{"$f":"IF(ISBLANK(B176), \"\",VLOOKUP(B176,PRESUPUESTO!$B$17:$C$347, 2, FALSE))","v":""}]
[null,null,{"$f":"IF(ISBLANK(B177), \"\",VLOOKUP(B177,PRESUPUESTO!$B$17:$C$347, 2, FALSE))","v":""},{"$f":"SUM(D17:D166)","v":0},{"$f":"+F177/$D$177","v":{"$error":"#DIV/0!"}},{"$f":"SUM(F17:F166)","v":0},{"$f":"+H177/$D$177","v":{"$error":"#DIV/0!"}},{"$f":"SUM(H17:H166)","v":0},{"$f":"+J177/$D$177","v":{"$error":"#DIV/0!"}},{"$f":"SUM(J17:J166)","v":0},{"$f":"+L177/$D$177","v":{"$error":"#DIV/0!"}},{"$f":"SUM(L17:L166)","v":0},{"$f":"+N177/$D$177","v":{"$error":"#DIV/0!"}},{"$f":"SUM(N17:N166)","v":0},{"$f":"+P177/$D$177","v":{"$error":"#DIV/0!"}},{"$f":"SUM(P17:P166)","v":0},{"$f":"+R177/$D$177","v":{"$error":"#DIV/0!"}},{"$f":"SUM(R17:R166)","v":0},{"$f":"+T177/$D$177","v":{"$error":"#DIV/0!"}},{"$f":"SUM(T17:T166)","v":0},{"$f":"+V177/$D$177","v":{"$error":"#DIV/0!"}},{"$f":"SUM(V17:V166)","v":0},{"$f":"+X177/$D$177","v":{"$error":"#DIV/0!"}},{"$f":"SUM(X17:X166)","v":0},{"$f":"+Z177/$D$177","v":{"$error":"#DIV/0!"}},{"$f":"SUM(Z17:Z166)","v":0},{"$f":"+AB177/$D$177","v":{"$error":"#DIV/0!"}},{"$f":"SUM(AB17:AB166)","v":0},{"$f":"+AD177/$D$177","v":{"$error":"#DIV/0!"}},{"$f":"SUM(AD17:AD166)","v":0},{"$f":"+AF177/$D$177","v":{"$error":"#DIV/0!"}},{"$f":"SUM(AF17:AF166)","v":0},{"$f":"+AH177/$D$177","v":{"$error":"#DIV/0!"}},{"$f":"SUM(AH17:AH166)","v":0},{"$f":"+AJ177/$D$177","v":{"$error":"#DIV/0!"}},{"$f":"SUM(AJ17:AJ166)","v":0},{"$f":"+AL177/$D$177","v":{"$error":"#DIV/0!"}},{"$f":"SUM(AL17:AL166)","v":0},{"$f":"+AN177/$D$177","v":{"$error":"#DIV/0!"}},{"$f":"SUM(AN17:AN166)","v":0},{"$f":"+AP177/$D$177","v":{"$error":"#DIV/0!"}},{"$f":"SUM(AP17:AP166)","v":0},{"$f":"+AR177/$D$177","v":{"$error":"#DIV/0!"}},{"$f":"SUM(AR17:AR166)","v":0},{"$f":"+AT177/$D$177","v":{"$error":"#DIV/0!"}},{"$f":"SUM(AT17:AT166)","v":0},{"$f":"+AV177/$D$177","v":{"$error":"#DIV/0!"}},{"$f":"SUM(AV17:AV166)","v":0},{"$f":"+AX177/$D$177","v":{"$error":"#DIV/0!"}},{"$f":"SUM(AX17:AX166)","v":0},{"$f":"+AZ177/$D$177","v":{"$error":"#DIV/0!"}},{"$f":"SUM(AZ17:AZ166)","v":0},{"$f":"+BB177/$D$177","v":{"$error":"#DIV/0!"}},{"$f":"SUM(BB17:BB166)","v":0},{"$f":"+BD177/$D$177","v":{"$error":"#DIV/0!"}},{"$f":"SUM(BD17:BD166)","v":0},{"$f":"+BF177/$D$177","v":{"$error":"#DIV/0!"}},{"$f":"SUM(BF17:BF166)","v":0},{"$f":"+BH177/$D$177","v":{"$error":"#DIV/0!"}},{"$f":"SUM(BH17:BH166)","v":0},{"$f":"+BJ177/$D$177","v":{"$error":"#DIV/0!"}},{"$f":"SUM(BJ17:BJ166)","v":0},{"$f":"+BL177/$D$177","v":{"$error":"#DIV/0!"}},{"$f":"SUM(BL17:BL166)","v":0},{"$f":"+BN177/$D$177","v":{"$error":"#DIV/0!"}},{"$f":"SUM(BN17:BN166)","v":0},{"$f":"+BP177/$D$177","v":{"$error":"#DIV/0!"}},{"$f":"SUM(BP17:BP166)","v":0},{"$f":"+BR177/$D$177","v":{"$error":"#DIV/0!"}},{"$f":"SUM(BR17:BR166)","v":0},{"$f":"+BT177/$D$177","v":{"$error":"#DIV/0!"}},{"$f":"SUM(BT17:BT166)","v":0},{"$f":"+BV177/$D$177","v":{"$error":"#DIV/0!"}},{"$f":"SUM(BV17:BV166)","v":0},{"$f":"+BX177/$D$177","v":{"$error":"#DIV/0!"}},{"$f":"SUM(BX17:BX166)","v":0}]
[null,null,{"$f":"IF(ISBLANK(B178), \"\",VLOOKUP(B178,PRESUPUESTO!$B$17:$C$347, 2, FALSE))","v":""}]
[null,null,{"$f":"IF(ISBLANK(B179), \"\",VLOOKUP(B179,PRESUPUESTO!$B$17:$C$347, 2, FALSE))","v":""}]
[]
[null,null,{"$f":"IF(ISBLANK(B181), \"\",VLOOKUP(B181,PRESUPUESTO!$B$17:$C$347, 2, FALSE))","v":""}]
[null,null,{"$f":"IF(ISBLANK(B182), \"\",VLOOKUP(B182,PRESUPUESTO!$B$17:$C$347, 2, FALSE))","v":""}]
[null,null,{"$f":"IF(ISBLANK(B183), \"\",VLOOKUP(B183,PRESUPUESTO!$B$17:$C$347, 2, FALSE))","v":""}]
[null,null,{"$f":"IF(ISBLANK(B184), \"\",VLOOKUP(B184,PRESUPUESTO!$B$17:$C$347, 2, FALSE))","v":""}]
[null,null,{"$f":"IF(ISBLANK(B185), \"\",VLOOKUP(B185,PRESUPUESTO!$B$17:$C$347, 2, FALSE))","v":""}]
[null,null,{"$f":"IF(ISBLANK(B186), \"\",VLOOKUP(B186,PRESUPUESTO!$B$17:$C$347, 2, FALSE))","v":""}]
[null,null,{"$f":"IF(ISBLANK(B187), \"\",VLOOKUP(B187,PRESUPUESTO!$B$17:$C$347, 2, FALSE))","v":""}]
[null,null,{"$f":"IF(ISBLANK(B188), \"\",VLOOKUP(B188,PRESUPUESTO!$B$17:$C$347, 2, FALSE))","v":""}]
[null,null,{"$f":"IF(ISBLANK(B189), \"\",VLOOKUP(B189,PRESUPUESTO!$B$17:$C$347, 2, FALSE))","v":""}]
[null,null,{"$f":"IF(ISBLANK(B190), \"\",VLOOKUP(B190,PRESUPUESTO!$B$17:$C$347, 2, FALSE))","v":""}]
[null,null,{"$f":"IF(ISBLANK(B191), \"\",VLOOKUP(B191,PRESUPUESTO!$B$17:$C$347, 2, FALSE))","v":""}]
[null,null,{"$f":"IF(ISBLANK(B192), \"\",VLOOKUP(B192,PRESUPUESTO!$B$17:$C$347, 2, FALSE))","v":""}]
[null,null,{"$f":"IF(ISBLANK(B193), \"\",VLOOKUP(B193,PRESUPUESTO!$B$17:$C$347, 2, FALSE))","v":""}]
[null,null,{"$f":"IF(ISBLANK(B194), \"\",VLOOKUP(B194,PRESUPUESTO!$B$17:$C$347, 2, FALSE))","v":""}]
[null,null,{"$f":"IF(ISBLANK(B195), \"\",VLOOKUP(B195,PRESUPUESTO!$B$17:$C$347, 2, FALSE))","v":""}]
[null,null,{"$f":"IF(ISBLANK(B196), \"\",VLOOKUP(B196,PRESUPUESTO!$B$17:$C$347, 2, FALSE))","v":""}]
[null,null,{"$f":"IF(ISBLANK(B197), \"\",VLOOKUP(B197,PRESUPUESTO!$B$17:$C$347, 2, FALSE))","v":""}]
[null,null,{"$f":"IF(ISBLANK(B198), \"\",VLOOKUP(B198,PRESUPUESTO!$B$17:$C$347, 2, FALSE))","v":""}]
[null,null,{"$f":"IF(ISBLANK(B199), \"\",VLOOKUP(B199,PRESUPUESTO!$B$17:$C$347, 2, FALSE))","v":""}]
[null,null,{"$f":"IF(ISBLANK(B200), \"\",VLOOKUP(B200,PRESUPUESTO!$B$17:$C$347, 2, FALSE))","v":""}]
[null,null,{"$f":"IF(ISBLANK(B201), \"\",VLOOKUP(B201,PRESUPUESTO!$B$17:$C$347, 2, FALSE))","v":""}]
[null,null,{"$f":"IF(ISBLANK(B202), \"\",VLOOKUP(B202,PRESUPUESTO!$B$17:$C$347, 2, FALSE))","v":""}]
[null,null,{"$f":"IF(ISBLANK(B203), \"\",VLOOKUP(B203,PRESUPUESTO!$B$17:$C$347, 2, FALSE))","v":""}]
[null,null,{"$f":"IF(ISBLANK(B204), \"\",VLOOKUP(B204,PRESUPUESTO!$B$17:$C$347, 2, FALSE))","v":""}]
[null,null,{"$f":"IF(ISBLANK(B205), \"\",VLOOKUP(B205,PRESUPUESTO!$B$17:$C$347, 2, FALSE))","v":""}]
[null,null,{"$f":"IF(ISBLANK(B206), \"\",VLOOKUP(B206,PRESUPUESTO!$B$17:$C$347, 2, FALSE))","v":""}]

{"sheet":"VERIFICACION INICIAL","index":5,"n_rows":47,"n_cols":18,"rows_kept":47,"cut":false,"hidden":false,"merged":[[16,13,16,14],[17,13,17,14],[18,13,18,14],[15,13,15,14],[14,13,14,14],[1,6,1,10],[2,6,2,10],[4,1,4,2],[4,7,4,10],[14,1,14,2],[20,1,20,2],[23,1,23,2],[26,1,26,2],[28,13,28,14],[17,1,17,2],[31,16,31,17],[33,1,33,2],[34,1,34,2],[38,1,38,2],[28,15,28,17],[29,13,30,14],[29,15,30,15],[9,13,9,14],[10,13,10,14],[13,13,13,14],[11,13,11,14],[12,12,13,12],[4,13,4,14],[5,13,5,14],[6,13,6,14],[7,13,7,14],[8,13,8,14]]}
[" "]
[null,"ANÁLISIS PRESUPUESTO",null,null,null,"COOPERATIVA",{"$f":"+CARATULA!E15","v":0}]
[null,"Sist. Const.",{"$f":"+CARATULA!D9","v":0},null,null,{"$f":"+CARATULA!D14","v":"REGISTRO"},{"$f":"CARATULA!E14","v":0},null,null,null,null,null,null,"Sistema constructivo",null,"2 dorm","3 dorm","4 dorm"]
[]
[null,"VALOR DE TASACIÓN MÁXIMO",null,null,null,null,null,"Estimación de Carga de UTE",null,null,null,null,null,"TRADICIONAL",null,3111,3717,5936]
[null,"DORMITORIOS","CANTIDAD",null,null,"valor por vivienda",null,null,null,null,null,null,null,"MONTFRIO",null,2154,2573,3737]
[null,"2 DORM",{"$f":"+CARATULA!G18","v":0},{"$f":"IF(F7=\"\",\"\",(C7*F7))","v":{"$error":"#N/A"}},null,{"$f":"IF(C3=\"--\",0,VLOOKUP(C3,$N$5:$R$19,3,FALSE))","v":{"$error":"#N/A"}},null,3.3,null,null,{"$f":"+C7*H7","v":0},null,null,"GREEN INTELLIGENT WALL",null,2622,3133,4549]
[null,"3 DORM",{"$f":"+CARATULA!G19","v":0},{"$f":"IF(F8=\"\",\"\",(C8*F8))","v":{"$error":"#N/A"}},null,{"$f":"IF(C3=\"--\",0,VLOOKUP(C3,$N$5:$R$19,4,FALSE))","v":{"$error":"#N/A"}},null,4.4000000000000004,null,"SI",{"$f":"+C8*H8","v":0},null,null,"DE FLORENCIA",null,2231,2666,3872]
[null,"4 DORM",{"$f":"+CARATULA!G20","v":0},{"$error":"#N/A"},null,{"$f":"IF(C3=\"--\",0,VLOOKUP(C3,$N$5:$R$19,5,FALSE))","v":{"$error":"#N/A"}},null,4.4000000000000004,null,"NO",{"$f":"+C9*H9","v":0},null,null,"SISTEMA INTELITEC VUDATER",null,1873,2237,3248]
[null,"S/TOTAL VIV.",{"$f":"SUM(C7:C9)","v":0},{"$f":"SUM(D7:D9)","v":{"$error":"#N/A"}},null,null,null,null,null,null,null,null,null,"CASA FACIL",null,2650,3170,4600]
[null,null,null,null,null,null,null,"TOTAL",null,null,{"$f":"SUM(K7:K9)+3.3","v":3.3},"kw",null,"EXACTA DAT",null,2536,3030,4400]
[null,"S/TOTAL GGES.",{"$f":"+CARATULA!G22","v":0},{"$f":"+C12*N22","v":0},null,null,null,null,null,null,null,null,null,"ÑANDE",null,2560,3058,4440]
[null,"S/TOTAL RECIC",{"$f":"+CARATULA!G23","v":0},{"$f":"+C13*P22","v":0},null,null,null,null,null,null,null,null,"RM177/2022","ROYAL BUILDING SYSTEM",null,2326,2778,4034]
[null,null,null,null,null,null,null,null,null,null,null,null,null,"ETERNOPANEL - CONILAR SA",null,2877,3437,4991]
[null,"VALOR DE TASACIÓN MÁXIMO",null,{"$f":"+D10+D12+D23+D13","v":{"$error":"#N/A"}},null,null,null,null,null,null,null,null,null,"VOLFER 01 - CIGROL SA",null,1700,2031,2949]
[null,null,null,null,null,null,null,null,null,null,null,null,null,"EXACTA CIR",null,1914,2287,3320]
[null,null,null,null,null,"Subsidio",null,null,null,null,null,null,null,"CASA ALVA - KEIMER SA",null,2255,2694,3911]
[null,"VALOR DE TASACION FINAL MAX.",null,{"$f":"D15*0.9+D27","v":{"$error":"#N/A"}},null,{"$f":"R22","v":253},null,null,null,null,null,null,null,"CASAS FISCHER",null,1942,2620,3368]
[null,null,null,null,null,null,null,null,null,null,null,null,null,"SINGULAR HOUS FRAY BENTOS",null,2798,3343,4854]
[null,null,null,null,null,"SEGÚN COOP.",null,"VERIFICA",null,null,"VERIF.2","* Si el valor presentado"]
[null,"PRESTAMO",null,{"$f":"ROUND(D18*0.85,0)-D23","v":{"$error":"#N/A"}},null,{"$f":"+CARATULA!G25","v":0},null,{"$f":"IF(F21<=D21,\"SI\",\"NO\")","v":{"$error":"#N/A"}},null,{"$f":"+ROUND(F21/F24,2)","v":{"$error":"#DIV/0!"}},{"$f":"IF(AND(K24=\"SI\", J21<=0.85),\"SI\",\"NO\")","v":{"$error":"#N/A"}},"es menor que el V.T.F.",null,"Garages",null,"Reciclaje",null,"Subsidio"]
[null,"APORTE DE LA COOPERATIVA",null,{"$f":"ROUND(D18*0.15,0)","v":{"$error":"#N/A"}},null,{"$f":"+CARATULA!G27","v":0},null,{"$f":"IF(F22=D22,\"SI\",\"NO\")","v":{"$error":"#N/A"}},null,{"$f":"+ROUND(F22/F24,2)","v":{"$error":"#DIV/0!"}},{"$f":"IF(AND(K24=\"SI\", J22=0.15),\"SI\",\"NO\")","v":{"$error":"#N/A"}},null,null,304,null,304,null,253]
[null,"SUBSIDIO","SI",{"$f":"IF(C23=\"SI\",C10*F18,0)","v":0},null,{"$f":"+CARATULA!G26","v":0},null,{"$f":"IF(D23>=F23,\"SI\",\"NO\")","v":"SI"},null,null,{"$f":"IF(D23>=F23,\"SI\",\"NO\")","v":"SI"}]
[null,"VALOR DE TASACION FINAL",null,{"$f":"SUM(D21:D23)","v":{"$error":"#N/A"}},null,{"$f":"SUM(F21:F23)","v":0},null,{"$f":"IF(F24=D24,\"SI\",\"NO\")","v":{"$error":"#N/A"}},null,null,{"$f":"IF(F24<D24,\"SI\",\"NO\")","v":{"$error":"#N/A"}}]
[]
[null,null,null,null,null,"VERIFICACIONES",null,null,null,null,null,null,null,null,null,{"$f":"0.1098/1.1098","v":9.8936745359524236E-2},0.09]
[null,"VALOR DE TERRENO",null,{"$f":"+CARATULA!G36+PRESUPUESTO!G17","v":0},null,null,null,null,null,null,null,null,null,null,null,null,7.0000000000000007E-2,{"$f":"+Q27/Q26","v":0.7777777777777779}]
[null,"HONORARIOS NOTARIALES",null,{"$f":"+CARATULA!G35","v":0},null,{"$f":"+ROUND((F21*0.0105*1.22)+3.5,2)","v":3.5},null,{"$f":"IF(D28<=F28,\"SI\",\"NO\")","v":"SI"},null,null,"1,05% del préstamo + 3,5UR",null,null,null,null,null,0.02,{"$f":"+Q28/Q26","v":0.22222222222222224}]
[null,"HONORARIOS PROYECTO",null,{"$f":"+CARATULA!G37+PRESUPUESTO!G18","v":0},null,{"$f":"+ROUND((D29/D31),2)","v":{"$error":"#DIV/0!"}},null,{"$f":"IF(F29=J29,\"SI\",\"NO\")","v":{"$error":"#DIV/0!"}},null,0.6,null,null,null,"HONORARIOS  MÁXIMOS",null,{"$f":"P26*(F24-D27-D28-D33-D34-D35-D36)","v":0}]
[null,"HONORARIOS DIRECCIÓN",null,{"$f":"+PRESUPUESTO!G14","v":0},null,{"$f":"ROUND(D30/$D$31,2)","v":{"$error":"#DIV/0!"}},null,{"$f":"IF(F30=J30,\"SI\",\"NO\")","v":{"$error":"#DIV/0!"}},null,0.4,null,null,null,"Honorarios IAT",null,{"$f":"+P29*R27","v":0},"proyecto",{"$f":"+P30*0.6","v":0}]
[null,"TOTAL HONORARIOS IAT",null,{"$f":"+D29+D30","v":0},null,{"$f":"ROUND($D$38*0.07*1.22,2)","v":0},null,{"$f":"IF(D31<=F31,\"SI\",\"NO\")","v":"SI"},null,null,"7% del monto total de obra + IVA",null,null,null,null,null,"dirección",{"$f":"+P30*0.4","v":0}]
[null,"HONORARIOS ASESORES",null,{"$f":"+CARATULA!G38+PRESUPUESTO!G19","v":0},null,{"$f":"ROUND($D$38*0.02*1.22,2)","v":0},null,{"$f":"IF(D32<=F32,\"SI\",\"NO\")","v":"SI"},null,null,"2% del monto total de obra + IVA",null,null,"Honorarios asesores",null,{"$f":"+P29*R28","v":0}]
[null,"PERMISO DE CONSTRUCCION",null,{"$f":"+CARATULA!G39+PRESUPUESTO!G20","v":0}]
[null,"TASA CONEXIÓN UTE",null,{"$f":"+PRESUPUESTO!G441","v":0}]
[null,"TASA CONEXIÓN OSE",null,{"$f":"+PRESUPUESTO!G403","v":0},null,{"$f":"+K11/C10","v":{"$error":"#DIV/0!"}},null,"Valor por vivienda: se estima en 5 UR/ viv."]
[null,"TASAS DE CONEX.SANEMIENTO",null,{"$f":"+PRESUPUESTO!G402","v":0},null,null,null,"No tiene costo"]
[]
[null,"MONTO TOTAL DE OBRA (VALOR DE OBRA)",null,{"$f":"+F24-D27-D28-D31-D32-D33-D34-D35-D36","v":0}]
[null,"MONTO TOTAL PRESUPUESTO",null,{"$f":"+D38+D30+D35+D36","v":0}]
[]
[]
[null,"APORTE/Valor TASACION",null,{"$f":"ROUND(D22/D24,2)","v":{"$error":"#N/A"}},null,null,null,{"$f":"IF(D42<=15%,\"SI\",\"NO\")","v":{"$error":"#N/A"}}]
[null,"INFRAESTRUCTURA",null,{"$f":"#REF!","v":{"$error":"#REF!"}}]
[null,"VALOR CONSTRUCCIÓN",null,{"$f":"+F24-D27-D43","v":{"$error":"#REF!"}}]
[null,"Terreno+Infra/Valor de Const",null,{"$f":"(D27+D43)/D44","v":{"$error":"#REF!"}},null,"menor a 15%",null,{"$f":"IF(D45<=15%,\"SI\",\"NO\")","v":{"$error":"#REF!"}}]
[null,"RUSTICO",null,{"$f":"#REF!+#REF!+#REF!+#REF!+#REF!+#REF!+#REF!+#REF!+#REF!+#REF!+#REF!","v":{"$error":"#REF!"}}]
[null,"RUSTICO/VALOR DE CONSTRUC",null,{"$f":"D46/D44","v":{"$error":"#REF!"}},null,"aprox. 40%",null,"SI"]

{"sheet":"COMPARACIÓN INE","index":6,"n_rows":41,"n_cols":17,"rows_kept":41,"cut":false,"hidden":false,"merged":[[1,1,1,3]]}
[]
[null,"Tipología INE asimilable (ver al pie de la tabla)",null,null,"--",null,null,"Tabla de valores INE - ANV  por ítem de obra y tipología de viviendas"]
[]
[null,"Rubros","Sub-total","Incidencia","INE","diferencia",null,"T1","T2","T3","T4","T5","T6","T7","T8","T9","T10"]
[null,"Replanteo",{"$f":"+PRESUPUESTO!G28","v":0},{"$f":"IF(C5=0,\"\",C5/$C$30)","v":""},{"$f":"+IF($E$2=$H$4,H5,IF($E$2=$I$4,I5,IF($E$2=$J$4,J5,IF($E$2=$K$4,K5,IF($E$2=$L$4,L5,IF($E$2=$M$4,M5,IF($E$2=$N$4,N5,IF($E$2=$O$4,O5,IF($E$2=$P$4,P5,IF($E$2=$Q$4,Q5,0))))))))))","v":0},{"$f":"IF(D5=0,\"\",D5-E5)","v":{"$error":"#VALUE!"}},null,2.76,3.78,3.42,2.42,1.49,2.4300000000000002,2.63,1.42,1.56,1.29]
[null,"Movimiento de tierra",{"$f":"+PRESUPUESTO!H36","v":0},{"$f":"IF(C6=0,\"\",C6/$C$30)","v":""},0,{"$f":"+D6-E6","v":{"$error":"#VALUE!"}},null,2.37,1.72,3.93,1.1599999999999999,0.8,1.62,1.81,0.27,0.73,1.0900000000000001]
[null,"Hormigón armado",{"$f":"+PRESUPUESTO!H52","v":0},"",0,{"$error":"#VALUE!"},null,23.27,26.22,22.28,15.24,25.92,29.69,27.27,27.75,30.83,21.81]
[null,"Muros",{"$f":"+PRESUPUESTO!G102","v":0},"",0,{"$error":"#VALUE!"},null,15.18,21.33,15.85,11.11,20.68,13.35,20.2,19.149999999999999,12.3,8.77]
[null,"Revestimiento cielorrasos",{"$f":"+PRESUPUESTO!G147+PRESUPUESTO!G149+PRESUPUESTO!G151+PRESUPUESTO!G152+PRESUPUESTO!G153","v":0},"",0,{"$error":"#VALUE!"},null,1.6,1.5,1.1399999999999999,0.44,1.38,0.83,1.72,1.59,1.31,0.9]
[null,"Revestimiento paramentos",{"$f":"+PRESUPUESTO!G154+PRESUPUESTO!G155+PRESUPUESTO!G156+PRESUPUESTO!G157+PRESUPUESTO!G158+PRESUPUESTO!G159+PRESUPUESTO!G160","v":0},"",0,{"$error":"#VALUE!"},null,4.18,3.92,2.99,1.17,3.6,2.17,4.49,4.1399999999999997,3.53,2.35]
[null,"Revestimiento exteriores",{"$f":"+PRESUPUESTO!G162+PRESUPUESTO!G164+PRESUPUESTO!G165+PRESUPUESTO!G166+PRESUPUESTO!G167+PRESUPUESTO!G168+PRESUPUESTO!G170","v":0},"",0,{"$error":"#VALUE!"},null,2.2400000000000002,2.1,1.6,0.63,1.94,1.1599999999999999,2.41,2.2200000000000002,2.44,1.27]
[null,"Contrapisos",{"$f":"+PRESUPUESTO!G186","v":0},"",0,{"$error":"#VALUE!"},null,2.06,1.92,1.4,4.43,2.08,1.65,1.34,2.12,1.64,1.82]
[null,"Pisos",{"$f":"+PRESUPUESTO!G193","v":0},"",0,{"$error":"#VALUE!"},null,7.38,6.54,5.73,8.19,5.0599999999999996,5.77,5.77,6.65,7.62,8.23]
[null,"Zócalos",{"$f":"+PRESUPUESTO!G224-PRESUPUESTO!G228","v":0},"",0,{"$error":"#VALUE!"},null,0.89,0.67,0.59,0.82,0.61,0.59,0.59,0.68,0.78,0.86]
[null,"Escalones",{"$f":"+PRESUPUESTO!G214-PRESUPUESTO!G223-PRESUPUESTO!G222-PRESUPUESTO!G221","v":0},"",0,{"$error":"#VALUE!"},null,0.71,1.27,1.1100000000000001,1.55,0.49,1.1200000000000001,1.1100000000000001,1.29,1.48,1.6]
[null,"Revestimiento azulejos",{"$f":"+PRESUPUESTO!G178","v":0},"",0,{"$error":"#VALUE!"},null,1.46,1.22,1.82,1.91,1.89,1.94,1.44,1.97,1.53,2.5]
[null,"Azoteas",{"$f":"+PRESUPUESTO!G240","v":0},"",0,{"$error":"#VALUE!"},null,8.0500000000000007,4.6399999999999997,8.98,7.4,7.47,2.91,4.97,1.1200000000000001,1.47,0.54]
[null,"Mármol mesada",{"$f":"+PRESUPUESTO!G229","v":0},"",0,{"$error":"#VALUE!"},null,0.7,0.66,0.97,1.1499999999999999,0.83,0.59,0.92,0.9,0.93,1.6]
[null,"Aberturas exteriores",null,"",0,{"$error":"#VALUE!"},null,3.16,0.08,3.37,17.239999999999998,3.76,8.51,0.08,4.0599999999999996,4.29,5.61]
[null,"Aberturas interiores y placares",null,"",0,{"$error":"#VALUE!"},null,8.14,7.82,11.23,13.11,5.45,7.68,7.53,3.53,7.76,7.53]
[null,"Protección aberturas",{"$f":"+PRESUPUESTO!H393","v":0},"",0,{"$error":"#VALUE!"},null,null,1.22,0.92,1.56,null,1.01,1.22,1.02,1.1399999999999999,1.57]
[null,"Sanitaria",{"$f":"+PRESUPUESTO!H401-PRESUPUESTO!G409","v":0},"",0,{"$error":"#VALUE!"},null,4.07,3.25,3.25,1.76,4.25,5.5,3.84,4.7699999999999996,4.43,6.77]
[null,"Aparatos y griferías",{"$f":"+PRESUPUESTO!G409","v":0},"",0,{"$error":"#VALUE!"},null,2.19,1.74,1.74,0.94,2.2799999999999998,2.96,2.06,4.0599999999999996,3.98,5.77]
[null,"Instalación eléctrica",{"$f":"+PRESUPUESTO!H427","v":0},"",0,{"$error":"#VALUE!"},null,5.17,4.2699999999999996,3.29,1.85,6.61,3.55,4.4400000000000004,5.03,3.99,4.49]
[null,"Vidrios",{"$f":"+PRESUPUESTO!H399","v":0},"",0,{"$error":"#VALUE!"},null,1.26,1.25,1.21,1.05,0.98,1.39,1.1599999999999999,0.85,0.95,2.96]
[null,"Pintura",{"$f":"+PRESUPUESTO!H446","v":0},"",0,{"$error":"#VALUE!"},null,2.95,2.66,2.96,1.83,2.2200000000000002,3.36,2.78,2.0499999999999998,2.0699999999999998,2.08]
[null,"Ascensor",{"$f":"+PRESUPUESTO!H442","v":0},"",0,{"$error":"#VALUE!"},null,null,null,null,null,null,null,null,3.13,3.01,3]
[null,"Calefacción",null,"",0,{"$error":"#VALUE!"},null,null,null,null,2.81,null,null,null,null,null,5.38]
[null,"Limpieza de obra",null,"",0,{"$error":"#VALUE!"},null,0.21,0.22,0.22,0.23,0.21,0.22,0.22,0.23,0.23,0.21]
[null,"TOTAL",{"$f":"SUM(C5:C29)","v":0},{"$f":"SUM(D5:D29)","v":0}]
[null,null,null,null,null,null,null,"--"]
[null,null,null,null,null,-0.1,null,"T1","Vivienda popular de la Intendencia Municipal de Montevideo de 3 dormitorios del tipo(72-12-B). Superficie edificada: 70 m2"]
[null,null,null,null,null,0.1,null,"T2","Vivienda dúplex, categoría II del BHU. Superficie edificada: 84 m2 Aislada"]
[null,null,null,null,null,null,null,"T3","Vivienda categoría III del BHU. Superficie edificada 174 m2 (garage, placares, estufa a leña)"]
[null,null,null,null,null,null,null,"T4","Vivienda individual fuera de las categorías del BHU. Suntuosa, con calefacción, etc. Sup edificada: 457 m2"]
[null,null,null,null,null,null,null,"T5","Vivienda categoría I del BHU, individuales apareadas formando conjuntos, pero sin la existencia de infraestructura propia (caminería, salón comunal, redes internas, etc.)"]
[null,null,null,null,null,null,null,"T6","Vivienda categoría IIA  del BHU. Conjunto de PB y tres niveles sin ascensor, que por su tamaño y disposición no requiere de infraestructura propia"]
[null,null,null,null,null,null,null,"T7","Vivienda categoría II del BHU conjunto de dúplex apareadas, que por su tamaño o disposición no requieren de infraestructura propia"]
[null,null,null,null,null,null,null,"T8","Vivienda categoría II del BHU. Conjunto en altura con un ascensor PPT"]
[null,null,null,null,null,null,null,"T9","Viviendas categoría III del BHU. Conjunto de PB y 10 pisos con garages en subsuelo (100%) Superficie edificada de 3167 m2 con 30 viviendas"]
[null,null,null,null,null,null,null,"T10","Viviendas categoría IV del BHU. Conjunto de subsuelo, PB Y 12 PPAA con calefacción. Superficie edificada 7500 m2 con 51 viviendas"]

{"sheet":"PRECIOS UNITARIOS (PRESTAMO)","index":7,"n_rows":126,"n_cols":5,"rows_kept":126,"cut":false,"hidden":false,"merged":[]}
[null,"TOTAL PRÉSTAMO",null,{"$f":"+'DATOS SGO'!D12","v":0}]
[null,"VERIFICO MONTO",null,{"$f":"SUM(D5:D403)*100","v":0}]
[]
[null,"CÓDIGO","VERSIÓN","MONTO UNIT"]
["TRABAJO 1",{"$f":"+'DATOS SGO'!B22","v":"CAF001"},1,{"$f":"ROUND(+E5/100,2)","v":0},{"$f":"VLOOKUP(B5,'DATOS SGO'!$B$22:$D$27, 3, FALSE)","v":0}]
["TRABAJO 1",{"$f":"+'DATOS SGO'!B23","v":"A00001"},1,0,{"$f":"VLOOKUP(B6,'DATOS SGO'!$B$22:$D$27, 3, FALSE)","v":0}]
["TRABAJO 1",{"$f":"+'DATOS SGO'!B24","v":"CAC001"},1,0,{"$f":"VLOOKUP(B7,'DATOS SGO'!$B$22:$D$27, 3, FALSE)","v":0}]
["TRABAJO 1",{"$f":"+'DATOS SGO'!B25","v":"CAE001"},1,0,{"$f":"VLOOKUP(B8,'DATOS SGO'!$B$22:$D$27, 3, FALSE)","v":0}]
["TRABAJO 1",{"$f":"+'DATOS SGO'!B26","v":"CAG001"},1,0,{"$f":"VLOOKUP(B9,'DATOS SGO'!$B$22:$D$27, 3, FALSE)","v":0}]
["TRABAJO 1",{"$f":"+'DATOS SGO'!B27","v":"DAA001"},1,0,{"$f":"VLOOKUP(B10,'DATOS SGO'!$B$22:$D$27, 3, FALSE)","v":0}]
["TRABAJO 2",{"$f":"IF(ISBLANK(+'DATOS SGO'!B36), \"\",'DATOS SGO'!B36)","v":"CAA002"},1,{"$f":"IF(ISNUMBER(E11), ROUND(E11,2),0)","v":0},{"$f":"VLOOKUP(B11,'DATOS SGO'!$B$36:$Q$188,16, FALSE)","v":""}]
["TRABAJO 2",{"$f":"IF(ISBLANK(+'DATOS SGO'!B37), \"\",'DATOS SGO'!B37)","v":"ZZX241"},1,0,{"$f":"VLOOKUP(B12,'DATOS SGO'!$B$36:$Q$188,16, FALSE)","v":""}]
["TRABAJO 2",{"$f":"IF(ISBLANK(+'DATOS SGO'!B38), \"\",'DATOS SGO'!B38)","v":""},1,0,{"$f":"VLOOKUP(B13,'DATOS SGO'!$B$36:$Q$188,16, FALSE)","v":{"$error":"#N/A"}}]
["TRABAJO 2",{"$f":"IF(ISBLANK(+'DATOS SGO'!B39), \"\",'DATOS SGO'!B39)","v":""},1,0,{"$f":"VLOOKUP(B14,'DATOS SGO'!$B$36:$Q$188,16, FALSE)","v":{"$error":"#N/A"}}]
["TRABAJO 2",{"$f":"IF(ISBLANK(+'DATOS SGO'!B40), \"\",'DATOS SGO'!B40)","v":""},1,0,{"$f":"VLOOKUP(B15,'DATOS SGO'!$B$36:$Q$188,16, FALSE)","v":{"$error":"#N/A"}}]
["TRABAJO 2",{"$f":"IF(ISBLANK(+'DATOS SGO'!B41), \"\",'DATOS SGO'!B41)","v":""},1,0,{"$f":"VLOOKUP(B16,'DATOS SGO'!$B$36:$Q$188,16, FALSE)","v":{"$error":"#N/A"}}]
["TRABAJO 2",{"$f":"IF(ISBLANK(+'DATOS SGO'!B42), \"\",'DATOS SGO'!B42)","v":""},1,0,{"$f":"VLOOKUP(B17,'DATOS SGO'!$B$36:$Q$188,16, FALSE)","v":{"$error":"#N/A"}}]
["TRABAJO 2",{"$f":"IF(ISBLANK(+'DATOS SGO'!B43), \"\",'DATOS SGO'!B43)","v":""},1,0,{"$f":"VLOOKUP(B18,'DATOS SGO'!$B$36:$Q$188,16, FALSE)","v":{"$error":"#N/A"}}]
["TRABAJO 2",{"$f":"IF(ISBLANK(+'DATOS SGO'!B44), \"\",'DATOS SGO'!B44)","v":""},1,0,{"$f":"VLOOKUP(B19,'DATOS SGO'!$B$36:$Q$188,16, FALSE)","v":{"$error":"#N/A"}}]
["TRABAJO 2",{"$f":"IF(ISBLANK(+'DATOS SGO'!B45), \"\",'DATOS SGO'!B45)","v":""},1,0,{"$f":"VLOOKUP(B20,'DATOS SGO'!$B$36:$Q$188,16, FALSE)","v":{"$error":"#N/A"}}]
["TRABAJO 2",{"$f":"IF(ISBLANK(+'DATOS SGO'!B46), \"\",'DATOS SGO'!B46)","v":""},1,0,{"$f":"VLOOKUP(B21,'DATOS SGO'!$B$36:$Q$188,16, FALSE)","v":{"$error":"#N/A"}}]
["TRABAJO 2",{"$f":"IF(ISBLANK(+'DATOS SGO'!B47), \"\",'DATOS SGO'!B47)","v":""},1,0,{"$f":"VLOOKUP(B22,'DATOS SGO'!$B$36:$Q$188,16, FALSE)","v":{"$error":"#N/A"}}]
["TRABAJO 2",{"$f":"IF(ISBLANK(+'DATOS SGO'!B48), \"\",'DATOS SGO'!B48)","v":""},1,0,{"$f":"VLOOKUP(B23,'DATOS SGO'!$B$36:$Q$188,16, FALSE)","v":{"$error":"#N/A"}}]
["TRABAJO 2",{"$f":"IF(ISBLANK(+'DATOS SGO'!B49), \"\",'DATOS SGO'!B49)","v":""},1,0,{"$f":"VLOOKUP(B24,'DATOS SGO'!$B$36:$Q$188,16, FALSE)","v":{"$error":"#N/A"}}]
["TRABAJO 2",{"$f":"IF(ISBLANK(+'DATOS SGO'!B50), \"\",'DATOS SGO'!B50)","v":""},1,0,{"$f":"VLOOKUP(B25,'DATOS SGO'!$B$36:$Q$188,16, FALSE)","v":{"$error":"#N/A"}}]
["TRABAJO 2",{"$f":"IF(ISBLANK(+'DATOS SGO'!B51), \"\",'DATOS SGO'!B51)","v":""},1,0,{"$f":"VLOOKUP(B26,'DATOS SGO'!$B$36:$Q$188,16, FALSE)","v":{"$error":"#N/A"}}]
["TRABAJO 2",{"$f":"IF(ISBLANK(+'DATOS SGO'!B52), \"\",'DATOS SGO'!B52)","v":""},1,0,{"$f":"VLOOKUP(B27,'DATOS SGO'!$B$36:$Q$188,16, FALSE)","v":{"$error":"#N/A"}}]
["TRABAJO 2",{"$f":"IF(ISBLANK(+'DATOS SGO'!B53), \"\",'DATOS SGO'!B53)","v":""},1,0,{"$f":"VLOOKUP(B28,'DATOS SGO'!$B$36:$Q$188,16, FALSE)","v":{"$error":"#N/A"}}]
["TRABAJO 2",{"$f":"IF(ISBLANK(+'DATOS SGO'!B54), \"\",'DATOS SGO'!B54)","v":""},1,0,{"$f":"VLOOKUP(B29,'DATOS SGO'!$B$36:$Q$188,16, FALSE)","v":{"$error":"#N/A"}}]
["TRABAJO 2",{"$f":"IF(ISBLANK(+'DATOS SGO'!B55), \"\",'DATOS SGO'!B55)","v":""},1,0,{"$f":"VLOOKUP(B30,'DATOS SGO'!$B$36:$Q$188,16, FALSE)","v":{"$error":"#N/A"}}]
["TRABAJO 2",{"$f":"IF(ISBLANK(+'DATOS SGO'!B56), \"\",'DATOS SGO'!B56)","v":""},1,0,{"$f":"VLOOKUP(B31,'DATOS SGO'!$B$36:$Q$188,16, FALSE)","v":{"$error":"#N/A"}}]
["TRABAJO 2",{"$f":"IF(ISBLANK(+'DATOS SGO'!B57), \"\",'DATOS SGO'!B57)","v":""},1,0,{"$f":"VLOOKUP(B32,'DATOS SGO'!$B$36:$Q$188,16, FALSE)","v":{"$error":"#N/A"}}]
["TRABAJO 2",{"$f":"IF(ISBLANK(+'DATOS SGO'!B58), \"\",'DATOS SGO'!B58)","v":""},1,0,{"$f":"VLOOKUP(B33,'DATOS SGO'!$B$36:$Q$188,16, FALSE)","v":{"$error":"#N/A"}}]
["TRABAJO 2",{"$f":"IF(ISBLANK(+'DATOS SGO'!B59), \"\",'DATOS SGO'!B59)","v":""},1,0,{"$f":"VLOOKUP(B34,'DATOS SGO'!$B$36:$Q$188,16, FALSE)","v":{"$error":"#N/A"}}]
["TRABAJO 2",{"$f":"IF(ISBLANK(+'DATOS SGO'!B60), \"\",'DATOS SGO'!B60)","v":""},1,0,{"$f":"VLOOKUP(B35,'DATOS SGO'!$B$36:$Q$188,16, FALSE)","v":{"$error":"#N/A"}}]
["TRABAJO 2",{"$f":"IF(ISBLANK(+'DATOS SGO'!B61), \"\",'DATOS SGO'!B61)","v":""},1,0,{"$f":"VLOOKUP(B36,'DATOS SGO'!$B$36:$Q$188,16, FALSE)","v":{"$error":"#N/A"}}]
["TRABAJO 2",{"$f":"IF(ISBLANK(+'DATOS SGO'!B62), \"\",'DATOS SGO'!B62)","v":""},1,0,{"$f":"VLOOKUP(B37,'DATOS SGO'!$B$36:$Q$188,16, FALSE)","v":{"$error":"#N/A"}}]
["TRABAJO 2",{"$f":"IF(ISBLANK(+'DATOS SGO'!B63), \"\",'DATOS SGO'!B63)","v":""},1,0,{"$f":"VLOOKUP(B38,'DATOS SGO'!$B$36:$Q$188,16, FALSE)","v":{"$error":"#N/A"}}]
["TRABAJO 2",{"$f":"IF(ISBLANK(+'DATOS SGO'!B64), \"\",'DATOS SGO'!B64)","v":""},1,0,{"$f":"VLOOKUP(B39,'DATOS SGO'!$B$36:$Q$188,16, FALSE)","v":{"$error":"#N/A"}}]
["TRABAJO 2",{"$f":"IF(ISBLANK(+'DATOS SGO'!B65), \"\",'DATOS SGO'!B65)","v":""},1,0,{"$f":"VLOOKUP(B40,'DATOS SGO'!$B$36:$Q$188,16, FALSE)","v":{"$error":"#N/A"}}]
["TRABAJO 2",{"$f":"IF(ISBLANK(+'DATOS SGO'!B66), \"\",'DATOS SGO'!B66)","v":""},1,0,{"$f":"VLOOKUP(B41,'DATOS SGO'!$B$36:$Q$188,16, FALSE)","v":{"$error":"#N/A"}}]
["TRABAJO 2",{"$f":"IF(ISBLANK(+'DATOS SGO'!B67), \"\",'DATOS SGO'!B67)","v":""},1,0,{"$f":"VLOOKUP(B42,'DATOS SGO'!$B$36:$Q$188,16, FALSE)","v":{"$error":"#N/A"}}]
["TRABAJO 2",{"$f":"IF(ISBLANK(+'DATOS SGO'!B68), \"\",'DATOS SGO'!B68)","v":""},1,0,{"$f":"VLOOKUP(B43,'DATOS SGO'!$B$36:$Q$188,16, FALSE)","v":{"$error":"#N/A"}}]
["TRABAJO 2",{"$f":"IF(ISBLANK(+'DATOS SGO'!B69), \"\",'DATOS SGO'!B69)","v":""},1,0,{"$f":"VLOOKUP(B44,'DATOS SGO'!$B$36:$Q$188,16, FALSE)","v":{"$error":"#N/A"}}]
["TRABAJO 2",{"$f":"IF(ISBLANK(+'DATOS SGO'!B70), \"\",'DATOS SGO'!B70)","v":""},1,0,{"$f":"VLOOKUP(B45,'DATOS SGO'!$B$36:$Q$188,16, FALSE)","v":{"$error":"#N/A"}}]
["TRABAJO 2",{"$f":"IF(ISBLANK(+'DATOS SGO'!B71), \"\",'DATOS SGO'!B71)","v":""},1,0,{"$f":"VLOOKUP(B46,'DATOS SGO'!$B$36:$Q$188,16, FALSE)","v":{"$error":"#N/A"}}]
["TRABAJO 2",{"$f":"IF(ISBLANK(+'DATOS SGO'!B72), \"\",'DATOS SGO'!B72)","v":""},1,0,{"$f":"VLOOKUP(B47,'DATOS SGO'!$B$36:$Q$188,16, FALSE)","v":{"$error":"#N/A"}}]
["TRABAJO 2",{"$f":"IF(ISBLANK(+'DATOS SGO'!B73), \"\",'DATOS SGO'!B73)","v":""},1,0,{"$f":"VLOOKUP(B48,'DATOS SGO'!$B$36:$Q$188,16, FALSE)","v":{"$error":"#N/A"}}]
["TRABAJO 2",{"$f":"IF(ISBLANK(+'DATOS SGO'!B74), \"\",'DATOS SGO'!B74)","v":""},1,0,{"$f":"VLOOKUP(B49,'DATOS SGO'!$B$36:$Q$188,16, FALSE)","v":{"$error":"#N/A"}}]
["TRABAJO 2",{"$f":"IF(ISBLANK(+'DATOS SGO'!B75), \"\",'DATOS SGO'!B75)","v":""},1,0,{"$f":"VLOOKUP(B50,'DATOS SGO'!$B$36:$Q$188,16, FALSE)","v":{"$error":"#N/A"}}]
["TRABAJO 2",{"$f":"IF(ISBLANK(+'DATOS SGO'!B76), \"\",'DATOS SGO'!B76)","v":""},1,0,{"$f":"VLOOKUP(B51,'DATOS SGO'!$B$36:$Q$188,16, FALSE)","v":{"$error":"#N/A"}}]
["TRABAJO 2",{"$f":"IF(ISBLANK(+'DATOS SGO'!B77), \"\",'DATOS SGO'!B77)","v":""},1,{"$f":"IF(ISNUMBER(E52), ROUND(E52,2),0)","v":0},{"$f":"VLOOKUP(B52,'DATOS SGO'!$B$36:$Q$188,16, FALSE)","v":{"$error":"#N/A"}}]
["TRABAJO 2",{"$f":"IF(ISBLANK(+'DATOS SGO'!B78), \"\",'DATOS SGO'!B78)","v":""},1,{"$f":"IF(ISNUMBER(E53), ROUND(E53,2),0)","v":0},{"$f":"VLOOKUP(B53,'DATOS SGO'!$B$36:$Q$188,16, FALSE)","v":{"$error":"#N/A"}}]
["TRABAJO 2",{"$f":"IF(ISBLANK(+'DATOS SGO'!B79), \"\",'DATOS SGO'!B79)","v":""},1,0,{"$f":"VLOOKUP(B54,'DATOS SGO'!$B$36:$Q$188,16, FALSE)","v":{"$error":"#N/A"}}]
["TRABAJO 2",{"$f":"IF(ISBLANK(+'DATOS SGO'!B80), \"\",'DATOS SGO'!B80)","v":""},1,0,{"$f":"VLOOKUP(B55,'DATOS SGO'!$B$36:$Q$188,16, FALSE)","v":{"$error":"#N/A"}}]
["TRABAJO 2",{"$f":"IF(ISBLANK(+'DATOS SGO'!B81), \"\",'DATOS SGO'!B81)","v":""},1,0,{"$f":"VLOOKUP(B56,'DATOS SGO'!$B$36:$Q$188,16, FALSE)","v":{"$error":"#N/A"}}]
["TRABAJO 2",{"$f":"IF(ISBLANK(+'DATOS SGO'!B82), \"\",'DATOS SGO'!B82)","v":""},1,0,{"$f":"VLOOKUP(B57,'DATOS SGO'!$B$36:$Q$188,16, FALSE)","v":{"$error":"#N/A"}}]
["TRABAJO 2",{"$f":"IF(ISBLANK(+'DATOS SGO'!B83), \"\",'DATOS SGO'!B83)","v":""},1,0,{"$f":"VLOOKUP(B58,'DATOS SGO'!$B$36:$Q$188,16, FALSE)","v":{"$error":"#N/A"}}]
["TRABAJO 2",{"$f":"IF(ISBLANK(+'DATOS SGO'!B84), \"\",'DATOS SGO'!B84)","v":""},1,0,{"$f":"VLOOKUP(B59,'DATOS SGO'!$B$36:$Q$188,16, FALSE)","v":{"$error":"#N/A"}}]
["TRABAJO 2",{"$f":"IF(ISBLANK(+'DATOS SGO'!B85), \"\",'DATOS SGO'!B85)","v":""},1,0,{"$f":"VLOOKUP(B60,'DATOS SGO'!$B$36:$Q$188,16, FALSE)","v":{"$error":"#N/A"}}]
["TRABAJO 2",{"$f":"IF(ISBLANK(+'DATOS SGO'!B86), \"\",'DATOS SGO'!B86)","v":""},1,0,{"$f":"VLOOKUP(B61,'DATOS SGO'!$B$36:$Q$188,16, FALSE)","v":{"$error":"#N/A"}}]
["TRABAJO 2",{"$f":"IF(ISBLANK(+'DATOS SGO'!B87), \"\",'DATOS SGO'!B87)","v":""},1,0,{"$f":"VLOOKUP(B62,'DATOS SGO'!$B$36:$Q$188,16, FALSE)","v":{"$error":"#N/A"}}]
["TRABAJO 2",{"$f":"IF(ISBLANK(+'DATOS SGO'!B88), \"\",'DATOS SGO'!B88)","v":""},1,0,{"$f":"VLOOKUP(B63,'DATOS SGO'!$B$36:$Q$188,16, FALSE)","v":{"$error":"#N/A"}}]
["TRABAJO 2",{"$f":"IF(ISBLANK(+'DATOS SGO'!B89), \"\",'DATOS SGO'!B89)","v":""},1,0,{"$f":"VLOOKUP(B64,'DATOS SGO'!$B$36:$Q$188,16, FALSE)","v":{"$error":"#N/A"}}]
["TRABAJO 2",{"$f":"IF(ISBLANK(+'DATOS SGO'!B90), \"\",'DATOS SGO'!B90)","v":""},1,0,{"$f":"VLOOKUP(B65,'DATOS SGO'!$B$36:$Q$188,16, FALSE)","v":{"$error":"#N/A"}}]
["TRABAJO 2",{"$f":"IF(ISBLANK(+'DATOS SGO'!B91), \"\",'DATOS SGO'!B91)","v":""},1,0,{"$f":"VLOOKUP(B66,'DATOS SGO'!$B$36:$Q$188,16, FALSE)","v":{"$error":"#N/A"}}]
["TRABAJO 2",{"$f":"IF(ISBLANK(+'DATOS SGO'!B92), \"\",'DATOS SGO'!B92)","v":""},1,0,{"$f":"VLOOKUP(B67,'DATOS SGO'!$B$36:$Q$188,16, FALSE)","v":{"$error":"#N/A"}}]
["TRABAJO 2",{"$f":"IF(ISBLANK(+'DATOS SGO'!B93), \"\",'DATOS SGO'!B93)","v":""},1,0,{"$f":"VLOOKUP(B68,'DATOS SGO'!$B$36:$Q$188,16, FALSE)","v":{"$error":"#N/A"}}]
["TRABAJO 2",{"$f":"IF(ISBLANK(+'DATOS SGO'!B94), \"\",'DATOS SGO'!B94)","v":""},1,0,{"$f":"VLOOKUP(B69,'DATOS SGO'!$B$36:$Q$188,16, FALSE)","v":{"$error":"#N/A"}}]
["TRABAJO 2",{"$f":"IF(ISBLANK(+'DATOS SGO'!B95), \"\",'DATOS SGO'!B95)","v":""},1,0,{"$f":"VLOOKUP(B70,'DATOS SGO'!$B$36:$Q$188,16, FALSE)","v":{"$error":"#N/A"}}]
["TRABAJO 2",{"$f":"IF(ISBLANK(+'DATOS SGO'!B96), \"\",'DATOS SGO'!B96)","v":""},1,0,{"$f":"VLOOKUP(B71,'DATOS SGO'!$B$36:$Q$188,16, FALSE)","v":{"$error":"#N/A"}}]
["TRABAJO 2",{"$f":"IF(ISBLANK(+'DATOS SGO'!B97), \"\",'DATOS SGO'!B97)","v":""},1,0,{"$f":"VLOOKUP(B72,'DATOS SGO'!$B$36:$Q$188,16, FALSE)","v":{"$error":"#N/A"}}]
["TRABAJO 2",{"$f":"IF(ISBLANK(+'DATOS SGO'!B98), \"\",'DATOS SGO'!B98)","v":""},1,0,{"$f":"VLOOKUP(B73,'DATOS SGO'!$B$36:$Q$188,16, FALSE)","v":{"$error":"#N/A"}}]
["TRABAJO 2",{"$f":"IF(ISBLANK(+'DATOS SGO'!B99), \"\",'DATOS SGO'!B99)","v":""},1,0,{"$f":"VLOOKUP(B74,'DATOS SGO'!$B$36:$Q$188,16, FALSE)","v":{"$error":"#N/A"}}]
["TRABAJO 2",{"$f":"IF(ISBLANK(+'DATOS SGO'!B100), \"\",'DATOS SGO'!B100)","v":""},1,0,{"$f":"VLOOKUP(B75,'DATOS SGO'!$B$36:$Q$188,16, FALSE)","v":{"$error":"#N/A"}}]
["TRABAJO 2",{"$f":"IF(ISBLANK(+'DATOS SGO'!B101), \"\",'DATOS SGO'!B101)","v":""},1,0,{"$f":"VLOOKUP(B76,'DATOS SGO'!$B$36:$Q$188,16, FALSE)","v":{"$error":"#N/A"}}]
["TRABAJO 2",{"$f":"IF(ISBLANK(+'DATOS SGO'!B102), \"\",'DATOS SGO'!B102)","v":""},1,0,{"$f":"VLOOKUP(B77,'DATOS SGO'!$B$36:$Q$188,16, FALSE)","v":{"$error":"#N/A"}}]
["TRABAJO 2",{"$f":"IF(ISBLANK(+'DATOS SGO'!B103), \"\",'DATOS SGO'!B103)","v":""},1,0,{"$f":"VLOOKUP(B78,'DATOS SGO'!$B$36:$Q$188,16, FALSE)","v":{"$error":"#N/A"}}]
["TRABAJO 2",{"$f":"IF(ISBLANK(+'DATOS SGO'!B104), \"\",'DATOS SGO'!B104)","v":""},1,0,{"$f":"VLOOKUP(B79,'DATOS SGO'!$B$36:$Q$188,16, FALSE)","v":{"$error":"#N/A"}}]
["TRABAJO 2",{"$f":"IF(ISBLANK(+'DATOS SGO'!B105), \"\",'DATOS SGO'!B105)","v":""},1,0,{"$f":"VLOOKUP(B80,'DATOS SGO'!$B$36:$Q$188,16, FALSE)","v":{"$error":"#N/A"}}]
["TRABAJO 2",{"$f":"IF(ISBLANK(+'DATOS SGO'!B106), \"\",'DATOS SGO'!B106)","v":""},1,0,{"$f":"VLOOKUP(B81,'DATOS SGO'!$B$36:$Q$188,16, FALSE)","v":{"$error":"#N/A"}}]
["TRABAJO 2",{"$f":"IF(ISBLANK(+'DATOS SGO'!B107), \"\",'DATOS SGO'!B107)","v":""},1,0,{"$f":"VLOOKUP(B82,'DATOS SGO'!$B$36:$Q$188,16, FALSE)","v":{"$error":"#N/A"}}]
["TRABAJO 2",{"$f":"IF(ISBLANK(+'DATOS SGO'!B108), \"\",'DATOS SGO'!B108)","v":""},1,0,{"$f":"VLOOKUP(B83,'DATOS SGO'!$B$36:$Q$188,16, FALSE)","v":{"$error":"#N/A"}}]
["TRABAJO 2",{"$f":"IF(ISBLANK(+'DATOS SGO'!B109), \"\",'DATOS SGO'!B109)","v":""},1,0,{"$f":"VLOOKUP(B84,'DATOS SGO'!$B$36:$Q$188,16, FALSE)","v":{"$error":"#N/A"}}]
["TRABAJO 2",{"$f":"IF(ISBLANK(+'DATOS SGO'!B110), \"\",'DATOS SGO'!B110)","v":""},1,0,{"$f":"VLOOKUP(B85,'DATOS SGO'!$B$36:$Q$188,16, FALSE)","v":{"$error":"#N/A"}}]
["TRABAJO 2",{"$f":"IF(ISBLANK(+'DATOS SGO'!B111), \"\",'DATOS SGO'!B111)","v":""},1,0,{"$f":"VLOOKUP(B86,'DATOS SGO'!$B$36:$Q$188,16, FALSE)","v":{"$error":"#N/A"}}]
["TRABAJO 2",{"$f":"IF(ISBLANK(+'DATOS SGO'!B112), \"\",'DATOS SGO'!B112)","v":""},1,0,{"$f":"VLOOKUP(B87,'DATOS SGO'!$B$36:$Q$188,16, FALSE)","v":{"$error":"#N/A"}}]
["TRABAJO 2",{"$f":"IF(ISBLANK(+'DATOS SGO'!B113), \"\",'DATOS SGO'!B113)","v":""},1,0,{"$f":"VLOOKUP(B88,'DATOS SGO'!$B$36:$Q$188,16, FALSE)","v":{"$error":"#N/A"}}]
["TRABAJO 2",{"$f":"IF(ISBLANK(+'DATOS SGO'!B114), \"\",'DATOS SGO'!B114)","v":""},1,0,{"$f":"VLOOKUP(B89,'DATOS SGO'!$B$36:$Q$188,16, FALSE)","v":{"$error":"#N/A"}}]
["TRABAJO 2",{"$f":"IF(ISBLANK(+'DATOS SGO'!B115), \"\",'DATOS SGO'!B115)","v":""},1,0,{"$f":"VLOOKUP(B90,'DATOS SGO'!$B$36:$Q$188,16, FALSE)","v":{"$error":"#N/A"}}]
["TRABAJO 2",{"$f":"IF(ISBLANK(+'DATOS SGO'!B116), \"\",'DATOS SGO'!B116)","v":""},1,0,{"$f":"VLOOKUP(B91,'DATOS SGO'!$B$36:$Q$188,16, FALSE)","v":{"$error":"#N/A"}}]
["TRABAJO 2",{"$f":"IF(ISBLANK(+'DATOS SGO'!B117), \"\",'DATOS SGO'!B117)","v":""},1,0,{"$f":"VLOOKUP(B92,'DATOS SGO'!$B$36:$Q$188,16, FALSE)","v":{"$error":"#N/A"}}]
["TRABAJO 2",{"$f":"IF(ISBLANK(+'DATOS SGO'!B118), \"\",'DATOS SGO'!B118)","v":""},1,{"$f":"IF(ISNUMBER(E93), ROUND(E93,2),0)","v":0},{"$f":"VLOOKUP(B93,'DATOS SGO'!$B$36:$Q$188,16, FALSE)","v":{"$error":"#N/A"}}]
["TRABAJO 2",{"$f":"IF(ISBLANK(+'DATOS SGO'!B119), \"\",'DATOS SGO'!B119)","v":""},1,0,{"$f":"VLOOKUP(B94,'DATOS SGO'!$B$36:$Q$188,16, FALSE)","v":{"$error":"#N/A"}}]
["TRABAJO 2",{"$f":"IF(ISBLANK(+'DATOS SGO'!B120), \"\",'DATOS SGO'!B120)","v":""},1,0,{"$f":"VLOOKUP(B95,'DATOS SGO'!$B$36:$Q$188,16, FALSE)","v":{"$error":"#N/A"}}]
["TRABAJO 2",{"$f":"IF(ISBLANK(+'DATOS SGO'!B121), \"\",'DATOS SGO'!B121)","v":""},1,0,{"$f":"VLOOKUP(B96,'DATOS SGO'!$B$36:$Q$188,16, FALSE)","v":{"$error":"#N/A"}}]
["TRABAJO 2",{"$f":"IF(ISBLANK(+'DATOS SGO'!B122), \"\",'DATOS SGO'!B122)","v":""},1,0,{"$f":"VLOOKUP(B97,'DATOS SGO'!$B$36:$Q$188,16, FALSE)","v":{"$error":"#N/A"}}]
["TRABAJO 2",{"$f":"IF(ISBLANK(+'DATOS SGO'!B193), \"\",'DATOS SGO'!B193)","v":""},1,0,{"$f":"VLOOKUP(B98,'DATOS SGO'!$B$36:$Q$188,16, FALSE)","v":{"$error":"#N/A"}}]
["TRABAJO 2",{"$f":"IF(ISBLANK(+'DATOS SGO'!B194), \"\",'DATOS SGO'!B194)","v":""},1,0,{"$f":"VLOOKUP(B99,'DATOS SGO'!$B$36:$Q$188,16, FALSE)","v":{"$error":"#N/A"}}]
["TRABAJO 2",{"$f":"IF(ISBLANK(+'DATOS SGO'!B195), \"\",'DATOS SGO'!B195)","v":""},1,0,{"$f":"VLOOKUP(B100,'DATOS SGO'!$B$36:$Q$188,16, FALSE)","v":{"$error":"#N/A"}}]
["TRABAJO 2",{"$f":"IF(ISBLANK(+'DATOS SGO'!B196), \"\",'DATOS SGO'!B196)","v":""},1,0,{"$f":"VLOOKUP(B101,'DATOS SGO'!$B$36:$Q$188,16, FALSE)","v":{"$error":"#N/A"}}]
["TRABAJO 2",{"$f":"IF(ISBLANK(+'DATOS SGO'!B197), \"\",'DATOS SGO'!B197)","v":""},1,0,{"$f":"VLOOKUP(B102,'DATOS SGO'!$B$36:$Q$188,16, FALSE)","v":{"$error":"#N/A"}}]
["TRABAJO 2",{"$f":"IF(ISBLANK(+'DATOS SGO'!B198), \"\",'DATOS SGO'!B198)","v":""},1,0,{"$f":"VLOOKUP(B103,'DATOS SGO'!$B$36:$Q$188,16, FALSE)","v":{"$error":"#N/A"}}]
["TRABAJO 2",{"$f":"IF(ISBLANK(+'DATOS SGO'!B199), \"\",'DATOS SGO'!B199)","v":""},1,0,{"$f":"VLOOKUP(B104,'DATOS SGO'!$B$36:$Q$188,16, FALSE)","v":{"$error":"#N/A"}}]
["TRABAJO 2",{"$f":"IF(ISBLANK(+'DATOS SGO'!B200), \"\",'DATOS SGO'!B200)","v":""},1,0,{"$f":"VLOOKUP(B105,'DATOS SGO'!$B$36:$Q$188,16, FALSE)","v":{"$error":"#N/A"}}]
["TRABAJO 2",{"$f":"IF(ISBLANK(+'DATOS SGO'!B201), \"\",'DATOS SGO'!B201)","v":""},1,0,{"$f":"VLOOKUP(B106,'DATOS SGO'!$B$36:$Q$188,16, FALSE)","v":{"$error":"#N/A"}}]
["TRABAJO 2",{"$f":"IF(ISBLANK(+'DATOS SGO'!B202), \"\",'DATOS SGO'!B202)","v":""},1,0,{"$f":"VLOOKUP(B107,'DATOS SGO'!$B$36:$Q$188,16, FALSE)","v":{"$error":"#N/A"}}]
["TRABAJO 2",{"$f":"IF(ISBLANK(+'DATOS SGO'!B203), \"\",'DATOS SGO'!B203)","v":""},1,0,{"$f":"VLOOKUP(B108,'DATOS SGO'!$B$36:$Q$188,16, FALSE)","v":{"$error":"#N/A"}}]
["TRABAJO 2",{"$f":"IF(ISBLANK(+'DATOS SGO'!B204), \"\",'DATOS SGO'!B204)","v":""},1,0,{"$f":"VLOOKUP(B109,'DATOS SGO'!$B$36:$Q$188,16, FALSE)","v":{"$error":"#N/A"}}]
["TRABAJO 2",{"$f":"IF(ISBLANK(+'DATOS SGO'!B205), \"\",'DATOS SGO'!B205)","v":""},1,0,{"$f":"VLOOKUP(B110,'DATOS SGO'!$B$36:$Q$188,16, FALSE)","v":{"$error":"#N/A"}}]
["TRABAJO 2",{"$f":"IF(ISBLANK(+'DATOS SGO'!B206), \"\",'DATOS SGO'!B206)","v":""},1,0,{"$f":"VLOOKUP(B111,'DATOS SGO'!$B$36:$Q$188,16, FALSE)","v":{"$error":"#N/A"}}]
["TRABAJO 2",{"$f":"IF(ISBLANK(+'DATOS SGO'!B207), \"\",'DATOS SGO'!B207)","v":""},1,0,{"$f":"VLOOKUP(B112,'DATOS SGO'!$B$36:$Q$188,16, FALSE)","v":{"$error":"#N/A"}}]
["TRABAJO 2",{"$f":"IF(ISBLANK(+'DATOS SGO'!B208), \"\",'DATOS SGO'!B208)","v":""},1,0,{"$f":"VLOOKUP(B113,'DATOS SGO'!$B$36:$Q$188,16, FALSE)","v":{"$error":"#N/A"}}]
["TRABAJO 2",{"$f":"IF(ISBLANK(+'DATOS SGO'!B209), \"\",'DATOS SGO'!B209)","v":""},1,0,{"$f":"VLOOKUP(B114,'DATOS SGO'!$B$36:$Q$188,16, FALSE)","v":{"$error":"#N/A"}}]
["TRABAJO 2",{"$f":"IF(ISBLANK(+'DATOS SGO'!B210), \"\",'DATOS SGO'!B210)","v":""},1,0,{"$f":"VLOOKUP(B115,'DATOS SGO'!$B$36:$Q$188,16, FALSE)","v":{"$error":"#N/A"}}]
["TRABAJO 2",{"$f":"IF(ISBLANK(+'DATOS SGO'!B211), \"\",'DATOS SGO'!B211)","v":""},1,0,{"$f":"VLOOKUP(B116,'DATOS SGO'!$B$36:$Q$188,16, FALSE)","v":{"$error":"#N/A"}}]
["TRABAJO 2",{"$f":"IF(ISBLANK(+'DATOS SGO'!B212), \"\",'DATOS SGO'!B212)","v":""},1,0,{"$f":"VLOOKUP(B117,'DATOS SGO'!$B$36:$Q$188,16, FALSE)","v":{"$error":"#N/A"}}]
["TRABAJO 2",{"$f":"IF(ISBLANK(+'DATOS SGO'!B213), \"\",'DATOS SGO'!B213)","v":""},1,0,{"$f":"VLOOKUP(B118,'DATOS SGO'!$B$36:$Q$188,16, FALSE)","v":{"$error":"#N/A"}}]
["TRABAJO 2",{"$f":"IF(ISBLANK(+'DATOS SGO'!B214), \"\",'DATOS SGO'!B214)","v":""},1,0,{"$f":"VLOOKUP(B119,'DATOS SGO'!$B$36:$Q$188,16, FALSE)","v":{"$error":"#N/A"}}]
["TRABAJO 2",{"$f":"IF(ISBLANK(+'DATOS SGO'!B215), \"\",'DATOS SGO'!B215)","v":""},1,0,{"$f":"VLOOKUP(B120,'DATOS SGO'!$B$36:$Q$188,16, FALSE)","v":{"$error":"#N/A"}}]
["TRABAJO 2",{"$f":"IF(ISBLANK(+'DATOS SGO'!B216), \"\",'DATOS SGO'!B216)","v":""},1,0,{"$f":"VLOOKUP(B121,'DATOS SGO'!$B$36:$Q$188,16, FALSE)","v":{"$error":"#N/A"}}]
["TRABAJO 2",{"$f":"IF(ISBLANK(+'DATOS SGO'!B217), \"\",'DATOS SGO'!B217)","v":""},1,0,{"$f":"VLOOKUP(B122,'DATOS SGO'!$B$36:$Q$188,16, FALSE)","v":{"$error":"#N/A"}}]
["TRABAJO 2",{"$f":"IF(ISBLANK(+'DATOS SGO'!B218), \"\",'DATOS SGO'!B218)","v":""},1,0,{"$f":"VLOOKUP(B123,'DATOS SGO'!$B$36:$Q$188,16, FALSE)","v":{"$error":"#N/A"}}]
["TRABAJO 2",{"$f":"IF(ISBLANK(+'DATOS SGO'!B219), \"\",'DATOS SGO'!B219)","v":""},1,0,{"$f":"VLOOKUP(B124,'DATOS SGO'!$B$36:$Q$188,16, FALSE)","v":{"$error":"#N/A"}}]
["TRABAJO 2",{"$f":"IF(ISBLANK(+'DATOS SGO'!B220), \"\",'DATOS SGO'!B220)","v":""},1,0,{"$f":"VLOOKUP(B125,'DATOS SGO'!$B$36:$Q$188,16, FALSE)","v":{"$error":"#N/A"}}]
["TRABAJO 2",{"$f":"IF(ISBLANK(+'DATOS SGO'!B221), \"\",'DATOS SGO'!B221)","v":""},1,0,{"$f":"VLOOKUP(B126,'DATOS SGO'!$B$36:$Q$188,16, FALSE)","v":{"$error":"#N/A"}}]

{"sheet":"Hoja1","index":8,"n_rows":0,"n_cols":0,"rows_kept":0,"cut":false,"hidden":false,"merged":[]}