{"text_format":"1","workbook":"xlsx","n_sheets":9,"sheets":["INSTRUCTIVO","CARATULA","PRESUPUESTO","CRONOGRAMA","VERIFICACION","VERIFICACION INICIAL","COMPARACIÓN INE","PRECIOS UNITARIOS (PRESTAMO)","PGO ESCRITURA CRONO"],"not_rendered":{"charts":0,"images":14,"macros":1,"external_links":0,"defined_names":11,"comments":3,"pivot_tables":0},"unopened":[],"bounds":{"document_bytes":16777216,"sheet_cells":100000,"rows_first":2000,"rows_last":500,"rows_between":2000,"halvings":0,"cell_chars":16384,"cell_head_chars":4096},"cells_cut":0,"cells_raw":0,"read":"whole","date_system":"1900"}

{"sheet":"INSTRUCTIVO","index":0,"n_rows":86,"n_cols":4,"rows_kept":86,"cut":false,"hidden":false,"merged":[[84,3,84,10]]}
[]
[]
[]
[]
[]
[]
[]
[]
[]
[]
[null,"PRESUPUESTO Y CRONOGRAMAS DE COOPERATIVAS"]
[]
[]
[]
[]
[]
[]
[]
[]
[]
[]
[]
[]
[]
[]
[]
[]
[]
[]
[]
[]
[]
[]
[]
[]
[null,"INSTRUCTIVO"]
[]
[]
[]
[]
[]
[]
[]
[]
[]
[]
[]
[]
[]
[]
[]
[]
[]
[]
[]
[]
[]
[]
[]
[]
[]
[]
[]
[]
[]
[]
[]
[]
[]
[]
[]
[]
[]
[]
[]
[]
[]
[]
[]
[]
[]
[null,"Control de versiones"]
[null,"V.01","2024-07-29","Creación de planilla"]
[null,"V.02","2025-02-04","Correcciones de formato"]
[null,"V.03","2025-03-10","Se modifican funcionamiento interno. Se agregan y modifican rubros de presupuesto por ejemplo movimentos de suelos y muros de contención en estructura e infraestructura. Se modifica funcionamiento de cronograma (Ver punto 3 de instructivo)."]
[null,"V.04","2025-04-01","Se agregan los rubros Desmonte a terraplén, Desmonte a retiro y Rellenos con aportes en Infraestructura. "]

{"sheet":"CARATULA","index":1,"n_rows":53,"n_cols":16,"rows_kept":53,"cut":false,"hidden":false,"merged":[[27,1,27,5],[6,1,6,2],[7,1,7,2],[6,3,6,6],[7,3,7,6],[13,1,13,2],[8,1,8,2],[8,3,8,6],[17,3,17,5],[18,3,18,5],[19,3,19,5],[15,4,15,6],[13,4,13,6],[14,4,14,6],[14,1,14,2],[15,1,15,2],[42,6,50,6],[52,1,59,6],[20,3,20,5],[22,1,22,5],[35,2,35,5],[36,2,36,5],[37,2,37,5],[38,2,38,5],[33,2,33,5],[34,2,34,5],[23,1,23,5],[21,1,21,5],[28,1,28,5],[29,1,29,5],[25,1,25,5],[26,1,26,5]]}
[]
[]
[]
[]
[null,null,null,null,null,null,null,null,null,null,null,null,null,"--"]
[null,null,null,null,null,null,null,null,null,null,null,null,null,"ANTEPROYECTO"]
[null,"FECHA:",null,null,null,null,null,null,null,null,null,null,null,"ANTEPROYECTO POR DECLARATORIA"]
[null,"ETAPA:",null,null,null,null,null,null,null,null,null,null,null,"PROYECTO  DEFINITIVO"]
[null,"SISTEMA CONSTRUCTIVO:",null,"TRADICIONAL",null,null,null,null,null,null,null,null,null,"PROYECTO AJUSTADO PARA ESCRITURACIÓN"]
[]
[null,null,null,null,null,null,null,null,null,null,null,null,null,null,null,"--"]
[null,"DATOS GENERALES",null,null,null,null,null,null,null,null,null,null,null,null,null,{"$f":"+'VERIFICACION INICIAL'!T5","v":"TRADICIONAL"}]
[null,null,null,null,null,null,null,null,null,null,null,null,null,null,null,{"$f":"+'VERIFICACION INICIAL'!T7","v":"DEFLORENCIA - DOVILAND"}]
[null,"PROPUESTA",null,"REGISTRO",null,null,null,null,null,null,null,null,null,null,null,{"$f":"+'VERIFICACION INICIAL'!T8","v":"SPM - MONTFRIO - 1 NIVEL"}]
[null,"NOMBRE",null,null,null,null,null,null,null,null,null,null,null,null,null,{"$f":"+'VERIFICACION INICIAL'!T9","v":"SPM - MONTFRIO - 2 NIVELES"}]
[null,"IAT",null,null,null,null,null,null,null,null,null,null,null,null,null,{"$f":"+'VERIFICACION INICIAL'!T10","v":"GIW - GREEN INTELIGENT WALL"}]
[null,null,null,null,null,null,null,null,null,null,null,null,null,null,null,{"$f":"+'VERIFICACION INICIAL'!T11","v":"RBS - ROYAL BUILDING SYSTEM"}]
[null,"CANTIDAD DE VIVIENDAS",null,"2 DORM.",null,null,null,null,null,null,null,null,null,null,null,{"$f":"+'VERIFICACION INICIAL'!T12","v":"ÑANDE"}]
[null,null,null,"3 DORM.",null,null,null,null,null,null,null,null,null,null,null,{"$f":"+'VERIFICACION INICIAL'!T13","v":"EXACTA BUILDING PANEL SYSTEM · EXACTA"}]
[null,null,null,"4 DORM.",null,null,null,null,null,null,null,null,null,null,null,{"$f":"+'VERIFICACION INICIAL'!T17","v":"ETERNOPANEL - COINLAR S.A"}]
[null,null,null,"TOTAL",null,null,{"$f":"SUM(G18:G20)","v":0},null,null,null,null,null,null,null,null,{"$f":"+'VERIFICACION INICIAL'!T18","v":"SISTEMA    CONSTRUCTIVO    VOLFER\n01 - CIGROL S.A"}]
[null,"SUM",null,null,null,null,null,null,null,null,null,null,null,null,null,{"$f":"+'VERIFICACION INICIAL'!T19","v":"EXACTA HOUSING  PAN EL SYSTEM· EXACTA  S.A.S"}]
[null,"CANTIDAD DE GARAGES CON PRESTAMO",null,null,null,null,null,null,null,null,null,null,null,null,null,{"$f":"+'VERIFICACION INICIAL'!T20","v":"CASA ALVA - KEIMER S.A"}]
[null,"CANTIDAD DE VIVIENDAS RECICLADAS",null,null,null,null,null,null,null,null,null,null,null,null,null,{"$f":"+'VERIFICACION INICIAL'!T21","v":"SINGULAR HOUSING  FRAY  BENTOS\nS.R.L"}]
[null,null,null,null,null,null,null,null,null,null,null,null,null,"--",null,{"$f":"+'VERIFICACION INICIAL'!T22","v":"U PANEL S.A.S."}]
[null,"PRESTAMO (1)",null,null,null,null,null,null,null,null,null,null,null,"PMV",null,{"$f":"+'VERIFICACION INICIAL'!T23","v":"ENKEL GROUP (INVERCINCO S.A.)"}]
[null,"SUBSIDIO (2)",null,null,null,null,null,null,null,null,null,null,null,"REGISTRO",null,{"$f":"+'VERIFICACION INICIAL'!T24","v":"CIGROL S.A. - SC VOLFER SMPIR"}]
[null,"APORTE (3)",null,null,null,null,null,null,null,null,null,null,null,null,null,{"$f":"+'VERIFICACION INICIAL'!T25","v":"IMECON  S.C.EFICIENTES  SRL"}]
[null,"VALOR DE TASACIÒN (1)+(2)+(3)",null,null,null,null,{"$f":"G26+G27+G28","v":0},null,null,null,null,null,null,null,null,{"$f":"+'VERIFICACION INICIAL'!T26","v":"SPM MONTFRIO LTDA"}]
[null,"% RETENCIÓN (4)",null,null,null,null,null,null,null,null,null,null,null,null,null,{"$f":"+'VERIFICACION INICIAL'!T27","v":"WOOD FRAME FRANK CONSTRUCCIONES"}]
[null,null,null,null,null,null,null,null,null,null,null,null,null,"SI",null,{"$f":"+'VERIFICACION INICIAL'!T28","v":"STILER S.A. PANEL E URU"}]
[null,null,null,null,null,null,null,null,null,null,null,null,null,null,null,{"$f":"+'VERIFICACION INICIAL'!T29","v":"ICI IMPORT COMPANY SRL"}]
[null,"COSTOS FIJOS",null,null,null,null,null,null,null,null,null,null,null,null,null,{"$f":"+'VERIFICACION INICIAL'!T30","v":"HORMIPRE SRL"}]
[null,null,"TOTAL COSTOS FIJOS Y RETENCIÓN",null,null,null,{"$f":"SUM(G36:G39)","v":0},null,null,null,null,null,null,null,null,{"$f":"+'VERIFICACION INICIAL'!T31","v":"SCHMIDT HAUS  PREMOLDEADOS S.A"}]
[null,"UU.CC.","DESCRIPCIÓN UU.CC.",null,null,null,"INVERSIÓN",null,null,null,null,null,null,null,null,{"$f":"+'VERIFICACION INICIAL'!T32","v":"IBERO STEEL URUGUAY S.A.S."}]
[null,"A00001","TERRENO",null,null,null,null,null,null,null,null,null,null,null,null,{"$f":"+'VERIFICACION INICIAL'!T34","v":"PANEL BK BUNKRA DOMO"}]
[null,"CAC001","HONORARIOS IAT a la escrituración",null,null,null,null,null,null,null,null,null,null,null,null,{"$f":"+'VERIFICACION INICIAL'!T35","v":"CASA SHAMA"}]
[null,"CAG001","PERMISO DE CONSTRUCCIÓN",null,null,null,null,null,null,null,null,null,null,null,null,{"$f":"+'VERIFICACION INICIAL'!T37","v":"CASACREA"}]
[null,"DAA001","RETENCIONES ",null,null,null,{"$f":"+G26*G30","v":0},null,null,null,null,null,null,null,null,{"$f":"+'VERIFICACION INICIAL'!T38","v":"CONCRETO - DIANO CONSTRUCC. S.A.S."}]
[null,null,null,null,null,null,null,null,null,null,null,null,null,null,null,{"$f":"+'VERIFICACION INICIAL'!T39","v":"STEEL ONE - CIELOBENNETT S.A.S."}]
[null,null,null,null,null,null,null,null,null,null,null,null,null,null,null,{"$f":"+'VERIFICACION INICIAL'!T40","v":"PRO WALL - SCHMIDT PREMOLDEADOS"}]
[null,null,null,null,null,null,null,null,null,null,null,null,null,null,null,{"$f":"+'VERIFICACION INICIAL'!T41","v":"VELOX - FENEBIL S.A."}]
[null,"FIRMA PRESIDENTE",null,null,null,null,"TIMBRE",null,null,null,null,null,null,null,null,{"$f":"+'VERIFICACION INICIAL'!T42","v":"UR S.A. - NOX"}]
[]
[]
[null,"FIRMA SECRETARIO"]
[]
[]
[null,"FIRMA ARQUITECTO IAT"]
[]
[]
[]
[null,"PENALIDADES.- En caso de FALSEDAD OCULTAMIENTO o ADULTERACIÒN de la Declaración Jurada, incurre en responsabilidad civil y penal, castigada con 3 a24 meses de prisión, o 2 a 6 años de Penitenciaría, según lo dispuesto por los artículos 237 y 239 del Código Penal. ARTÍCULO 237 del Código Penal: “El particular o funcionario público que, fuera del ejercicio de sus funciones, hiciere un documento público falso o alterare un documento público verdadero, será castigado con 2 a 6 años de penitenciaría”. ARTÌCULO 239 del Código Penal: “El que, con motivo del otorgamiento o formalización de un documento público, ante un funcionario público, prestare una declaración falsa sobre su identidad o estado, o cualquiera otra circunstancia de hecho, será castigado con tres a veinticuatro meses de prisión”.  "]

{"sheet":"PRESUPUESTO","index":2,"n_rows":541,"n_cols":11,"rows_kept":541,"cut":false,"hidden":false,"merged":[[1,2,1,3],[2,2,2,3],[533,2,533,6],[540,9,540,10],[535,1,535,10],[536,1,538,10]]}
[]
[null,null,"TOTAL DE OBRA (SIN DESCONTAR RETENCIÓN)",null,null,null,null,{"$f":"+J2+K2","v":0},null,{"$f":"CARATULA!G26+CARATULA!G27-CARATULA!G34+CARATULA!G39","v":0},{"$f":"CARATULA!G28","v":0}]
[null,null,"VERIFICACIÓN",null,null,null,null,{"$f":"+H534","v":0},null,{"$f":"+J534","v":0},{"$f":"+K534","v":0}]
[]
[]
[]
[]
[]
[]
[]
[]
[null,"Codigo","Descripción Ampliada","Unidad","Metraje","PREC. UNIT. (U.R.)","SUB TOTAL  (U.R.)","TOTAL (U.R.)",null,"INVERSIÓN (U.R.)","APORTE  (U.R.)"]
[null,null,"PROPORCIONALES",null,null,null,{"$f":"+H13","v":0},{"$f":"SUM(G14:G15)","v":0},null,{"$f":"SUM(J14:J15)","v":0},{"$f":"SUM(K14:K15)","v":0}]
[null,"CAA002","HONORARIOS DIRECCION DE OBRA","GLOBAL",null,null,{"$f":"ROUND(E14*F14,2)","v":0},null,null,{"$f":"+G14-K14","v":0}]
[null,"ZZX241","LEYES SOCIALES","GLOBAL",null,null,0,null,null,{"$f":"+G15-K15","v":0}]
[null,null,"RUBROS FIJOS (APORTE)",null,null,null,{"$f":"+H16","v":0},{"$f":"SUM(G17:G20)","v":0},null,null,{"$f":"SUM(K17:K20)","v":0}]
[null,"A00001","TERRENO","GLOBAL",null,null,0,null,null,null,{"$f":"+G17","v":0}]
[null,"CAC001","HONORARIOS IAT a la escrituración","GLOBAL",null,null,0,null,null,null,{"$f":"+G18","v":0}]
[null,"CAG001","PERMISO DE CONSTRUCCIÓN","GLOBAL",null,null,0,null,null,null,0]
[null,"ZZX249","AVANCE TOTAL DE OBRA","GLOBAL",null,null,0,null,null,null,0]
[null,null,"VIVIENDAS",null,null,null,{"$f":"SUM(G22:G452)","v":0},{"$f":"SUM(H22:H452)","v":0},null,{"$f":"+J22+J33+J35+J43+J48+J79+J86+J92+J269+J318+J340+J362+J384+J390+J392+J412+J418+J433+J437+J445","v":0},{"$f":"+K22+K33+K35+K43+K48+K79+K86+K92+K269+K318+K340+K362+K384+K390+K392+K412+K418+K433+K437+K445","v":0}]
[null,null,"IMPLANTACIÓN",null,null,null,{"$f":"+H22","v":0},{"$f":"SUM(G23:G32)","v":0},null,{"$f":"SUM(J23:J32)","v":0},{"$f":"SUM(K23:K32)","v":0}]
[null,"AAA001","LIMPIEZA DEL TERRENO","GLOBAL",null,null,{"$f":"ROUND(E23*F23,2)","v":0},null,null,{"$f":"+G23-K23","v":0}]
[null,"AAA002","EXTRACCIÓN DE ÁRBOLES","GLOBAL",null,null,0,null,null,0]
[null,"AAA003","RETIRO DE MATERIALES","GLOBAL",null,null,0,null,null,0]
[null,"AAA004","MEDIANERAS, RELEVAMIENTO (ACTA)","GLOBAL",null,null,0,null,null,0]
[null,"AAA005","REPLANTEO","GLOBAL",null,null,0,null,null,0]
[null,"AAB001","CERCADO DEL PREDIO","GLOBAL",null,null,0,null,null,0]
[null,"AAB002","CARTEL DE OBRA","UN",null,null,0,null,null,0]
[null,"AAB003","OFICINA-SERVICIO","UN",null,null,0,null,null,0]
[null,"AAB004","BAÑO QUÍMICO","UN",null,null,0,null,null,0]
[null,"AAC001","INSTALACIONES PROVISORIAS (AGUA, LUZ ,TELÉFONO)","UN",null,null,0,null,null,0]
[null,null,"DEMOLICIONES",null,null,null,{"$f":"+H33","v":0},{"$f":"SUM(G34:G34)","v":0},null,{"$f":"SUM(J34)","v":0},{"$f":"SUM(K34)","v":0}]
[null,"AAD001","DEMOLICIONES Y RETIROS","GLOBAL",null,null,{"$f":"ROUND(E34*F34,2)","v":0},null,null,{"$f":"+G34-K34","v":0}]
[null,null,"MOVIMIENTO DE TERRENO",null,null,null,{"$f":"+H35","v":0},{"$f":"SUM(G36:G42)","v":0},null,{"$f":"SUM(J36:J42)","v":0},{"$f":"SUM(K36:K42)","v":0}]
[null,"ABA006","DESMONTE PARA CONTRAPISOS","M3",null,null,{"$f":"ROUND(E36*F36,2)","v":0},null,null,{"$f":"+G36-K36","v":0}]
[null,"ABA007","DESMONTE PARA PLATEA","M3",null,null,0,null,null,0]
[null,"ABB005","SUB BASE PARA PLATEA","M3",null,null,0,null,null,0]
[null,"ABB006","BASE PARA PLATEA","M3",null,null,0,null,null,0]
[null,"ABB007","TERRAPLÉN PARA CONTRAPISOS","M3",null,null,0,null,null,0]
[null,"ABB001","EXCAVACIONES CIMIENTOS","M3",null,null,{"$f":"ROUND(E41*F41,2)","v":0},null,null,{"$f":"+G41-K41","v":0}]
[null,"ABB002","DESCALCE DE VIGAS DE FUNDACIÓN","M",null,null,{"$f":"ROUND(E42*F42,2)","v":0},null,null,{"$f":"+G42-K42","v":0}]
[null,null,"HORMIGÓN CICLÓPEO",null,null,null,{"$f":"+H43","v":0},{"$f":"SUM(G44:G47)","v":0},null,{"$f":"SUM(J44:J47)","v":0},{"$f":"SUM(K44:K47)","v":0}]
[null,"ACA001","DADOS (HORM.C.)","M3",null,null,{"$f":"ROUND(E44*F44,2)","v":0},null,null,{"$f":"+G44-K44","v":0}]
[null,"ACA002","BAJO PATINES (HORM.C.)","M3",null,null,0,null,null,{"$f":"+G45-K45","v":0}]
[null,"ACA003","MUROS CONTENCIÓN HORM.C.","M3",null,null,0,null,null,{"$f":"+G46-K46","v":0}]
[null,"ACA004","CIMENTACION CORRIDA (HORM.CICLOPEO)","M3",null,null,0,null,null,{"$f":"+G47-K47","v":0}]
[null,null,"HORMIGÓN ARMADO",null,null,null,{"$f":"+H48","v":0},{"$f":"+G49+G58+G62+G69+G73+G77","v":0},null,{"$f":"SUM(J49:J78)","v":0},{"$f":"SUM(K49:K78)","v":0}]
[null,null,"FUNDACIONES",null,null,null,{"$f":"SUM(G50:G57)","v":0}]
[null,"ACB001","PILOTES IN SITU (PERFORADOS Y/O ENTUBADOS)","UN",null,null,{"$f":"ROUND(E50*F50,2)","v":0},null,null,{"$f":"+G50-K50","v":0}]
[null,"ACB002","PILOTINES PERFORADOS","UN",null,null,0,null,null,0]
[null,"ACC001","PATINES","M3",null,null,0,null,null,0]
[null,"ACC002","ZAPATA CORRIDA","M3",null,null,0,null,null,0]
[null,"ACC006","PLATEAS","M3",null,null,0,null,null,{"$f":"+G54-K54","v":0}]
[null,"ACC007","CABEZALES DE PILOTES","M3",null,null,0,null,null,{"$f":"+G55-K55","v":0}]
[null,"ADA013","MUROS DE CONTENCION H.A (C/CIMIENTO)","M3",null,null,0,null,null,0]
[null,"ADA014","MUROS DE CONTENCION BLOQUE ARMADO (C/CIMIENTO)","M3",null,null,0,null,null,0]
[null,null,"PILARES",null,null,null,{"$f":"SUM(G59:G61)","v":0}]
[null,"ACC003","PILARES - FUNDACIONES","M3",null,null,{"$f":"ROUND(E59*F59,2)","v":0},null,null,0]
[null,"ADA012","PILARES H.A","M3",null,null,0,null,null,0]
[null,"ADA003","PANTALLAS H.A.","M3",null,null,0,null,null,{"$f":"+G61-K61","v":0}]
[null,null,"VIGAS",null,null,null,{"$f":"SUM(G63:G68)","v":0}]
[null,"ACC004","VIGAS - FUNDACIONES","M3",null,null,{"$f":"ROUND(E63*F63,2)","v":0},null,null,0]
[null,"ACC005","RIOSTRAS - FUNDACIONES","M3",null,null,0,null,null,0]
[null,"ADA005","VIGAS H.A. S/NIVEL P.B.","M3",null,null,0,null,null,0]
[null,"ADA006","VIGAS H.A.AZOTEA (C/PRETIL)","M3",null,null,0,null,null,0]
[null,"ADA007","CANALONES DE TECHO H.A","M3",null,null,0,null,null,0]
[null,"ADA009","CARRERAS H.A.","M3",null,null,0,null,null,0]
[null,null,"LOSAS",null,null,null,{"$f":"SUM(G70:G72)","v":0}]
[null,"ADB001","LOSAS S/S.SUELO","M3",null,null,{"$f":"ROUND(E70*F70,2)","v":0},null,null,0]
[null,"ADB002","LOSAS S/P.B (INTERMEDIAS)","M3",null,null,0,null,null,0]
[null,"ADB003","LOSAS AZOTEA","M3",null,null,0,null,null,0]
[null,null,"ESCALERAS",null,null,null,{"$f":"SUM(G74:G76)","v":0}]
[null,"ADC001","ESCALERAS H.A","M3",null,null,{"$f":"ROUND(E74*F74,2)","v":0},null,null,0]
[null,"ADC003","ESTRUCTURA HA C/ESCALONES INDEPENDIENTES","GLOBAL",null,null,0,null,null,0]
[null,"ADC004","ESCALERAS HORMIGÓN PREFABRICADO","GLOBAL",null,null,0,null,null,0]
[null,null,"TANQUE DE AGUA",null,null,null,{"$f":"SUM(G78:G78)","v":0}]
[null,"ADD001","TANQUE DE AGUA H.A.","M3",null,null,{"$f":"ROUND(E78*F78,2)","v":0},null,null,0]
[null,null,"ESTRUCTURAS METÁLICAS",null,null,null,{"$f":"+H79","v":0},{"$f":"SUM(G80:G85)","v":0},null,{"$f":"SUM(J80:J85)","v":0},{"$f":"SUM(K80:K85)","v":0}]
[null,"ADG001","PILARES METÁLICOS C/ PERFILES CONFORMADOS","GLOBAL",null,null,{"$f":"ROUND(E80*F80,2)","v":0},null,null,{"$f":"+G80-K80","v":0}]
[null,"ADG002","PILARES METÁLICOS RETICULADOS","GLOBAL",null,null,0,null,null,0]
[null,"ADG003","VIGAS METÁLICAS C/PERFILES CONFORMADOS","GLOBAL",null,null,0,null,null,0]
[null,"ADG004","VIGAS METÁLICAS ELEMENTOS RETICULADOS","GLOBAL",null,null,0,null,null,0]
[null,"ADG005","ESTRUCTURA DE PERFILES CONFORMADOS PARA ESCALERA","GLOBAL",null,null,0,null,null,0]
[null,"AFA001","ESTRUCTURA SOPORTE METÁLICA P/CERRAM. LIVIANO","GLOBAL",null,null,0,null,null,0]
[null,null,"ESTRUCTURAS MADERA",null,null,null,{"$f":"+H86","v":0},{"$f":"SUM(G87:G91)","v":0},null,{"$f":"SUM(J87:J91)","v":0},{"$f":"SUM(K87:K91)","v":0}]
[null,"ADH001","PILARES MADERA","GLOBAL",null,null,{"$f":"ROUND(E87*F87,2)","v":0},null,null,{"$f":"+G87-K87","v":0}]
[null,"ADH002","VIGAS, CORREAS MADERA","GLOBAL",null,null,0,null,null,{"$f":"+G88-K88","v":0}]
[null,"ADH005","PANELES ESTRUCTURALES MADERA CERRAMIENTO VERTICAL","M2",null,null,0,null,null,{"$f":"+G89-K89","v":0}]
[null,"ADH007","CERAM. HORIZONTALES EN MADERA (ENTREPISOS, ALEROS)","M2",null,null,0,null,null,{"$f":"+G90-K90","v":0}]
[null,"AFA002","ESTRUCTURA SOPORTE MADERA P/CERRAM. LIVIANO","GLOBAL",null,null,0,null,null,{"$f":"+G91-K91","v":0}]
[null,null,"ALBAÑILERÍA",null,null,null,{"$f":"+H92","v":0},{"$f":"+G93+G123+G127+G135+G161+G166+G169+G172+G177+G184+G205+G215+G220+G227+G231+G248+G261","v":0},null,{"$f":"SUM(J93:J268)","v":0},{"$f":"SUM(K93:K268)","v":0}]
[null,null,"MUROS / LOSETAS CERÁMICAS",null,null,null,{"$f":"SUM(G94:G122)","v":0}]
[null,"ADF002","REJILLON PORTANTE (ESP.MURO=17CM)","M2",null,null,{"$f":"ROUND(E94*F94,2)","v":0},null,null,{"$f":"+G94-K94","v":0}]
[null,"ADF003","LOSETAS CERÁMICA ARMADA","M2",null,null,0,null,null,{"$f":"+G95-K95","v":0}]
[null,"AEA001","LADRILLO DE CAMPO (ESP.MURO <10)","M2",null,null,0,null,null,{"$f":"+G96-K96","v":0}]
[null,"AEA002","LADRILLO DE PRENSA (ESP.MURO<10CM)","M2",null,null,0,null,null,0]
[null,"AEA003","LADRILLO CHORIZO (ESP.MURO<10CM)","M2",null,null,0,null,null,0]
[null,"AEA004","CERÁMICA HUECA (ESP.MURO<10CM)","M2",null,null,0,null,null,0]
[null,"AEA005","BLOQUE DE (HORMIGÓN) CEMENTO (ESP.MURO<10CM)","M2",null,null,0,null,null,0]
[null,"AEA006","LADRILLO DE CAMPO (ESP.MURO=12CM)","M2",null,null,0,null,null,0]
[null,"AEA007","LADRILLO DE CAMPO (ESP.MURO=12CM)","M2",null,null,0,null,null,0]
[null,"AEA008","LADRILLO DE CAMPO UNA CARA VISTA (ESP. MURO=12CM)","M2",null,null,0,null,null,0]
[null,"AEA009","LADRILLO DE PRENSA UNA CARA VISTA (ESP. MURO=12CM)","M2",null,null,0,null,null,0]
[null,"AEA010","CERÁMICA HUECA (ESP.MURO=12CM)","M2",null,null,0,null,null,0]
[null,"AEA011","BLOQUES HORMIGÓN (ESP.MURO=12CM)","M2",null,null,0,null,null,0]
[null,"AEA012","LADRILLO DE CAMPO (ESP.MURO=17CM)","M2",null,null,0,null,null,0]
[null,"AEA013","LADRILLO DE PRENSA (ESP.MURO=17CM)","M2",null,null,0,null,null,0]
[null,"AEA014","CERÁMICA HUECA (ESP.MURO=17CM)","M2",null,null,0,null,null,0]
[null,"AEA015","BLOQUES HORMIGÓN (ESP.MURO=20CM)","M2",null,null,0,null,null,0]
[null,"AEA016","LADRILLO DE CAMPO C/UN LADO VISTO (ESP.MURO=17CM)","M2",null,null,0,null,null,0]
[null,"AEA017","LADRILLO DE PRENSA C/UN LADO VISTO (ESP.MURO=17CM)","M2",null,null,0,null,null,0]
[null,"AEA018","LADRILLO DE CAMPO (ESP.MURO=25CM)","M2",null,null,0,null,null,0]
[null,"AEA019","LADRILLO DE PRENSA (ESP.MURO=25CM)","M2",null,null,0,null,null,0]
[null,"AEA020","CERÁMICA HUECA (ESP.MURO=25CM)","M2",null,null,0,null,null,0]
[null,"AEA021","LADRILLO DE CAMPO, C/UN LADO VISTO (ESP.MURO=25CM)","M2",null,null,0,null,null,0]
[null,"AEA022","LADRILLO DE PRENSA, C/UN LADO VISTO (ESP.MURO=25CM)","M2",null,null,0,null,null,{"$f":"+G117-K117","v":0}]
[null,"AEB001","LADRILLO CHORIZO CALADO(ESP.MURO<10CM)","M2",null,null,0,null,null,0]
[null,"AEB002","LADRILLO CALADO (ESP.MURO=12)","M2",null,null,0,null,null,0]
[null,"AEB003","CERÁMICA HUECA MURO CALADO E=12","M2",null,null,0,null,null,0]
[null,"AEB004","BLOQUE CALADO (ESP.MURO= 12CM)","M2",null,null,0,null,null,0]
[null,"AEF005","DUCTOS MAMPOSTERÍA","GLOBAL",null,null,0,null,null,{"$f":"+G122-K122","v":0}]
[null,null,"AISLACIÓN TÉRMICA MUROS",null,null,null,{"$f":"SUM(G124:G126)","v":0}]
[null,"AEC001","POLIESTIRENO EXPANDIDO (AISL.MUROS)","M2",null,null,{"$f":"ROUND(E124*F124,2)","v":0},null,null,0]
[null,"AEC002","POLIURETANO PROYECTADO (AISL.MUROS)","M2",null,null,0,null,null,0]
[null,"AEC003","LANA DE VIDRIO (AISL.MUROS)","M2",null,null,0,null,null,0]
[null,null,"PANELES DE YESO Y MADERA",null,null,null,{"$f":"SUM(G128:G134)","v":0}]
[null,"AFA003","PANELES MADERA CERRAM. VERTICAL","GLOBAL",null,null,{"$f":"ROUND(E128*F128,2)","v":0},null,null,0]
[null,"AFA004","PLACAS YESO CERRAM. VERTICAL","GLOBAL",null,null,0,null,null,0]
[null,"AFB001","POLIURETANO PROYECTADO (CERRAM. LIVIANOS)","GLOBAL",null,null,0,null,null,0]
[null,"AFB002","POLIESTIRENO EXPANDIDO (CERRAM. LIVIANOS)","GLOBAL",null,null,0,null,null,0]
[null,"AFB003","POLIETILENO (CERRAM. LIVIANOS)","GLOBAL",null,null,0,null,null,0]
[null,"AFB004","TYVEK (CERRAM. LIVIANOS)","GLOBAL",null,null,0,null,null,0]
[null,"AFB005","MEMBRANAS ASFÁLTICAS (CERRAM.LIVIANOS)","GLOBAL",null,null,0,null,null,0]
[null,null,"REVOQUES",null,null,null,{"$f":"SUM(G136:G160)","v":0}]
[null,"AED001","AYP C/HIDRÓFUGO 1AS HILADAS EN MUROS","M2",null,null,{"$f":"ROUND(E136*F136,2)","v":0},null,null,{"$f":"+G136-K136","v":0}]
[null,"AED002","AYP C/HIDRÓFUGO EN ANTEPECHOS","M2",null,null,0,null,null,{"$f":"+G137-K137","v":0}]
[null,"AHA001","AZOTADA Y GRUESA CIELORRASOS","M2",null,null,0,null,null,{"$f":"+G138-K138","v":0}]
[null,"AHA002","AZOTADA Y GRUESA EN ESCALERAS","M2",null,null,0,null,null,0]
[null,"AHA003","FINA CIELORRASOS","M2",null,null,0,null,null,0]
[null,"AHA004","FINA EN ESCALERAS","M2",null,null,0,null,null,0]
[null,"AHA005","BALAI COMÚN CIELORRASOS","M2",null,null,0,null,null,0]
[null,"AHA006","BALAI FRETAZADO CIELORRASOS","M2",null,null,0,null,null,0]
[null,"AHA007","CIELORRASO S/METAL DESPLEGADO","M2",null,null,0,null,null,0]
[null,"AHB001","AZOTADA Y GRUESA MUROS INT.","M2",null,null,0,null,null,0]
[null,"AHB002","GRUESA MUROS INT.","M2",null,null,0,null,null,0]
[null,"AHB003","FINA MUROS INT.","M2",null,null,0,null,null,0]
[null,"AHB004","BALAI COMÚN MUROS INT.","M2",null,null,0,null,null,0]
[null,"AHB005","BALAI FRETAZADO MUROS INT.","M2",null,null,0,null,null,0]
[null,"AHB006","REVOQUE BOLSEADO MUROS INT.","M2",null,null,0,null,null,0]
[null,"AHB007","REVOQUE SOBRE METAL DESPLEGADO (MUROS INT)","M2",null,null,0,null,null,0]
[null,"AHB009","REVOQUE A UNA CAPA (MUROS INT)","M2",null,null,0,null,null,0]
[null,"AHC001","AYP C/HIDRÓFUGO CARA EXT.MUROS","M2",null,null,0,null,null,0]
[null,"AHC002","AYP C/HIDRÓFUGO EN TANQUES DE AGUA","M2",null,null,0,null,null,0]
[null,"AHD001","AZOTADA Y GRUESA MUROS EXT.","M2",null,null,0,null,null,0]
[null,"AHD002","FINA MUROS EXT.","M2",null,null,0,null,null,0]
[null,"AHD003","BALAI COMÚN MUROS EXT.","M2",null,null,0,null,null,0]
[null,"AHD004","BALAI FRETAZADO MUROS EXT.","M2",null,null,0,null,null,0]
[null,"AHD005","REVOQUE BOLSEADO MUROS EXT.","M2",null,null,0,null,null,0]
[null,"AHD006","MOCHETAS (EXTERIORES)","ML",null,null,0,null,null,0]
[null,null,"REVESTIMIENTOS EXTERIORES",null,null,null,{"$f":"SUM(G162:G165)","v":0}]
[null,"AHE001","APLACADO DE LADRILLO DE CAMPO","M2",null,null,{"$f":"ROUND(E162*F162,2)","v":0},null,null,{"$f":"+G162-K162","v":0}]
[null,"AHE002","APLACADO DE LADRILLO DE PRENSA","M2",null,null,0,null,null,0]
[null,"AHE003","APLACADO LADRILLO CHORIZO (CAMPO/PRENSA)","M2",null,null,0,null,null,0]
[null,"AHE011","REVEST.EXT. PIEZAS CERÁMICAS","M2",null,null,0,null,null,{"$f":"+G165-K165","v":0}]
[null,null,"ANTEPECHOS",null,null,null,{"$f":"SUM(G167:G168)","v":0}]
[null,"AHE008","ANTEPECHOS AYP","ML",null,null,{"$f":"ROUND(E167*F167,2)","v":0},null,null,0]
[null,"AHE013","ANTEPECHOS CERAMICA","M2",null,null,0,null,null,{"$f":"+G168-K168","v":0}]
[null,null,"REVESTIMIENTOS INTERIORES",null,null,null,{"$f":"SUM(G170:G171)","v":0}]
[null,"AHF003","CERÁMICA ESMALTADA BAÑOS/COCINAS","M2",null,null,{"$f":"ROUND(E170*F170,2)","v":0},null,null,{"$f":"+G170-K170","v":0}]
[null,"AHF004","PORCELANATO BAÑOS/COCINAS","M2",null,null,0,null,null,0]
[null,null,"CIELORRASOS",null,null,null,{"$f":"SUM(G173:G176)","v":0}]
[null,"AHA008","YESO (CIELORRASOS)","M2",null,null,{"$f":"ROUND(E173*F173,2)","v":0},null,null,{"$f":"+G173-K173","v":0}]
[null,"AHH001","PLACAS ESPUMA POLIESTIRENO (CIELORRASOS)","M2",null,null,{"$f":"ROUND(E174*F174,2)","v":0},null,null,{"$f":"+G174-K174","v":0}]
[null,"AHH002","MADERA (CIELORRASOS)","M2",null,null,0,null,null,0]
[null,"AHH003","PLACAS YESO (CIELORRASOS)","M2",null,null,0,null,null,0]
[null,null,"CONTRAPISOS Y RELLENOS",null,null,null,{"$f":"SUM(G178:G183)","v":0}]
[null,"AIA001","CONTRAPISO INTERIOR COMÚN SOBRE TERRENO","M2",null,null,{"$f":"ROUND(E178*F178,2)","v":0},null,null,0]
[null,"AIA002","CONTRAPISO INTERIOR ARMADO SOBRE TERRENO","M2",null,null,0,null,null,0]
[null,"AIA003","CONTRAPISO EXTERIOR COMÚN SOBRE TERRENO","M2",null,null,0,null,null,0]
[null,"AIA004","CONTRAPISO EXTERIOR ARMADO SOBRE TERRENO","M2",null,null,0,null,null,0]
[null,"AIA005","CONTRAPISO INTERIOR EN ENTREPISOS","M2",null,null,0,null,null,0]
[null,"AIA006","CONTRAPISO EN BAÑOS","M2",null,null,0,null,null,0]
[null,null,"PISOS",null,null,null,{"$f":"SUM(G185:G204)","v":0}]
[null,"AIB001","ARENA Y PORTLAND LUSTRADO IN SITU (PISOS)","M2",null,null,{"$f":"ROUND(E185*F185,2)","v":0},null,null,0]
[null,"AIB002","ADOQUINES HORMIGÓN (PISOS)","M2",null,null,0,null,null,0]
[null,"AIB003","HORMIGÓN FRETAZADO (PISOS)","M2",null,null,0,null,null,0]
[null,"AIB004","BALDOSA DE VEREDA (20*20)","M2",null,null,0,null,null,0]
[null,"AIB005","BALDOSA CALCÁREA","M2",null,null,0,null,null,0]
[null,"AIB006","HORMIGON C JUNTAS LADRILLO (PISOS)","M2",null,null,0,null,null,0]
[null,"AIB007","ALISADO DE ARENA Y PORTLAND (PISOS)","M2",null,null,{"$f":"ROUND(E191*F191,2)","v":0},null,null,{"$f":"+G191-K191","v":0}]
[null,"AIC001","BALDOSA MONOLITICA 20*20 PULIDA EN FÁBRICA","M2",null,null,0,null,null,0]
[null,"AID001","PARQUÉ ENGRAMPADO","M2",null,null,0,null,null,{"$f":"+G193-K193","v":0}]
[null,"AID002","PARQUÉ PEGADO","M2",null,null,0,null,null,0]
[null,"AID003","PISO FLOTANTE","M2",null,null,0,null,null,0]
[null,"AID004","TABLA (PISOS)","M2",null,null,0,null,null,0]
[null,"AIE001","CERÁMICA ESMALTADA (PISOS)","M2",null,null,0,null,null,0]
[null,"AIE004","LAYOTA COMÚN (PISOS)","M2",null,null,0,null,null,0]
[null,"AIE005","LAYOTA ESMALTADA (PISOS)","M2",null,null,0,null,null,0]
[null,"AIE006","LADRILLO, TEJUELA (PISOS)","M2",null,null,0,null,null,0]
[null,"AIE007","PAVIMIENTO CERAMICA G3 y G4","M2",null,null,0,null,null,0]
[null,"AIF001","PIEDRA LAJA PIEZAS IRREGULARES (PISOS)","M2",null,null,{"$f":"ROUND(E202*F202,2)","v":0},null,null,{"$f":"+G202-K202","v":0}]
[null,"AIF002","PIEDRA LAJA PIEZAS RECTAS (PISOS)","M2",null,null,0,null,null,0]
[null,"AIG001","PORCELANATO (PISOS)","M2",null,null,0,null,null,0]
[null,null,"ESCALONES Y NARICES",null,null,null,{"$f":"SUM(G206:G214)","v":0}]
[null,"AIH001","ARENA Y PORTLAND LUSTRADO (ESCALONES)","ML",null,null,{"$f":"ROUND(E206*F206,2)","v":0},null,null,0]
[null,"AIH002","BALDOSA MONOLÍTICA PULIDA (ESCALONES)","ML",null,null,0,null,null,0]
[null,"AIH006","LAJOTA (ESCALONES)","ML",null,null,0,null,null,0]
[null,"AIH007","LADRILLO (ESCALONES)","ML",null,null,0,null,null,0]
[null,"AIH009","CERÁMICA ESMALTADA (ESCALONES)","ML",null,null,0,null,null,0]
[null,"AIH011","MADERA (ESCALONES)","ML",null,null,0,null,null,0]
[null,"AIH012","NARIZ MADERA DURA","ML",null,null,0,null,null,0]
[null,"AIH014","NARIZ HORMIGÓN PREFABRICADO","ML",null,null,0,null,null,0]
[null,"AIH015","NARIZ HIERRO","ML",null,null,0,null,null,0]
[null,null,"ZÓCALOS Y ENTEPUERTAS",null,null,null,{"$f":"SUM(G216:G219)","v":0}]
[null,"AII006","ZÓCALOS CERÁMICA","ML",null,null,{"$f":"ROUND(E216*F216,2)","v":0},null,null,{"$f":"+G216-K216","v":0}]
[null,"AII007","ZÓCALOS PORCELANATO","ML",null,null,0,null,null,0]
[null,"AII008","ZÓCALOS MADERA","ML",null,null,0,null,null,0]
[null,"AIJ002","ENTREPUERTAS","ML",null,null,0,null,null,0]
[null,null,"MESADAS",null,null,null,{"$f":"SUM(G221:G226)","v":0}]
[null,"AJA001","LOSAS HORMIGÓN (MESADAS)","M3",null,null,{"$f":"ROUND(E221*F221,2)","v":0},null,null,{"$f":"+G221-K221","v":0}]
[null,"AJA002","MESADAS MÁRMOL O GRANITO","M2",null,null,{"$f":"ROUND(E222*F222,2)","v":0},null,null,0]
[null,"AJA003","MESADAS MONOLÍTICO","M2",null,null,0,null,null,0]
[null,"AJA004","MESADAS C/ESCALLAS DE MARMOL","M2",null,null,0,null,null,0]
[null,"AND011","SUMINISTRO DE MESADAS DE COCINA (incluye piletas)","GLOBAL",null,null,0,null,null,{"$f":"+G225-K225","v":0}]
[null,"AND012","COLOCACION DE MESADAS DE COCINA","GLOBAL",null,null,0,null,null,{"$f":"+G226-K226","v":0}]
[null,null,"JUNTAS",null,null,null,{"$f":"SUM(G228:G230)","v":0}]
[null,"AEF002","JUNTAS DILATACIÓN/TRABAJO EN MUROS","ML",null,null,{"$f":"ROUND(E228*F228,2)","v":0},null,null,{"$f":"+G228-K228","v":0}]
[null,"AIJ003","JUNTAS DE TRABAJO/DILATACIÓN EN PB/ENTREPISOS","ML",null,null,0,null,null,{"$f":"+G229-K229","v":0}]
[null,"AKA011","JUNTAS DILATACIÓN/TRABAJO (AZOTEAS)","ML",null,null,0,null,null,{"$f":"+G230-K230","v":0}]
[null,null,"BALCONES Y AZOTEAS",null,null,null,{"$f":"SUM(G232:G247)","v":0}]
[null,"AKA001","ALISADO ARENA Y PORTLAND (AZOTEAS)","M2",null,null,{"$f":"ROUND(E232*F232,2)","v":0},null,null,0]
[null,"AKA002","RELLENOS Y PENDIENTES C/HORMIGÓN CASCOTE (AZOTEAS, TERR.)","M2",null,null,0,null,null,0]
[null,"AKA003","RELLENOS Y PENDIENTES C/HGON. ALIVIANADO (AZOTEAS, TERR.)","M2",null,null,0,null,null,0]
[null,"AKA004","TEJUELA (AZOTEAS)","M2",null,null,0,null,null,0]
[null,"AKA005","ALISADO ARENA Y PORTLAND C/JUNTAS (AZOTEAS)","M2",null,null,0,null,null,0]
[null,"AKA007","TEJAS S/CUBIERTA PESADA","M2",null,null,0,null,null,0]
[null,"AKA008","SOBRETECHO FIBROCEMENTO","M2",null,null,0,null,null,0]
[null,"AKA012","ARENA Y PORTLAND DE PRETILES Y GARGANTAS","M2",null,null,0,null,null,0]
[null,"AKA013","CANTO RODADO (TERMINACIÓN AZOTEAS)","M3",null,null,0,null,null,0]
[null,"AKB001","POLIETILENO (AZOTEAS/BALCONES)","M2",null,null,0,null,null,0]
[null,"AKB002","POLIESTIRENO EXPANDIDO EN PLACAS (AZOTEAS Y BALCONES)","M2",null,null,0,null,null,0]
[null,"AKB003","POLIURETANO PROYECTADO (AZOTEAS/BALCONES)","M2",null,null,0,null,null,{"$f":"+G243-K243","v":0}]
[null,"AKB004","EMULSIÓN ASFALTICA C/VELO DE VIDRIO (AZOTEAS/BALCONES)","M2",null,null,0,null,null,0]
[null,"AKB005","MEMBRANA SOLDABLE (AZOTEAS/BALCONES)","M2",null,null,0,null,null,0]
[null,"AKB007","PINTURA ALUMINIO ASFALTICO (AZOTEAS)","M2",null,null,0,null,null,0]
[null,"AKB008","PINTURA IMPERMEABILIZANTE","M2",null,null,0,null,null,0]
[null,null,"CUBIERTA LIVIANA",null,null,null,{"$f":"SUM(G249:G260)","v":0}]
[null,"ALA001","ENTABLONADO S/CORREAS MADERA (CUBIERTA LIV.)","M2",null,null,{"$f":"ROUND(E249*F249,2)","v":0},null,null,{"$f":"+G249-K249","v":0}]
[null,"ALA002","POLIETILENO S/ENTABLONADO (CUBIERTA LIV.)","M2",null,null,0,null,null,0]
[null,"ALA003","POLIURETANO PROYECTADO (CUBIERTA LIV.)","M2",null,null,0,null,null,0]
[null,"ALA004","ESPUMA POLIESTIRENO EN PLACAS (CUBIERTA LIV.)","M2",null,null,0,null,null,0]
[null,"ALA005","TYVEC (CUBIERTA LIV.)","M2",null,null,0,null,null,0]
[null,"ALA006","MEMBRANA ASFALTICA (CUBIERTA LIV.)","M2",null,null,0,null,null,0]
[null,"ALA007","CUMBRERAS, LIMAHOYAS","ML",null,null,0,null,null,0]
[null,"ALA008","CANALONES","ML",null,null,0,null,null,0]
[null,"ALB001","CUBIERTA HIERRO GALVANIZADO","M2",null,null,0,null,null,0]
[null,"ALB002","PANELES AUTOPORTANTES DE CHAPA, MULTICAPA","M2",null,null,0,null,null,0]
[null,"ALC001","CUBIERTA FIBROCEMENTO","M2",null,null,0,null,null,0]
[null,"ALD001","TEJAS S/ENTRAMADO MADERA","M2",null,null,0,null,null,0]
[null,null,"VARIOS",null,null,null,{"$f":"SUM(G262:G268)","v":0}]
[null,"AEF003","CANTONERAS (COLOCACIÓN)","ML",null,null,{"$f":"ROUND(E262*F262,2)","v":0},null,null,{"$f":"+G262-K262","v":0}]
[null,"ANA001","AYUDA A ELÉCTRICA","GLOBAL",null,null,0,null,null,{"$f":"+G263-K263","v":0}]
[null,"ANA002","AYUDA A SANITARIA","GLOBAL",null,null,0,null,null,0]
[null,"ANA003","AYUDA ASCENSOR","GLOBAL",null,null,0,null,null,0]
[null,"ANB001","NICHOS DE MEDIDORES","GLOBAL",null,null,0,null,null,0]
[null,"ANB002","NICHOS DE MANGUERAS DE INCENDIO","GLOBAL",null,null,0,null,null,0]
[null,"AJC001","EXTRACTORES","UN",null,null,0,null,null,0]
[null,null,"SISTEMAS NO TRADICIONALES",null,null,null,{"$f":"+H269","v":0},{"$f":"+G270+G281+G290+G302+G305+G314","v":0},null,{"$f":"SUM(J270:J317)","v":0},{"$f":"SUM(K270:K317)","v":0}]
[null,null,"HORMIGÓN",null,null,null,{"$f":"SUM(G271:G280)","v":0}]
[null,"ADE001","PILARES/VIGAS HORM.PREFABRICADO","GLOBAL",null,null,{"$f":"ROUND(E271*F271,2)","v":0},null,null,{"$f":"+G271-K271","v":0}]
[null,"ADE002","PANELES (MUROS) HORM.PREFABRICADO","M2",null,null,0,null,null,0]
[null,"ADE003","LOSAS HORM.PREFABRICADO","M2",null,null,0,null,null,0]
[null,"ADE005","ANTEPECHOS HORM.PREFABRICADO","ML",null,null,0,null,null,0]
[null,"ADE006","DINTELES HORM.PREFABRICADO","ML",null,null,0,null,null,0]
[null,"ADE007","SISTEMAS C/BOVEDILLAS (HORM.PREFABRICADO)","M2",null,null,0,null,null,0]
[null,"ADE008","ESCALONES DE HORMIGON PREFABRICADO","ML",null,null,0,null,null,0]
[null,"AND015","SUMINISTRO DE VIGUETAS PREFABRICADAS","M2",null,null,0,null,null,0]
[null,"AND016","COLOCACION DE VIGUETAS PREFABRICADAS","UN",null,null,0,null,null,0]
[null,"AKA006","LOSETAS PREFABICADAS HORMIGÓN (AZOTEAS)","M2",null,null,0,null,null,{"$f":"+G280-K280","v":0}]
[null,null,"SISTEMA EMMEDUE",null,null,null,{"$f":"SUM(G282:G289)","v":0}]
[null,"APA001","M2 PANELES VERTICALES","M2",null,null,{"$f":"ROUND(E282*F282,2)","v":0},null,null,{"$f":"+G282-K282","v":0}]
[null,"APA002","M2 PANELES HORIZONTALES","M2",null,null,0,null,null,0]
[null,"APB001","M2 ESCALERA","UN",null,null,0,null,null,0]
[null,"APC001","M2 REVOQUE ESTRUCTURAL EN MUROS","M2",null,null,0,null,null,0]
[null,"APC002","M2 REVOQUE TERMINACION MUROS","M2",null,null,0,null,null,0]
[null,"APC003","M2 REVOQUE CIELORASOS PRIMERA CAPA","M2",null,null,0,null,null,0]
[null,"APC004","M2 REVOQUE CIELORRASOS TERMINACION","M2",null,null,0,null,null,0]
[null,"APD001","M2 CARPETA DE COMPRESION LOSAS","M3",null,null,0,null,null,0]
[null,null,"SISTEMA CRUPE",null,null,null,{"$f":"SUM(G291:G301)","v":0}]
[null,"AQA001","CRUPE ESTRUCTURA METALICA EN MUROS","M2",null,null,{"$f":"ROUND(E291*F291,2)","v":0},null,null,{"$f":"+G291-K291","v":0}]
[null,"AQA002","CRUPE VIGAS RETICULADAS ENTREPISOS","M",null,null,0,null,null,0]
[null,"AQA003","CRUPE ESTRUCTURA METALICA CUBIERTA","M2",null,null,0,null,null,0]
[null,"AQB001","CRUPE PROTECT MUROS","M2",null,null,0,null,null,0]
[null,"AQB002","CRUPE PROTECT ENTREPISOS","M2",null,null,0,null,null,0]
[null,"AQB003","CRUPE PROTECT CUBIERTA","M2",null,null,0,null,null,0]
[null,"AQC001","CRUPE TERMINACION EXTERIOR MUROS","M2",null,null,0,null,null,0]
[null,"AQC002","CRUPE TERMINACION INTERIOR MUROS","M2",null,null,0,null,null,0]
[null,"AQC003","CRUPE TERMINACION INFERIOR ENTREPISOS","M2",null,null,0,null,null,0]
[null,"AQC004","CRUPE TERMINACION INFERIOR CUBIERTA","M2",null,null,0,null,null,0]
[null,"AQD001","CRUPE ESCALERAS","UN",null,null,0,null,null,0]
[null,null,"SISTEMA ROYAL BUILDING",null,null,null,{"$f":"SUM(G303:G304)","v":0}]
[null,"ARA001","RBS PANELES VERTICALES EXTERIORES C/ AISLACION","M2",null,null,{"$f":"ROUND(E303*F303,2)","v":0},null,null,{"$f":"+G303-K303","v":0}]
[null,"ARA002","RBS PANELES VERTICALES INTERIORES","M2",null,null,0,null,null,0]
[null,null,"SISTEMA DEFLORENCIA",null,null,null,{"$f":"SUM(G306:G313)","v":0}]
[null,"ASA001","DEFLORENCIA MUROS EXTERIORES","M2",null,null,0,null,null,0]
[null,"ASA002","DEFLORENCIA MUROS INTERIORES","M2",null,null,0,null,null,0]
[null,"ASA003","DEFLORENCIA MUROS MEDIANEROS","M2",null,null,0,null,null,0]
[null,"ASB001","DEFLORENCIA LOSAS HORIZONTALES H.A.","M2",null,null,0,null,null,0]
[null,"ASB002","DEFLORENCIA LOSETA CORTAFUEGO H.A.","M2",null,null,0,null,null,0]
[null,"ASB003","DEFLORENCIA ENTREPISO H.A.","M2",null,null,0,null,null,0]
[null,"ASB004","DEFLORENCIA LOSAS DE CUBIERTA H.A.","M2",null,null,0,null,null,0]
[null,"ASC001","DEFLORENCIA ESCALERAS H.A.","UN",null,null,0,null,null,0]
[null,null,"SISTEMA MONTFRIO",null,null,null,{"$f":"SUM(G315:G317)","v":0}]
[null,"ATA001","MONTFRIO (SPM) PARED EXTERIOR","M2",null,null,0,null,null,0]
[null,"ATA002","MONTFRIO (SPM) PARED INTERIOR","M2",null,null,0,null,null,0]
[null,"ATB001","MONTFRIO (SPM) CUBIERTA","M2",null,null,0,null,null,0]
[null,null,"CARPINTERÍA DE ALUMINIO",null,null,null,{"$f":"+H318","v":0},{"$f":"SUM(G319:G339)","v":0},null,{"$f":"SUM(J319:J339)","v":0},{"$f":"SUM(K319:K339)","v":0}]
[null,"AGB010","AL1 CARPINTERIA DE ALUMINIO","UN",null,null,{"$f":"ROUND(E319*F319,2)","v":0},null,null,{"$f":"+G319-K319","v":0}]
[null,"AGB011","AL2 CARPINTERIA DE ALUMINIO","UN",null,null,0,null,null,0]
[null,"AGB012","AL3 CARPINTERIA DE ALUMINIO","UN",null,null,0,null,null,0]
[null,"AGB013","AL4 CARPINTERIA DE ALUMINIO","UN",null,null,0,null,null,0]
[null,"AGB014","AL5 CARPINTERIA DE ALUMINIO","UN",null,null,0,null,null,0]
[null,"AGB015","AL6 CARPINTERIA DE ALUMINIO","UN",null,null,0,null,null,0]
[null,"AGB016","AL7 CARPINTERIA DE ALUMINIO","UN",null,null,0,null,null,0]
[null,"AGB017","AL8 CARPINTERIA DE ALUMINIO","UN",null,null,0,null,null,0]
[null,"AGB018","AL9 CARPINTERIA DE ALUMINIO","UN",null,null,0,null,null,0]
[null,"AGB019","AL10 CARPINTERIA DE ALUMINIO","UN",null,null,0,null,null,0]
[null,"AGB020","AL11 CARPINTERIA DE ALUMINIO","UN",null,null,0,null,null,0]
[null,"AGB021","AL12 CARPINTERIA DE ALUMINIO","UN",null,null,0,null,null,0]
[null,"AGB022","AL13 CARPINTERIA DE ALUMINIO","UN",null,null,0,null,null,0]
[null,"AGB023","AL14 CARPINTERIA DE ALUMINIO","UN",null,null,0,null,null,0]
[null,"AGB024","AL15 CARPINTERIA DE ALUMINIO","UN",null,null,0,null,null,0]
[null,"AGB025","AL16 CARPINTERIA DE ALUMINIO","UN",null,null,0,null,null,0]
[null,"AGB026","AL17 CARPINTERIA DE ALUMINIO","UN",null,null,0,null,null,0]
[null,"AGB027","AL18 CARPINTERIA DE ALUMINIO","UN",null,null,0,null,null,0]
[null,"AGB028","AL19 CARPINTERIA DE ALUMINIO","UN",null,null,0,null,null,0]
[null,"AGB029","AL20 CARPINTERIA DE ALUMINIO","UN",null,null,0,null,null,0]
[null,"AND002","COLOCACION DE ABERTURAS DE ALUMINIO","GLOBAL",null,null,0,null,null,{"$f":"+G339-K339","v":0}]
[null,null,"CARPINTERÍA DE MADERA",null,null,null,{"$f":"+H340","v":0},{"$f":"SUM(G341:G361)","v":0},null,{"$f":"SUM(J341:J361)","v":0},{"$f":"SUM(K341:K361)","v":0}]
[null,"AGA008","C1 CARPINTERIA DE MADERA","UN",null,null,{"$f":"ROUND(E341*F341,2)","v":0},null,null,{"$f":"+G341-K341","v":0}]
[null,"AGA009","C2 CARPINTERIA DE MADERA","UN",null,null,0,null,null,0]
[null,"AGA010","C3 CARPINTERIA DE MADERA","UN",null,null,0,null,null,0]
[null,"AGA011","C4 CARPINTERIA DE MADERA","UN",null,null,0,null,null,0]
[null,"AGA012","C5 CARPINTERIA DE MADERA","UN",null,null,0,null,null,0]
[null,"AGA013","C6 CARPINTERIA DE MADERA","UN",null,null,0,null,null,0]
[null,"AGA014","C7 CARPINTERIA DE MADERA","UN",null,null,0,null,null,0]
[null,"AGA015","C8 CARPINTERIA DE MADERA","UN",null,null,0,null,null,0]
[null,"AGA016","C9 CARPINTERIA DE MADERA","UN",null,null,0,null,null,0]
[null,"AGA017","C10 CARPINTERIA DE MADERA","UN",null,null,0,null,null,0]
[null,"AGA018","C11 CARPINTERIA DE MADERA","UN",null,null,0,null,null,0]
[null,"AGA019","C12 CARPINTERIA DE MADERA","UN",null,null,0,null,null,0]
[null,"AGA020","C13 CARPINTERIA DE MADERA","UN",null,null,0,null,null,0]
[null,"AGA021","C14 CARPINTERIA DE MADERA","UN",null,null,0,null,null,0]
[null,"AGA022","C15 CARPINTERIA DE MADERA","UN",null,null,0,null,null,0]
[null,"AGA023","C16 CARPINTERIA DE MADERA","UN",null,null,0,null,null,0]
[null,"AGA024","C17 CARPINTERIA DE MADERA","UN",null,null,0,null,null,0]
[null,"AGA025","C18 CARPINTERIA DE MADERA","UN",null,null,0,null,null,0]
[null,"AGA026","C19 CARPINTERIA DE MADERA","UN",null,null,0,null,null,0]
[null,"AGA027","C20 CARPINTERIA DE MADERA","UN",null,null,0,null,null,0]
[null,"AND004 ","COLOCACION DE ABERTURAS DE MADERA","GLOBAL",null,null,0,null,null,{"$f":"+G361-K361","v":0}]
[null,null,"HERRERÍA",null,null,null,{"$f":"+H362","v":0},{"$f":"SUM(G363:G383)","v":0},null,{"$f":"SUM(J363:J383)","v":0},{"$f":"SUM(K363:K383)","v":0}]
[null,"AGC011","H1 CARPINTERIA DE HIERRO","UN",null,null,{"$f":"ROUND(E363*F363,2)","v":0},null,null,{"$f":"+G363-K363","v":0}]
[null,"AGC012","H2 CARPINTERIA DE HIERRO","UN",null,null,0,null,null,0]
[null,"AGC013","H3 CARPINTERIA DE HIERRO","UN",null,null,0,null,null,0]
[null,"AGC014","H4 CARPINTERIA DE HIERRO","UN",null,null,0,null,null,0]
[null,"AGC015","H5 CARPINTERIA DE HIERRO","UN",null,null,0,null,null,0]
[null,"AGC016","H6 CARPINTERIA DE HIERRO","UN",null,null,0,null,null,0]
[null,"AGC017","H7 CARPINTERIA DE HIERRO","UN",null,null,0,null,null,0]
[null,"AGC018","H8 CARPINTERIA DE HIERRO","UN",null,null,0,null,null,0]
[null,"AGC019","H9 CARPINTERIA DE HIERRO","UN",null,null,0,null,null,0]
[null,"AGC020","H10 CARPINTERIA DE HIERRO","UN",null,null,0,null,null,0]
[null,"AGC021","H11 CARPINTERIA DE HIERRO","UN",null,null,0,null,null,0]
[null,"AGC022","H12 CARPINTERIA DE HIERRO","UN",null,null,0,null,null,0]
[null,"AGC023","H13 CARPINTERIA DE HIERRO","UN",null,null,0,null,null,0]
[null,"AGC024","H14 CARPINTERIA DE HIERRO","UN",null,null,0,null,null,0]
[null,"AGC025","H15 CARPINTERIA DE HIERRO","UN",null,null,0,null,null,0]
[null,"AGC026","H16 CARPINTERIA DE HIERRO","UN",null,null,0,null,null,0]
[null,"AGC027","H17 CARPINTERIA DE HIERRO","UN",null,null,0,null,null,0]
[null,"AGC028","H18 CARPINTERIA DE HIERRO","UN",null,null,0,null,null,0]
[null,"AGC029","H19 CARPINTERIA DE HIERRO","UN",null,null,0,null,null,0]
[null,"AGC030","H20 CARPINTERIA DE HIERRO","UN",null,null,0,null,null,0]
[null,"AND006","COLOCACION DE ABERTURAS DE HIERRO","GLOBAL",null,null,0,null,null,{"$f":"+G383-K383","v":0}]
[null,null,"PVC",null,null,null,{"$f":"+H384","v":0},{"$f":"SUM(G385:G389)","v":0},null,{"$f":"SUM(J385:J389)","v":0},{"$f":"SUM(K385:K389)","v":0}]
[null,"AGD010","PVC1 CORTINA DE ENROLLAR","UN",null,null,{"$f":"ROUND(E385*F385,2)","v":0},null,null,{"$f":"+G385-K385","v":0}]
[null,"AGD011","PVC2 CORTINA DE ENROLLAR","UN",null,null,0,null,null,0]
[null,"AGD012","PVC3 CORTINA DE ENROLLAR","UN",null,null,0,null,null,0]
[null,"AGD013","PVC4 CORTINA DE ENROLLAR","UN",null,null,0,null,null,0]
[null,"AGD014","PVC5 CORTINA DE ENROLLAR","UN",null,null,0,null,null,0]
[null,null,"VIDRIOS",null,null,null,{"$f":"+H390","v":0},{"$f":"SUM(G391:G391)","v":0},null,{"$f":"SUM(J391)","v":0},{"$f":"SUM(K391)","v":0}]
[null,"AGE010","VIDRIOS (GLOBAL)","GLOBAL",null,null,{"$f":"ROUND(E391*F391,2)","v":0},null,null,{"$f":"+G391-K391","v":0}]
[null,null,"INSTALACIÓN SANITARIA",null,null,null,{"$f":"+H392","v":0},{"$f":"G393+G394+G395+G400+G408","v":0},null,{"$f":"SUM(J393:J411)","v":0},{"$f":"SUM(K393:K411)","v":0}]
[null,"BBA008","CONEXIONES DOMICILIARIAS A SANEAMIENTO","GLOBAL",null,null,{"$f":"ROUND(E393*F393,2)","v":0},null,null,{"$f":"+G393-K393","v":0}]
[null,"BBB009","CONEXIONES DOMICILIARIAS (AGUA POTABLE)","GLOBAL",null,null,{"$f":"ROUND(E394*F394,2)","v":0},null,null,{"$f":"+G394-K394","v":0}]
[null,null,"ABASTECIMIENTO",null,null,null,{"$f":"SUM(G396:G399)","v":0}]
[null,"AMA004","RED AGUA POLIPROPILENO ROSCADO","GLOBAL",null,null,{"$f":"ROUND(E396*F396,2)","v":0},null,null,{"$f":"+G396-K396","v":0}]
[null,"AMA005","RED AGUA POLIPROPILENO TERMOFUSIONADO","GLOBAL",null,null,0,null,null,0]
[null,"AMA010","EQUIPOS DE BOMBEO","GLOBAL",null,null,0,null,null,{"$f":"+G398-K398","v":0}]
[null,"AMA011","INSTALACIONES EN DEPÓSITOS AGUA POTABLE","GLOBAL",null,null,0,null,null,{"$f":"+G399-K399","v":0}]
[null,null,"APARATOS Y GRIFERÍAS",null,null,null,{"$f":"SUM(G401:G407)","v":0}]
[null,"AMA006","CONEXIONES APARATOS SANITARIOS Y GRIFERÍA","GLOBAL",null,null,{"$f":"ROUND(E401*F401,2)","v":0},null,null,0]
[null,"AMA007","COLOCACIÓN CISTERNAS","UN",null,null,0,null,null,0]
[null,"AMA008","ACCESORIOS BAÑOS","GLOBAL",null,null,0,null,null,0]
[null,"AND007","SUMINISTRO DE ARTEFACTOS SANITARIOS (incluye cisternas)","GLOBAL",null,null,0,null,null,0]
[null,"AND008","COLOCACION DE ARTEFACTOS SANITARIOS","GLOBAL",null,null,0,null,null,0]
[null,"AND009","SUMINISTRO DE GRIFERIA","GLOBAL",null,null,0,null,null,0]
[null,"AND010","COLOCACION DE GRIFERIA","GLOBAL",null,null,0,null,null,0]
[null,null,"DESGÜES",null,null,null,{"$f":"SUM(G409:G411)","v":0}]
[null,"AMA001","DESAGÜES P.V.C.","GLOBAL",null,null,{"$f":"ROUND(E409*F409,2)","v":0},null,null,{"$f":"+G409-K409","v":0}]
[null,"AMA002","DESAGÜES FF","GLOBAL",null,null,0,null,null,{"$f":"+G410-K410","v":0}]
[null,"AMA003","DESAGÜES PPL CON JUNTAS DE GOMA","GLOBAL",null,null,0,null,null,{"$f":"+G411-K411","v":0}]
[null,null,"INSTALACIÓN CONTRA INCENDIOS",null,null,null,{"$f":"+H412","v":0},{"$f":"SUM(G413:G417)","v":0},null,{"$f":"SUM(J413:J417)","v":0},{"$f":"SUM(K413:K417)","v":0}]
[null,"AMB001","MANGUERAS Y GRIFOS","UN",null,null,{"$f":"ROUND(E413*F413,2)","v":0},null,null,0]
[null,"AMB002","EXTINGUIDORES","UN",null,null,0,null,null,0]
[null,"AMB004","INSTALACIÓN AGUA POR MEDIDAS CONTRA INCENDIO, RED,TANQUE, GRIFOS, BOCAS INCENDIO","UN",null,null,0,null,null,{"$f":"+G415-K415","v":0}]
[null,"AMB005","SEÑALIZACION MEDIDAS CONTRA INCENDIO","UN",null,null,0,null,null,0]
[null,"AMB006","INSTALACIÓN ELECTRICA POR MEDIDAS CONTRA INCENDIO, ALARMAS, BOMBAS,","UN",null,null,0,null,null,0]
[null,null,"INSTALACIÓN ELÉCTRICA",null,null,null,{"$f":"+H418","v":0},{"$f":"SUM(G419:G432)","v":0},null,{"$f":"SUM(J419:J432)","v":0},{"$f":"SUM(K419:K432)","v":0}]
[null,"AMC001","CANALIZACIONES EN LOSAS ( INST. ELÉCTRICA)","GLOBAL",null,null,{"$f":"ROUND(E419*F419,2)","v":0},null,null,0]
[null,"AMC002","CANALIZACIONES EN MUROS ( INST. ELÉCTRICA)","GLOBAL",null,null,0,null,null,0]
[null,"AMC003","CANALIZACIONES SUBTERRÁNEAS (INST. ELÉCTRICA)","GLOBAL",null,null,0,null,null,0]
[null,"AMC004","ENHEBRADOS","GLOBAL",null,null,0,null,null,0]
[null,"AMC005","TERMINACIONES ENTABLEROS","GLOBAL",null,null,0,null,null,0]
[null,"AMC006","COLOCACIÓN DE MÓDULOS Y PLACAS","GLOBAL",null,null,0,null,null,0]
[null,"AMC007","SUMINISTRO Y COLOCACIÓN DE LUMINARIAS","GLOBAL",null,null,0,null,null,0]
[null,"AMC008","INSTALACIÓN PARARRAYOS","GLOBAL",null,null,0,null,null,0]
[null,"AMD001","CANLIZACIONES EN LOSAS (TELEFÓNO)","GLOBAL",null,null,0,null,null,0]
[null,"AMD002","CANALIZACIONES EN MUROS (TELEFÓNO)","GLOBAL",null,null,0,null,null,0]
[null,"AMD003","ENHEBRADOS (TELEFÓNO)","GLOBAL",null,null,0,null,null,0]
[null,"AMD004","CAJA TERMINAL (TELEFÓNO)","GLOBAL",null,null,0,null,null,0]
[null,"AMF001","PORTERO ELÉCTRICO","UN",null,null,0,null,null,{"$f":"+G431-K431","v":0}]
[null,"BCB006","TASAS DE CONEXIÓN Y CARGA (UTE)","GLOBAL",null,null,0,null,null,{"$f":"+G432-K432","v":0}]
[null,null,"ASCENSOR",null,null,null,{"$f":"+H433","v":0},{"$f":"SUM(G434:G436)","v":0},null,{"$f":"SUM(J434:J436)","v":0},{"$f":"SUM(K434:K436)","v":0}]
[null,"AME001","MOTOR (ASCENSORES)","GLOBAL",null,null,{"$f":"ROUND(E434*F434,2)","v":0},null,null,{"$f":"+G434-K434","v":0}]
[null,"AME002","ESTRUCTURA DE CABINA ASCENSOR Y COM. PARCIAL","GLOBAL",null,null,0,null,null,0]
[null,"AME003","TERMINACIÓN DE CABINA ASCENSOR Y COMANDOS","GLOBAL",null,null,0,null,null,0]
[null,null,"PINTURA",null,null,null,{"$f":"+H437","v":0},{"$f":"SUM(G438:G444)","v":0},null,{"$f":"SUM(J438:J444)","v":0},{"$f":"SUM(K438:K444)","v":0}]
[null,"AHG001","PINTURA A LA CAL CON FIJADOR EN PARAMENTOS","M2",null,null,{"$f":"ROUND(E438*F438,2)","v":0},null,null,{"$f":"+G438-K438","v":0}]
[null,"AHG002","PINTURA A LA CAL CON FIJADOR EN CIELORRASOS","M2",null,null,0,null,null,0]
[null,"AHG003","PINTURA AL AGUA EN PARAMENTOS/CIELORRASOS","M2",null,null,0,null,null,0]
[null,"AHG004","PINTURAS CEMENTICIAS (EXTERIORES)","M2",null,null,0,null,null,0]
[null,"AHG005","PINTURA LATEX ACRILICA (EXTERIORES)","M2",null,null,0,null,null,0]
[null,"AHG010","ESMALTES SINTÉTICOS (S/MADERA/HERRERÍA)","M2",null,null,0,null,null,0]
[null,"AHG011","BARNIZ MARINO","M2",null,null,0,null,null,0]
[null,null,"SALÓN USOS MULTIPLES",null,null,null,{"$f":"+H445","v":0},{"$f":"SUM(G446:G452)","v":0},null,{"$f":"SUM(J446:J452)","v":0},{"$f":"SUM(K446:K452)","v":0}]
[null,"AOA001","FUNDACIONES PARA SUM","GLOBAL",null,null,{"$f":"ROUND(E446*F446,2)","v":0},null,null,{"$f":"+G446-K446","v":0}]
[null,"AOA005","ESTRUCTURA PARA SUM","GLOBAL",null,null,0,null,null,0]
[null,"AOA010","ALBAÑILERIA PARA SUM","GLOBAL",null,null,0,null,null,0]
[null,"AOA015","SANITARIA PARA SUM","GLOBAL",null,null,0,null,null,0]
[null,"AOA020","ELECTRICA PARA SUM","GLOBAL",null,null,0,null,null,0]
[null,"AOA025","ABERTURAS PARA SUM","GLOBAL",null,null,0,null,null,0]
[null,"AOA030","CUBIERTA PARA SUM","GLOBAL",null,null,0,null,null,0]
[null,null,"INFRAESTRUCTURA",null,null,null,{"$f":"SUM(G454:G532)","v":0},{"$f":"SUM(H454:H532)","v":0},null,{"$f":"+J454+J468+J487+J520+J530","v":0},{"$f":"+K454+K468+K487+K520+K530","v":0}]
[null,null,"OBRAS EXTERIORES",null,null,null,{"$f":"+H454","v":0},{"$f":"SUM(G455:G467)","v":0},null,{"$f":"SUM(J455:J467)","v":0},{"$f":"SUM(K455:K467)","v":0}]
[null,"ANB003","REJAS EXTERIORES","ML",null,null,{"$f":"ROUND(E455*F455,2)","v":0},null,null,{"$f":"+G455-K455","v":0}]
[null,"ANB004","PLANTACIÓN DE ÁRBOLES","UN",null,null,0,null,null,0]
[null,"ANB006","SUELO PASTO","M2",null,null,0,null,null,0]
[null,"ANB007","CERCOS METALICOS/MADERA","ML",null,null,0,null,null,0]
[null,"ANB008","CIMENTACIÓN,BANCOS Y MURETES","GLOBAL",null,null,0,null,null,0]
[null,"ANB009","MUROS/MURETES ALBAÑILERIA","M2",null,null,0,null,null,0]
[null,"ANB013","OBRAS EXTERIORES VARIAS (PARRILLERO, ESPACIO MEDIDORES, OTRAS)","GLOBAL",null,null,0,null,null,0]
[null,"ANB014","CANTO RODADO, PIEDRA PARTIDA, SOBRE BASE COMPACTADA","M2",null,null,0,null,null,0]
[null,"BAA001","DESMONTE A TERRAPLÉN","M3",null,null,0,null,null,0]
[null,"BAA002","DESMONTE A RETIRO","M3",null,null,0,null,null,0]
[null,"ABA005","RELLENOS CON APORTES","M3",null,null,0,null,null,0]
[null,"ANB017","MUROS DE CONTENCION HA (C/CIMIENTO)","M3",null,null,0,null,null,0]
[null,"ANB018","MUROS DE CONTENCION BLOQUE ARMADO (C/CIMIENTO)","M3",null,null,0,null,null,0]
[null,null,"INFRAESTRUCTURA ELÉCTRICA",null,null,null,{"$f":"+H468","v":0},{"$f":"SUM(G469:G486)","v":0},null,{"$f":"SUM(J469:J486)","v":0},{"$f":"SUM(K469:K486)","v":0}]
[null,"AND017","SUMINISTRO DE COLUMNAS DE ALUMBRADOS PREFABRICADAS","UN",null,null,{"$f":"ROUND(E469*F469,2)","v":0},null,null,{"$f":"+G469-K469","v":0}]
[null,"AND018","COLOCACION DE COLUMNAS DE ALUMBRADOS PREFABRICADAS","UN",null,null,0,null,null,0]
[null,"BCA003","DUCTOS (BT SUBTERRÁNEA)","M",null,null,0,null,null,0]
[null,"BCA005","CAÑOS DE HORMIGÓN (BT SUBTERRÁNEA)","M",null,null,{"$f":"ROUND(E472*F472,2)","v":0},null,null,{"$f":"+G472-K472","v":0}]
[null,"BCA006","CÁMARAS (BT SUBTERRÁNEA)","GLOBAL",null,null,0,null,null,0]
[null,"BCA007","CABLEADO (RED BT)","M",null,null,0,null,null,0]
[null,"BCB001","SUMINISTRO Y MONTAJE DE COLUMNAS (RED BT)","GLOBAL",null,null,0,null,null,0]
[null,"BCB003","CABLEADO (RED BT)","M",null,null,0,null,null,0]
[null,"BCC002","SUMINISTRO Y MONTAJE DE COLUMNAS (RED ALUMBRADO)","GLOBAL",null,null,0,null,null,0]
[null,"BCC004","CÁMARAS (RED ALUMBRADO)","GLOBAL",null,null,0,null,null,0]
[null,"BCC005","CAÑOS P.V.C (RED ALUMBRADO)","M",null,null,0,null,null,0]
[null,"BCC006","CONDUCTORES (RED ALUMBRADO)","M",null,null,0,null,null,0]
[null,"BCC007","ARTEFACTOS ILUMINACIÓN COMPLETOS","UN",null,null,0,null,null,0]
[null,"BCC008","TABLERO DE ILUMINACIÓN EXTERIOR","UN",null,null,0,null,null,0]
[null,"BDA002","DUCTOS (RED TELEFÓNICA)","GLOBAL",null,null,{"$f":"ROUND(E483*F483,2)","v":0},null,null,{"$f":"+G483-K483","v":0}]
[null,"BDA003","CÁMARAS (RED TELEFÓNICA)","GLOBAL",null,null,0,null,null,0]
[null,"BDA004","CAÑOS P.V.C (RED TELEFÓNICA)","ML",null,null,0,null,null,0]
[null,"BDA005","COLUMNAS (RED TELEFÓNICA)","GLOBAL",null,null,0,null,null,0]
[null,null,"INFRAESTRUCTURA SANITARIA",null,null,null,{"$f":"+H487","v":0},{"$f":"SUM(G488:G519)","v":0},null,{"$f":"SUM(J488:J519)","v":0},{"$f":"SUM(K488:K519)","v":0}]
[null,"BAB001","ALCANTARILLAS HORMIGÓN","M",null,null,{"$f":"ROUND(E488*F488,2)","v":0},null,null,{"$f":"+G488-K488","v":0}]
[null,"BAB002","BADENES HORMIGÓN","M",null,null,0,null,null,0]
[null,"BAB003","CUNETA LADRILLO","M",null,null,0,null,null,0]
[null,"BAB004","CUNETA HORMIGON","M",null,null,0,null,null,0]
[null,"BAB005","CORDON CUNETA","M",null,null,0,null,null,0]
[null,"BAB006","ENTUBAMIENTO DE HORMIGÓN","M",null,null,0,null,null,0]
[null,"BBA001","SUMINISTRO Y COLOCACIÓN PVC 110 MM","M",null,null,0,null,null,0]
[null,"BBA002","SUMINISTRO Y COLOCACIÓN PVC 160 MM","M",null,null,0,null,null,0]
[null,"BBA003","SUMINISTRO Y COLOCACIÓN PVC 200 MM","M",null,null,0,null,null,0]
[null,"BBA004","CÁMARAS DE INSPECCIÓN 60X60","UN",null,null,0,null,null,{"$f":"+G497-K497","v":0}]
[null,"BBA005","CÁMARAS DE INSPECCIÓN 60X110","UN",null,null,0,null,null,0]
[null,"BBA006","CÁMARAS TERMINALES","UN",null,null,0,null,null,0]
[null,"BBA009","CAMARAS DE LIMPIA (SANEAMIENTO)","UN",null,null,0,null,null,0]
[null,"BBA010","EXCAVACION Y TAPADO ZANJAS (SANEAMIENTO INTERNO)","M",null,null,0,null,null,0]
[null,"BBA011","POZO DE BOMBEO","GLOBAL",null,null,0,null,null,0]
[null,"BBA014","CONEXION TIPO MONTURA A SANEAMIENTO","GLOBAL",null,null,0,null,null,0]
[null,"BBA015","DEPOSITO IMPERMEABLE INDIVIDUAL","UN",null,null,0,null,null,0]
[null,"BBA016","DEPOSITO IMPERMEABLE COLECTIVO","GLOBAL",null,null,0,null,null,0]
[null,"BBA017","FOSA SEPTICA INDIVIDUAL","UN",null,null,0,null,null,0]
[null,"BBA018","FOSA SEPTICA COLECTIVA","GLOBAL",null,null,0,null,null,0]
[null,"BBA019","HUMEDAL","GLOBAL",null,null,0,null,null,0]
[null,"BBB001","SUMINISTRO Y COLOCACIÓN DE PVC DIÁMETRO 63 (AGUA POTABLE)","M",null,null,0,null,null,0]
[null,"BBB002","SUMINISTRO Y COLOCACIÓN DE PVC DIÁMETRO 75 (AGUA POTABLE)","M",null,null,0,null,null,0]
[null,"BBB007","HIDRANTES","UN",null,null,0,null,null,0]
[null,"BBB012","EXCAVACION Y TAPADO ZANJAS (RED INTERNA AGUA)","ML",null,null,0,null,null,0]
[null,"BBC001","DOBLE EQUIPO BOMBEO AGUA","GLOBAL",null,null,0,null,null,0]
[null,"BBC002","LLAVES Y PROTECCIONES ELECTROMAGNÉTICAS","GLOBAL",null,null,0,null,null,0]
[null,"BBC003","CONEXIÓN ELÉCTRICA BOMBAS","GLOBAL",null,null,0,null,null,0]
[null,"BBC004","CAÑERÍA SUBIDA Y BAJADA (A TANQUES DE AGUA)","GLOBAL",null,null,0,null,null,0]
[null,"BBC005","TANQUES ELEVADOS","GLOBAL",null,null,{"$f":"ROUND(E517*F517,2)","v":0},null,null,{"$f":"+G517-K517","v":0}]
[null,"AND013","SUMINISTRO DE TANQUES DE AGUA DE PVC","UN",null,null,0,null,null,0]
[null,"AND014","COLOCACION DE TANQUES DE AGUA DE PVC","GLOBAL",null,null,0,null,null,0]
[null,null,"CAMINERÍA",null,null,null,{"$f":"+H520","v":0},{"$f":"SUM(G521:G529)","v":0},null,{"$f":"SUM(J521:J529)","v":0},{"$f":"SUM(K521:K529)","v":0}]
[null,"BAC001","BASE/SUBBASE GRANULAR (P/PAVIMENTO VEH./PEATONAL)","M3",null,null,{"$f":"ROUND(E521*F521,2)","v":0},null,null,{"$f":"+G521-K521","v":0}]
[null,"BAC002","PAVIMENTO HORMIGÓN (VEHICULAR)","M2",null,null,0,null,null,0]
[null,"BAC003","PAVIMENTO HORMIGÓN (PEATONAL)","M2",null,null,0,null,null,{"$f":"+G523-K523","v":0}]
[null,"BAC004","TRATAMIENTO BITUMINOSO","M2",null,null,0,null,null,{"$f":"+G524-K524","v":0}]
[null,"BAC005","MEZCLA ASFÁLTICA","M2",null,null,0,null,null,{"$f":"+G525-K525","v":0}]
[null,"BAC006","BALDOSONES HORMIGÓN","M2",null,null,0,null,null,0]
[null,"BAC007","ADOQUINES DE HORMIGÓN","M2",null,null,0,null,null,{"$f":"+G527-K527","v":0}]
[null,"ZZX246","PAVIMENTOS VEHICULARES","M2",null,null,0,null,null,{"$f":"+G528-K528","v":0}]
[null,"ZZX247","CAMINERIA Y JARDINERIA","M2",null,null,0,null,null,0]
[null,null,"SUBESTACIÓN TRANSFORMADORA",null,null,null,{"$f":"+H530","v":0},{"$f":"SUM(G531:G532)","v":0},null,{"$f":"SUM(J531:J532)","v":0},{"$f":"SUM(K531:K532)","v":0}]
[null,"BCB005","SUBESTACIÓN TRANSFORMADORA","UN",null,null,{"$f":"ROUND(E531*F531,2)","v":0},null,null,{"$f":"+G531-K531","v":0}]
[]
[]
[null,null,"TOTALES",null,null,null,null,{"$f":"+H453+H21+H16+H13","v":0},null,{"$f":"+J453+J21+J16+J13","v":0},{"$f":"+K453+K21+K16+K13","v":0}]
[]
[null,"OBSERVACIONES:"]
[]
[]
[]
[]
[null,null,null,null,null,null,null,"FECHA:"]

{"sheet":"CRONOGRAMA","index":3,"n_rows":479,"n_cols":79,"rows_kept":479,"cut":false,"hidden":false,"merged":[[474,1,474,2],[13,72,13,73],[13,74,13,75],[13,77,13,78],[13,60,13,61],[13,62,13,63],[13,64,13,65],[13,66,13,67],[13,68,13,69],[13,52,13,53],[13,54,13,55],[13,56,13,57],[13,58,13,59],[13,70,13,71],[13,42,13,43],[13,44,13,45],[13,46,13,47],[13,48,13,49],[13,50,13,51],[13,32,13,33],[13,34,13,35],[13,36,13,37],[13,38,13,39],[13,40,13,41],[13,22,13,23],[13,24,13,25],[13,26,13,27],[13,28,13,29],[13,30,13,31],[13,12,13,13],[13,14,13,15],[13,16,13,17],[13,18,13,19],[13,20,13,21],[473,1,473,2],[13,4,13,5],[13,6,13,7],[13,8,13,9],[13,10,13,11]]}
[]
[]
[]
[]
[]
[]
[]
[]
[null,"PROPUESTA:",{"$f":"CARATULA!E14","v":0}]
[null,"NOMBRE :",{"$f":"+CARATULA!E15","v":0}]
[null,"FECHA:",{"$f":"IF(CARATULA!D7=\"\",\"\",CARATULA!D7)","v":""}]
[null,"ETAPA:",{"$f":"CARATULA!D8","v":0}]
[]
[null,"COD. UU.CC.","DESCRIPCIÓN UU.CC.","INVERSION",1,null,2,null,3,null,4,null,5,null,6,null,7,null,8,null,9,null,10,null,11,null,12,null,13,null,14,null,15,null,16,null,17,null,18,null,19,null,20,null,21,null,22,null,23,null,24,null,25,null,26,null,27,null,28,null,29,null,30,null,31,null,32,null,33,null,34,null,35,null,36,null,null,"VERIFICACIÓN"]
[null,"CAA002","HONORARIOS DIRECCION DE OBRA",{"$f":"PRESUPUESTO!J14+0","v":0},{"$f":"IF($D$15=0,\"\",E479)","v":""},{"$f":"IF($D$15=0,\"\",$D15*E15)","v":""},{"$f":"IF($D$15=0,\"\",G479)","v":""},{"$f":"IF($D$15=0,\"\",$D15*G15)","v":""},{"$f":"IF($D$15=0,\"\",I479)","v":""},{"$f":"IF($D$15=0,\"\",$D15*I15)","v":""},{"$f":"IF($D$15=0,\"\",K479)","v":""},{"$f":"IF($D$15=0,\"\",$D15*K15)","v":""},{"$f":"IF($D$15=0,\"\",M479)","v":""},{"$f":"IF($D$15=0,\"\",$D15*M15)","v":""},{"$f":"IF($D$15=0,\"\",O479)","v":""},{"$f":"IF($D$15=0,\"\",$D15*O15)","v":""},{"$f":"IF($D$15=0,\"\",Q479)","v":""},{"$f":"IF($D$15=0,\"\",$D15*Q15)","v":""},{"$f":"IF($D$15=0,\"\",S479)","v":""},{"$f":"IF($D$15=0,\"\",$D15*S15)","v":""},{"$f":"IF($D$15=0,\"\",U479)","v":""},{"$f":"IF($D$15=0,\"\",$D15*U15)","v":""},{"$f":"IF($D$15=0,\"\",W479)","v":""},{"$f":"IF($D$15=0,\"\",$D15*W15)","v":""},{"$f":"IF($D$15=0,\"\",Y479)","v":""},{"$f":"IF($D$15=0,\"\",$D15*Y15)","v":""},{"$f":"IF($D$15=0,\"\",AA479)","v":""},{"$f":"IF($D$15=0,\"\",$D15*AA15)","v":""},{"$f":"IF($D$15=0,\"\",AC479)","v":""},{"$f":"IF($D$15=0,\"\",$D15*AC15)","v":""},{"$f":"IF($D$15=0,\"\",AE479)","v":""},{"$f":"IF($D$15=0,\"\",$D15*AE15)","v":""},{"$f":"IF($D$15=0,\"\",AG479)","v":""},{"$f":"IF($D$15=0,\"\",$D15*AG15)","v":""},{"$f":"IF($D$15=0,\"\",AI479)","v":""},{"$f":"IF($D$15=0,\"\",$D15*AI15)","v":""},{"$f":"IF($D$15=0,\"\",AK479)","v":""},{"$f":"IF($D$15=0,\"\",$D15*AK15)","v":""},{"$f":"IF($D$15=0,\"\",AM479)","v":""},{"$f":"IF($D$15=0,\"\",$D15*AM15)","v":""},{"$f":"IF($D$15=0,\"\",AO479)","v":""},{"$f":"IF($D$15=0,\"\",$D15*AO15)","v":""},{"$f":"IF($D$15=0,\"\",AQ479)","v":""},{"$f":"IF($D$15=0,\"\",$D15*AQ15)","v":""},{"$f":"IF($D$15=0,\"\",AS479)","v":""},{"$f":"IF($D$15=0,\"\",$D15*AS15)","v":""},{"$f":"IF($D$15=0,\"\",AU479)","v":""},{"$f":"IF($D$15=0,\"\",$D15*AU15)","v":""},{"$f":"IF($D$15=0,\"\",AW479)","v":""},{"$f":"IF($D$15=0,\"\",$D15*AW15)","v":""},{"$f":"IF($D$15=0,\"\",AY479)","v":""},{"$f":"IF($D$15=0,\"\",$D15*AY15)","v":""},{"$f":"IF($D$15=0,\"\",BA479)","v":""},{"$f":"IF($D$15=0,\"\",$D15*BA15)","v":""},{"$f":"IF($D$15=0,\"\",BC479)","v":""},{"$f":"IF($D$15=0,\"\",$D15*BC15)","v":""},{"$f":"IF($D$15=0,\"\",BE479)","v":""},{"$f":"IF($D$15=0,\"\",$D15*BE15)","v":""},{"$f":"IF($D$15=0,\"\",BG479)","v":""},{"$f":"IF($D$15=0,\"\",$D15*BG15)","v":""},{"$f":"IF($D$15=0,\"\",BI479)","v":""},{"$f":"IF($D$15=0,\"\",$D15*BI15)","v":""},{"$f":"IF($D$15=0,\"\",BK479)","v":""},{"$f":"IF($D$15=0,\"\",$D15*BK15)","v":""},{"$f":"IF($D$15=0,\"\",BM479)","v":""},{"$f":"IF($D$15=0,\"\",$D15*BM15)","v":""},{"$f":"IF($D$15=0,\"\",BO479)","v":""},{"$f":"IF($D$15=0,\"\",$D15*BO15)","v":""},{"$f":"IF($D$15=0,\"\",BQ479)","v":""},{"$f":"IF($D$15=0,\"\",$D15*BQ15)","v":""},{"$f":"IF($D$15=0,\"\",BS479)","v":""},{"$f":"IF($D$15=0,\"\",$D15*BS15)","v":""},{"$f":"IF($D$15=0,\"\",BU479)","v":""},{"$f":"IF($D$15=0,\"\",$D15*BU15)","v":""},{"$f":"IF($D$15=0,\"\",BW479)","v":""},{"$f":"IF($D$15=0,\"\",$D15*BW15)","v":""},null,{"$f":"IF(D15=0,0,+E15+G15+I15+K15+M15+O15+Q15+S15+U15+W15+Y15+AA15+AC15+AE15+AG15+AI15+AK15+AM15+AO15+AQ15+AS15+AU15+AW15+AY15+BA15+BC15+BE15+BG15+BI15+BK15+BM15+BO15+BQ15+BS15+BU15+BW15)","v":0},{"$f":"IF(D15=0,0,ROUND(F15+H15+J15+L15+N15+P15+R15+T15+V15+X15+Z15+AB15+AD15+AF15+AH15+AJ15+AL15+AN15+AP15+AR15+AT15+AV15+AX15+AZ15+BB15+BD15+BF15+BH15+BJ15+BL15+BN15+BP15+BR15+BT15+BV15+BX15,2))","v":0}]
[null,"ZZX241","LEYES SOCIALES",{"$f":"+PRESUPUESTO!J15+0","v":0},{"$f":"IF($D$16=0,\"\",E479)","v":""},{"$f":"IF($D$16=0,\"\",$D16*E16)","v":""},{"$f":"IF($D$16=0,\"\",G479)","v":""},{"$f":"IF($D$16=0,\"\",$D16*G16)","v":""},{"$f":"IF($D$16=0,\"\",I479)","v":""},{"$f":"IF($D$16=0,\"\",$D16*I16)","v":""},{"$f":"IF($D$16=0,\"\",K479)","v":""},{"$f":"IF($D$16=0,\"\",$D16*K16)","v":""},{"$f":"IF($D$16=0,\"\",M479)","v":""},{"$f":"IF($D$16=0,\"\",$D16*M16)","v":""},{"$f":"IF($D$16=0,\"\",O479)","v":""},{"$f":"IF($D$16=0,\"\",$D16*O16)","v":""},{"$f":"IF($D$16=0,\"\",Q479)","v":""},{"$f":"IF($D$16=0,\"\",$D16*Q16)","v":""},{"$f":"IF($D$16=0,\"\",S479)","v":""},{"$f":"IF($D$16=0,\"\",$D16*S16)","v":""},{"$f":"IF($D$16=0,\"\",U479)","v":""},{"$f":"IF($D$16=0,\"\",$D16*U16)","v":""},{"$f":"IF($D$16=0,\"\",W479)","v":""},{"$f":"IF($D$16=0,\"\",$D16*W16)","v":""},{"$f":"IF($D$16=0,\"\",Y479)","v":""},{"$f":"IF($D$16=0,\"\",$D16*Y16)","v":""},{"$f":"IF($D$16=0,\"\",AA479)","v":""},{"$f":"IF($D$16=0,\"\",$D16*AA16)","v":""},{"$f":"IF($D$16=0,\"\",AC479)","v":""},{"$f":"IF($D$16=0,\"\",$D16*AC16)","v":""},{"$f":"IF($D$16=0,\"\",AE479)","v":""},{"$f":"IF($D$16=0,\"\",$D16*AE16)","v":""},{"$f":"IF($D$16=0,\"\",AG479)","v":""},{"$f":"IF($D$16=0,\"\",$D16*AG16)","v":""},{"$f":"IF($D$16=0,\"\",AI479)","v":""},{"$f":"IF($D$16=0,\"\",$D16*AI16)","v":""},{"$f":"IF($D$16=0,\"\",AK479)","v":""},{"$f":"IF($D$16=0,\"\",$D16*AK16)","v":""},{"$f":"IF($D$16=0,\"\",AM479)","v":""},{"$f":"IF($D$16=0,\"\",$D16*AM16)","v":""},{"$f":"IF($D$16=0,\"\",AO479)","v":""},{"$f":"IF($D$16=0,\"\",$D16*AO16)","v":""},{"$f":"IF($D$16=0,\"\",AQ479)","v":""},{"$f":"IF($D$16=0,\"\",$D16*AQ16)","v":""},{"$f":"IF($D$16=0,\"\",AS479)","v":""},{"$f":"IF($D$16=0,\"\",$D16*AS16)","v":""},{"$f":"IF($D$16=0,\"\",AU479)","v":""},{"$f":"IF($D$16=0,\"\",$D16*AU16)","v":""},{"$f":"IF($D$16=0,\"\",AW479)","v":""},{"$f":"IF($D$16=0,\"\",$D16*AW16)","v":""},{"$f":"IF($D$16=0,\"\",AY479)","v":""},{"$f":"IF($D$16=0,\"\",$D16*AY16)","v":""},{"$f":"IF($D$16=0,\"\",BA479)","v":""},{"$f":"IF($D$16=0,\"\",$D16*BA16)","v":""},{"$f":"IF($D$16=0,\"\",BC479)","v":""},{"$f":"IF($D$16=0,\"\",$D16*BC16)","v":""},{"$f":"IF($D$16=0,\"\",BE479)","v":""},{"$f":"IF($D$16=0,\"\",$D16*BE16)","v":""},{"$f":"IF($D$16=0,\"\",BG479)","v":""},{"$f":"IF($D$16=0,\"\",$D16*BG16)","v":""},{"$f":"IF($D$16=0,\"\",BI479)","v":""},{"$f":"IF($D$16=0,\"\",$D16*BI16)","v":""},{"$f":"IF($D$16=0,\"\",BK479)","v":""},{"$f":"IF($D$16=0,\"\",$D16*BK16)","v":""},{"$f":"IF($D$16=0,\"\",BM479)","v":""},{"$f":"IF($D$16=0,\"\",$D16*BM16)","v":""},{"$f":"IF($D$16=0,\"\",BO479)","v":""},{"$f":"IF($D$16=0,\"\",$D16*BO16)","v":""},{"$f":"IF($D$16=0,\"\",BQ479)","v":""},{"$f":"IF($D$16=0,\"\",$D16*BQ16)","v":""},{"$f":"IF($D$16=0,\"\",BS479)","v":""},{"$f":"IF($D$16=0,\"\",$D16*BS16)","v":""},{"$f":"IF($D$16=0,\"\",BU479)","v":""},{"$f":"IF($D$16=0,\"\",$D16*BU16)","v":""},{"$f":"IF($D$16=0,\"\",BW479)","v":""},{"$f":"IF($D$16=0,\"\",$D16*BW16)","v":""},null,{"$f":"IF(D16=0,0,+E16+G16+I16+K16+M16+O16+Q16+S16+U16+W16+Y16+AA16+AC16+AE16+AG16+AI16+AK16+AM16+AO16+AQ16+AS16+AU16+AW16+AY16+BA16+BC16+BE16+BG16+BI16+BK16+BM16+BO16+BQ16+BS16+BU16+BW16)","v":0},{"$f":"IF(D16=0,0,ROUND(F16+H16+J16+L16+N16+P16+R16+T16+V16+X16+Z16+AB16+AD16+AF16+AH16+AJ16+AL16+AN16+AP16+AR16+AT16+AV16+AX16+AZ16+BB16+BD16+BF16+BH16+BJ16+BL16+BN16+BP16+BR16+BT16+BV16+BX16,2))","v":0}]
[null,{"$f":"+PRESUPUESTO!B17","v":"A00001"},{"$f":"IF(B17=0, \"\",VLOOKUP(B17,PRESUPUESTO!$B$17:$C$4607, 2, FALSE))","v":"TERRENO"},{"$f":"IF(ISTEXT(B17), VLOOKUP(B17, PRESUPUESTO!$B$14:$J$4207, 9, FALSE),\"\")","v":0},null,{"$f":"IF($D17=\"\",\"\",$D17*E17)","v":0},null,{"$f":"IF($D17=\"\",\"\",$D17*G17)","v":0},null,{"$f":"IF($D17=\"\",\"\",$D17*I17)","v":0},null,{"$f":"IF($D17=\"\",\"\",$D17*K17)","v":0},null,{"$f":"IF($D17=\"\",\"\",$D17*M17)","v":0},null,{"$f":"IF($D17=\"\",\"\",$D17*O17)","v":0},null,{"$f":"IF($D17=\"\",\"\",$D17*Q17)","v":0},null,{"$f":"IF($D17=\"\",\"\",$D17*S17)","v":0},null,{"$f":"IF($D17=\"\",\"\",$D17*U17)","v":0},null,{"$f":"IF($D17=\"\",\"\",$D17*W17)","v":0},null,{"$f":"IF($D17=\"\",\"\",$D17*Y17)","v":0},null,{"$f":"IF($D17=\"\",\"\",$D17*AA17)","v":0},null,{"$f":"IF($D17=\"\",\"\",$D17*AC17)","v":0},null,{"$f":"IF($D17=\"\",\"\",$D17*AE17)","v":0},null,{"$f":"IF($D17=\"\",\"\",$D17*AG17)","v":0},null,{"$f":"IF($D17=\"\",\"\",$D17*AI17)","v":0},null,{"$f":"IF($D17=\"\",\"\",$D17*AK17)","v":0},null,{"$f":"IF($D17=\"\",\"\",$D17*AM17)","v":0},null,{"$f":"IF($D17=\"\",\"\",$D17*AO17)","v":0},null,{"$f":"IF($D17=\"\",\"\",$D17*AQ17)","v":0},null,{"$f":"IF($D17=\"\",\"\",$D17*AS17)","v":0},null,{"$f":"IF($D17=\"\",\"\",$D17*AU17)","v":0},null,{"$f":"IF($D17=\"\",\"\",$D17*AW17)","v":0},null,{"$f":"IF($D17=\"\",\"\",$D17*AY17)","v":0},null,{"$f":"IF($D17=\"\",\"\",$D17*BA17)","v":0},null,{"$f":"IF($D17=\"\",\"\",$D17*BC17)","v":0},null,{"$f":"IF($D17=\"\",\"\",$D17*BE17)","v":0},null,{"$f":"IF($D17=\"\",\"\",$D17*BG17)","v":0},null,{"$f":"IF($D17=\"\",\"\",$D17*BI17)","v":0},null,{"$f":"IF($D17=\"\",\"\",$D17*BK17)","v":0},null,{"$f":"IF($D17=\"\",\"\",$D17*BM17)","v":0},null,{"$f":"IF($D17=\"\",\"\",$D17*BO17)","v":0},null,{"$f":"IF($D17=\"\",\"\",$D17*BQ17)","v":0},null,{"$f":"IF($D17=\"\",\"\",$D17*BS17)","v":0},null,{"$f":"IF($D17=\"\",\"\",$D17*BU17)","v":0},null,{"$f":"IF($D17=\"\",\"\",$D17*BW17)","v":0},null,{"$f":"+E17+G17+I17+K17+M17+O17+Q17+S17+U17+W17+Y17+AA17+AC17+AE17+AG17+AI17+AK17+AM17+AO17+AQ17+AS17+AU17+AW17+AY17+BA17+BC17+BE17+BG17+BI17+BK17+BM17+BO17+BQ17+BS17+BU17+BW17","v":0},{"$f":"IF(D17=\"\",\"\",ROUND(F17+H17+J17+L17+N17+P17+R17+T17+V17+X17+Z17+AB17+AD17+AF17+AH17+AJ17+AL17+AN17+AP17+AR17+AT17+AV17+AX17+AZ17+BB17+BD17+BF17+BH17+BJ17+BL17+BN17+BP17+BR17+BT17+BV17+BX17,2))","v":0}]
[null,{"$f":"+PRESUPUESTO!B18","v":"CAC001"},{"$f":"IF(B18=0, \"\",VLOOKUP(B18,PRESUPUESTO!$B$17:$C$4607, 2, FALSE))","v":"HONORARIOS IAT a la escrituración"},{"$f":"IF(ISTEXT(B18), VLOOKUP(B18, PRESUPUESTO!$B$14:$J$4207, 9, FALSE),\"\")","v":0},null,{"$f":"IF($D18=\"\",\"\",$D18*E18)","v":0},null,0,null,{"$f":"IF($D18=\"\",\"\",$D18*I18)","v":0},null,{"$f":"IF($D18=\"\",\"\",$D18*K18)","v":0},null,{"$f":"IF($D18=\"\",\"\",$D18*M18)","v":0},null,{"$f":"IF($D18=\"\",\"\",$D18*O18)","v":0},null,{"$f":"IF($D18=\"\",\"\",$D18*Q18)","v":0},null,{"$f":"IF($D18=\"\",\"\",$D18*S18)","v":0},null,{"$f":"IF($D18=\"\",\"\",$D18*U18)","v":0},null,{"$f":"IF($D18=\"\",\"\",$D18*W18)","v":0},null,{"$f":"IF($D18=\"\",\"\",$D18*Y18)","v":0},null,{"$f":"IF($D18=\"\",\"\",$D18*AA18)","v":0},null,{"$f":"IF($D18=\"\",\"\",$D18*AC18)","v":0},null,{"$f":"IF($D18=\"\",\"\",$D18*AE18)","v":0},null,{"$f":"IF($D18=\"\",\"\",$D18*AG18)","v":0},null,{"$f":"IF($D18=\"\",\"\",$D18*AI18)","v":0},null,{"$f":"IF($D18=\"\",\"\",$D18*AK18)","v":0},null,{"$f":"IF($D18=\"\",\"\",$D18*AM18)","v":0},null,{"$f":"IF($D18=\"\",\"\",$D18*AO18)","v":0},null,{"$f":"IF($D18=\"\",\"\",$D18*AQ18)","v":0},null,{"$f":"IF($D18=\"\",\"\",$D18*AS18)","v":0},null,{"$f":"IF($D18=\"\",\"\",$D18*AU18)","v":0},null,{"$f":"IF($D18=\"\",\"\",$D18*AW18)","v":0},null,{"$f":"IF($D18=\"\",\"\",$D18*AY18)","v":0},null,{"$f":"IF($D18=\"\",\"\",$D18*BA18)","v":0},null,{"$f":"IF($D18=\"\",\"\",$D18*BC18)","v":0},null,{"$f":"IF($D18=\"\",\"\",$D18*BE18)","v":0},null,{"$f":"IF($D18=\"\",\"\",$D18*BG18)","v":0},null,{"$f":"IF($D18=\"\",\"\",$D18*BI18)","v":0},null,{"$f":"IF($D18=\"\",\"\",$D18*BK18)","v":0},null,{"$f":"IF($D18=\"\",\"\",$D18*BM18)","v":0},null,{"$f":"IF($D18=\"\",\"\",$D18*BO18)","v":0},null,{"$f":"IF($D18=\"\",\"\",$D18*BQ18)","v":0},null,{"$f":"IF($D18=\"\",\"\",$D18*BS18)","v":0},null,{"$f":"IF($D18=\"\",\"\",$D18*BU18)","v":0},null,{"$f":"IF($D18=\"\",\"\",$D18*BW18)","v":0},null,0,0]
[null,{"$f":"+PRESUPUESTO!B19","v":"CAG001"},{"$f":"IF(B19=0, \"\",VLOOKUP(B19,PRESUPUESTO!$B$17:$C$4607, 2, FALSE))","v":"PERMISO DE CONSTRUCCIÓN"},{"$f":"IF(ISTEXT(B19), VLOOKUP(B19, PRESUPUESTO!$B$14:$J$4207, 9, FALSE),\"\")","v":0},null,0,null,0,null,{"$f":"IF($D19=\"\",\"\",$D19*I19)","v":0},null,{"$f":"IF($D19=\"\",\"\",$D19*K19)","v":0},null,{"$f":"IF($D19=\"\",\"\",$D19*M19)","v":0},null,{"$f":"IF($D19=\"\",\"\",$D19*O19)","v":0},null,{"$f":"IF($D19=\"\",\"\",$D19*Q19)","v":0},null,{"$f":"IF($D19=\"\",\"\",$D19*S19)","v":0},null,{"$f":"IF($D19=\"\",\"\",$D19*U19)","v":0},null,{"$f":"IF($D19=\"\",\"\",$D19*W19)","v":0},null,{"$f":"IF($D19=\"\",\"\",$D19*Y19)","v":0},null,{"$f":"IF($D19=\"\",\"\",$D19*AA19)","v":0},null,{"$f":"IF($D19=\"\",\"\",$D19*AC19)","v":0},null,{"$f":"IF($D19=\"\",\"\",$D19*AE19)","v":0},null,{"$f":"IF($D19=\"\",\"\",$D19*AG19)","v":0},null,{"$f":"IF($D19=\"\",\"\",$D19*AI19)","v":0},null,{"$f":"IF($D19=\"\",\"\",$D19*AK19)","v":0},null,{"$f":"IF($D19=\"\",\"\",$D19*AM19)","v":0},null,{"$f":"IF($D19=\"\",\"\",$D19*AO19)","v":0},null,{"$f":"IF($D19=\"\",\"\",$D19*AQ19)","v":0},null,{"$f":"IF($D19=\"\",\"\",$D19*AS19)","v":0},null,{"$f":"IF($D19=\"\",\"\",$D19*AU19)","v":0},null,{"$f":"IF($D19=\"\",\"\",$D19*AW19)","v":0},null,{"$f":"IF($D19=\"\",\"\",$D19*AY19)","v":0},null,{"$f":"IF($D19=\"\",\"\",$D19*BA19)","v":0},null,{"$f":"IF($D19=\"\",\"\",$D19*BC19)","v":0},null,{"$f":"IF($D19=\"\",\"\",$D19*BE19)","v":0},null,{"$f":"IF($D19=\"\",\"\",$D19*BG19)","v":0},null,{"$f":"IF($D19=\"\",\"\",$D19*BI19)","v":0},null,{"$f":"IF($D19=\"\",\"\",$D19*BK19)","v":0},null,{"$f":"IF($D19=\"\",\"\",$D19*BM19)","v":0},null,{"$f":"IF($D19=\"\",\"\",$D19*BO19)","v":0},null,{"$f":"IF($D19=\"\",\"\",$D19*BQ19)","v":0},null,{"$f":"IF($D19=\"\",\"\",$D19*BS19)","v":0},null,{"$f":"IF($D19=\"\",\"\",$D19*BU19)","v":0},null,{"$f":"IF($D19=\"\",\"\",$D19*BW19)","v":0},null,0,0]
[null,{"$f":"+PRESUPUESTO!B20","v":"ZZX249"},{"$f":"IF(B20=0, \"\",VLOOKUP(B20,PRESUPUESTO!$B$17:$C$4607, 2, FALSE))","v":"AVANCE TOTAL DE OBRA"},{"$f":"IF(ISTEXT(B20), VLOOKUP(B20, PRESUPUESTO!$B$14:$J$4207, 9, FALSE),\"\")","v":0},null,0,null,0,null,{"$f":"IF($D20=\"\",\"\",$D20*I20)","v":0},null,{"$f":"IF($D20=\"\",\"\",$D20*K20)","v":0},null,{"$f":"IF($D20=\"\",\"\",$D20*M20)","v":0},null,{"$f":"IF($D20=\"\",\"\",$D20*O20)","v":0},null,{"$f":"IF($D20=\"\",\"\",$D20*Q20)","v":0},null,{"$f":"IF($D20=\"\",\"\",$D20*S20)","v":0},null,{"$f":"IF($D20=\"\",\"\",$D20*U20)","v":0},null,{"$f":"IF($D20=\"\",\"\",$D20*W20)","v":0},null,{"$f":"IF($D20=\"\",\"\",$D20*Y20)","v":0},null,{"$f":"IF($D20=\"\",\"\",$D20*AA20)","v":0},null,{"$f":"IF($D20=\"\",\"\",$D20*AC20)","v":0},null,{"$f":"IF($D20=\"\",\"\",$D20*AE20)","v":0},null,{"$f":"IF($D20=\"\",\"\",$D20*AG20)","v":0},null,{"$f":"IF($D20=\"\",\"\",$D20*AI20)","v":0},null,{"$f":"IF($D20=\"\",\"\",$D20*AK20)","v":0},null,{"$f":"IF($D20=\"\",\"\",$D20*AM20)","v":0},null,{"$f":"IF($D20=\"\",\"\",$D20*AO20)","v":0},null,{"$f":"IF($D20=\"\",\"\",$D20*AQ20)","v":0},null,{"$f":"IF($D20=\"\",\"\",$D20*AS20)","v":0},null,{"$f":"IF($D20=\"\",\"\",$D20*AU20)","v":0},null,{"$f":"IF($D20=\"\",\"\",$D20*AW20)","v":0},null,{"$f":"IF($D20=\"\",\"\",$D20*AY20)","v":0},null,{"$f":"IF($D20=\"\",\"\",$D20*BA20)","v":0},null,{"$f":"IF($D20=\"\",\"\",$D20*BC20)","v":0},null,{"$f":"IF($D20=\"\",\"\",$D20*BE20)","v":0},null,{"$f":"IF($D20=\"\",\"\",$D20*BG20)","v":0},null,{"$f":"IF($D20=\"\",\"\",$D20*BI20)","v":0},null,{"$f":"IF($D20=\"\",\"\",$D20*BK20)","v":0},null,{"$f":"IF($D20=\"\",\"\",$D20*BM20)","v":0},null,{"$f":"IF($D20=\"\",\"\",$D20*BO20)","v":0},null,{"$f":"IF($D20=\"\",\"\",$D20*BQ20)","v":0},null,{"$f":"IF($D20=\"\",\"\",$D20*BS20)","v":0},null,{"$f":"IF($D20=\"\",\"\",$D20*BU20)","v":0},null,{"$f":"IF($D20=\"\",\"\",$D20*BW20)","v":0},null,0,0]
[null,{"$f":"+PRESUPUESTO!B23","v":"AAA001"},{"$f":"IF(B21=0, \"\",VLOOKUP(B21,PRESUPUESTO!$B$17:$C$4607, 2, FALSE))","v":"LIMPIEZA DEL TERRENO"},{"$f":"IF(ISTEXT(B21), VLOOKUP(B21, PRESUPUESTO!$B$14:$J$4207, 9, FALSE),\"\")","v":0},null,0,null,0,null,{"$f":"IF($D21=\"\",\"\",$D21*I21)","v":0},null,{"$f":"IF($D21=\"\",\"\",$D21*K21)","v":0},null,{"$f":"IF($D21=\"\",\"\",$D21*M21)","v":0},null,{"$f":"IF($D21=\"\",\"\",$D21*O21)","v":0},null,{"$f":"IF($D21=\"\",\"\",$D21*Q21)","v":0},null,{"$f":"IF($D21=\"\",\"\",$D21*S21)","v":0},null,{"$f":"IF($D21=\"\",\"\",$D21*U21)","v":0},null,{"$f":"IF($D21=\"\",\"\",$D21*W21)","v":0},null,{"$f":"IF($D21=\"\",\"\",$D21*Y21)","v":0},null,{"$f":"IF($D21=\"\",\"\",$D21*AA21)","v":0},null,{"$f":"IF($D21=\"\",\"\",$D21*AC21)","v":0},null,{"$f":"IF($D21=\"\",\"\",$D21*AE21)","v":0},null,{"$f":"IF($D21=\"\",\"\",$D21*AG21)","v":0},null,{"$f":"IF($D21=\"\",\"\",$D21*AI21)","v":0},null,{"$f":"IF($D21=\"\",\"\",$D21*AK21)","v":0},null,{"$f":"IF($D21=\"\",\"\",$D21*AM21)","v":0},null,{"$f":"IF($D21=\"\",\"\",$D21*AO21)","v":0},null,{"$f":"IF($D21=\"\",\"\",$D21*AQ21)","v":0},null,{"$f":"IF($D21=\"\",\"\",$D21*AS21)","v":0},null,{"$f":"IF($D21=\"\",\"\",$D21*AU21)","v":0},null,{"$f":"IF($D21=\"\",\"\",$D21*AW21)","v":0},null,{"$f":"IF($D21=\"\",\"\",$D21*AY21)","v":0},null,{"$f":"IF($D21=\"\",\"\",$D21*BA21)","v":0},null,{"$f":"IF($D21=\"\",\"\",$D21*BC21)","v":0},null,{"$f":"IF($D21=\"\",\"\",$D21*BE21)","v":0},null,{"$f":"IF($D21=\"\",\"\",$D21*BG21)","v":0},null,{"$f":"IF($D21=\"\",\"\",$D21*BI21)","v":0},null,{"$f":"IF($D21=\"\",\"\",$D21*BK21)","v":0},null,{"$f":"IF($D21=\"\",\"\",$D21*BM21)","v":0},null,{"$f":"IF($D21=\"\",\"\",$D21*BO21)","v":0},null,{"$f":"IF($D21=\"\",\"\",$D21*BQ21)","v":0},null,{"$f":"IF($D21=\"\",\"\",$D21*BS21)","v":0},null,{"$f":"IF($D21=\"\",\"\",$D21*BU21)","v":0},null,{"$f":"IF($D21=\"\",\"\",$D21*BW21)","v":0},null,0,0]
[null,{"$f":"+PRESUPUESTO!B24","v":"AAA002"},{"$f":"IF(B22=0, \"\",VLOOKUP(B22,PRESUPUESTO!$B$17:$C$4607, 2, FALSE))","v":"EXTRACCIÓN DE ÁRBOLES"},{"$f":"IF(ISTEXT(B22), VLOOKUP(B22, PRESUPUESTO!$B$14:$J$4207, 9, FALSE),\"\")","v":0},null,{"$f":"IF($D22=\"\",\"\",$D22*E22)","v":0},null,0,null,{"$f":"IF($D22=\"\",\"\",$D22*I22)","v":0},null,{"$f":"IF($D22=\"\",\"\",$D22*K22)","v":0},null,{"$f":"IF($D22=\"\",\"\",$D22*M22)","v":0},null,{"$f":"IF($D22=\"\",\"\",$D22*O22)","v":0},null,{"$f":"IF($D22=\"\",\"\",$D22*Q22)","v":0},null,{"$f":"IF($D22=\"\",\"\",$D22*S22)","v":0},null,{"$f":"IF($D22=\"\",\"\",$D22*U22)","v":0},null,{"$f":"IF($D22=\"\",\"\",$D22*W22)","v":0},null,{"$f":"IF($D22=\"\",\"\",$D22*Y22)","v":0},null,{"$f":"IF($D22=\"\",\"\",$D22*AA22)","v":0},null,{"$f":"IF($D22=\"\",\"\",$D22*AC22)","v":0},null,{"$f":"IF($D22=\"\",\"\",$D22*AE22)","v":0},null,{"$f":"IF($D22=\"\",\"\",$D22*AG22)","v":0},null,{"$f":"IF($D22=\"\",\"\",$D22*AI22)","v":0},null,{"$f":"IF($D22=\"\",\"\",$D22*AK22)","v":0},null,{"$f":"IF($D22=\"\",\"\",$D22*AM22)","v":0},null,{"$f":"IF($D22=\"\",\"\",$D22*AO22)","v":0},null,{"$f":"IF($D22=\"\",\"\",$D22*AQ22)","v":0},null,{"$f":"IF($D22=\"\",\"\",$D22*AS22)","v":0},null,{"$f":"IF($D22=\"\",\"\",$D22*AU22)","v":0},null,{"$f":"IF($D22=\"\",\"\",$D22*AW22)","v":0},null,{"$f":"IF($D22=\"\",\"\",$D22*AY22)","v":0},null,{"$f":"IF($D22=\"\",\"\",$D22*BA22)","v":0},null,{"$f":"IF($D22=\"\",\"\",$D22*BC22)","v":0},null,{"$f":"IF($D22=\"\",\"\",$D22*BE22)","v":0},null,{"$f":"IF($D22=\"\",\"\",$D22*BG22)","v":0},null,{"$f":"IF($D22=\"\",\"\",$D22*BI22)","v":0},null,{"$f":"IF($D22=\"\",\"\",$D22*BK22)","v":0},null,{"$f":"IF($D22=\"\",\"\",$D22*BM22)","v":0},null,{"$f":"IF($D22=\"\",\"\",$D22*BO22)","v":0},null,{"$f":"IF($D22=\"\",\"\",$D22*BQ22)","v":0},null,{"$f":"IF($D22=\"\",\"\",$D22*BS22)","v":0},null,{"$f":"IF($D22=\"\",\"\",$D22*BU22)","v":0},null,{"$f":"IF($D22=\"\",\"\",$D22*BW22)","v":0},null,0,0]
[null,{"$f":"+PRESUPUESTO!B25","v":"AAA003"},{"$f":"IF(B23=0, \"\",VLOOKUP(B23,PRESUPUESTO!$B$17:$C$4607, 2, FALSE))","v":"RETIRO DE MATERIALES"},{"$f":"IF(ISTEXT(B23), VLOOKUP(B23, PRESUPUESTO!$B$14:$J$4207, 9, FALSE),\"\")","v":0},null,0,null,0,null,{"$f":"IF($D23=\"\",\"\",$D23*I23)","v":0},null,{"$f":"IF($D23=\"\",\"\",$D23*K23)","v":0},null,{"$f":"IF($D23=\"\",\"\",$D23*M23)","v":0},null,{"$f":"IF($D23=\"\",\"\",$D23*O23)","v":0},null,{"$f":"IF($D23=\"\",\"\",$D23*Q23)","v":0},null,{"$f":"IF($D23=\"\",\"\",$D23*S23)","v":0},null,{"$f":"IF($D23=\"\",\"\",$D23*U23)","v":0},null,{"$f":"IF($D23=\"\",\"\",$D23*W23)","v":0},null,{"$f":"IF($D23=\"\",\"\",$D23*Y23)","v":0},null,{"$f":"IF($D23=\"\",\"\",$D23*AA23)","v":0},null,{"$f":"IF($D23=\"\",\"\",$D23*AC23)","v":0},null,{"$f":"IF($D23=\"\",\"\",$D23*AE23)","v":0},null,{"$f":"IF($D23=\"\",\"\",$D23*AG23)","v":0},null,{"$f":"IF($D23=\"\",\"\",$D23*AI23)","v":0},null,{"$f":"IF($D23=\"\",\"\",$D23*AK23)","v":0},null,{"$f":"IF($D23=\"\",\"\",$D23*AM23)","v":0},null,{"$f":"IF($D23=\"\",\"\",$D23*AO23)","v":0},null,{"$f":"IF($D23=\"\",\"\",$D23*AQ23)","v":0},null,{"$f":"IF($D23=\"\",\"\",$D23*AS23)","v":0},null,{"$f":"IF($D23=\"\",\"\",$D23*AU23)","v":0},null,{"$f":"IF($D23=\"\",\"\",$D23*AW23)","v":0},null,{"$f":"IF($D23=\"\",\"\",$D23*AY23)","v":0},null,{"$f":"IF($D23=\"\",\"\",$D23*BA23)","v":0},null,{"$f":"IF($D23=\"\",\"\",$D23*BC23)","v":0},null,{"$f":"IF($D23=\"\",\"\",$D23*BE23)","v":0},null,{"$f":"IF($D23=\"\",\"\",$D23*BG23)","v":0},null,{"$f":"IF($D23=\"\",\"\",$D23*BI23)","v":0},null,{"$f":"IF($D23=\"\",\"\",$D23*BK23)","v":0},null,{"$f":"IF($D23=\"\",\"\",$D23*BM23)","v":0},null,{"$f":"IF($D23=\"\",\"\",$D23*BO23)","v":0},null,{"$f":"IF($D23=\"\",\"\",$D23*BQ23)","v":0},null,{"$f":"IF($D23=\"\",\"\",$D23*BS23)","v":0},null,{"$f":"IF($D23=\"\",\"\",$D23*BU23)","v":0},null,{"$f":"IF($D23=\"\",\"\",$D23*BW23)","v":0},null,0,0]
[null,{"$f":"+PRESUPUESTO!B26","v":"AAA004"},{"$f":"IF(B24=0, \"\",VLOOKUP(B24,PRESUPUESTO!$B$17:$C$4607, 2, FALSE))","v":"MEDIANERAS, RELEVAMIENTO (ACTA)"},{"$f":"IF(ISTEXT(B24), VLOOKUP(B24, PRESUPUESTO!$B$14:$J$4207, 9, FALSE),\"\")","v":0},null,0,null,0,null,{"$f":"IF($D24=\"\",\"\",$D24*I24)","v":0},null,{"$f":"IF($D24=\"\",\"\",$D24*K24)","v":0},null,{"$f":"IF($D24=\"\",\"\",$D24*M24)","v":0},null,{"$f":"IF($D24=\"\",\"\",$D24*O24)","v":0},null,{"$f":"IF($D24=\"\",\"\",$D24*Q24)","v":0},null,{"$f":"IF($D24=\"\",\"\",$D24*S24)","v":0},null,{"$f":"IF($D24=\"\",\"\",$D24*U24)","v":0},null,{"$f":"IF($D24=\"\",\"\",$D24*W24)","v":0},null,{"$f":"IF($D24=\"\",\"\",$D24*Y24)","v":0},null,{"$f":"IF($D24=\"\",\"\",$D24*AA24)","v":0},null,{"$f":"IF($D24=\"\",\"\",$D24*AC24)","v":0},null,{"$f":"IF($D24=\"\",\"\",$D24*AE24)","v":0},null,{"$f":"IF($D24=\"\",\"\",$D24*AG24)","v":0},null,{"$f":"IF($D24=\"\",\"\",$D24*AI24)","v":0},null,{"$f":"IF($D24=\"\",\"\",$D24*AK24)","v":0},null,{"$f":"IF($D24=\"\",\"\",$D24*AM24)","v":0},null,{"$f":"IF($D24=\"\",\"\",$D24*AO24)","v":0},null,{"$f":"IF($D24=\"\",\"\",$D24*AQ24)","v":0},null,{"$f":"IF($D24=\"\",\"\",$D24*AS24)","v":0},null,{"$f":"IF($D24=\"\",\"\",$D24*AU24)","v":0},null,{"$f":"IF($D24=\"\",\"\",$D24*AW24)","v":0},null,{"$f":"IF($D24=\"\",\"\",$D24*AY24)","v":0},null,{"$f":"IF($D24=\"\",\"\",$D24*BA24)","v":0},null,{"$f":"IF($D24=\"\",\"\",$D24*BC24)","v":0},null,{"$f":"IF($D24=\"\",\"\",$D24*BE24)","v":0},null,{"$f":"IF($D24=\"\",\"\",$D24*BG24)","v":0},null,{"$f":"IF($D24=\"\",\"\",$D24*BI24)","v":0},null,{"$f":"IF($D24=\"\",\"\",$D24*BK24)","v":0},null,{"$f":"IF($D24=\"\",\"\",$D24*BM24)","v":0},null,{"$f":"IF($D24=\"\",\"\",$D24*BO24)","v":0},null,{"$f":"IF($D24=\"\",\"\",$D24*BQ24)","v":0},null,{"$f":"IF($D24=\"\",\"\",$D24*BS24)","v":0},null,{"$f":"IF($D24=\"\",\"\",$D24*BU24)","v":0},null,{"$f":"IF($D24=\"\",\"\",$D24*BW24)","v":0},null,0,0]
[null,{"$f":"+PRESUPUESTO!B27","v":"AAA005"},{"$f":"IF(B25=0, \"\",VLOOKUP(B25,PRESUPUESTO!$B$17:$C$4607, 2, FALSE))","v":"REPLANTEO"},{"$f":"IF(ISTEXT(B25), VLOOKUP(B25, PRESUPUESTO!$B$14:$J$4207, 9, FALSE),\"\")","v":0},null,0,null,0,null,{"$f":"IF($D25=\"\",\"\",$D25*I25)","v":0},null,{"$f":"IF($D25=\"\",\"\",$D25*K25)","v":0},null,{"$f":"IF($D25=\"\",\"\",$D25*M25)","v":0},null,{"$f":"IF($D25=\"\",\"\",$D25*O25)","v":0},null,{"$f":"IF($D25=\"\",\"\",$D25*Q25)","v":0},null,{"$f":"IF($D25=\"\",\"\",$D25*S25)","v":0},null,{"$f":"IF($D25=\"\",\"\",$D25*U25)","v":0},null,{"$f":"IF($D25=\"\",\"\",$D25*W25)","v":0},null,{"$f":"IF($D25=\"\",\"\",$D25*Y25)","v":0},null,{"$f":"IF($D25=\"\",\"\",$D25*AA25)","v":0},null,{"$f":"IF($D25=\"\",\"\",$D25*AC25)","v":0},null,{"$f":"IF($D25=\"\",\"\",$D25*AE25)","v":0},null,{"$f":"IF($D25=\"\",\"\",$D25*AG25)","v":0},null,{"$f":"IF($D25=\"\",\"\",$D25*AI25)","v":0},null,{"$f":"IF($D25=\"\",\"\",$D25*AK25)","v":0},null,{"$f":"IF($D25=\"\",\"\",$D25*AM25)","v":0},null,{"$f":"IF($D25=\"\",\"\",$D25*AO25)","v":0},null,{"$f":"IF($D25=\"\",\"\",$D25*AQ25)","v":0},null,{"$f":"IF($D25=\"\",\"\",$D25*AS25)","v":0},null,{"$f":"IF($D25=\"\",\"\",$D25*AU25)","v":0},null,{"$f":"IF($D25=\"\",\"\",$D25*AW25)","v":0},null,{"$f":"IF($D25=\"\",\"\",$D25*AY25)","v":0},null,{"$f":"IF($D25=\"\",\"\",$D25*BA25)","v":0},null,{"$f":"IF($D25=\"\",\"\",$D25*BC25)","v":0},null,{"$f":"IF($D25=\"\",\"\",$D25*BE25)","v":0},null,{"$f":"IF($D25=\"\",\"\",$D25*BG25)","v":0},null,{"$f":"IF($D25=\"\",\"\",$D25*BI25)","v":0},null,{"$f":"IF($D25=\"\",\"\",$D25*BK25)","v":0},null,{"$f":"IF($D25=\"\",\"\",$D25*BM25)","v":0},null,{"$f":"IF($D25=\"\",\"\",$D25*BO25)","v":0},null,{"$f":"IF($D25=\"\",\"\",$D25*BQ25)","v":0},null,{"$f":"IF($D25=\"\",\"\",$D25*BS25)","v":0},null,{"$f":"IF($D25=\"\",\"\",$D25*BU25)","v":0},null,{"$f":"IF($D25=\"\",\"\",$D25*BW25)","v":0},null,0,0]
[null,{"$f":"+PRESUPUESTO!B28","v":"AAB001"},{"$f":"IF(B26=0, \"\",VLOOKUP(B26,PRESUPUESTO!$B$17:$C$4607, 2, FALSE))","v":"CERCADO DEL PREDIO"},{"$f":"IF(ISTEXT(B26), VLOOKUP(B26, PRESUPUESTO!$B$14:$J$4207, 9, FALSE),\"\")","v":0},null,0,null,0,null,{"$f":"IF($D26=\"\",\"\",$D26*I26)","v":0},null,{"$f":"IF($D26=\"\",\"\",$D26*K26)","v":0},null,{"$f":"IF($D26=\"\",\"\",$D26*M26)","v":0},null,{"$f":"IF($D26=\"\",\"\",$D26*O26)","v":0},null,{"$f":"IF($D26=\"\",\"\",$D26*Q26)","v":0},null,{"$f":"IF($D26=\"\",\"\",$D26*S26)","v":0},null,{"$f":"IF($D26=\"\",\"\",$D26*U26)","v":0},null,{"$f":"IF($D26=\"\",\"\",$D26*W26)","v":0},null,{"$f":"IF($D26=\"\",\"\",$D26*Y26)","v":0},null,{"$f":"IF($D26=\"\",\"\",$D26*AA26)","v":0},null,{"$f":"IF($D26=\"\",\"\",$D26*AC26)","v":0},null,{"$f":"IF($D26=\"\",\"\",$D26*AE26)","v":0},null,{"$f":"IF($D26=\"\",\"\",$D26*AG26)","v":0},null,{"$f":"IF($D26=\"\",\"\",$D26*AI26)","v":0},null,{"$f":"IF($D26=\"\",\"\",$D26*AK26)","v":0},null,{"$f":"IF($D26=\"\",\"\",$D26*AM26)","v":0},null,{"$f":"IF($D26=\"\",\"\",$D26*AO26)","v":0},null,{"$f":"IF($D26=\"\",\"\",$D26*AQ26)","v":0},null,{"$f":"IF($D26=\"\",\"\",$D26*AS26)","v":0},null,{"$f":"IF($D26=\"\",\"\",$D26*AU26)","v":0},null,{"$f":"IF($D26=\"\",\"\",$D26*AW26)","v":0},null,{"$f":"IF($D26=\"\",\"\",$D26*AY26)","v":0},null,{"$f":"IF($D26=\"\",\"\",$D26*BA26)","v":0},null,{"$f":"IF($D26=\"\",\"\",$D26*BC26)","v":0},null,{"$f":"IF($D26=\"\",\"\",$D26*BE26)","v":0},null,{"$f":"IF($D26=\"\",\"\",$D26*BG26)","v":0},null,{"$f":"IF($D26=\"\",\"\",$D26*BI26)","v":0},null,{"$f":"IF($D26=\"\",\"\",$D26*BK26)","v":0},null,{"$f":"IF($D26=\"\",\"\",$D26*BM26)","v":0},null,{"$f":"IF($D26=\"\",\"\",$D26*BO26)","v":0},null,{"$f":"IF($D26=\"\",\"\",$D26*BQ26)","v":0},null,{"$f":"IF($D26=\"\",\"\",$D26*BS26)","v":0},null,{"$f":"IF($D26=\"\",\"\",$D26*BU26)","v":0},null,{"$f":"IF($D26=\"\",\"\",$D26*BW26)","v":0},null,0,0]
[null,{"$f":"+PRESUPUESTO!B29","v":"AAB002"},{"$f":"IF(B27=0, \"\",VLOOKUP(B27,PRESUPUESTO!$B$17:$C$4607, 2, FALSE))","v":"CARTEL DE OBRA"},{"$f":"IF(ISTEXT(B27), VLOOKUP(B27, PRESUPUESTO!$B$14:$J$4207, 9, FALSE),\"\")","v":0},null,0,null,0,null,{"$f":"IF($D27=\"\",\"\",$D27*I27)","v":0},null,{"$f":"IF($D27=\"\",\"\",$D27*K27)","v":0},null,{"$f":"IF($D27=\"\",\"\",$D27*M27)","v":0},null,{"$f":"IF($D27=\"\",\"\",$D27*O27)","v":0},null,{"$f":"IF($D27=\"\",\"\",$D27*Q27)","v":0},null,{"$f":"IF($D27=\"\",\"\",$D27*S27)","v":0},null,{"$f":"IF($D27=\"\",\"\",$D27*U27)","v":0},null,{"$f":"IF($D27=\"\",\"\",$D27*W27)","v":0},null,{"$f":"IF($D27=\"\",\"\",$D27*Y27)","v":0},null,{"$f":"IF($D27=\"\",\"\",$D27*AA27)","v":0},null,{"$f":"IF($D27=\"\",\"\",$D27*AC27)","v":0},null,{"$f":"IF($D27=\"\",\"\",$D27*AE27)","v":0},null,{"$f":"IF($D27=\"\",\"\",$D27*AG27)","v":0},null,{"$f":"IF($D27=\"\",\"\",$D27*AI27)","v":0},null,{"$f":"IF($D27=\"\",\"\",$D27*AK27)","v":0},null,{"$f":"IF($D27=\"\",\"\",$D27*AM27)","v":0},null,{"$f":"IF($D27=\"\",\"\",$D27*AO27)","v":0},null,{"$f":"IF($D27=\"\",\"\",$D27*AQ27)","v":0},null,{"$f":"IF($D27=\"\",\"\",$D27*AS27)","v":0},null,{"$f":"IF($D27=\"\",\"\",$D27*AU27)","v":0},null,{"$f":"IF($D27=\"\",\"\",$D27*AW27)","v":0},null,{"$f":"IF($D27=\"\",\"\",$D27*AY27)","v":0},null,{"$f":"IF($D27=\"\",\"\",$D27*BA27)","v":0},null,{"$f":"IF($D27=\"\",\"\",$D27*BC27)","v":0},null,{"$f":"IF($D27=\"\",\"\",$D27*BE27)","v":0},null,{"$f":"IF($D27=\"\",\"\",$D27*BG27)","v":0},null,{"$f":"IF($D27=\"\",\"\",$D27*BI27)","v":0},null,{"$f":"IF($D27=\"\",\"\",$D27*BK27)","v":0},null,{"$f":"IF($D27=\"\",\"\",$D27*BM27)","v":0},null,{"$f":"IF($D27=\"\",\"\",$D27*BO27)","v":0},null,{"$f":"IF($D27=\"\",\"\",$D27*BQ27)","v":0},null,{"$f":"IF($D27=\"\",\"\",$D27*BS27)","v":0},null,{"$f":"IF($D27=\"\",\"\",$D27*BU27)","v":0},null,{"$f":"IF($D27=\"\",\"\",$D27*BW27)","v":0},null,0,0]
[null,{"$f":"+PRESUPUESTO!B30","v":"AAB003"},{"$f":"IF(B28=0, \"\",VLOOKUP(B28,PRESUPUESTO!$B$17:$C$4607, 2, FALSE))","v":"OFICINA-SERVICIO"},{"$f":"IF(ISTEXT(B28), VLOOKUP(B28, PRESUPUESTO!$B$14:$J$4207, 9, FALSE),\"\")","v":0},null,0,null,0,null,{"$f":"IF($D28=\"\",\"\",$D28*I28)","v":0},null,{"$f":"IF($D28=\"\",\"\",$D28*K28)","v":0},null,{"$f":"IF($D28=\"\",\"\",$D28*M28)","v":0},null,{"$f":"IF($D28=\"\",\"\",$D28*O28)","v":0},null,{"$f":"IF($D28=\"\",\"\",$D28*Q28)","v":0},null,{"$f":"IF($D28=\"\",\"\",$D28*S28)","v":0},null,{"$f":"IF($D28=\"\",\"\",$D28*U28)","v":0},null,{"$f":"IF($D28=\"\",\"\",$D28*W28)","v":0},null,{"$f":"IF($D28=\"\",\"\",$D28*Y28)","v":0},null,{"$f":"IF($D28=\"\",\"\",$D28*AA28)","v":0},null,{"$f":"IF($D28=\"\",\"\",$D28*AC28)","v":0},null,{"$f":"IF($D28=\"\",\"\",$D28*AE28)","v":0},null,{"$f":"IF($D28=\"\",\"\",$D28*AG28)","v":0},null,{"$f":"IF($D28=\"\",\"\",$D28*AI28)","v":0},null,{"$f":"IF($D28=\"\",\"\",$D28*AK28)","v":0},null,{"$f":"IF($D28=\"\",\"\",$D28*AM28)","v":0},null,{"$f":"IF($D28=\"\",\"\",$D28*AO28)","v":0},null,{"$f":"IF($D28=\"\",\"\",$D28*AQ28)","v":0},null,{"$f":"IF($D28=\"\",\"\",$D28*AS28)","v":0},null,{"$f":"IF($D28=\"\",\"\",$D28*AU28)","v":0},null,{"$f":"IF($D28=\"\",\"\",$D28*AW28)","v":0},null,{"$f":"IF($D28=\"\",\"\",$D28*AY28)","v":0},null,{"$f":"IF($D28=\"\",\"\",$D28*BA28)","v":0},null,{"$f":"IF($D28=\"\",\"\",$D28*BC28)","v":0},null,{"$f":"IF($D28=\"\",\"\",$D28*BE28)","v":0},null,{"$f":"IF($D28=\"\",\"\",$D28*BG28)","v":0},null,{"$f":"IF($D28=\"\",\"\",$D28*BI28)","v":0},null,{"$f":"IF($D28=\"\",\"\",$D28*BK28)","v":0},null,{"$f":"IF($D28=\"\",\"\",$D28*BM28)","v":0},null,{"$f":"IF($D28=\"\",\"\",$D28*BO28)","v":0},null,{"$f":"IF($D28=\"\",\"\",$D28*BQ28)","v":0},null,{"$f":"IF($D28=\"\",\"\",$D28*BS28)","v":0},null,{"$f":"IF($D28=\"\",\"\",$D28*BU28)","v":0},null,{"$f":"IF($D28=\"\",\"\",$D28*BW28)","v":0},null,0,0]
[null,{"$f":"+PRESUPUESTO!B31","v":"AAB004"},{"$f":"IF(B29=0, \"\",VLOOKUP(B29,PRESUPUESTO!$B$17:$C$4607, 2, FALSE))","v":"BAÑO QUÍMICO"},{"$f":"IF(ISTEXT(B29), VLOOKUP(B29, PRESUPUESTO!$B$14:$J$4207, 9, FALSE),\"\")","v":0},null,0,null,0,null,{"$f":"IF($D29=\"\",\"\",$D29*I29)","v":0},null,{"$f":"IF($D29=\"\",\"\",$D29*K29)","v":0},null,{"$f":"IF($D29=\"\",\"\",$D29*M29)","v":0},null,{"$f":"IF($D29=\"\",\"\",$D29*O29)","v":0},null,{"$f":"IF($D29=\"\",\"\",$D29*Q29)","v":0},null,{"$f":"IF($D29=\"\",\"\",$D29*S29)","v":0},null,{"$f":"IF($D29=\"\",\"\",$D29*U29)","v":0},null,{"$f":"IF($D29=\"\",\"\",$D29*W29)","v":0},null,{"$f":"IF($D29=\"\",\"\",$D29*Y29)","v":0},null,{"$f":"IF($D29=\"\",\"\",$D29*AA29)","v":0},null,{"$f":"IF($D29=\"\",\"\",$D29*AC29)","v":0},null,{"$f":"IF($D29=\"\",\"\",$D29*AE29)","v":0},null,{"$f":"IF($D29=\"\",\"\",$D29*AG29)","v":0},null,{"$f":"IF($D29=\"\",\"\",$D29*AI29)","v":0},null,{"$f":"IF($D29=\"\",\"\",$D29*AK29)","v":0},null,{"$f":"IF($D29=\"\",\"\",$D29*AM29)","v":0},null,{"$f":"IF($D29=\"\",\"\",$D29*AO29)","v":0},null,{"$f":"IF($D29=\"\",\"\",$D29*AQ29)","v":0},null,{"$f":"IF($D29=\"\",\"\",$D29*AS29)","v":0},null,{"$f":"IF($D29=\"\",\"\",$D29*AU29)","v":0},null,{"$f":"IF($D29=\"\",\"\",$D29*AW29)","v":0},null,{"$f":"IF($D29=\"\",\"\",$D29*AY29)","v":0},null,{"$f":"IF($D29=\"\",\"\",$D29*BA29)","v":0},null,{"$f":"IF($D29=\"\",\"\",$D29*BC29)","v":0},null,{"$f":"IF($D29=\"\",\"\",$D29*BE29)","v":0},null,{"$f":"IF($D29=\"\",\"\",$D29*BG29)","v":0},null,{"$f":"IF($D29=\"\",\"\",$D29*BI29)","v":0},null,{"$f":"IF($D29=\"\",\"\",$D29*BK29)","v":0},null,{"$f":"IF($D29=\"\",\"\",$D29*BM29)","v":0},null,{"$f":"IF($D29=\"\",\"\",$D29*BO29)","v":0},null,{"$f":"IF($D29=\"\",\"\",$D29*BQ29)","v":0},null,{"$f":"IF($D29=\"\",\"\",$D29*BS29)","v":0},null,{"$f":"IF($D29=\"\",\"\",$D29*BU29)","v":0},null,{"$f":"IF($D29=\"\",\"\",$D29*BW29)","v":0},null,0,0]
[null,{"$f":"+PRESUPUESTO!B32","v":"AAC001"},{"$f":"IF(B30=0, \"\",VLOOKUP(B30,PRESUPUESTO!$B$17:$C$4607, 2, FALSE))","v":"INSTALACIONES PROVISORIAS (AGUA, LUZ ,TELÉFONO)"},{"$f":"IF(ISTEXT(B30), VLOOKUP(B30, PRESUPUESTO!$B$14:$J$4207, 9, FALSE),\"\")","v":0},null,0,null,0,null,{"$f":"IF($D30=\"\",\"\",$D30*I30)","v":0},null,{"$f":"IF($D30=\"\",\"\",$D30*K30)","v":0},null,{"$f":"IF($D30=\"\",\"\",$D30*M30)","v":0},null,{"$f":"IF($D30=\"\",\"\",$D30*O30)","v":0},null,{"$f":"IF($D30=\"\",\"\",$D30*Q30)","v":0},null,{"$f":"IF($D30=\"\",\"\",$D30*S30)","v":0},null,{"$f":"IF($D30=\"\",\"\",$D30*U30)","v":0},null,{"$f":"IF($D30=\"\",\"\",$D30*W30)","v":0},null,{"$f":"IF($D30=\"\",\"\",$D30*Y30)","v":0},null,{"$f":"IF($D30=\"\",\"\",$D30*AA30)","v":0},null,{"$f":"IF($D30=\"\",\"\",$D30*AC30)","v":0},null,{"$f":"IF($D30=\"\",\"\",$D30*AE30)","v":0},null,{"$f":"IF($D30=\"\",\"\",$D30*AG30)","v":0},null,{"$f":"IF($D30=\"\",\"\",$D30*AI30)","v":0},null,{"$f":"IF($D30=\"\",\"\",$D30*AK30)","v":0},null,{"$f":"IF($D30=\"\",\"\",$D30*AM30)","v":0},null,{"$f":"IF($D30=\"\",\"\",$D30*AO30)","v":0},null,{"$f":"IF($D30=\"\",\"\",$D30*AQ30)","v":0},null,{"$f":"IF($D30=\"\",\"\",$D30*AS30)","v":0},null,{"$f":"IF($D30=\"\",\"\",$D30*AU30)","v":0},null,{"$f":"IF($D30=\"\",\"\",$D30*AW30)","v":0},null,{"$f":"IF($D30=\"\",\"\",$D30*AY30)","v":0},null,{"$f":"IF($D30=\"\",\"\",$D30*BA30)","v":0},null,{"$f":"IF($D30=\"\",\"\",$D30*BC30)","v":0},null,{"$f":"IF($D30=\"\",\"\",$D30*BE30)","v":0},null,{"$f":"IF($D30=\"\",\"\",$D30*BG30)","v":0},null,{"$f":"IF($D30=\"\",\"\",$D30*BI30)","v":0},null,{"$f":"IF($D30=\"\",\"\",$D30*BK30)","v":0},null,{"$f":"IF($D30=\"\",\"\",$D30*BM30)","v":0},null,{"$f":"IF($D30=\"\",\"\",$D30*BO30)","v":0},null,{"$f":"IF($D30=\"\",\"\",$D30*BQ30)","v":0},null,{"$f":"IF($D30=\"\",\"\",$D30*BS30)","v":0},null,{"$f":"IF($D30=\"\",\"\",$D30*BU30)","v":0},null,{"$f":"IF($D30=\"\",\"\",$D30*BW30)","v":0},null,0,0]
[null,{"$f":"+PRESUPUESTO!B34","v":"AAD001"},{"$f":"IF(B31=0, \"\",VLOOKUP(B31,PRESUPUESTO!$B$17:$C$4607, 2, FALSE))","v":"DEMOLICIONES Y RETIROS"},{"$f":"IF(ISTEXT(B31), VLOOKUP(B31, PRESUPUESTO!$B$14:$J$4207, 9, FALSE),\"\")","v":0},null,0,null,0,null,{"$f":"IF($D31=\"\",\"\",$D31*I31)","v":0},null,{"$f":"IF($D31=\"\",\"\",$D31*K31)","v":0},null,{"$f":"IF($D31=\"\",\"\",$D31*M31)","v":0},null,{"$f":"IF($D31=\"\",\"\",$D31*O31)","v":0},null,{"$f":"IF($D31=\"\",\"\",$D31*Q31)","v":0},null,{"$f":"IF($D31=\"\",\"\",$D31*S31)","v":0},null,{"$f":"IF($D31=\"\",\"\",$D31*U31)","v":0},null,{"$f":"IF($D31=\"\",\"\",$D31*W31)","v":0},null,{"$f":"IF($D31=\"\",\"\",$D31*Y31)","v":0},null,{"$f":"IF($D31=\"\",\"\",$D31*AA31)","v":0},null,{"$f":"IF($D31=\"\",\"\",$D31*AC31)","v":0},null,{"$f":"IF($D31=\"\",\"\",$D31*AE31)","v":0},null,{"$f":"IF($D31=\"\",\"\",$D31*AG31)","v":0},null,{"$f":"IF($D31=\"\",\"\",$D31*AI31)","v":0},null,{"$f":"IF($D31=\"\",\"\",$D31*AK31)","v":0},null,{"$f":"IF($D31=\"\",\"\",$D31*AM31)","v":0},null,{"$f":"IF($D31=\"\",\"\",$D31*AO31)","v":0},null,{"$f":"IF($D31=\"\",\"\",$D31*AQ31)","v":0},null,{"$f":"IF($D31=\"\",\"\",$D31*AS31)","v":0},null,{"$f":"IF($D31=\"\",\"\",$D31*AU31)","v":0},null,{"$f":"IF($D31=\"\",\"\",$D31*AW31)","v":0},null,{"$f":"IF($D31=\"\",\"\",$D31*AY31)","v":0},null,{"$f":"IF($D31=\"\",\"\",$D31*BA31)","v":0},null,{"$f":"IF($D31=\"\",\"\",$D31*BC31)","v":0},null,{"$f":"IF($D31=\"\",\"\",$D31*BE31)","v":0},null,{"$f":"IF($D31=\"\",\"\",$D31*BG31)","v":0},null,{"$f":"IF($D31=\"\",\"\",$D31*BI31)","v":0},null,{"$f":"IF($D31=\"\",\"\",$D31*BK31)","v":0},null,{"$f":"IF($D31=\"\",\"\",$D31*BM31)","v":0},null,{"$f":"IF($D31=\"\",\"\",$D31*BO31)","v":0},null,{"$f":"IF($D31=\"\",\"\",$D31*BQ31)","v":0},null,{"$f":"IF($D31=\"\",\"\",$D31*BS31)","v":0},null,{"$f":"IF($D31=\"\",\"\",$D31*BU31)","v":0},null,{"$f":"IF($D31=\"\",\"\",$D31*BW31)","v":0},null,0,0]
[null,{"$f":"+PRESUPUESTO!B36","v":"ABA006"},{"$f":"IF(B32=0, \"\",VLOOKUP(B32,PRESUPUESTO!$B$17:$C$4607, 2, FALSE))","v":"DESMONTE PARA CONTRAPISOS"},{"$f":"IF(ISTEXT(B32), VLOOKUP(B32, PRESUPUESTO!$B$14:$J$4207, 9, FALSE),\"\")","v":0},null,0,null,0,null,{"$f":"IF($D32=\"\",\"\",$D32*I32)","v":0},null,{"$f":"IF($D32=\"\",\"\",$D32*K32)","v":0},null,{"$f":"IF($D32=\"\",\"\",$D32*M32)","v":0},null,{"$f":"IF($D32=\"\",\"\",$D32*O32)","v":0},null,{"$f":"IF($D32=\"\",\"\",$D32*Q32)","v":0},null,{"$f":"IF($D32=\"\",\"\",$D32*S32)","v":0},null,{"$f":"IF($D32=\"\",\"\",$D32*U32)","v":0},null,{"$f":"IF($D32=\"\",\"\",$D32*W32)","v":0},null,{"$f":"IF($D32=\"\",\"\",$D32*Y32)","v":0},null,{"$f":"IF($D32=\"\",\"\",$D32*AA32)","v":0},null,{"$f":"IF($D32=\"\",\"\",$D32*AC32)","v":0},null,{"$f":"IF($D32=\"\",\"\",$D32*AE32)","v":0},null,{"$f":"IF($D32=\"\",\"\",$D32*AG32)","v":0},null,{"$f":"IF($D32=\"\",\"\",$D32*AI32)","v":0},null,{"$f":"IF($D32=\"\",\"\",$D32*AK32)","v":0},null,{"$f":"IF($D32=\"\",\"\",$D32*AM32)","v":0},null,{"$f":"IF($D32=\"\",\"\",$D32*AO32)","v":0},null,{"$f":"IF($D32=\"\",\"\",$D32*AQ32)","v":0},null,{"$f":"IF($D32=\"\",\"\",$D32*AS32)","v":0},null,{"$f":"IF($D32=\"\",\"\",$D32*AU32)","v":0},null,{"$f":"IF($D32=\"\",\"\",$D32*AW32)","v":0},null,{"$f":"IF($D32=\"\",\"\",$D32*AY32)","v":0},null,{"$f":"IF($D32=\"\",\"\",$D32*BA32)","v":0},null,{"$f":"IF($D32=\"\",\"\",$D32*BC32)","v":0},null,{"$f":"IF($D32=\"\",\"\",$D32*BE32)","v":0},null,{"$f":"IF($D32=\"\",\"\",$D32*BG32)","v":0},null,{"$f":"IF($D32=\"\",\"\",$D32*BI32)","v":0},null,{"$f":"IF($D32=\"\",\"\",$D32*BK32)","v":0},null,{"$f":"IF($D32=\"\",\"\",$D32*BM32)","v":0},null,{"$f":"IF($D32=\"\",\"\",$D32*BO32)","v":0},null,{"$f":"IF($D32=\"\",\"\",$D32*BQ32)","v":0},null,{"$f":"IF($D32=\"\",\"\",$D32*BS32)","v":0},null,{"$f":"IF($D32=\"\",\"\",$D32*BU32)","v":0},null,{"$f":"IF($D32=\"\",\"\",$D32*BW32)","v":0},null,0,0]
[null,{"$f":"+PRESUPUESTO!B37","v":"ABA007"},{"$f":"IF(B33=0, \"\",VLOOKUP(B33,PRESUPUESTO!$B$17:$C$4607, 2, FALSE))","v":"DESMONTE PARA PLATEA"},{"$f":"IF(ISTEXT(B33), VLOOKUP(B33, PRESUPUESTO!$B$14:$J$4207, 9, FALSE),\"\")","v":0},null,0,null,0,null,{"$f":"IF($D33=\"\",\"\",$D33*I33)","v":0},null,{"$f":"IF($D33=\"\",\"\",$D33*K33)","v":0},null,{"$f":"IF($D33=\"\",\"\",$D33*M33)","v":0},null,{"$f":"IF($D33=\"\",\"\",$D33*O33)","v":0},null,{"$f":"IF($D33=\"\",\"\",$D33*Q33)","v":0},null,{"$f":"IF($D33=\"\",\"\",$D33*S33)","v":0},null,{"$f":"IF($D33=\"\",\"\",$D33*U33)","v":0},null,{"$f":"IF($D33=\"\",\"\",$D33*W33)","v":0},null,{"$f":"IF($D33=\"\",\"\",$D33*Y33)","v":0},null,{"$f":"IF($D33=\"\",\"\",$D33*AA33)","v":0},null,{"$f":"IF($D33=\"\",\"\",$D33*AC33)","v":0},null,{"$f":"IF($D33=\"\",\"\",$D33*AE33)","v":0},null,{"$f":"IF($D33=\"\",\"\",$D33*AG33)","v":0},null,{"$f":"IF($D33=\"\",\"\",$D33*AI33)","v":0},null,{"$f":"IF($D33=\"\",\"\",$D33*AK33)","v":0},null,{"$f":"IF($D33=\"\",\"\",$D33*AM33)","v":0},null,{"$f":"IF($D33=\"\",\"\",$D33*AO33)","v":0},null,{"$f":"IF($D33=\"\",\"\",$D33*AQ33)","v":0},null,{"$f":"IF($D33=\"\",\"\",$D33*AS33)","v":0},null,{"$f":"IF($D33=\"\",\"\",$D33*AU33)","v":0},null,{"$f":"IF($D33=\"\",\"\",$D33*AW33)","v":0},null,{"$f":"IF($D33=\"\",\"\",$D33*AY33)","v":0},null,{"$f":"IF($D33=\"\",\"\",$D33*BA33)","v":0},null,{"$f":"IF($D33=\"\",\"\",$D33*BC33)","v":0},null,{"$f":"IF($D33=\"\",\"\",$D33*BE33)","v":0},null,{"$f":"IF($D33=\"\",\"\",$D33*BG33)","v":0},null,{"$f":"IF($D33=\"\",\"\",$D33*BI33)","v":0},null,{"$f":"IF($D33=\"\",\"\",$D33*BK33)","v":0},null,{"$f":"IF($D33=\"\",\"\",$D33*BM33)","v":0},null,{"$f":"IF($D33=\"\",\"\",$D33*BO33)","v":0},null,{"$f":"IF($D33=\"\",\"\",$D33*BQ33)","v":0},null,{"$f":"IF($D33=\"\",\"\",$D33*BS33)","v":0},null,{"$f":"IF($D33=\"\",\"\",$D33*BU33)","v":0},null,{"$f":"IF($D33=\"\",\"\",$D33*BW33)","v":0},null,0,0]
[null,{"$f":"+PRESUPUESTO!B38","v":"ABB005"},{"$f":"IF(B34=0, \"\",VLOOKUP(B34,PRESUPUESTO!$B$17:$C$4607, 2, FALSE))","v":"SUB BASE PARA PLATEA"},{"$f":"IF(ISTEXT(B34), VLOOKUP(B34, PRESUPUESTO!$B$14:$J$4207, 9, FALSE),\"\")","v":0},null,0,null,0,null,{"$f":"IF($D34=\"\",\"\",$D34*I34)","v":0},null,{"$f":"IF($D34=\"\",\"\",$D34*K34)","v":0},null,{"$f":"IF($D34=\"\",\"\",$D34*M34)","v":0},null,{"$f":"IF($D34=\"\",\"\",$D34*O34)","v":0},null,{"$f":"IF($D34=\"\",\"\",$D34*Q34)","v":0},null,{"$f":"IF($D34=\"\",\"\",$D34*S34)","v":0},null,{"$f":"IF($D34=\"\",\"\",$D34*U34)","v":0},null,{"$f":"IF($D34=\"\",\"\",$D34*W34)","v":0},null,{"$f":"IF($D34=\"\",\"\",$D34*Y34)","v":0},null,{"$f":"IF($D34=\"\",\"\",$D34*AA34)","v":0},null,{"$f":"IF($D34=\"\",\"\",$D34*AC34)","v":0},null,{"$f":"IF($D34=\"\",\"\",$D34*AE34)","v":0},null,{"$f":"IF($D34=\"\",\"\",$D34*AG34)","v":0},null,{"$f":"IF($D34=\"\",\"\",$D34*AI34)","v":0},null,{"$f":"IF($D34=\"\",\"\",$D34*AK34)","v":0},null,{"$f":"IF($D34=\"\",\"\",$D34*AM34)","v":0},null,{"$f":"IF($D34=\"\",\"\",$D34*AO34)","v":0},null,{"$f":"IF($D34=\"\",\"\",$D34*AQ34)","v":0},null,{"$f":"IF($D34=\"\",\"\",$D34*AS34)","v":0},null,{"$f":"IF($D34=\"\",\"\",$D34*AU34)","v":0},null,{"$f":"IF($D34=\"\",\"\",$D34*AW34)","v":0},null,{"$f":"IF($D34=\"\",\"\",$D34*AY34)","v":0},null,{"$f":"IF($D34=\"\",\"\",$D34*BA34)","v":0},null,{"$f":"IF($D34=\"\",\"\",$D34*BC34)","v":0},null,{"$f":"IF($D34=\"\",\"\",$D34*BE34)","v":0},null,{"$f":"IF($D34=\"\",\"\",$D34*BG34)","v":0},null,{"$f":"IF($D34=\"\",\"\",$D34*BI34)","v":0},null,{"$f":"IF($D34=\"\",\"\",$D34*BK34)","v":0},null,{"$f":"IF($D34=\"\",\"\",$D34*BM34)","v":0},null,{"$f":"IF($D34=\"\",\"\",$D34*BO34)","v":0},null,{"$f":"IF($D34=\"\",\"\",$D34*BQ34)","v":0},null,{"$f":"IF($D34=\"\",\"\",$D34*BS34)","v":0},null,{"$f":"IF($D34=\"\",\"\",$D34*BU34)","v":0},null,{"$f":"IF($D34=\"\",\"\",$D34*BW34)","v":0},null,0,0]
[null,{"$f":"+PRESUPUESTO!B39","v":"ABB006"},{"$f":"IF(B35=0, \"\",VLOOKUP(B35,PRESUPUESTO!$B$17:$C$4607, 2, FALSE))","v":"BASE PARA PLATEA"},{"$f":"IF(ISTEXT(B35), VLOOKUP(B35, PRESUPUESTO!$B$14:$J$4207, 9, FALSE),\"\")","v":0},null,0,null,0,null,{"$f":"IF($D35=\"\",\"\",$D35*I35)","v":0},null,{"$f":"IF($D35=\"\",\"\",$D35*K35)","v":0},null,{"$f":"IF($D35=\"\",\"\",$D35*M35)","v":0},null,{"$f":"IF($D35=\"\",\"\",$D35*O35)","v":0},null,{"$f":"IF($D35=\"\",\"\",$D35*Q35)","v":0},null,{"$f":"IF($D35=\"\",\"\",$D35*S35)","v":0},null,{"$f":"IF($D35=\"\",\"\",$D35*U35)","v":0},null,{"$f":"IF($D35=\"\",\"\",$D35*W35)","v":0},null,{"$f":"IF($D35=\"\",\"\",$D35*Y35)","v":0},null,{"$f":"IF($D35=\"\",\"\",$D35*AA35)","v":0},null,{"$f":"IF($D35=\"\",\"\",$D35*AC35)","v":0},null,{"$f":"IF($D35=\"\",\"\",$D35*AE35)","v":0},null,{"$f":"IF($D35=\"\",\"\",$D35*AG35)","v":0},null,{"$f":"IF($D35=\"\",\"\",$D35*AI35)","v":0},null,{"$f":"IF($D35=\"\",\"\",$D35*AK35)","v":0},null,{"$f":"IF($D35=\"\",\"\",$D35*AM35)","v":0},null,{"$f":"IF($D35=\"\",\"\",$D35*AO35)","v":0},null,{"$f":"IF($D35=\"\",\"\",$D35*AQ35)","v":0},null,{"$f":"IF($D35=\"\",\"\",$D35*AS35)","v":0},null,{"$f":"IF($D35=\"\",\"\",$D35*AU35)","v":0},null,{"$f":"IF($D35=\"\",\"\",$D35*AW35)","v":0},null,{"$f":"IF($D35=\"\",\"\",$D35*AY35)","v":0},null,{"$f":"IF($D35=\"\",\"\",$D35*BA35)","v":0},null,{"$f":"IF($D35=\"\",\"\",$D35*BC35)","v":0},null,{"$f":"IF($D35=\"\",\"\",$D35*BE35)","v":0},null,{"$f":"IF($D35=\"\",\"\",$D35*BG35)","v":0},null,{"$f":"IF($D35=\"\",\"\",$D35*BI35)","v":0},null,{"$f":"IF($D35=\"\",\"\",$D35*BK35)","v":0},null,{"$f":"IF($D35=\"\",\"\",$D35*BM35)","v":0},null,{"$f":"IF($D35=\"\",\"\",$D35*BO35)","v":0},null,{"$f":"IF($D35=\"\",\"\",$D35*BQ35)","v":0},null,{"$f":"IF($D35=\"\",\"\",$D35*BS35)","v":0},null,{"$f":"IF($D35=\"\",\"\",$D35*BU35)","v":0},null,{"$f":"IF($D35=\"\",\"\",$D35*BW35)","v":0},null,0,0]
[null,{"$f":"+PRESUPUESTO!B40","v":"ABB007"},{"$f":"IF(B36=0, \"\",VLOOKUP(B36,PRESUPUESTO!$B$17:$C$4607, 2, FALSE))","v":"TERRAPLÉN PARA CONTRAPISOS"},{"$f":"IF(ISTEXT(B36), VLOOKUP(B36, PRESUPUESTO!$B$14:$J$4207, 9, FALSE),\"\")","v":0},null,0,null,0,null,{"$f":"IF($D36=\"\",\"\",$D36*I36)","v":0},null,{"$f":"IF($D36=\"\",\"\",$D36*K36)","v":0},null,{"$f":"IF($D36=\"\",\"\",$D36*M36)","v":0},null,{"$f":"IF($D36=\"\",\"\",$D36*O36)","v":0},null,{"$f":"IF($D36=\"\",\"\",$D36*Q36)","v":0},null,{"$f":"IF($D36=\"\",\"\",$D36*S36)","v":0},null,{"$f":"IF($D36=\"\",\"\",$D36*U36)","v":0},null,{"$f":"IF($D36=\"\",\"\",$D36*W36)","v":0},null,{"$f":"IF($D36=\"\",\"\",$D36*Y36)","v":0},null,{"$f":"IF($D36=\"\",\"\",$D36*AA36)","v":0},null,{"$f":"IF($D36=\"\",\"\",$D36*AC36)","v":0},null,{"$f":"IF($D36=\"\",\"\",$D36*AE36)","v":0},null,{"$f":"IF($D36=\"\",\"\",$D36*AG36)","v":0},null,{"$f":"IF($D36=\"\",\"\",$D36*AI36)","v":0},null,{"$f":"IF($D36=\"\",\"\",$D36*AK36)","v":0},null,{"$f":"IF($D36=\"\",\"\",$D36*AM36)","v":0},null,{"$f":"IF($D36=\"\",\"\",$D36*AO36)","v":0},null,{"$f":"IF($D36=\"\",\"\",$D36*AQ36)","v":0},null,{"$f":"IF($D36=\"\",\"\",$D36*AS36)","v":0},null,{"$f":"IF($D36=\"\",\"\",$D36*AU36)","v":0},null,{"$f":"IF($D36=\"\",\"\",$D36*AW36)","v":0},null,{"$f":"IF($D36=\"\",\"\",$D36*AY36)","v":0},null,{"$f":"IF($D36=\"\",\"\",$D36*BA36)","v":0},null,{"$f":"IF($D36=\"\",\"\",$D36*BC36)","v":0},null,{"$f":"IF($D36=\"\",\"\",$D36*BE36)","v":0},null,{"$f":"IF($D36=\"\",\"\",$D36*BG36)","v":0},null,{"$f":"IF($D36=\"\",\"\",$D36*BI36)","v":0},null,{"$f":"IF($D36=\"\",\"\",$D36*BK36)","v":0},null,{"$f":"IF($D36=\"\",\"\",$D36*BM36)","v":0},null,{"$f":"IF($D36=\"\",\"\",$D36*BO36)","v":0},null,{"$f":"IF($D36=\"\",\"\",$D36*BQ36)","v":0},null,{"$f":"IF($D36=\"\",\"\",$D36*BS36)","v":0},null,{"$f":"IF($D36=\"\",\"\",$D36*BU36)","v":0},null,{"$f":"IF($D36=\"\",\"\",$D36*BW36)","v":0},null,0,0]
[null,{"$f":"+PRESUPUESTO!B41","v":"ABB001"},{"$f":"IF(B37=0, \"\",VLOOKUP(B37,PRESUPUESTO!$B$17:$C$4607, 2, FALSE))","v":"EXCAVACIONES CIMIENTOS"},{"$f":"IF(ISTEXT(B37), VLOOKUP(B37, PRESUPUESTO!$B$14:$J$4207, 9, FALSE),\"\")","v":0},null,0,null,0,null,{"$f":"IF($D37=\"\",\"\",$D37*I37)","v":0},null,{"$f":"IF($D37=\"\",\"\",$D37*K37)","v":0},null,{"$f":"IF($D37=\"\",\"\",$D37*M37)","v":0},null,{"$f":"IF($D37=\"\",\"\",$D37*O37)","v":0},null,{"$f":"IF($D37=\"\",\"\",$D37*Q37)","v":0},null,{"$f":"IF($D37=\"\",\"\",$D37*S37)","v":0},null,{"$f":"IF($D37=\"\",\"\",$D37*U37)","v":0},null,{"$f":"IF($D37=\"\",\"\",$D37*W37)","v":0},null,{"$f":"IF($D37=\"\",\"\",$D37*Y37)","v":0},null,{"$f":"IF($D37=\"\",\"\",$D37*AA37)","v":0},null,{"$f":"IF($D37=\"\",\"\",$D37*AC37)","v":0},null,{"$f":"IF($D37=\"\",\"\",$D37*AE37)","v":0},null,{"$f":"IF($D37=\"\",\"\",$D37*AG37)","v":0},null,{"$f":"IF($D37=\"\",\"\",$D37*AI37)","v":0},null,{"$f":"IF($D37=\"\",\"\",$D37*AK37)","v":0},null,{"$f":"IF($D37=\"\",\"\",$D37*AM37)","v":0},null,{"$f":"IF($D37=\"\",\"\",$D37*AO37)","v":0},null,{"$f":"IF($D37=\"\",\"\",$D37*AQ37)","v":0},null,{"$f":"IF($D37=\"\",\"\",$D37*AS37)","v":0},null,{"$f":"IF($D37=\"\",\"\",$D37*AU37)","v":0},null,{"$f":"IF($D37=\"\",\"\",$D37*AW37)","v":0},null,{"$f":"IF($D37=\"\",\"\",$D37*AY37)","v":0},null,{"$f":"IF($D37=\"\",\"\",$D37*BA37)","v":0},null,{"$f":"IF($D37=\"\",\"\",$D37*BC37)","v":0},null,{"$f":"IF($D37=\"\",\"\",$D37*BE37)","v":0},null,{"$f":"IF($D37=\"\",\"\",$D37*BG37)","v":0},null,{"$f":"IF($D37=\"\",\"\",$D37*BI37)","v":0},null,{"$f":"IF($D37=\"\",\"\",$D37*BK37)","v":0},null,{"$f":"IF($D37=\"\",\"\",$D37*BM37)","v":0},null,{"$f":"IF($D37=\"\",\"\",$D37*BO37)","v":0},null,{"$f":"IF($D37=\"\",\"\",$D37*BQ37)","v":0},null,{"$f":"IF($D37=\"\",\"\",$D37*BS37)","v":0},null,{"$f":"IF($D37=\"\",\"\",$D37*BU37)","v":0},null,{"$f":"IF($D37=\"\",\"\",$D37*BW37)","v":0},null,0,0]
[null,{"$f":"+PRESUPUESTO!B42","v":"ABB002"},{"$f":"IF(B38=0, \"\",VLOOKUP(B38,PRESUPUESTO!$B$17:$C$4607, 2, FALSE))","v":"DESCALCE DE VIGAS DE FUNDACIÓN"},{"$f":"IF(ISTEXT(B38), VLOOKUP(B38, PRESUPUESTO!$B$14:$J$4207, 9, FALSE),\"\")","v":0},null,0,null,0,null,{"$f":"IF($D38=\"\",\"\",$D38*I38)","v":0},null,{"$f":"IF($D38=\"\",\"\",$D38*K38)","v":0},null,{"$f":"IF($D38=\"\",\"\",$D38*M38)","v":0},null,{"$f":"IF($D38=\"\",\"\",$D38*O38)","v":0},null,{"$f":"IF($D38=\"\",\"\",$D38*Q38)","v":0},null,{"$f":"IF($D38=\"\",\"\",$D38*S38)","v":0},null,{"$f":"IF($D38=\"\",\"\",$D38*U38)","v":0},null,{"$f":"IF($D38=\"\",\"\",$D38*W38)","v":0},null,{"$f":"IF($D38=\"\",\"\",$D38*Y38)","v":0},null,{"$f":"IF($D38=\"\",\"\",$D38*AA38)","v":0},null,{"$f":"IF($D38=\"\",\"\",$D38*AC38)","v":0},null,{"$f":"IF($D38=\"\",\"\",$D38*AE38)","v":0},null,{"$f":"IF($D38=\"\",\"\",$D38*AG38)","v":0},null,{"$f":"IF($D38=\"\",\"\",$D38*AI38)","v":0},null,{"$f":"IF($D38=\"\",\"\",$D38*AK38)","v":0},null,{"$f":"IF($D38=\"\",\"\",$D38*AM38)","v":0},null,{"$f":"IF($D38=\"\",\"\",$D38*AO38)","v":0},null,{"$f":"IF($D38=\"\",\"\",$D38*AQ38)","v":0},null,{"$f":"IF($D38=\"\",\"\",$D38*AS38)","v":0},null,{"$f":"IF($D38=\"\",\"\",$D38*AU38)","v":0},null,{"$f":"IF($D38=\"\",\"\",$D38*AW38)","v":0},null,{"$f":"IF($D38=\"\",\"\",$D38*AY38)","v":0},null,{"$f":"IF($D38=\"\",\"\",$D38*BA38)","v":0},null,{"$f":"IF($D38=\"\",\"\",$D38*BC38)","v":0},null,{"$f":"IF($D38=\"\",\"\",$D38*BE38)","v":0},null,{"$f":"IF($D38=\"\",\"\",$D38*BG38)","v":0},null,{"$f":"IF($D38=\"\",\"\",$D38*BI38)","v":0},null,{"$f":"IF($D38=\"\",\"\",$D38*BK38)","v":0},null,{"$f":"IF($D38=\"\",\"\",$D38*BM38)","v":0},null,{"$f":"IF($D38=\"\",\"\",$D38*BO38)","v":0},null,{"$f":"IF($D38=\"\",\"\",$D38*BQ38)","v":0},null,{"$f":"IF($D38=\"\",\"\",$D38*BS38)","v":0},null,{"$f":"IF($D38=\"\",\"\",$D38*BU38)","v":0},null,{"$f":"IF($D38=\"\",\"\",$D38*BW38)","v":0},null,0,0]
[null,{"$f":"+PRESUPUESTO!B44","v":"ACA001"},{"$f":"IF(B39=0, \"\",VLOOKUP(B39,PRESUPUESTO!$B$17:$C$4607, 2, FALSE))","v":"DADOS (HORM.C.)"},{"$f":"IF(ISTEXT(B39), VLOOKUP(B39, PRESUPUESTO!$B$14:$J$4207, 9, FALSE),\"\")","v":0},null,0,null,0,null,{"$f":"IF($D39=\"\",\"\",$D39*I39)","v":0},null,{"$f":"IF($D39=\"\",\"\",$D39*K39)","v":0},null,{"$f":"IF($D39=\"\",\"\",$D39*M39)","v":0},null,{"$f":"IF($D39=\"\",\"\",$D39*O39)","v":0},null,{"$f":"IF($D39=\"\",\"\",$D39*Q39)","v":0},null,{"$f":"IF($D39=\"\",\"\",$D39*S39)","v":0},null,{"$f":"IF($D39=\"\",\"\",$D39*U39)","v":0},null,{"$f":"IF($D39=\"\",\"\",$D39*W39)","v":0},null,{"$f":"IF($D39=\"\",\"\",$D39*Y39)","v":0},null,{"$f":"IF($D39=\"\",\"\",$D39*AA39)","v":0},null,{"$f":"IF($D39=\"\",\"\",$D39*AC39)","v":0},null,{"$f":"IF($D39=\"\",\"\",$D39*AE39)","v":0},null,{"$f":"IF($D39=\"\",\"\",$D39*AG39)","v":0},null,{"$f":"IF($D39=\"\",\"\",$D39*AI39)","v":0},null,{"$f":"IF($D39=\"\",\"\",$D39*AK39)","v":0},null,{"$f":"IF($D39=\"\",\"\",$D39*AM39)","v":0},null,{"$f":"IF($D39=\"\",\"\",$D39*AO39)","v":0},null,{"$f":"IF($D39=\"\",\"\",$D39*AQ39)","v":0},null,{"$f":"IF($D39=\"\",\"\",$D39*AS39)","v":0},null,{"$f":"IF($D39=\"\",\"\",$D39*AU39)","v":0},null,{"$f":"IF($D39=\"\",\"\",$D39*AW39)","v":0},null,{"$f":"IF($D39=\"\",\"\",$D39*AY39)","v":0},null,{"$f":"IF($D39=\"\",\"\",$D39*BA39)","v":0},null,{"$f":"IF($D39=\"\",\"\",$D39*BC39)","v":0},null,{"$f":"IF($D39=\"\",\"\",$D39*BE39)","v":0},null,{"$f":"IF($D39=\"\",\"\",$D39*BG39)","v":0},null,{"$f":"IF($D39=\"\",\"\",$D39*BI39)","v":0},null,{"$f":"IF($D39=\"\",\"\",$D39*BK39)","v":0},null,{"$f":"IF($D39=\"\",\"\",$D39*BM39)","v":0},null,{"$f":"IF($D39=\"\",\"\",$D39*BO39)","v":0},null,{"$f":"IF($D39=\"\",\"\",$D39*BQ39)","v":0},null,{"$f":"IF($D39=\"\",\"\",$D39*BS39)","v":0},null,{"$f":"IF($D39=\"\",\"\",$D39*BU39)","v":0},null,{"$f":"IF($D39=\"\",\"\",$D39*BW39)","v":0},null,0,0]
[null,{"$f":"+PRESUPUESTO!B45","v":"ACA002"},{"$f":"IF(B40=0, \"\",VLOOKUP(B40,PRESUPUESTO!$B$17:$C$4607, 2, FALSE))","v":"BAJO PATINES (HORM.C.)"},{"$f":"IF(ISTEXT(B40), VLOOKUP(B40, PRESUPUESTO!$B$14:$J$4207, 9, FALSE),\"\")","v":0},null,0,null,0,null,{"$f":"IF($D40=\"\",\"\",$D40*I40)","v":0},null,{"$f":"IF($D40=\"\",\"\",$D40*K40)","v":0},null,{"$f":"IF($D40=\"\",\"\",$D40*M40)","v":0},null,{"$f":"IF($D40=\"\",\"\",$D40*O40)","v":0},null,{"$f":"IF($D40=\"\",\"\",$D40*Q40)","v":0},null,{"$f":"IF($D40=\"\",\"\",$D40*S40)","v":0},null,{"$f":"IF($D40=\"\",\"\",$D40*U40)","v":0},null,{"$f":"IF($D40=\"\",\"\",$D40*W40)","v":0},null,{"$f":"IF($D40=\"\",\"\",$D40*Y40)","v":0},null,{"$f":"IF($D40=\"\",\"\",$D40*AA40)","v":0},null,{"$f":"IF($D40=\"\",\"\",$D40*AC40)","v":0},null,{"$f":"IF($D40=\"\",\"\",$D40*AE40)","v":0},null,{"$f":"IF($D40=\"\",\"\",$D40*AG40)","v":0},null,{"$f":"IF($D40=\"\",\"\",$D40*AI40)","v":0},null,{"$f":"IF($D40=\"\",\"\",$D40*AK40)","v":0},null,{"$f":"IF($D40=\"\",\"\",$D40*AM40)","v":0},null,{"$f":"IF($D40=\"\",\"\",$D40*AO40)","v":0},null,{"$f":"IF($D40=\"\",\"\",$D40*AQ40)","v":0},null,{"$f":"IF($D40=\"\",\"\",$D40*AS40)","v":0},null,{"$f":"IF($D40=\"\",\"\",$D40*AU40)","v":0},null,{"$f":"IF($D40=\"\",\"\",$D40*AW40)","v":0},null,{"$f":"IF($D40=\"\",\"\",$D40*AY40)","v":0},null,{"$f":"IF($D40=\"\",\"\",$D40*BA40)","v":0},null,{"$f":"IF($D40=\"\",\"\",$D40*BC40)","v":0},null,{"$f":"IF($D40=\"\",\"\",$D40*BE40)","v":0},null,{"$f":"IF($D40=\"\",\"\",$D40*BG40)","v":0},null,{"$f":"IF($D40=\"\",\"\",$D40*BI40)","v":0},null,{"$f":"IF($D40=\"\",\"\",$D40*BK40)","v":0},null,{"$f":"IF($D40=\"\",\"\",$D40*BM40)","v":0},null,{"$f":"IF($D40=\"\",\"\",$D40*BO40)","v":0},null,{"$f":"IF($D40=\"\",\"\",$D40*BQ40)","v":0},null,{"$f":"IF($D40=\"\",\"\",$D40*BS40)","v":0},null,{"$f":"IF($D40=\"\",\"\",$D40*BU40)","v":0},null,{"$f":"IF($D40=\"\",\"\",$D40*BW40)","v":0},null,0,0]
[null,{"$f":"+PRESUPUESTO!B46","v":"ACA003"},{"$f":"IF(B41=0, \"\",VLOOKUP(B41,PRESUPUESTO!$B$17:$C$4607, 2, FALSE))","v":"MUROS CONTENCIÓN HORM.C."},{"$f":"IF(ISTEXT(B41), VLOOKUP(B41, PRESUPUESTO!$B$14:$J$4207, 9, FALSE),\"\")","v":0},null,0,null,0,null,{"$f":"IF($D41=\"\",\"\",$D41*I41)","v":0},null,{"$f":"IF($D41=\"\",\"\",$D41*K41)","v":0},null,{"$f":"IF($D41=\"\",\"\",$D41*M41)","v":0},null,{"$f":"IF($D41=\"\",\"\",$D41*O41)","v":0},null,{"$f":"IF($D41=\"\",\"\",$D41*Q41)","v":0},null,{"$f":"IF($D41=\"\",\"\",$D41*S41)","v":0},null,{"$f":"IF($D41=\"\",\"\",$D41*U41)","v":0},null,{"$f":"IF($D41=\"\",\"\",$D41*W41)","v":0},null,{"$f":"IF($D41=\"\",\"\",$D41*Y41)","v":0},null,{"$f":"IF($D41=\"\",\"\",$D41*AA41)","v":0},null,{"$f":"IF($D41=\"\",\"\",$D41*AC41)","v":0},null,{"$f":"IF($D41=\"\",\"\",$D41*AE41)","v":0},null,{"$f":"IF($D41=\"\",\"\",$D41*AG41)","v":0},null,{"$f":"IF($D41=\"\",\"\",$D41*AI41)","v":0},null,{"$f":"IF($D41=\"\",\"\",$D41*AK41)","v":0},null,{"$f":"IF($D41=\"\",\"\",$D41*AM41)","v":0},null,{"$f":"IF($D41=\"\",\"\",$D41*AO41)","v":0},null,{"$f":"IF($D41=\"\",\"\",$D41*AQ41)","v":0},null,{"$f":"IF($D41=\"\",\"\",$D41*AS41)","v":0},null,{"$f":"IF($D41=\"\",\"\",$D41*AU41)","v":0},null,{"$f":"IF($D41=\"\",\"\",$D41*AW41)","v":0},null,{"$f":"IF($D41=\"\",\"\",$D41*AY41)","v":0},null,{"$f":"IF($D41=\"\",\"\",$D41*BA41)","v":0},null,{"$f":"IF($D41=\"\",\"\",$D41*BC41)","v":0},null,{"$f":"IF($D41=\"\",\"\",$D41*BE41)","v":0},null,{"$f":"IF($D41=\"\",\"\",$D41*BG41)","v":0},null,{"$f":"IF($D41=\"\",\"\",$D41*BI41)","v":0},null,{"$f":"IF($D41=\"\",\"\",$D41*BK41)","v":0},null,{"$f":"IF($D41=\"\",\"\",$D41*BM41)","v":0},null,{"$f":"IF($D41=\"\",\"\",$D41*BO41)","v":0},null,{"$f":"IF($D41=\"\",\"\",$D41*BQ41)","v":0},null,{"$f":"IF($D41=\"\",\"\",$D41*BS41)","v":0},null,{"$f":"IF($D41=\"\",\"\",$D41*BU41)","v":0},null,{"$f":"IF($D41=\"\",\"\",$D41*BW41)","v":0},null,0,0]
[null,{"$f":"+PRESUPUESTO!B47","v":"ACA004"},{"$f":"IF(B42=0, \"\",VLOOKUP(B42,PRESUPUESTO!$B$17:$C$4607, 2, FALSE))","v":"CIMENTACION CORRIDA (HORM.CICLOPEO)"},{"$f":"IF(ISTEXT(B42), VLOOKUP(B42, PRESUPUESTO!$B$14:$J$4207, 9, FALSE),\"\")","v":0},null,0,null,0,null,{"$f":"IF($D42=\"\",\"\",$D42*I42)","v":0},null,{"$f":"IF($D42=\"\",\"\",$D42*K42)","v":0},null,{"$f":"IF($D42=\"\",\"\",$D42*M42)","v":0},null,{"$f":"IF($D42=\"\",\"\",$D42*O42)","v":0},null,{"$f":"IF($D42=\"\",\"\",$D42*Q42)","v":0},null,{"$f":"IF($D42=\"\",\"\",$D42*S42)","v":0},null,{"$f":"IF($D42=\"\",\"\",$D42*U42)","v":0},null,{"$f":"IF($D42=\"\",\"\",$D42*W42)","v":0},null,{"$f":"IF($D42=\"\",\"\",$D42*Y42)","v":0},null,{"$f":"IF($D42=\"\",\"\",$D42*AA42)","v":0},null,{"$f":"IF($D42=\"\",\"\",$D42*AC42)","v":0},null,{"$f":"IF($D42=\"\",\"\",$D42*AE42)","v":0},null,{"$f":"IF($D42=\"\",\"\",$D42*AG42)","v":0},null,{"$f":"IF($D42=\"\",\"\",$D42*AI42)","v":0},null,{"$f":"IF($D42=\"\",\"\",$D42*AK42)","v":0},null,{"$f":"IF($D42=\"\",\"\",$D42*AM42)","v":0},null,{"$f":"IF($D42=\"\",\"\",$D42*AO42)","v":0},null,{"$f":"IF($D42=\"\",\"\",$D42*AQ42)","v":0},null,{"$f":"IF($D42=\"\",\"\",$D42*AS42)","v":0},null,{"$f":"IF($D42=\"\",\"\",$D42*AU42)","v":0},null,{"$f":"IF($D42=\"\",\"\",$D42*AW42)","v":0},null,{"$f":"IF($D42=\"\",\"\",$D42*AY42)","v":0},null,{"$f":"IF($D42=\"\",\"\",$D42*BA42)","v":0},null,{"$f":"IF($D42=\"\",\"\",$D42*BC42)","v":0},null,{"$f":"IF($D42=\"\",\"\",$D42*BE42)","v":0},null,{"$f":"IF($D42=\"\",\"\",$D42*BG42)","v":0},null,{"$f":"IF($D42=\"\",\"\",$D42*BI42)","v":0},null,{"$f":"IF($D42=\"\",\"\",$D42*BK42)","v":0},null,{"$f":"IF($D42=\"\",\"\",$D42*BM42)","v":0},null,{"$f":"IF($D42=\"\",\"\",$D42*BO42)","v":0},null,{"$f":"IF($D42=\"\",\"\",$D42*BQ42)","v":0},null,{"$f":"IF($D42=\"\",\"\",$D42*BS42)","v":0},null,{"$f":"IF($D42=\"\",\"\",$D42*BU42)","v":0},null,{"$f":"IF($D42=\"\",\"\",$D42*BW42)","v":0},null,0,0]
[null,{"$f":"+PRESUPUESTO!B50","v":"ACB001"},{"$f":"IF(B43=0, \"\",VLOOKUP(B43,PRESUPUESTO!$B$17:$C$4607, 2, FALSE))","v":"PILOTES IN SITU (PERFORADOS Y/O ENTUBADOS)"},{"$f":"IF(ISTEXT(B43), VLOOKUP(B43, PRESUPUESTO!$B$14:$J$4207, 9, FALSE),\"\")","v":0},null,0,null,0,null,{"$f":"IF($D43=\"\",\"\",$D43*I43)","v":0},null,{"$f":"IF($D43=\"\",\"\",$D43*K43)","v":0},null,{"$f":"IF($D43=\"\",\"\",$D43*M43)","v":0},null,{"$f":"IF($D43=\"\",\"\",$D43*O43)","v":0},null,{"$f":"IF($D43=\"\",\"\",$D43*Q43)","v":0},null,{"$f":"IF($D43=\"\",\"\",$D43*S43)","v":0},null,{"$f":"IF($D43=\"\",\"\",$D43*U43)","v":0},null,{"$f":"IF($D43=\"\",\"\",$D43*W43)","v":0},null,{"$f":"IF($D43=\"\",\"\",$D43*Y43)","v":0},null,{"$f":"IF($D43=\"\",\"\",$D43*AA43)","v":0},null,{"$f":"IF($D43=\"\",\"\",$D43*AC43)","v":0},null,{"$f":"IF($D43=\"\",\"\",$D43*AE43)","v":0},null,{"$f":"IF($D43=\"\",\"\",$D43*AG43)","v":0},null,{"$f":"IF($D43=\"\",\"\",$D43*AI43)","v":0},null,{"$f":"IF($D43=\"\",\"\",$D43*AK43)","v":0},null,{"$f":"IF($D43=\"\",\"\",$D43*AM43)","v":0},null,{"$f":"IF($D43=\"\",\"\",$D43*AO43)","v":0},null,{"$f":"IF($D43=\"\",\"\",$D43*AQ43)","v":0},null,{"$f":"IF($D43=\"\",\"\",$D43*AS43)","v":0},null,{"$f":"IF($D43=\"\",\"\",$D43*AU43)","v":0},null,{"$f":"IF($D43=\"\",\"\",$D43*AW43)","v":0},null,{"$f":"IF($D43=\"\",\"\",$D43*AY43)","v":0},null,{"$f":"IF($D43=\"\",\"\",$D43*BA43)","v":0},null,{"$f":"IF($D43=\"\",\"\",$D43*BC43)","v":0},null,{"$f":"IF($D43=\"\",\"\",$D43*BE43)","v":0},null,{"$f":"IF($D43=\"\",\"\",$D43*BG43)","v":0},null,{"$f":"IF($D43=\"\",\"\",$D43*BI43)","v":0},null,{"$f":"IF($D43=\"\",\"\",$D43*BK43)","v":0},null,{"$f":"IF($D43=\"\",\"\",$D43*BM43)","v":0},null,{"$f":"IF($D43=\"\",\"\",$D43*BO43)","v":0},null,{"$f":"IF($D43=\"\",\"\",$D43*BQ43)","v":0},null,{"$f":"IF($D43=\"\",\"\",$D43*BS43)","v":0},null,{"$f":"IF($D43=\"\",\"\",$D43*BU43)","v":0},null,{"$f":"IF($D43=\"\",\"\",$D43*BW43)","v":0},null,{"$f":"+E43+G43+I43+K43+M43+O43+Q43+S43+U43+W43+Y43+AA43+AC43+AE43+AG43+AI43+AK43+AM43+AO43+AQ43+AS43+AU43+AW43+AY43+BA43+BC43+BE43+BG43+BI43+BK43+BM43+BO43+BQ43+BS43+BU43+BW43","v":0},0]
[null,{"$f":"+PRESUPUESTO!B51","v":"ACB002"},{"$f":"IF(B44=0, \"\",VLOOKUP(B44,PRESUPUESTO!$B$17:$C$4607, 2, FALSE))","v":"PILOTINES PERFORADOS"},{"$f":"IF(ISTEXT(B44), VLOOKUP(B44, PRESUPUESTO!$B$14:$J$4207, 9, FALSE),\"\")","v":0},null,0,null,0,null,{"$f":"IF($D44=\"\",\"\",$D44*I44)","v":0},null,{"$f":"IF($D44=\"\",\"\",$D44*K44)","v":0},null,{"$f":"IF($D44=\"\",\"\",$D44*M44)","v":0},null,{"$f":"IF($D44=\"\",\"\",$D44*O44)","v":0},null,{"$f":"IF($D44=\"\",\"\",$D44*Q44)","v":0},null,{"$f":"IF($D44=\"\",\"\",$D44*S44)","v":0},null,{"$f":"IF($D44=\"\",\"\",$D44*U44)","v":0},null,{"$f":"IF($D44=\"\",\"\",$D44*W44)","v":0},null,{"$f":"IF($D44=\"\",\"\",$D44*Y44)","v":0},null,{"$f":"IF($D44=\"\",\"\",$D44*AA44)","v":0},null,{"$f":"IF($D44=\"\",\"\",$D44*AC44)","v":0},null,{"$f":"IF($D44=\"\",\"\",$D44*AE44)","v":0},null,{"$f":"IF($D44=\"\",\"\",$D44*AG44)","v":0},null,{"$f":"IF($D44=\"\",\"\",$D44*AI44)","v":0},null,{"$f":"IF($D44=\"\",\"\",$D44*AK44)","v":0},null,{"$f":"IF($D44=\"\",\"\",$D44*AM44)","v":0},null,{"$f":"IF($D44=\"\",\"\",$D44*AO44)","v":0},null,{"$f":"IF($D44=\"\",\"\",$D44*AQ44)","v":0},null,{"$f":"IF($D44=\"\",\"\",$D44*AS44)","v":0},null,{"$f":"IF($D44=\"\",\"\",$D44*AU44)","v":0},null,{"$f":"IF($D44=\"\",\"\",$D44*AW44)","v":0},null,{"$f":"IF($D44=\"\",\"\",$D44*AY44)","v":0},null,{"$f":"IF($D44=\"\",\"\",$D44*BA44)","v":0},null,{"$f":"IF($D44=\"\",\"\",$D44*BC44)","v":0},null,{"$f":"IF($D44=\"\",\"\",$D44*BE44)","v":0},null,{"$f":"IF($D44=\"\",\"\",$D44*BG44)","v":0},null,{"$f":"IF($D44=\"\",\"\",$D44*BI44)","v":0},null,{"$f":"IF($D44=\"\",\"\",$D44*BK44)","v":0},null,{"$f":"IF($D44=\"\",\"\",$D44*BM44)","v":0},null,{"$f":"IF($D44=\"\",\"\",$D44*BO44)","v":0},null,{"$f":"IF($D44=\"\",\"\",$D44*BQ44)","v":0},null,{"$f":"IF($D44=\"\",\"\",$D44*BS44)","v":0},null,{"$f":"IF($D44=\"\",\"\",$D44*BU44)","v":0},null,{"$f":"IF($D44=\"\",\"\",$D44*BW44)","v":0},null,0,0]
[null,{"$f":"+PRESUPUESTO!B52","v":"ACC001"},{"$f":"IF(B45=0, \"\",VLOOKUP(B45,PRESUPUESTO!$B$17:$C$4607, 2, FALSE))","v":"PATINES"},{"$f":"IF(ISTEXT(B45), VLOOKUP(B45, PRESUPUESTO!$B$14:$J$4207, 9, FALSE),\"\")","v":0},null,0,null,0,null,{"$f":"IF($D45=\"\",\"\",$D45*I45)","v":0},null,{"$f":"IF($D45=\"\",\"\",$D45*K45)","v":0},null,{"$f":"IF($D45=\"\",\"\",$D45*M45)","v":0},null,{"$f":"IF($D45=\"\",\"\",$D45*O45)","v":0},null,{"$f":"IF($D45=\"\",\"\",$D45*Q45)","v":0},null,{"$f":"IF($D45=\"\",\"\",$D45*S45)","v":0},null,{"$f":"IF($D45=\"\",\"\",$D45*U45)","v":0},null,{"$f":"IF($D45=\"\",\"\",$D45*W45)","v":0},null,{"$f":"IF($D45=\"\",\"\",$D45*Y45)","v":0},null,{"$f":"IF($D45=\"\",\"\",$D45*AA45)","v":0},null,{"$f":"IF($D45=\"\",\"\",$D45*AC45)","v":0},null,{"$f":"IF($D45=\"\",\"\",$D45*AE45)","v":0},null,{"$f":"IF($D45=\"\",\"\",$D45*AG45)","v":0},null,{"$f":"IF($D45=\"\",\"\",$D45*AI45)","v":0},null,{"$f":"IF($D45=\"\",\"\",$D45*AK45)","v":0},null,{"$f":"IF($D45=\"\",\"\",$D45*AM45)","v":0},null,{"$f":"IF($D45=\"\",\"\",$D45*AO45)","v":0},null,{"$f":"IF($D45=\"\",\"\",$D45*AQ45)","v":0},null,{"$f":"IF($D45=\"\",\"\",$D45*AS45)","v":0},null,{"$f":"IF($D45=\"\",\"\",$D45*AU45)","v":0},null,{"$f":"IF($D45=\"\",\"\",$D45*AW45)","v":0},null,{"$f":"IF($D45=\"\",\"\",$D45*AY45)","v":0},null,{"$f":"IF($D45=\"\",\"\",$D45*BA45)","v":0},null,{"$f":"IF($D45=\"\",\"\",$D45*BC45)","v":0},null,{"$f":"IF($D45=\"\",\"\",$D45*BE45)","v":0},null,{"$f":"IF($D45=\"\",\"\",$D45*BG45)","v":0},null,{"$f":"IF($D45=\"\",\"\",$D45*BI45)","v":0},null,{"$f":"IF($D45=\"\",\"\",$D45*BK45)","v":0},null,{"$f":"IF($D45=\"\",\"\",$D45*BM45)","v":0},null,{"$f":"IF($D45=\"\",\"\",$D45*BO45)","v":0},null,{"$f":"IF($D45=\"\",\"\",$D45*BQ45)","v":0},null,{"$f":"IF($D45=\"\",\"\",$D45*BS45)","v":0},null,{"$f":"IF($D45=\"\",\"\",$D45*BU45)","v":0},null,{"$f":"IF($D45=\"\",\"\",$D45*BW45)","v":0},null,0,0]
[null,{"$f":"+PRESUPUESTO!B53","v":"ACC002"},{"$f":"IF(B46=0, \"\",VLOOKUP(B46,PRESUPUESTO!$B$17:$C$4607, 2, FALSE))","v":"ZAPATA CORRIDA"},{"$f":"IF(ISTEXT(B46), VLOOKUP(B46, PRESUPUESTO!$B$14:$J$4207, 9, FALSE),\"\")","v":0},null,0,null,0,null,{"$f":"IF($D46=\"\",\"\",$D46*I46)","v":0},null,{"$f":"IF($D46=\"\",\"\",$D46*K46)","v":0},null,{"$f":"IF($D46=\"\",\"\",$D46*M46)","v":0},null,{"$f":"IF($D46=\"\",\"\",$D46*O46)","v":0},null,{"$f":"IF($D46=\"\",\"\",$D46*Q46)","v":0},null,{"$f":"IF($D46=\"\",\"\",$D46*S46)","v":0},null,{"$f":"IF($D46=\"\",\"\",$D46*U46)","v":0},null,{"$f":"IF($D46=\"\",\"\",$D46*W46)","v":0},null,{"$f":"IF($D46=\"\",\"\",$D46*Y46)","v":0},null,{"$f":"IF($D46=\"\",\"\",$D46*AA46)","v":0},null,{"$f":"IF($D46=\"\",\"\",$D46*AC46)","v":0},null,{"$f":"IF($D46=\"\",\"\",$D46*AE46)","v":0},null,{"$f":"IF($D46=\"\",\"\",$D46*AG46)","v":0},null,{"$f":"IF($D46=\"\",\"\",$D46*AI46)","v":0},null,{"$f":"IF($D46=\"\",\"\",$D46*AK46)","v":0},null,{"$f":"IF($D46=\"\",\"\",$D46*AM46)","v":0},null,{"$f":"IF($D46=\"\",\"\",$D46*AO46)","v":0},null,{"$f":"IF($D46=\"\",\"\",$D46*AQ46)","v":0},null,{"$f":"IF($D46=\"\",\"\",$D46*AS46)","v":0},null,{"$f":"IF($D46=\"\",\"\",$D46*AU46)","v":0},null,{"$f":"IF($D46=\"\",\"\",$D46*AW46)","v":0},null,{"$f":"IF($D46=\"\",\"\",$D46*AY46)","v":0},null,{"$f":"IF($D46=\"\",\"\",$D46*BA46)","v":0},null,{"$f":"IF($D46=\"\",\"\",$D46*BC46)","v":0},null,{"$f":"IF($D46=\"\",\"\",$D46*BE46)","v":0},null,{"$f":"IF($D46=\"\",\"\",$D46*BG46)","v":0},null,{"$f":"IF($D46=\"\",\"\",$D46*BI46)","v":0},null,{"$f":"IF($D46=\"\",\"\",$D46*BK46)","v":0},null,{"$f":"IF($D46=\"\",\"\",$D46*BM46)","v":0},null,{"$f":"IF($D46=\"\",\"\",$D46*BO46)","v":0},null,{"$f":"IF($D46=\"\",\"\",$D46*BQ46)","v":0},null,{"$f":"IF($D46=\"\",\"\",$D46*BS46)","v":0},null,{"$f":"IF($D46=\"\",\"\",$D46*BU46)","v":0},null,{"$f":"IF($D46=\"\",\"\",$D46*BW46)","v":0},null,0,0]
[null,{"$f":"+PRESUPUESTO!B54","v":"ACC006"},{"$f":"IF(B47=0, \"\",VLOOKUP(B47,PRESUPUESTO!$B$17:$C$4607, 2, FALSE))","v":"PLATEAS"},{"$f":"IF(ISTEXT(B47), VLOOKUP(B47, PRESUPUESTO!$B$14:$J$4207, 9, FALSE),\"\")","v":0},null,0,null,0,null,{"$f":"IF($D47=\"\",\"\",$D47*I47)","v":0},null,{"$f":"IF($D47=\"\",\"\",$D47*K47)","v":0},null,{"$f":"IF($D47=\"\",\"\",$D47*M47)","v":0},null,{"$f":"IF($D47=\"\",\"\",$D47*O47)","v":0},null,{"$f":"IF($D47=\"\",\"\",$D47*Q47)","v":0},null,{"$f":"IF($D47=\"\",\"\",$D47*S47)","v":0},null,{"$f":"IF($D47=\"\",\"\",$D47*U47)","v":0},null,{"$f":"IF($D47=\"\",\"\",$D47*W47)","v":0},null,{"$f":"IF($D47=\"\",\"\",$D47*Y47)","v":0},null,{"$f":"IF($D47=\"\",\"\",$D47*AA47)","v":0},null,{"$f":"IF($D47=\"\",\"\",$D47*AC47)","v":0},null,{"$f":"IF($D47=\"\",\"\",$D47*AE47)","v":0},null,{"$f":"IF($D47=\"\",\"\",$D47*AG47)","v":0},null,{"$f":"IF($D47=\"\",\"\",$D47*AI47)","v":0},null,{"$f":"IF($D47=\"\",\"\",$D47*AK47)","v":0},null,{"$f":"IF($D47=\"\",\"\",$D47*AM47)","v":0},null,{"$f":"IF($D47=\"\",\"\",$D47*AO47)","v":0},null,{"$f":"IF($D47=\"\",\"\",$D47*AQ47)","v":0},null,{"$f":"IF($D47=\"\",\"\",$D47*AS47)","v":0},null,{"$f":"IF($D47=\"\",\"\",$D47*AU47)","v":0},null,{"$f":"IF($D47=\"\",\"\",$D47*AW47)","v":0},null,{"$f":"IF($D47=\"\",\"\",$D47*AY47)","v":0},null,{"$f":"IF($D47=\"\",\"\",$D47*BA47)","v":0},null,{"$f":"IF($D47=\"\",\"\",$D47*BC47)","v":0},null,{"$f":"IF($D47=\"\",\"\",$D47*BE47)","v":0},null,{"$f":"IF($D47=\"\",\"\",$D47*BG47)","v":0},null,{"$f":"IF($D47=\"\",\"\",$D47*BI47)","v":0},null,{"$f":"IF($D47=\"\",\"\",$D47*BK47)","v":0},null,{"$f":"IF($D47=\"\",\"\",$D47*BM47)","v":0},null,{"$f":"IF($D47=\"\",\"\",$D47*BO47)","v":0},null,{"$f":"IF($D47=\"\",\"\",$D47*BQ47)","v":0},null,{"$f":"IF($D47=\"\",\"\",$D47*BS47)","v":0},null,{"$f":"IF($D47=\"\",\"\",$D47*BU47)","v":0},null,{"$f":"IF($D47=\"\",\"\",$D47*BW47)","v":0},null,0,0]
[null,{"$f":"+PRESUPUESTO!B55","v":"ACC007"},{"$f":"IF(B48=0, \"\",VLOOKUP(B48,PRESUPUESTO!$B$17:$C$4607, 2, FALSE))","v":"CABEZALES DE PILOTES"},{"$f":"IF(ISTEXT(B48), VLOOKUP(B48, PRESUPUESTO!$B$14:$J$4207, 9, FALSE),\"\")","v":0},null,0,null,0,null,{"$f":"IF($D48=\"\",\"\",$D48*I48)","v":0},null,{"$f":"IF($D48=\"\",\"\",$D48*K48)","v":0},null,{"$f":"IF($D48=\"\",\"\",$D48*M48)","v":0},null,{"$f":"IF($D48=\"\",\"\",$D48*O48)","v":0},null,{"$f":"IF($D48=\"\",\"\",$D48*Q48)","v":0},null,{"$f":"IF($D48=\"\",\"\",$D48*S48)","v":0},null,{"$f":"IF($D48=\"\",\"\",$D48*U48)","v":0},null,{"$f":"IF($D48=\"\",\"\",$D48*W48)","v":0},null,{"$f":"IF($D48=\"\",\"\",$D48*Y48)","v":0},null,{"$f":"IF($D48=\"\",\"\",$D48*AA48)","v":0},null,{"$f":"IF($D48=\"\",\"\",$D48*AC48)","v":0},null,{"$f":"IF($D48=\"\",\"\",$D48*AE48)","v":0},null,{"$f":"IF($D48=\"\",\"\",$D48*AG48)","v":0},null,{"$f":"IF($D48=\"\",\"\",$D48*AI48)","v":0},null,{"$f":"IF($D48=\"\",\"\",$D48*AK48)","v":0},null,{"$f":"IF($D48=\"\",\"\",$D48*AM48)","v":0},null,{"$f":"IF($D48=\"\",\"\",$D48*AO48)","v":0},null,{"$f":"IF($D48=\"\",\"\",$D48*AQ48)","v":0},null,{"$f":"IF($D48=\"\",\"\",$D48*AS48)","v":0},null,{"$f":"IF($D48=\"\",\"\",$D48*AU48)","v":0},null,{"$f":"IF($D48=\"\",\"\",$D48*AW48)","v":0},null,{"$f":"IF($D48=\"\",\"\",$D48*AY48)","v":0},null,{"$f":"IF($D48=\"\",\"\",$D48*BA48)","v":0},null,{"$f":"IF($D48=\"\",\"\",$D48*BC48)","v":0},null,{"$f":"IF($D48=\"\",\"\",$D48*BE48)","v":0},null,{"$f":"IF($D48=\"\",\"\",$D48*BG48)","v":0},null,{"$f":"IF($D48=\"\",\"\",$D48*BI48)","v":0},null,{"$f":"IF($D48=\"\",\"\",$D48*BK48)","v":0},null,{"$f":"IF($D48=\"\",\"\",$D48*BM48)","v":0},null,{"$f":"IF($D48=\"\",\"\",$D48*BO48)","v":0},null,{"$f":"IF($D48=\"\",\"\",$D48*BQ48)","v":0},null,{"$f":"IF($D48=\"\",\"\",$D48*BS48)","v":0},null,{"$f":"IF($D48=\"\",\"\",$D48*BU48)","v":0},null,{"$f":"IF($D48=\"\",\"\",$D48*BW48)","v":0},null,0,0]
[null,{"$f":"+PRESUPUESTO!B56","v":"ADA013"},{"$f":"IF(B49=0, \"\",VLOOKUP(B49,PRESUPUESTO!$B$17:$C$4607, 2, FALSE))","v":"MUROS DE CONTENCION H.A (C/CIMIENTO)"},{"$f":"IF(ISTEXT(B49), VLOOKUP(B49, PRESUPUESTO!$B$14:$J$4207, 9, FALSE),\"\")","v":0},null,0,null,0,null,{"$f":"IF($D49=\"\",\"\",$D49*I49)","v":0},null,{"$f":"IF($D49=\"\",\"\",$D49*K49)","v":0},null,{"$f":"IF($D49=\"\",\"\",$D49*M49)","v":0},null,{"$f":"IF($D49=\"\",\"\",$D49*O49)","v":0},null,{"$f":"IF($D49=\"\",\"\",$D49*Q49)","v":0},null,{"$f":"IF($D49=\"\",\"\",$D49*S49)","v":0},null,{"$f":"IF($D49=\"\",\"\",$D49*U49)","v":0},null,{"$f":"IF($D49=\"\",\"\",$D49*W49)","v":0},null,{"$f":"IF($D49=\"\",\"\",$D49*Y49)","v":0},null,{"$f":"IF($D49=\"\",\"\",$D49*AA49)","v":0},null,{"$f":"IF($D49=\"\",\"\",$D49*AC49)","v":0},null,{"$f":"IF($D49=\"\",\"\",$D49*AE49)","v":0},null,{"$f":"IF($D49=\"\",\"\",$D49*AG49)","v":0},null,{"$f":"IF($D49=\"\",\"\",$D49*AI49)","v":0},null,{"$f":"IF($D49=\"\",\"\",$D49*AK49)","v":0},null,{"$f":"IF($D49=\"\",\"\",$D49*AM49)","v":0},null,{"$f":"IF($D49=\"\",\"\",$D49*AO49)","v":0},null,{"$f":"IF($D49=\"\",\"\",$D49*AQ49)","v":0},null,{"$f":"IF($D49=\"\",\"\",$D49*AS49)","v":0},null,{"$f":"IF($D49=\"\",\"\",$D49*AU49)","v":0},null,{"$f":"IF($D49=\"\",\"\",$D49*AW49)","v":0},null,{"$f":"IF($D49=\"\",\"\",$D49*AY49)","v":0},null,{"$f":"IF($D49=\"\",\"\",$D49*BA49)","v":0},null,{"$f":"IF($D49=\"\",\"\",$D49*BC49)","v":0},null,{"$f":"IF($D49=\"\",\"\",$D49*BE49)","v":0},null,{"$f":"IF($D49=\"\",\"\",$D49*BG49)","v":0},null,{"$f":"IF($D49=\"\",\"\",$D49*BI49)","v":0},null,{"$f":"IF($D49=\"\",\"\",$D49*BK49)","v":0},null,{"$f":"IF($D49=\"\",\"\",$D49*BM49)","v":0},null,{"$f":"IF($D49=\"\",\"\",$D49*BO49)","v":0},null,{"$f":"IF($D49=\"\",\"\",$D49*BQ49)","v":0},null,{"$f":"IF($D49=\"\",\"\",$D49*BS49)","v":0},null,{"$f":"IF($D49=\"\",\"\",$D49*BU49)","v":0},null,{"$f":"IF($D49=\"\",\"\",$D49*BW49)","v":0},null,0,0]
[null,{"$f":"+PRESUPUESTO!B57","v":"ADA014"},{"$f":"IF(B50=0, \"\",VLOOKUP(B50,PRESUPUESTO!$B$17:$C$4607, 2, FALSE))","v":"MUROS DE CONTENCION BLOQUE ARMADO (C/CIMIENTO)"},{"$f":"IF(ISTEXT(B50), VLOOKUP(B50, PRESUPUESTO!$B$14:$J$4207, 9, FALSE),\"\")","v":0},null,0,null,0,null,{"$f":"IF($D50=\"\",\"\",$D50*I50)","v":0},null,{"$f":"IF($D50=\"\",\"\",$D50*K50)","v":0},null,{"$f":"IF($D50=\"\",\"\",$D50*M50)","v":0},null,{"$f":"IF($D50=\"\",\"\",$D50*O50)","v":0},null,{"$f":"IF($D50=\"\",\"\",$D50*Q50)","v":0},null,{"$f":"IF($D50=\"\",\"\",$D50*S50)","v":0},null,{"$f":"IF($D50=\"\",\"\",$D50*U50)","v":0},null,{"$f":"IF($D50=\"\",\"\",$D50*W50)","v":0},null,{"$f":"IF($D50=\"\",\"\",$D50*Y50)","v":0},null,{"$f":"IF($D50=\"\",\"\",$D50*AA50)","v":0},null,{"$f":"IF($D50=\"\",\"\",$D50*AC50)","v":0},null,{"$f":"IF($D50=\"\",\"\",$D50*AE50)","v":0},null,{"$f":"IF($D50=\"\",\"\",$D50*AG50)","v":0},null,{"$f":"IF($D50=\"\",\"\",$D50*AI50)","v":0},null,{"$f":"IF($D50=\"\",\"\",$D50*AK50)","v":0},null,{"$f":"IF($D50=\"\",\"\",$D50*AM50)","v":0},null,{"$f":"IF($D50=\"\",\"\",$D50*AO50)","v":0},null,{"$f":"IF($D50=\"\",\"\",$D50*AQ50)","v":0},null,{"$f":"IF($D50=\"\",\"\",$D50*AS50)","v":0},null,{"$f":"IF($D50=\"\",\"\",$D50*AU50)","v":0},null,{"$f":"IF($D50=\"\",\"\",$D50*AW50)","v":0},null,{"$f":"IF($D50=\"\",\"\",$D50*AY50)","v":0},null,{"$f":"IF($D50=\"\",\"\",$D50*BA50)","v":0},null,{"$f":"IF($D50=\"\",\"\",$D50*BC50)","v":0},null,{"$f":"IF($D50=\"\",\"\",$D50*BE50)","v":0},null,{"$f":"IF($D50=\"\",\"\",$D50*BG50)","v":0},null,{"$f":"IF($D50=\"\",\"\",$D50*BI50)","v":0},null,{"$f":"IF($D50=\"\",\"\",$D50*BK50)","v":0},null,{"$f":"IF($D50=\"\",\"\",$D50*BM50)","v":0},null,{"$f":"IF($D50=\"\",\"\",$D50*BO50)","v":0},null,{"$f":"IF($D50=\"\",\"\",$D50*BQ50)","v":0},null,{"$f":"IF($D50=\"\",\"\",$D50*BS50)","v":0},null,{"$f":"IF($D50=\"\",\"\",$D50*BU50)","v":0},null,{"$f":"IF($D50=\"\",\"\",$D50*BW50)","v":0},null,0,0]
[null,{"$f":"+PRESUPUESTO!B59","v":"ACC003"},{"$f":"IF(B51=0, \"\",VLOOKUP(B51,PRESUPUESTO!$B$17:$C$4607, 2, FALSE))","v":"PILARES - FUNDACIONES"},{"$f":"IF(ISTEXT(B51), VLOOKUP(B51, PRESUPUESTO!$B$14:$J$4207, 9, FALSE),\"\")","v":0},null,0,null,0,null,{"$f":"IF($D51=\"\",\"\",$D51*I51)","v":0},null,{"$f":"IF($D51=\"\",\"\",$D51*K51)","v":0},null,{"$f":"IF($D51=\"\",\"\",$D51*M51)","v":0},null,{"$f":"IF($D51=\"\",\"\",$D51*O51)","v":0},null,{"$f":"IF($D51=\"\",\"\",$D51*Q51)","v":0},null,{"$f":"IF($D51=\"\",\"\",$D51*S51)","v":0},null,{"$f":"IF($D51=\"\",\"\",$D51*U51)","v":0},null,{"$f":"IF($D51=\"\",\"\",$D51*W51)","v":0},null,{"$f":"IF($D51=\"\",\"\",$D51*Y51)","v":0},null,{"$f":"IF($D51=\"\",\"\",$D51*AA51)","v":0},null,{"$f":"IF($D51=\"\",\"\",$D51*AC51)","v":0},null,{"$f":"IF($D51=\"\",\"\",$D51*AE51)","v":0},null,{"$f":"IF($D51=\"\",\"\",$D51*AG51)","v":0},null,{"$f":"IF($D51=\"\",\"\",$D51*AI51)","v":0},null,{"$f":"IF($D51=\"\",\"\",$D51*AK51)","v":0},null,{"$f":"IF($D51=\"\",\"\",$D51*AM51)","v":0},null,{"$f":"IF($D51=\"\",\"\",$D51*AO51)","v":0},null,{"$f":"IF($D51=\"\",\"\",$D51*AQ51)","v":0},null,{"$f":"IF($D51=\"\",\"\",$D51*AS51)","v":0},null,{"$f":"IF($D51=\"\",\"\",$D51*AU51)","v":0},null,{"$f":"IF($D51=\"\",\"\",$D51*AW51)","v":0},null,{"$f":"IF($D51=\"\",\"\",$D51*AY51)","v":0},null,{"$f":"IF($D51=\"\",\"\",$D51*BA51)","v":0},null,{"$f":"IF($D51=\"\",\"\",$D51*BC51)","v":0},null,{"$f":"IF($D51=\"\",\"\",$D51*BE51)","v":0},null,{"$f":"IF($D51=\"\",\"\",$D51*BG51)","v":0},null,{"$f":"IF($D51=\"\",\"\",$D51*BI51)","v":0},null,{"$f":"IF($D51=\"\",\"\",$D51*BK51)","v":0},null,{"$f":"IF($D51=\"\",\"\",$D51*BM51)","v":0},null,{"$f":"IF($D51=\"\",\"\",$D51*BO51)","v":0},null,{"$f":"IF($D51=\"\",\"\",$D51*BQ51)","v":0},null,{"$f":"IF($D51=\"\",\"\",$D51*BS51)","v":0},null,{"$f":"IF($D51=\"\",\"\",$D51*BU51)","v":0},null,{"$f":"IF($D51=\"\",\"\",$D51*BW51)","v":0},null,0,0]
[null,{"$f":"+PRESUPUESTO!B60","v":"ADA012"},{"$f":"IF(B52=0, \"\",VLOOKUP(B52,PRESUPUESTO!$B$17:$C$4607, 2, FALSE))","v":"PILARES H.A"},{"$f":"IF(ISTEXT(B52), VLOOKUP(B52, PRESUPUESTO!$B$14:$J$4207, 9, FALSE),\"\")","v":0},null,0,null,0,null,{"$f":"IF($D52=\"\",\"\",$D52*I52)","v":0},null,{"$f":"IF($D52=\"\",\"\",$D52*K52)","v":0},null,{"$f":"IF($D52=\"\",\"\",$D52*M52)","v":0},null,{"$f":"IF($D52=\"\",\"\",$D52*O52)","v":0},null,{"$f":"IF($D52=\"\",\"\",$D52*Q52)","v":0},null,{"$f":"IF($D52=\"\",\"\",$D52*S52)","v":0},null,{"$f":"IF($D52=\"\",\"\",$D52*U52)","v":0},null,{"$f":"IF($D52=\"\",\"\",$D52*W52)","v":0},null,{"$f":"IF($D52=\"\",\"\",$D52*Y52)","v":0},null,{"$f":"IF($D52=\"\",\"\",$D52*AA52)","v":0},null,{"$f":"IF($D52=\"\",\"\",$D52*AC52)","v":0},null,{"$f":"IF($D52=\"\",\"\",$D52*AE52)","v":0},null,{"$f":"IF($D52=\"\",\"\",$D52*AG52)","v":0},null,{"$f":"IF($D52=\"\",\"\",$D52*AI52)","v":0},null,{"$f":"IF($D52=\"\",\"\",$D52*AK52)","v":0},null,{"$f":"IF($D52=\"\",\"\",$D52*AM52)","v":0},null,{"$f":"IF($D52=\"\",\"\",$D52*AO52)","v":0},null,{"$f":"IF($D52=\"\",\"\",$D52*AQ52)","v":0},null,{"$f":"IF($D52=\"\",\"\",$D52*AS52)","v":0},null,{"$f":"IF($D52=\"\",\"\",$D52*AU52)","v":0},null,{"$f":"IF($D52=\"\",\"\",$D52*AW52)","v":0},null,{"$f":"IF($D52=\"\",\"\",$D52*AY52)","v":0},null,{"$f":"IF($D52=\"\",\"\",$D52*BA52)","v":0},null,{"$f":"IF($D52=\"\",\"\",$D52*BC52)","v":0},null,{"$f":"IF($D52=\"\",\"\",$D52*BE52)","v":0},null,{"$f":"IF($D52=\"\",\"\",$D52*BG52)","v":0},null,{"$f":"IF($D52=\"\",\"\",$D52*BI52)","v":0},null,{"$f":"IF($D52=\"\",\"\",$D52*BK52)","v":0},null,{"$f":"IF($D52=\"\",\"\",$D52*BM52)","v":0},null,{"$f":"IF($D52=\"\",\"\",$D52*BO52)","v":0},null,{"$f":"IF($D52=\"\",\"\",$D52*BQ52)","v":0},null,{"$f":"IF($D52=\"\",\"\",$D52*BS52)","v":0},null,{"$f":"IF($D52=\"\",\"\",$D52*BU52)","v":0},null,{"$f":"IF($D52=\"\",\"\",$D52*BW52)","v":0},null,0,0]
[null,{"$f":"+PRESUPUESTO!B61","v":"ADA003"},{"$f":"IF(B53=0, \"\",VLOOKUP(B53,PRESUPUESTO!$B$17:$C$4607, 2, FALSE))","v":"PANTALLAS H.A."},{"$f":"IF(ISTEXT(B53), VLOOKUP(B53, PRESUPUESTO!$B$14:$J$4207, 9, FALSE),\"\")","v":0},null,0,null,0,null,{"$f":"IF($D53=\"\",\"\",$D53*I53)","v":0},null,{"$f":"IF($D53=\"\",\"\",$D53*K53)","v":0},null,{"$f":"IF($D53=\"\",\"\",$D53*M53)","v":0},null,{"$f":"IF($D53=\"\",\"\",$D53*O53)","v":0},null,{"$f":"IF($D53=\"\",\"\",$D53*Q53)","v":0},null,{"$f":"IF($D53=\"\",\"\",$D53*S53)","v":0},null,{"$f":"IF($D53=\"\",\"\",$D53*U53)","v":0},null,{"$f":"IF($D53=\"\",\"\",$D53*W53)","v":0},null,{"$f":"IF($D53=\"\",\"\",$D53*Y53)","v":0},null,{"$f":"IF($D53=\"\",\"\",$D53*AA53)","v":0},null,{"$f":"IF($D53=\"\",\"\",$D53*AC53)","v":0},null,{"$f":"IF($D53=\"\",\"\",$D53*AE53)","v":0},null,{"$f":"IF($D53=\"\",\"\",$D53*AG53)","v":0},null,{"$f":"IF($D53=\"\",\"\",$D53*AI53)","v":0},null,{"$f":"IF($D53=\"\",\"\",$D53*AK53)","v":0},null,{"$f":"IF($D53=\"\",\"\",$D53*AM53)","v":0},null,{"$f":"IF($D53=\"\",\"\",$D53*AO53)","v":0},null,{"$f":"IF($D53=\"\",\"\",$D53*AQ53)","v":0},null,{"$f":"IF($D53=\"\",\"\",$D53*AS53)","v":0},null,{"$f":"IF($D53=\"\",\"\",$D53*AU53)","v":0},null,{"$f":"IF($D53=\"\",\"\",$D53*AW53)","v":0},null,{"$f":"IF($D53=\"\",\"\",$D53*AY53)","v":0},null,{"$f":"IF($D53=\"\",\"\",$D53*BA53)","v":0},null,{"$f":"IF($D53=\"\",\"\",$D53*BC53)","v":0},null,{"$f":"IF($D53=\"\",\"\",$D53*BE53)","v":0},null,{"$f":"IF($D53=\"\",\"\",$D53*BG53)","v":0},null,{"$f":"IF($D53=\"\",\"\",$D53*BI53)","v":0},null,{"$f":"IF($D53=\"\",\"\",$D53*BK53)","v":0},null,{"$f":"IF($D53=\"\",\"\",$D53*BM53)","v":0},null,{"$f":"IF($D53=\"\",\"\",$D53*BO53)","v":0},null,{"$f":"IF($D53=\"\",\"\",$D53*BQ53)","v":0},null,{"$f":"IF($D53=\"\",\"\",$D53*BS53)","v":0},null,{"$f":"IF($D53=\"\",\"\",$D53*BU53)","v":0},null,{"$f":"IF($D53=\"\",\"\",$D53*BW53)","v":0},null,0,0]
[null,{"$f":"+PRESUPUESTO!B63","v":"ACC004"},{"$f":"IF(B54=0, \"\",VLOOKUP(B54,PRESUPUESTO!$B$17:$C$4607, 2, FALSE))","v":"VIGAS - FUNDACIONES"},{"$f":"IF(ISTEXT(B54), VLOOKUP(B54, PRESUPUESTO!$B$14:$J$4207, 9, FALSE),\"\")","v":0},null,0,null,0,null,{"$f":"IF($D54=\"\",\"\",$D54*I54)","v":0},null,{"$f":"IF($D54=\"\",\"\",$D54*K54)","v":0},null,{"$f":"IF($D54=\"\",\"\",$D54*M54)","v":0},null,{"$f":"IF($D54=\"\",\"\",$D54*O54)","v":0},null,{"$f":"IF($D54=\"\",\"\",$D54*Q54)","v":0},null,{"$f":"IF($D54=\"\",\"\",$D54*S54)","v":0},null,{"$f":"IF($D54=\"\",\"\",$D54*U54)","v":0},null,{"$f":"IF($D54=\"\",\"\",$D54*W54)","v":0},null,{"$f":"IF($D54=\"\",\"\",$D54*Y54)","v":0},null,{"$f":"IF($D54=\"\",\"\",$D54*AA54)","v":0},null,{"$f":"IF($D54=\"\",\"\",$D54*AC54)","v":0},null,{"$f":"IF($D54=\"\",\"\",$D54*AE54)","v":0},null,{"$f":"IF($D54=\"\",\"\",$D54*AG54)","v":0},null,{"$f":"IF($D54=\"\",\"\",$D54*AI54)","v":0},null,{"$f":"IF($D54=\"\",\"\",$D54*AK54)","v":0},null,{"$f":"IF($D54=\"\",\"\",$D54*AM54)","v":0},null,{"$f":"IF($D54=\"\",\"\",$D54*AO54)","v":0},null,{"$f":"IF($D54=\"\",\"\",$D54*AQ54)","v":0},null,{"$f":"IF($D54=\"\",\"\",$D54*AS54)","v":0},null,{"$f":"IF($D54=\"\",\"\",$D54*AU54)","v":0},null,{"$f":"IF($D54=\"\",\"\",$D54*AW54)","v":0},null,{"$f":"IF($D54=\"\",\"\",$D54*AY54)","v":0},null,{"$f":"IF($D54=\"\",\"\",$D54*BA54)","v":0},null,{"$f":"IF($D54=\"\",\"\",$D54*BC54)","v":0},null,{"$f":"IF($D54=\"\",\"\",$D54*BE54)","v":0},null,{"$f":"IF($D54=\"\",\"\",$D54*BG54)","v":0},null,{"$f":"IF($D54=\"\",\"\",$D54*BI54)","v":0},null,{"$f":"IF($D54=\"\",\"\",$D54*BK54)","v":0},null,{"$f":"IF($D54=\"\",\"\",$D54*BM54)","v":0},null,{"$f":"IF($D54=\"\",\"\",$D54*BO54)","v":0},null,{"$f":"IF($D54=\"\",\"\",$D54*BQ54)","v":0},null,{"$f":"IF($D54=\"\",\"\",$D54*BS54)","v":0},null,{"$f":"IF($D54=\"\",\"\",$D54*BU54)","v":0},null,{"$f":"IF($D54=\"\",\"\",$D54*BW54)","v":0},null,0,0]
[null,{"$f":"+PRESUPUESTO!B64","v":"ACC005"},{"$f":"IF(B55=0, \"\",VLOOKUP(B55,PRESUPUESTO!$B$17:$C$4607, 2, FALSE))","v":"RIOSTRAS - FUNDACIONES"},{"$f":"IF(ISTEXT(B55), VLOOKUP(B55, PRESUPUESTO!$B$14:$J$4207, 9, FALSE),\"\")","v":0},null,0,null,0,null,{"$f":"IF($D55=\"\",\"\",$D55*I55)","v":0},null,{"$f":"IF($D55=\"\",\"\",$D55*K55)","v":0},null,{"$f":"IF($D55=\"\",\"\",$D55*M55)","v":0},null,{"$f":"IF($D55=\"\",\"\",$D55*O55)","v":0},null,{"$f":"IF($D55=\"\",\"\",$D55*Q55)","v":0},null,{"$f":"IF($D55=\"\",\"\",$D55*S55)","v":0},null,{"$f":"IF($D55=\"\",\"\",$D55*U55)","v":0},null,{"$f":"IF($D55=\"\",\"\",$D55*W55)","v":0},null,{"$f":"IF($D55=\"\",\"\",$D55*Y55)","v":0},null,{"$f":"IF($D55=\"\",\"\",$D55*AA55)","v":0},null,{"$f":"IF($D55=\"\",\"\",$D55*AC55)","v":0},null,{"$f":"IF($D55=\"\",\"\",$D55*AE55)","v":0},null,{"$f":"IF($D55=\"\",\"\",$D55*AG55)","v":0},null,{"$f":"IF($D55=\"\",\"\",$D55*AI55)","v":0},null,{"$f":"IF($D55=\"\",\"\",$D55*AK55)","v":0},null,{"$f":"IF($D55=\"\",\"\",$D55*AM55)","v":0},null,{"$f":"IF($D55=\"\",\"\",$D55*AO55)","v":0},null,{"$f":"IF($D55=\"\",\"\",$D55*AQ55)","v":0},null,{"$f":"IF($D55=\"\",\"\",$D55*AS55)","v":0},null,{"$f":"IF($D55=\"\",\"\",$D55*AU55)","v":0},null,{"$f":"IF($D55=\"\",\"\",$D55*AW55)","v":0},null,{"$f":"IF($D55=\"\",\"\",$D55*AY55)","v":0},null,{"$f":"IF($D55=\"\",\"\",$D55*BA55)","v":0},null,{"$f":"IF($D55=\"\",\"\",$D55*BC55)","v":0},null,{"$f":"IF($D55=\"\",\"\",$D55*BE55)","v":0},null,{"$f":"IF($D55=\"\",\"\",$D55*BG55)","v":0},null,{"$f":"IF($D55=\"\",\"\",$D55*BI55)","v":0},null,{"$f":"IF($D55=\"\",\"\",$D55*BK55)","v":0},null,{"$f":"IF($D55=\"\",\"\",$D55*BM55)","v":0},null,{"$f":"IF($D55=\"\",\"\",$D55*BO55)","v":0},null,{"$f":"IF($D55=\"\",\"\",$D55*BQ55)","v":0},null,{"$f":"IF($D55=\"\",\"\",$D55*BS55)","v":0},null,{"$f":"IF($D55=\"\",\"\",$D55*BU55)","v":0},null,{"$f":"IF($D55=\"\",\"\",$D55*BW55)","v":0},null,0,0]
[null,{"$f":"+PRESUPUESTO!B65","v":"ADA005"},{"$f":"IF(B56=0, \"\",VLOOKUP(B56,PRESUPUESTO!$B$17:$C$4607, 2, FALSE))","v":"VIGAS H.A. S/NIVEL P.B."},{"$f":"IF(ISTEXT(B56), VLOOKUP(B56, PRESUPUESTO!$B$14:$J$4207, 9, FALSE),\"\")","v":0},null,0,null,0,null,{"$f":"IF($D56=\"\",\"\",$D56*I56)","v":0},null,{"$f":"IF($D56=\"\",\"\",$D56*K56)","v":0},null,{"$f":"IF($D56=\"\",\"\",$D56*M56)","v":0},null,{"$f":"IF($D56=\"\",\"\",$D56*O56)","v":0},null,{"$f":"IF($D56=\"\",\"\",$D56*Q56)","v":0},null,{"$f":"IF($D56=\"\",\"\",$D56*S56)","v":0},null,{"$f":"IF($D56=\"\",\"\",$D56*U56)","v":0},null,{"$f":"IF($D56=\"\",\"\",$D56*W56)","v":0},null,{"$f":"IF($D56=\"\",\"\",$D56*Y56)","v":0},null,{"$f":"IF($D56=\"\",\"\",$D56*AA56)","v":0},null,{"$f":"IF($D56=\"\",\"\",$D56*AC56)","v":0},null,{"$f":"IF($D56=\"\",\"\",$D56*AE56)","v":0},null,{"$f":"IF($D56=\"\",\"\",$D56*AG56)","v":0},null,{"$f":"IF($D56=\"\",\"\",$D56*AI56)","v":0},null,{"$f":"IF($D56=\"\",\"\",$D56*AK56)","v":0},null,{"$f":"IF($D56=\"\",\"\",$D56*AM56)","v":0},null,{"$f":"IF($D56=\"\",\"\",$D56*AO56)","v":0},null,{"$f":"IF($D56=\"\",\"\",$D56*AQ56)","v":0},null,{"$f":"IF($D56=\"\",\"\",$D56*AS56)","v":0},null,{"$f":"IF($D56=\"\",\"\",$D56*AU56)","v":0},null,{"$f":"IF($D56=\"\",\"\",$D56*AW56)","v":0},null,{"$f":"IF($D56=\"\",\"\",$D56*AY56)","v":0},null,{"$f":"IF($D56=\"\",\"\",$D56*BA56)","v":0},null,{"$f":"IF($D56=\"\",\"\",$D56*BC56)","v":0},null,{"$f":"IF($D56=\"\",\"\",$D56*BE56)","v":0},null,{"$f":"IF($D56=\"\",\"\",$D56*BG56)","v":0},null,{"$f":"IF($D56=\"\",\"\",$D56*BI56)","v":0},null,{"$f":"IF($D56=\"\",\"\",$D56*BK56)","v":0},null,{"$f":"IF($D56=\"\",\"\",$D56*BM56)","v":0},null,{"$f":"IF($D56=\"\",\"\",$D56*BO56)","v":0},null,{"$f":"IF($D56=\"\",\"\",$D56*BQ56)","v":0},null,{"$f":"IF($D56=\"\",\"\",$D56*BS56)","v":0},null,{"$f":"IF($D56=\"\",\"\",$D56*BU56)","v":0},null,{"$f":"IF($D56=\"\",\"\",$D56*BW56)","v":0},null,0,0]
[null,{"$f":"+PRESUPUESTO!B66","v":"ADA006"},{"$f":"IF(B57=0, \"\",VLOOKUP(B57,PRESUPUESTO!$B$17:$C$4607, 2, FALSE))","v":"VIGAS H.A.AZOTEA (C/PRETIL)"},{"$f":"IF(ISTEXT(B57), VLOOKUP(B57, PRESUPUESTO!$B$14:$J$4207, 9, FALSE),\"\")","v":0},null,0,null,0,null,{"$f":"IF($D57=\"\",\"\",$D57*I57)","v":0},null,{"$f":"IF($D57=\"\",\"\",$D57*K57)","v":0},null,{"$f":"IF($D57=\"\",\"\",$D57*M57)","v":0},null,{"$f":"IF($D57=\"\",\"\",$D57*O57)","v":0},null,{"$f":"IF($D57=\"\",\"\",$D57*Q57)","v":0},null,{"$f":"IF($D57=\"\",\"\",$D57*S57)","v":0},null,{"$f":"IF($D57=\"\",\"\",$D57*U57)","v":0},null,{"$f":"IF($D57=\"\",\"\",$D57*W57)","v":0},null,{"$f":"IF($D57=\"\",\"\",$D57*Y57)","v":0},null,{"$f":"IF($D57=\"\",\"\",$D57*AA57)","v":0},null,{"$f":"IF($D57=\"\",\"\",$D57*AC57)","v":0},null,{"$f":"IF($D57=\"\",\"\",$D57*AE57)","v":0},null,{"$f":"IF($D57=\"\",\"\",$D57*AG57)","v":0},null,{"$f":"IF($D57=\"\",\"\",$D57*AI57)","v":0},null,{"$f":"IF($D57=\"\",\"\",$D57*AK57)","v":0},null,{"$f":"IF($D57=\"\",\"\",$D57*AM57)","v":0},null,{"$f":"IF($D57=\"\",\"\",$D57*AO57)","v":0},null,{"$f":"IF($D57=\"\",\"\",$D57*AQ57)","v":0},null,{"$f":"IF($D57=\"\",\"\",$D57*AS57)","v":0},null,{"$f":"IF($D57=\"\",\"\",$D57*AU57)","v":0},null,{"$f":"IF($D57=\"\",\"\",$D57*AW57)","v":0},null,{"$f":"IF($D57=\"\",\"\",$D57*AY57)","v":0},null,{"$f":"IF($D57=\"\",\"\",$D57*BA57)","v":0},null,{"$f":"IF($D57=\"\",\"\",$D57*BC57)","v":0},null,{"$f":"IF($D57=\"\",\"\",$D57*BE57)","v":0},null,{"$f":"IF($D57=\"\",\"\",$D57*BG57)","v":0},null,{"$f":"IF($D57=\"\",\"\",$D57*BI57)","v":0},null,{"$f":"IF($D57=\"\",\"\",$D57*BK57)","v":0},null,{"$f":"IF($D57=\"\",\"\",$D57*BM57)","v":0},null,{"$f":"IF($D57=\"\",\"\",$D57*BO57)","v":0},null,{"$f":"IF($D57=\"\",\"\",$D57*BQ57)","v":0},null,{"$f":"IF($D57=\"\",\"\",$D57*BS57)","v":0},null,{"$f":"IF($D57=\"\",\"\",$D57*BU57)","v":0},null,{"$f":"IF($D57=\"\",\"\",$D57*BW57)","v":0},null,0,0]
[null,{"$f":"+PRESUPUESTO!B67","v":"ADA007"},{"$f":"IF(B58=0, \"\",VLOOKUP(B58,PRESUPUESTO!$B$17:$C$4607, 2, FALSE))","v":"CANALONES DE TECHO H.A"},{"$f":"IF(ISTEXT(B58), VLOOKUP(B58, PRESUPUESTO!$B$14:$J$4207, 9, FALSE),\"\")","v":0},null,0,null,0,null,{"$f":"IF($D58=\"\",\"\",$D58*I58)","v":0},null,{"$f":"IF($D58=\"\",\"\",$D58*K58)","v":0},null,{"$f":"IF($D58=\"\",\"\",$D58*M58)","v":0},null,{"$f":"IF($D58=\"\",\"\",$D58*O58)","v":0},null,{"$f":"IF($D58=\"\",\"\",$D58*Q58)","v":0},null,{"$f":"IF($D58=\"\",\"\",$D58*S58)","v":0},null,{"$f":"IF($D58=\"\",\"\",$D58*U58)","v":0},null,{"$f":"IF($D58=\"\",\"\",$D58*W58)","v":0},null,{"$f":"IF($D58=\"\",\"\",$D58*Y58)","v":0},null,{"$f":"IF($D58=\"\",\"\",$D58*AA58)","v":0},null,{"$f":"IF($D58=\"\",\"\",$D58*AC58)","v":0},null,{"$f":"IF($D58=\"\",\"\",$D58*AE58)","v":0},null,{"$f":"IF($D58=\"\",\"\",$D58*AG58)","v":0},null,{"$f":"IF($D58=\"\",\"\",$D58*AI58)","v":0},null,{"$f":"IF($D58=\"\",\"\",$D58*AK58)","v":0},null,{"$f":"IF($D58=\"\",\"\",$D58*AM58)","v":0},null,{"$f":"IF($D58=\"\",\"\",$D58*AO58)","v":0},null,{"$f":"IF($D58=\"\",\"\",$D58*AQ58)","v":0},null,{"$f":"IF($D58=\"\",\"\",$D58*AS58)","v":0},null,{"$f":"IF($D58=\"\",\"\",$D58*AU58)","v":0},null,{"$f":"IF($D58=\"\",\"\",$D58*AW58)","v":0},null,{"$f":"IF($D58=\"\",\"\",$D58*AY58)","v":0},null,{"$f":"IF($D58=\"\",\"\",$D58*BA58)","v":0},null,{"$f":"IF($D58=\"\",\"\",$D58*BC58)","v":0},null,{"$f":"IF($D58=\"\",\"\",$D58*BE58)","v":0},null,{"$f":"IF($D58=\"\",\"\",$D58*BG58)","v":0},null,{"$f":"IF($D58=\"\",\"\",$D58*BI58)","v":0},null,{"$f":"IF($D58=\"\",\"\",$D58*BK58)","v":0},null,{"$f":"IF($D58=\"\",\"\",$D58*BM58)","v":0},null,{"$f":"IF($D58=\"\",\"\",$D58*BO58)","v":0},null,{"$f":"IF($D58=\"\",\"\",$D58*BQ58)","v":0},null,{"$f":"IF($D58=\"\",\"\",$D58*BS58)","v":0},null,{"$f":"IF($D58=\"\",\"\",$D58*BU58)","v":0},null,{"$f":"IF($D58=\"\",\"\",$D58*BW58)","v":0},null,0,0]
[null,{"$f":"+PRESUPUESTO!B68","v":"ADA009"},{"$f":"IF(B59=0, \"\",VLOOKUP(B59,PRESUPUESTO!$B$17:$C$4607, 2, FALSE))","v":"CARRERAS H.A."},{"$f":"IF(ISTEXT(B59), VLOOKUP(B59, PRESUPUESTO!$B$14:$J$4207, 9, FALSE),\"\")","v":0},null,0,null,0,null,{"$f":"IF($D59=\"\",\"\",$D59*I59)","v":0},null,{"$f":"IF($D59=\"\",\"\",$D59*K59)","v":0},null,{"$f":"IF($D59=\"\",\"\",$D59*M59)","v":0},null,{"$f":"IF($D59=\"\",\"\",$D59*O59)","v":0},null,{"$f":"IF($D59=\"\",\"\",$D59*Q59)","v":0},null,{"$f":"IF($D59=\"\",\"\",$D59*S59)","v":0},null,{"$f":"IF($D59=\"\",\"\",$D59*U59)","v":0},null,{"$f":"IF($D59=\"\",\"\",$D59*W59)","v":0},null,{"$f":"IF($D59=\"\",\"\",$D59*Y59)","v":0},null,{"$f":"IF($D59=\"\",\"\",$D59*AA59)","v":0},null,{"$f":"IF($D59=\"\",\"\",$D59*AC59)","v":0},null,{"$f":"IF($D59=\"\",\"\",$D59*AE59)","v":0},null,{"$f":"IF($D59=\"\",\"\",$D59*AG59)","v":0},null,{"$f":"IF($D59=\"\",\"\",$D59*AI59)","v":0},null,{"$f":"IF($D59=\"\",\"\",$D59*AK59)","v":0},null,{"$f":"IF($D59=\"\",\"\",$D59*AM59)","v":0},null,{"$f":"IF($D59=\"\",\"\",$D59*AO59)","v":0},null,{"$f":"IF($D59=\"\",\"\",$D59*AQ59)","v":0},null,{"$f":"IF($D59=\"\",\"\",$D59*AS59)","v":0},null,{"$f":"IF($D59=\"\",\"\",$D59*AU59)","v":0},null,{"$f":"IF($D59=\"\",\"\",$D59*AW59)","v":0},null,{"$f":"IF($D59=\"\",\"\",$D59*AY59)","v":0},null,{"$f":"IF($D59=\"\",\"\",$D59*BA59)","v":0},null,{"$f":"IF($D59=\"\",\"\",$D59*BC59)","v":0},null,{"$f":"IF($D59=\"\",\"\",$D59*BE59)","v":0},null,{"$f":"IF($D59=\"\",\"\",$D59*BG59)","v":0},null,{"$f":"IF($D59=\"\",\"\",$D59*BI59)","v":0},null,{"$f":"IF($D59=\"\",\"\",$D59*BK59)","v":0},null,{"$f":"IF($D59=\"\",\"\",$D59*BM59)","v":0},null,{"$f":"IF($D59=\"\",\"\",$D59*BO59)","v":0},null,{"$f":"IF($D59=\"\",\"\",$D59*BQ59)","v":0},null,{"$f":"IF($D59=\"\",\"\",$D59*BS59)","v":0},null,{"$f":"IF($D59=\"\",\"\",$D59*BU59)","v":0},null,{"$f":"IF($D59=\"\",\"\",$D59*BW59)","v":0},null,0,0]
[null,{"$f":"+PRESUPUESTO!B70","v":"ADB001"},{"$f":"IF(B60=0, \"\",VLOOKUP(B60,PRESUPUESTO!$B$17:$C$4607, 2, FALSE))","v":"LOSAS S/S.SUELO"},{"$f":"IF(ISTEXT(B60), VLOOKUP(B60, PRESUPUESTO!$B$14:$J$4207, 9, FALSE),\"\")","v":0},null,0,null,0,null,{"$f":"IF($D60=\"\",\"\",$D60*I60)","v":0},null,{"$f":"IF($D60=\"\",\"\",$D60*K60)","v":0},null,{"$f":"IF($D60=\"\",\"\",$D60*M60)","v":0},null,{"$f":"IF($D60=\"\",\"\",$D60*O60)","v":0},null,{"$f":"IF($D60=\"\",\"\",$D60*Q60)","v":0},null,{"$f":"IF($D60=\"\",\"\",$D60*S60)","v":0},null,{"$f":"IF($D60=\"\",\"\",$D60*U60)","v":0},null,{"$f":"IF($D60=\"\",\"\",$D60*W60)","v":0},null,{"$f":"IF($D60=\"\",\"\",$D60*Y60)","v":0},null,{"$f":"IF($D60=\"\",\"\",$D60*AA60)","v":0},null,{"$f":"IF($D60=\"\",\"\",$D60*AC60)","v":0},null,{"$f":"IF($D60=\"\",\"\",$D60*AE60)","v":0},null,{"$f":"IF($D60=\"\",\"\",$D60*AG60)","v":0},null,{"$f":"IF($D60=\"\",\"\",$D60*AI60)","v":0},null,{"$f":"IF($D60=\"\",\"\",$D60*AK60)","v":0},null,{"$f":"IF($D60=\"\",\"\",$D60*AM60)","v":0},null,{"$f":"IF($D60=\"\",\"\",$D60*AO60)","v":0},null,{"$f":"IF($D60=\"\",\"\",$D60*AQ60)","v":0},null,{"$f":"IF($D60=\"\",\"\",$D60*AS60)","v":0},null,{"$f":"IF($D60=\"\",\"\",$D60*AU60)","v":0},null,{"$f":"IF($D60=\"\",\"\",$D60*AW60)","v":0},null,{"$f":"IF($D60=\"\",\"\",$D60*AY60)","v":0},null,{"$f":"IF($D60=\"\",\"\",$D60*BA60)","v":0},null,{"$f":"IF($D60=\"\",\"\",$D60*BC60)","v":0},null,{"$f":"IF($D60=\"\",\"\",$D60*BE60)","v":0},null,{"$f":"IF($D60=\"\",\"\",$D60*BG60)","v":0},null,{"$f":"IF($D60=\"\",\"\",$D60*BI60)","v":0},null,{"$f":"IF($D60=\"\",\"\",$D60*BK60)","v":0},null,{"$f":"IF($D60=\"\",\"\",$D60*BM60)","v":0},null,{"$f":"IF($D60=\"\",\"\",$D60*BO60)","v":0},null,{"$f":"IF($D60=\"\",\"\",$D60*BQ60)","v":0},null,{"$f":"IF($D60=\"\",\"\",$D60*BS60)","v":0},null,{"$f":"IF($D60=\"\",\"\",$D60*BU60)","v":0},null,{"$f":"IF($D60=\"\",\"\",$D60*BW60)","v":0},null,0,{"$f":"IF(D60=\"\",\"\",ROUND(F60+H60+J60+L60+N60+P60+R60+T60+V60+X60+Z60+AB60+AD60+AF60+AH60+AJ60+AL60+AN60+AP60+AR60+AT60+AV60+AX60+AZ60+BB60+BD60+BF60+BH60+BJ60+BL60+BN60+BP60+BR60+BT60+BV60+BX60,2))","v":0}]
[null,{"$f":"+PRESUPUESTO!B71","v":"ADB002"},{"$f":"IF(B61=0, \"\",VLOOKUP(B61,PRESUPUESTO!$B$17:$C$4607, 2, FALSE))","v":"LOSAS S/P.B (INTERMEDIAS)"},{"$f":"IF(ISTEXT(B61), VLOOKUP(B61, PRESUPUESTO!$B$14:$J$4207, 9, FALSE),\"\")","v":0},null,0,null,0,null,{"$f":"IF($D61=\"\",\"\",$D61*I61)","v":0},null,{"$f":"IF($D61=\"\",\"\",$D61*K61)","v":0},null,{"$f":"IF($D61=\"\",\"\",$D61*M61)","v":0},null,{"$f":"IF($D61=\"\",\"\",$D61*O61)","v":0},null,{"$f":"IF($D61=\"\",\"\",$D61*Q61)","v":0},null,{"$f":"IF($D61=\"\",\"\",$D61*S61)","v":0},null,{"$f":"IF($D61=\"\",\"\",$D61*U61)","v":0},null,{"$f":"IF($D61=\"\",\"\",$D61*W61)","v":0},null,{"$f":"IF($D61=\"\",\"\",$D61*Y61)","v":0},null,{"$f":"IF($D61=\"\",\"\",$D61*AA61)","v":0},null,{"$f":"IF($D61=\"\",\"\",$D61*AC61)","v":0},null,{"$f":"IF($D61=\"\",\"\",$D61*AE61)","v":0},null,{"$f":"IF($D61=\"\",\"\",$D61*AG61)","v":0},null,{"$f":"IF($D61=\"\",\"\",$D61*AI61)","v":0},null,{"$f":"IF($D61=\"\",\"\",$D61*AK61)","v":0},null,{"$f":"IF($D61=\"\",\"\",$D61*AM61)","v":0},null,{"$f":"IF($D61=\"\",\"\",$D61*AO61)","v":0},null,{"$f":"IF($D61=\"\",\"\",$D61*AQ61)","v":0},null,{"$f":"IF($D61=\"\",\"\",$D61*AS61)","v":0},null,{"$f":"IF($D61=\"\",\"\",$D61*AU61)","v":0},null,{"$f":"IF($D61=\"\",\"\",$D61*AW61)","v":0},null,{"$f":"IF($D61=\"\",\"\",$D61*AY61)","v":0},null,{"$f":"IF($D61=\"\",\"\",$D61*BA61)","v":0},null,{"$f":"IF($D61=\"\",\"\",$D61*BC61)","v":0},null,{"$f":"IF($D61=\"\",\"\",$D61*BE61)","v":0},null,{"$f":"IF($D61=\"\",\"\",$D61*BG61)","v":0},null,{"$f":"IF($D61=\"\",\"\",$D61*BI61)","v":0},null,{"$f":"IF($D61=\"\",\"\",$D61*BK61)","v":0},null,{"$f":"IF($D61=\"\",\"\",$D61*BM61)","v":0},null,{"$f":"IF($D61=\"\",\"\",$D61*BO61)","v":0},null,{"$f":"IF($D61=\"\",\"\",$D61*BQ61)","v":0},null,{"$f":"IF($D61=\"\",\"\",$D61*BS61)","v":0},null,{"$f":"IF($D61=\"\",\"\",$D61*BU61)","v":0},null,{"$f":"IF($D61=\"\",\"\",$D61*BW61)","v":0},null,0,0]
[null,{"$f":"+PRESUPUESTO!B72","v":"ADB003"},{"$f":"IF(B62=0, \"\",VLOOKUP(B62,PRESUPUESTO!$B$17:$C$4607, 2, FALSE))","v":"LOSAS AZOTEA"},{"$f":"IF(ISTEXT(B62), VLOOKUP(B62, PRESUPUESTO!$B$14:$J$4207, 9, FALSE),\"\")","v":0},null,0,null,0,null,{"$f":"IF($D62=\"\",\"\",$D62*I62)","v":0},null,{"$f":"IF($D62=\"\",\"\",$D62*K62)","v":0},null,{"$f":"IF($D62=\"\",\"\",$D62*M62)","v":0},null,{"$f":"IF($D62=\"\",\"\",$D62*O62)","v":0},null,{"$f":"IF($D62=\"\",\"\",$D62*Q62)","v":0},null,{"$f":"IF($D62=\"\",\"\",$D62*S62)","v":0},null,{"$f":"IF($D62=\"\",\"\",$D62*U62)","v":0},null,{"$f":"IF($D62=\"\",\"\",$D62*W62)","v":0},null,{"$f":"IF($D62=\"\",\"\",$D62*Y62)","v":0},null,{"$f":"IF($D62=\"\",\"\",$D62*AA62)","v":0},null,{"$f":"IF($D62=\"\",\"\",$D62*AC62)","v":0},null,{"$f":"IF($D62=\"\",\"\",$D62*AE62)","v":0},null,{"$f":"IF($D62=\"\",\"\",$D62*AG62)","v":0},null,{"$f":"IF($D62=\"\",\"\",$D62*AI62)","v":0},null,{"$f":"IF($D62=\"\",\"\",$D62*AK62)","v":0},null,{"$f":"IF($D62=\"\",\"\",$D62*AM62)","v":0},null,{"$f":"IF($D62=\"\",\"\",$D62*AO62)","v":0},null,{"$f":"IF($D62=\"\",\"\",$D62*AQ62)","v":0},null,{"$f":"IF($D62=\"\",\"\",$D62*AS62)","v":0},null,{"$f":"IF($D62=\"\",\"\",$D62*AU62)","v":0},null,{"$f":"IF($D62=\"\",\"\",$D62*AW62)","v":0},null,{"$f":"IF($D62=\"\",\"\",$D62*AY62)","v":0},null,{"$f":"IF($D62=\"\",\"\",$D62*BA62)","v":0},null,{"$f":"IF($D62=\"\",\"\",$D62*BC62)","v":0},null,{"$f":"IF($D62=\"\",\"\",$D62*BE62)","v":0},null,{"$f":"IF($D62=\"\",\"\",$D62*BG62)","v":0},null,{"$f":"IF($D62=\"\",\"\",$D62*BI62)","v":0},null,{"$f":"IF($D62=\"\",\"\",$D62*BK62)","v":0},null,{"$f":"IF($D62=\"\",\"\",$D62*BM62)","v":0},null,{"$f":"IF($D62=\"\",\"\",$D62*BO62)","v":0},null,{"$f":"IF($D62=\"\",\"\",$D62*BQ62)","v":0},null,{"$f":"IF($D62=\"\",\"\",$D62*BS62)","v":0},null,{"$f":"IF($D62=\"\",\"\",$D62*BU62)","v":0},null,{"$f":"IF($D62=\"\",\"\",$D62*BW62)","v":0},null,0,0]
[null,{"$f":"+PRESUPUESTO!B74","v":"ADC001"},{"$f":"IF(B63=0, \"\",VLOOKUP(B63,PRESUPUESTO!$B$17:$C$4607, 2, FALSE))","v":"ESCALERAS H.A"},{"$f":"IF(ISTEXT(B63), VLOOKUP(B63, PRESUPUESTO!$B$14:$J$4207, 9, FALSE),\"\")","v":0},null,0,null,0,null,{"$f":"IF($D63=\"\",\"\",$D63*I63)","v":0},null,{"$f":"IF($D63=\"\",\"\",$D63*K63)","v":0},null,{"$f":"IF($D63=\"\",\"\",$D63*M63)","v":0},null,{"$f":"IF($D63=\"\",\"\",$D63*O63)","v":0},null,{"$f":"IF($D63=\"\",\"\",$D63*Q63)","v":0},null,{"$f":"IF($D63=\"\",\"\",$D63*S63)","v":0},null,{"$f":"IF($D63=\"\",\"\",$D63*U63)","v":0},null,{"$f":"IF($D63=\"\",\"\",$D63*W63)","v":0},null,{"$f":"IF($D63=\"\",\"\",$D63*Y63)","v":0},null,{"$f":"IF($D63=\"\",\"\",$D63*AA63)","v":0},null,{"$f":"IF($D63=\"\",\"\",$D63*AC63)","v":0},null,{"$f":"IF($D63=\"\",\"\",$D63*AE63)","v":0},null,{"$f":"IF($D63=\"\",\"\",$D63*AG63)","v":0},null,{"$f":"IF($D63=\"\",\"\",$D63*AI63)","v":0},null,{"$f":"IF($D63=\"\",\"\",$D63*AK63)","v":0},null,{"$f":"IF($D63=\"\",\"\",$D63*AM63)","v":0},null,{"$f":"IF($D63=\"\",\"\",$D63*AO63)","v":0},null,{"$f":"IF($D63=\"\",\"\",$D63*AQ63)","v":0},null,{"$f":"IF($D63=\"\",\"\",$D63*AS63)","v":0},null,{"$f":"IF($D63=\"\",\"\",$D63*AU63)","v":0},null,{"$f":"IF($D63=\"\",\"\",$D63*AW63)","v":0},null,{"$f":"IF($D63=\"\",\"\",$D63*AY63)","v":0},null,{"$f":"IF($D63=\"\",\"\",$D63*BA63)","v":0},null,{"$f":"IF($D63=\"\",\"\",$D63*BC63)","v":0},null,{"$f":"IF($D63=\"\",\"\",$D63*BE63)","v":0},null,{"$f":"IF($D63=\"\",\"\",$D63*BG63)","v":0},null,{"$f":"IF($D63=\"\",\"\",$D63*BI63)","v":0},null,{"$f":"IF($D63=\"\",\"\",$D63*BK63)","v":0},null,{"$f":"IF($D63=\"\",\"\",$D63*BM63)","v":0},null,{"$f":"IF($D63=\"\",\"\",$D63*BO63)","v":0},null,{"$f":"IF($D63=\"\",\"\",$D63*BQ63)","v":0},null,{"$f":"IF($D63=\"\",\"\",$D63*BS63)","v":0},null,{"$f":"IF($D63=\"\",\"\",$D63*BU63)","v":0},null,{"$f":"IF($D63=\"\",\"\",$D63*BW63)","v":0},null,0,0]
[null,{"$f":"+PRESUPUESTO!B75","v":"ADC003"},{"$f":"IF(B64=0, \"\",VLOOKUP(B64,PRESUPUESTO!$B$17:$C$4607, 2, FALSE))","v":"ESTRUCTURA HA C/ESCALONES INDEPENDIENTES"},{"$f":"IF(ISTEXT(B64), VLOOKUP(B64, PRESUPUESTO!$B$14:$J$4207, 9, FALSE),\"\")","v":0},null,0,null,0,null,{"$f":"IF($D64=\"\",\"\",$D64*I64)","v":0},null,{"$f":"IF($D64=\"\",\"\",$D64*K64)","v":0},null,{"$f":"IF($D64=\"\",\"\",$D64*M64)","v":0},null,{"$f":"IF($D64=\"\",\"\",$D64*O64)","v":0},null,{"$f":"IF($D64=\"\",\"\",$D64*Q64)","v":0},null,{"$f":"IF($D64=\"\",\"\",$D64*S64)","v":0},null,{"$f":"IF($D64=\"\",\"\",$D64*U64)","v":0},null,{"$f":"IF($D64=\"\",\"\",$D64*W64)","v":0},null,{"$f":"IF($D64=\"\",\"\",$D64*Y64)","v":0},null,{"$f":"IF($D64=\"\",\"\",$D64*AA64)","v":0},null,{"$f":"IF($D64=\"\",\"\",$D64*AC64)","v":0},null,{"$f":"IF($D64=\"\",\"\",$D64*AE64)","v":0},null,{"$f":"IF($D64=\"\",\"\",$D64*AG64)","v":0},null,{"$f":"IF($D64=\"\",\"\",$D64*AI64)","v":0},null,{"$f":"IF($D64=\"\",\"\",$D64*AK64)","v":0},null,{"$f":"IF($D64=\"\",\"\",$D64*AM64)","v":0},null,{"$f":"IF($D64=\"\",\"\",$D64*AO64)","v":0},null,{"$f":"IF($D64=\"\",\"\",$D64*AQ64)","v":0},null,{"$f":"IF($D64=\"\",\"\",$D64*AS64)","v":0},null,{"$f":"IF($D64=\"\",\"\",$D64*AU64)","v":0},null,{"$f":"IF($D64=\"\",\"\",$D64*AW64)","v":0},null,{"$f":"IF($D64=\"\",\"\",$D64*AY64)","v":0},null,{"$f":"IF($D64=\"\",\"\",$D64*BA64)","v":0},null,{"$f":"IF($D64=\"\",\"\",$D64*BC64)","v":0},null,{"$f":"IF($D64=\"\",\"\",$D64*BE64)","v":0},null,{"$f":"IF($D64=\"\",\"\",$D64*BG64)","v":0},null,{"$f":"IF($D64=\"\",\"\",$D64*BI64)","v":0},null,{"$f":"IF($D64=\"\",\"\",$D64*BK64)","v":0},null,{"$f":"IF($D64=\"\",\"\",$D64*BM64)","v":0},null,{"$f":"IF($D64=\"\",\"\",$D64*BO64)","v":0},null,{"$f":"IF($D64=\"\",\"\",$D64*BQ64)","v":0},null,{"$f":"IF($D64=\"\",\"\",$D64*BS64)","v":0},null,{"$f":"IF($D64=\"\",\"\",$D64*BU64)","v":0},null,{"$f":"IF($D64=\"\",\"\",$D64*BW64)","v":0},null,0,0]
[null,{"$f":"+PRESUPUESTO!B76","v":"ADC004"},{"$f":"IF(B65=0, \"\",VLOOKUP(B65,PRESUPUESTO!$B$17:$C$4607, 2, FALSE))","v":"ESCALERAS HORMIGÓN PREFABRICADO"},{"$f":"IF(ISTEXT(B65), VLOOKUP(B65, PRESUPUESTO!$B$14:$J$4207, 9, FALSE),\"\")","v":0},null,0,null,0,null,{"$f":"IF($D65=\"\",\"\",$D65*I65)","v":0},null,{"$f":"IF($D65=\"\",\"\",$D65*K65)","v":0},null,{"$f":"IF($D65=\"\",\"\",$D65*M65)","v":0},null,{"$f":"IF($D65=\"\",\"\",$D65*O65)","v":0},null,{"$f":"IF($D65=\"\",\"\",$D65*Q65)","v":0},null,{"$f":"IF($D65=\"\",\"\",$D65*S65)","v":0},null,{"$f":"IF($D65=\"\",\"\",$D65*U65)","v":0},null,{"$f":"IF($D65=\"\",\"\",$D65*W65)","v":0},null,{"$f":"IF($D65=\"\",\"\",$D65*Y65)","v":0},null,{"$f":"IF($D65=\"\",\"\",$D65*AA65)","v":0},null,{"$f":"IF($D65=\"\",\"\",$D65*AC65)","v":0},null,{"$f":"IF($D65=\"\",\"\",$D65*AE65)","v":0},null,{"$f":"IF($D65=\"\",\"\",$D65*AG65)","v":0},null,{"$f":"IF($D65=\"\",\"\",$D65*AI65)","v":0},null,{"$f":"IF($D65=\"\",\"\",$D65*AK65)","v":0},null,{"$f":"IF($D65=\"\",\"\",$D65*AM65)","v":0},null,{"$f":"IF($D65=\"\",\"\",$D65*AO65)","v":0},null,{"$f":"IF($D65=\"\",\"\",$D65*AQ65)","v":0},null,{"$f":"IF($D65=\"\",\"\",$D65*AS65)","v":0},null,{"$f":"IF($D65=\"\",\"\",$D65*AU65)","v":0},null,{"$f":"IF($D65=\"\",\"\",$D65*AW65)","v":0},null,{"$f":"IF($D65=\"\",\"\",$D65*AY65)","v":0},null,{"$f":"IF($D65=\"\",\"\",$D65*BA65)","v":0},null,{"$f":"IF($D65=\"\",\"\",$D65*BC65)","v":0},null,{"$f":"IF($D65=\"\",\"\",$D65*BE65)","v":0},null,{"$f":"IF($D65=\"\",\"\",$D65*BG65)","v":0},null,{"$f":"IF($D65=\"\",\"\",$D65*BI65)","v":0},null,{"$f":"IF($D65=\"\",\"\",$D65*BK65)","v":0},null,{"$f":"IF($D65=\"\",\"\",$D65*BM65)","v":0},null,{"$f":"IF($D65=\"\",\"\",$D65*BO65)","v":0},null,{"$f":"IF($D65=\"\",\"\",$D65*BQ65)","v":0},null,{"$f":"IF($D65=\"\",\"\",$D65*BS65)","v":0},null,{"$f":"IF($D65=\"\",\"\",$D65*BU65)","v":0},null,{"$f":"IF($D65=\"\",\"\",$D65*BW65)","v":0},null,0,0]
[null,{"$f":"+PRESUPUESTO!B78","v":"ADD001"},{"$f":"IF(B66=0, \"\",VLOOKUP(B66,PRESUPUESTO!$B$17:$C$4607, 2, FALSE))","v":"TANQUE DE AGUA H.A."},{"$f":"IF(ISTEXT(B66), VLOOKUP(B66, PRESUPUESTO!$B$14:$J$4207, 9, FALSE),\"\")","v":0},null,0,null,0,null,{"$f":"IF($D66=\"\",\"\",$D66*I66)","v":0},null,{"$f":"IF($D66=\"\",\"\",$D66*K66)","v":0},null,{"$f":"IF($D66=\"\",\"\",$D66*M66)","v":0},null,{"$f":"IF($D66=\"\",\"\",$D66*O66)","v":0},null,{"$f":"IF($D66=\"\",\"\",$D66*Q66)","v":0},null,{"$f":"IF($D66=\"\",\"\",$D66*S66)","v":0},null,{"$f":"IF($D66=\"\",\"\",$D66*U66)","v":0},null,{"$f":"IF($D66=\"\",\"\",$D66*W66)","v":0},null,{"$f":"IF($D66=\"\",\"\",$D66*Y66)","v":0},null,{"$f":"IF($D66=\"\",\"\",$D66*AA66)","v":0},null,{"$f":"IF($D66=\"\",\"\",$D66*AC66)","v":0},null,{"$f":"IF($D66=\"\",\"\",$D66*AE66)","v":0},null,{"$f":"IF($D66=\"\",\"\",$D66*AG66)","v":0},null,{"$f":"IF($D66=\"\",\"\",$D66*AI66)","v":0},null,{"$f":"IF($D66=\"\",\"\",$D66*AK66)","v":0},null,{"$f":"IF($D66=\"\",\"\",$D66*AM66)","v":0},null,{"$f":"IF($D66=\"\",\"\",$D66*AO66)","v":0},null,{"$f":"IF($D66=\"\",\"\",$D66*AQ66)","v":0},null,{"$f":"IF($D66=\"\",\"\",$D66*AS66)","v":0},null,{"$f":"IF($D66=\"\",\"\",$D66*AU66)","v":0},null,{"$f":"IF($D66=\"\",\"\",$D66*AW66)","v":0},null,{"$f":"IF($D66=\"\",\"\",$D66*AY66)","v":0},null,{"$f":"IF($D66=\"\",\"\",$D66*BA66)","v":0},null,{"$f":"IF($D66=\"\",\"\",$D66*BC66)","v":0},null,{"$f":"IF($D66=\"\",\"\",$D66*BE66)","v":0},null,{"$f":"IF($D66=\"\",\"\",$D66*BG66)","v":0},null,{"$f":"IF($D66=\"\",\"\",$D66*BI66)","v":0},null,{"$f":"IF($D66=\"\",\"\",$D66*BK66)","v":0},null,{"$f":"IF($D66=\"\",\"\",$D66*BM66)","v":0},null,{"$f":"IF($D66=\"\",\"\",$D66*BO66)","v":0},null,{"$f":"IF($D66=\"\",\"\",$D66*BQ66)","v":0},null,{"$f":"IF($D66=\"\",\"\",$D66*BS66)","v":0},null,{"$f":"IF($D66=\"\",\"\",$D66*BU66)","v":0},null,{"$f":"IF($D66=\"\",\"\",$D66*BW66)","v":0},null,0,0]
[null,{"$f":"+PRESUPUESTO!B80","v":"ADG001"},{"$f":"IF(B67=0, \"\",VLOOKUP(B67,PRESUPUESTO!$B$17:$C$4607, 2, FALSE))","v":"PILARES METÁLICOS C/ PERFILES CONFORMADOS"},{"$f":"IF(ISTEXT(B67), VLOOKUP(B67, PRESUPUESTO!$B$14:$J$4207, 9, FALSE),\"\")","v":0},null,0,null,0,null,{"$f":"IF($D67=\"\",\"\",$D67*I67)","v":0},null,{"$f":"IF($D67=\"\",\"\",$D67*K67)","v":0},null,{"$f":"IF($D67=\"\",\"\",$D67*M67)","v":0},null,{"$f":"IF($D67=\"\",\"\",$D67*O67)","v":0},null,{"$f":"IF($D67=\"\",\"\",$D67*Q67)","v":0},null,{"$f":"IF($D67=\"\",\"\",$D67*S67)","v":0},null,{"$f":"IF($D67=\"\",\"\",$D67*U67)","v":0},null,{"$f":"IF($D67=\"\",\"\",$D67*W67)","v":0},null,{"$f":"IF($D67=\"\",\"\",$D67*Y67)","v":0},null,{"$f":"IF($D67=\"\",\"\",$D67*AA67)","v":0},null,{"$f":"IF($D67=\"\",\"\",$D67*AC67)","v":0},null,{"$f":"IF($D67=\"\",\"\",$D67*AE67)","v":0},null,{"$f":"IF($D67=\"\",\"\",$D67*AG67)","v":0},null,{"$f":"IF($D67=\"\",\"\",$D67*AI67)","v":0},null,{"$f":"IF($D67=\"\",\"\",$D67*AK67)","v":0},null,{"$f":"IF($D67=\"\",\"\",$D67*AM67)","v":0},null,{"$f":"IF($D67=\"\",\"\",$D67*AO67)","v":0},null,{"$f":"IF($D67=\"\",\"\",$D67*AQ67)","v":0},null,{"$f":"IF($D67=\"\",\"\",$D67*AS67)","v":0},null,{"$f":"IF($D67=\"\",\"\",$D67*AU67)","v":0},null,{"$f":"IF($D67=\"\",\"\",$D67*AW67)","v":0},null,{"$f":"IF($D67=\"\",\"\",$D67*AY67)","v":0},null,{"$f":"IF($D67=\"\",\"\",$D67*BA67)","v":0},null,{"$f":"IF($D67=\"\",\"\",$D67*BC67)","v":0},null,{"$f":"IF($D67=\"\",\"\",$D67*BE67)","v":0},null,{"$f":"IF($D67=\"\",\"\",$D67*BG67)","v":0},null,{"$f":"IF($D67=\"\",\"\",$D67*BI67)","v":0},null,{"$f":"IF($D67=\"\",\"\",$D67*BK67)","v":0},null,{"$f":"IF($D67=\"\",\"\",$D67*BM67)","v":0},null,{"$f":"IF($D67=\"\",\"\",$D67*BO67)","v":0},null,{"$f":"IF($D67=\"\",\"\",$D67*BQ67)","v":0},null,{"$f":"IF($D67=\"\",\"\",$D67*BS67)","v":0},null,{"$f":"IF($D67=\"\",\"\",$D67*BU67)","v":0},null,{"$f":"IF($D67=\"\",\"\",$D67*BW67)","v":0},null,{"$f":"+E67+G67+I67+K67+M67+O67+Q67+S67+U67+W67+Y67+AA67+AC67+AE67+AG67+AI67+AK67+AM67+AO67+AQ67+AS67+AU67+AW67+AY67+BA67+BC67+BE67+BG67+BI67+BK67+BM67+BO67+BQ67+BS67+BU67+BW67","v":0},0]
[null,{"$f":"+PRESUPUESTO!B81","v":"ADG002"},{"$f":"IF(B68=0, \"\",VLOOKUP(B68,PRESUPUESTO!$B$17:$C$4607, 2, FALSE))","v":"PILARES METÁLICOS RETICULADOS"},{"$f":"IF(ISTEXT(B68), VLOOKUP(B68, PRESUPUESTO!$B$14:$J$4207, 9, FALSE),\"\")","v":0},null,{"$f":"IF($D68=\"\",\"\",$D68*E68)","v":0},null,0,null,{"$f":"IF($D68=\"\",\"\",$D68*I68)","v":0},null,{"$f":"IF($D68=\"\",\"\",$D68*K68)","v":0},null,{"$f":"IF($D68=\"\",\"\",$D68*M68)","v":0},null,{"$f":"IF($D68=\"\",\"\",$D68*O68)","v":0},null,{"$f":"IF($D68=\"\",\"\",$D68*Q68)","v":0},null,{"$f":"IF($D68=\"\",\"\",$D68*S68)","v":0},null,{"$f":"IF($D68=\"\",\"\",$D68*U68)","v":0},null,{"$f":"IF($D68=\"\",\"\",$D68*W68)","v":0},null,{"$f":"IF($D68=\"\",\"\",$D68*Y68)","v":0},null,{"$f":"IF($D68=\"\",\"\",$D68*AA68)","v":0},null,{"$f":"IF($D68=\"\",\"\",$D68*AC68)","v":0},null,{"$f":"IF($D68=\"\",\"\",$D68*AE68)","v":0},null,{"$f":"IF($D68=\"\",\"\",$D68*AG68)","v":0},null,{"$f":"IF($D68=\"\",\"\",$D68*AI68)","v":0},null,{"$f":"IF($D68=\"\",\"\",$D68*AK68)","v":0},null,{"$f":"IF($D68=\"\",\"\",$D68*AM68)","v":0},null,{"$f":"IF($D68=\"\",\"\",$D68*AO68)","v":0},null,{"$f":"IF($D68=\"\",\"\",$D68*AQ68)","v":0},null,{"$f":"IF($D68=\"\",\"\",$D68*AS68)","v":0},null,{"$f":"IF($D68=\"\",\"\",$D68*AU68)","v":0},null,{"$f":"IF($D68=\"\",\"\",$D68*AW68)","v":0},null,{"$f":"IF($D68=\"\",\"\",$D68*AY68)","v":0},null,{"$f":"IF($D68=\"\",\"\",$D68*BA68)","v":0},null,{"$f":"IF($D68=\"\",\"\",$D68*BC68)","v":0},null,{"$f":"IF($D68=\"\",\"\",$D68*BE68)","v":0},null,{"$f":"IF($D68=\"\",\"\",$D68*BG68)","v":0},null,{"$f":"IF($D68=\"\",\"\",$D68*BI68)","v":0},null,{"$f":"IF($D68=\"\",\"\",$D68*BK68)","v":0},null,{"$f":"IF($D68=\"\",\"\",$D68*BM68)","v":0},null,{"$f":"IF($D68=\"\",\"\",$D68*BO68)","v":0},null,{"$f":"IF($D68=\"\",\"\",$D68*BQ68)","v":0},null,{"$f":"IF($D68=\"\",\"\",$D68*BS68)","v":0},null,{"$f":"IF($D68=\"\",\"\",$D68*BU68)","v":0},null,{"$f":"IF($D68=\"\",\"\",$D68*BW68)","v":0},null,0,0]
[null,{"$f":"+PRESUPUESTO!B82","v":"ADG003"},{"$f":"IF(B69=0, \"\",VLOOKUP(B69,PRESUPUESTO!$B$17:$C$4607, 2, FALSE))","v":"VIGAS METÁLICAS C/PERFILES CONFORMADOS"},{"$f":"IF(ISTEXT(B69), VLOOKUP(B69, PRESUPUESTO!$B$14:$J$4207, 9, FALSE),\"\")","v":0},null,0,null,0,null,{"$f":"IF($D69=\"\",\"\",$D69*I69)","v":0},null,{"$f":"IF($D69=\"\",\"\",$D69*K69)","v":0},null,{"$f":"IF($D69=\"\",\"\",$D69*M69)","v":0},null,{"$f":"IF($D69=\"\",\"\",$D69*O69)","v":0},null,{"$f":"IF($D69=\"\",\"\",$D69*Q69)","v":0},null,{"$f":"IF($D69=\"\",\"\",$D69*S69)","v":0},null,{"$f":"IF($D69=\"\",\"\",$D69*U69)","v":0},null,{"$f":"IF($D69=\"\",\"\",$D69*W69)","v":0},null,{"$f":"IF($D69=\"\",\"\",$D69*Y69)","v":0},null,{"$f":"IF($D69=\"\",\"\",$D69*AA69)","v":0},null,{"$f":"IF($D69=\"\",\"\",$D69*AC69)","v":0},null,{"$f":"IF($D69=\"\",\"\",$D69*AE69)","v":0},null,{"$f":"IF($D69=\"\",\"\",$D69*AG69)","v":0},null,{"$f":"IF($D69=\"\",\"\",$D69*AI69)","v":0},null,{"$f":"IF($D69=\"\",\"\",$D69*AK69)","v":0},null,{"$f":"IF($D69=\"\",\"\",$D69*AM69)","v":0},null,{"$f":"IF($D69=\"\",\"\",$D69*AO69)","v":0},null,{"$f":"IF($D69=\"\",\"\",$D69*AQ69)","v":0},null,{"$f":"IF($D69=\"\",\"\",$D69*AS69)","v":0},null,{"$f":"IF($D69=\"\",\"\",$D69*AU69)","v":0},null,{"$f":"IF($D69=\"\",\"\",$D69*AW69)","v":0},null,{"$f":"IF($D69=\"\",\"\",$D69*AY69)","v":0},null,{"$f":"IF($D69=\"\",\"\",$D69*BA69)","v":0},null,{"$f":"IF($D69=\"\",\"\",$D69*BC69)","v":0},null,{"$f":"IF($D69=\"\",\"\",$D69*BE69)","v":0},null,{"$f":"IF($D69=\"\",\"\",$D69*BG69)","v":0},null,{"$f":"IF($D69=\"\",\"\",$D69*BI69)","v":0},null,{"$f":"IF($D69=\"\",\"\",$D69*BK69)","v":0},null,{"$f":"IF($D69=\"\",\"\",$D69*BM69)","v":0},null,{"$f":"IF($D69=\"\",\"\",$D69*BO69)","v":0},null,{"$f":"IF($D69=\"\",\"\",$D69*BQ69)","v":0},null,{"$f":"IF($D69=\"\",\"\",$D69*BS69)","v":0},null,{"$f":"IF($D69=\"\",\"\",$D69*BU69)","v":0},null,{"$f":"IF($D69=\"\",\"\",$D69*BW69)","v":0},null,0,0]
[null,{"$f":"+PRESUPUESTO!B83","v":"ADG004"},{"$f":"IF(B70=0, \"\",VLOOKUP(B70,PRESUPUESTO!$B$17:$C$4607, 2, FALSE))","v":"VIGAS METÁLICAS ELEMENTOS RETICULADOS"},{"$f":"IF(ISTEXT(B70), VLOOKUP(B70, PRESUPUESTO!$B$14:$J$4207, 9, FALSE),\"\")","v":0},null,0,null,0,null,{"$f":"IF($D70=\"\",\"\",$D70*I70)","v":0},null,{"$f":"IF($D70=\"\",\"\",$D70*K70)","v":0},null,{"$f":"IF($D70=\"\",\"\",$D70*M70)","v":0},null,{"$f":"IF($D70=\"\",\"\",$D70*O70)","v":0},null,{"$f":"IF($D70=\"\",\"\",$D70*Q70)","v":0},null,{"$f":"IF($D70=\"\",\"\",$D70*S70)","v":0},null,{"$f":"IF($D70=\"\",\"\",$D70*U70)","v":0},null,{"$f":"IF($D70=\"\",\"\",$D70*W70)","v":0},null,{"$f":"IF($D70=\"\",\"\",$D70*Y70)","v":0},null,{"$f":"IF($D70=\"\",\"\",$D70*AA70)","v":0},null,{"$f":"IF($D70=\"\",\"\",$D70*AC70)","v":0},null,{"$f":"IF($D70=\"\",\"\",$D70*AE70)","v":0},null,{"$f":"IF($D70=\"\",\"\",$D70*AG70)","v":0},null,{"$f":"IF($D70=\"\",\"\",$D70*AI70)","v":0},null,{"$f":"IF($D70=\"\",\"\",$D70*AK70)","v":0},null,{"$f":"IF($D70=\"\",\"\",$D70*AM70)","v":0},null,{"$f":"IF($D70=\"\",\"\",$D70*AO70)","v":0},null,{"$f":"IF($D70=\"\",\"\",$D70*AQ70)","v":0},null,{"$f":"IF($D70=\"\",\"\",$D70*AS70)","v":0},null,{"$f":"IF($D70=\"\",\"\",$D70*AU70)","v":0},null,{"$f":"IF($D70=\"\",\"\",$D70*AW70)","v":0},null,{"$f":"IF($D70=\"\",\"\",$D70*AY70)","v":0},null,{"$f":"IF($D70=\"\",\"\",$D70*BA70)","v":0},null,{"$f":"IF($D70=\"\",\"\",$D70*BC70)","v":0},null,{"$f":"IF($D70=\"\",\"\",$D70*BE70)","v":0},null,{"$f":"IF($D70=\"\",\"\",$D70*BG70)","v":0},null,{"$f":"IF($D70=\"\",\"\",$D70*BI70)","v":0},null,{"$f":"IF($D70=\"\",\"\",$D70*BK70)","v":0},null,{"$f":"IF($D70=\"\",\"\",$D70*BM70)","v":0},null,{"$f":"IF($D70=\"\",\"\",$D70*BO70)","v":0},null,{"$f":"IF($D70=\"\",\"\",$D70*BQ70)","v":0},null,{"$f":"IF($D70=\"\",\"\",$D70*BS70)","v":0},null,{"$f":"IF($D70=\"\",\"\",$D70*BU70)","v":0},null,{"$f":"IF($D70=\"\",\"\",$D70*BW70)","v":0},null,0,0]
[null,{"$f":"+PRESUPUESTO!B84","v":"ADG005"},{"$f":"IF(B71=0, \"\",VLOOKUP(B71,PRESUPUESTO!$B$17:$C$4607, 2, FALSE))","v":"ESTRUCTURA DE PERFILES CONFORMADOS PARA ESCALERA"},{"$f":"IF(ISTEXT(B71), VLOOKUP(B71, PRESUPUESTO!$B$14:$J$4207, 9, FALSE),\"\")","v":0},null,0,null,0,null,{"$f":"IF($D71=\"\",\"\",$D71*I71)","v":0},null,{"$f":"IF($D71=\"\",\"\",$D71*K71)","v":0},null,{"$f":"IF($D71=\"\",\"\",$D71*M71)","v":0},null,{"$f":"IF($D71=\"\",\"\",$D71*O71)","v":0},null,{"$f":"IF($D71=\"\",\"\",$D71*Q71)","v":0},null,{"$f":"IF($D71=\"\",\"\",$D71*S71)","v":0},null,{"$f":"IF($D71=\"\",\"\",$D71*U71)","v":0},null,{"$f":"IF($D71=\"\",\"\",$D71*W71)","v":0},null,{"$f":"IF($D71=\"\",\"\",$D71*Y71)","v":0},null,{"$f":"IF($D71=\"\",\"\",$D71*AA71)","v":0},null,{"$f":"IF($D71=\"\",\"\",$D71*AC71)","v":0},null,{"$f":"IF($D71=\"\",\"\",$D71*AE71)","v":0},null,{"$f":"IF($D71=\"\",\"\",$D71*AG71)","v":0},null,{"$f":"IF($D71=\"\",\"\",$D71*AI71)","v":0},null,{"$f":"IF($D71=\"\",\"\",$D71*AK71)","v":0},null,{"$f":"IF($D71=\"\",\"\",$D71*AM71)","v":0},null,{"$f":"IF($D71=\"\",\"\",$D71*AO71)","v":0},null,{"$f":"IF($D71=\"\",\"\",$D71*AQ71)","v":0},null,{"$f":"IF($D71=\"\",\"\",$D71*AS71)","v":0},null,{"$f":"IF($D71=\"\",\"\",$D71*AU71)","v":0},null,{"$f":"IF($D71=\"\",\"\",$D71*AW71)","v":0},null,{"$f":"IF($D71=\"\",\"\",$D71*AY71)","v":0},null,{"$f":"IF($D71=\"\",\"\",$D71*BA71)","v":0},null,{"$f":"IF($D71=\"\",\"\",$D71*BC71)","v":0},null,{"$f":"IF($D71=\"\",\"\",$D71*BE71)","v":0},null,{"$f":"IF($D71=\"\",\"\",$D71*BG71)","v":0},null,{"$f":"IF($D71=\"\",\"\",$D71*BI71)","v":0},null,{"$f":"IF($D71=\"\",\"\",$D71*BK71)","v":0},null,{"$f":"IF($D71=\"\",\"\",$D71*BM71)","v":0},null,{"$f":"IF($D71=\"\",\"\",$D71*BO71)","v":0},null,{"$f":"IF($D71=\"\",\"\",$D71*BQ71)","v":0},null,{"$f":"IF($D71=\"\",\"\",$D71*BS71)","v":0},null,{"$f":"IF($D71=\"\",\"\",$D71*BU71)","v":0},null,{"$f":"IF($D71=\"\",\"\",$D71*BW71)","v":0},null,0,0]
[null,{"$f":"+PRESUPUESTO!B85","v":"AFA001"},{"$f":"IF(B72=0, \"\",VLOOKUP(B72,PRESUPUESTO!$B$17:$C$4607, 2, FALSE))","v":"ESTRUCTURA SOPORTE METÁLICA P/CERRAM. LIVIANO"},{"$f":"IF(ISTEXT(B72), VLOOKUP(B72, PRESUPUESTO!$B$14:$J$4207, 9, FALSE),\"\")","v":0},null,0,null,0,null,{"$f":"IF($D72=\"\",\"\",$D72*I72)","v":0},null,{"$f":"IF($D72=\"\",\"\",$D72*K72)","v":0},null,{"$f":"IF($D72=\"\",\"\",$D72*M72)","v":0},null,{"$f":"IF($D72=\"\",\"\",$D72*O72)","v":0},null,{"$f":"IF($D72=\"\",\"\",$D72*Q72)","v":0},null,{"$f":"IF($D72=\"\",\"\",$D72*S72)","v":0},null,{"$f":"IF($D72=\"\",\"\",$D72*U72)","v":0},null,{"$f":"IF($D72=\"\",\"\",$D72*W72)","v":0},null,{"$f":"IF($D72=\"\",\"\",$D72*Y72)","v":0},null,{"$f":"IF($D72=\"\",\"\",$D72*AA72)","v":0},null,{"$f":"IF($D72=\"\",\"\",$D72*AC72)","v":0},null,{"$f":"IF($D72=\"\",\"\",$D72*AE72)","v":0},null,{"$f":"IF($D72=\"\",\"\",$D72*AG72)","v":0},null,{"$f":"IF($D72=\"\",\"\",$D72*AI72)","v":0},null,{"$f":"IF($D72=\"\",\"\",$D72*AK72)","v":0},null,{"$f":"IF($D72=\"\",\"\",$D72*AM72)","v":0},null,{"$f":"IF($D72=\"\",\"\",$D72*AO72)","v":0},null,{"$f":"IF($D72=\"\",\"\",$D72*AQ72)","v":0},null,{"$f":"IF($D72=\"\",\"\",$D72*AS72)","v":0},null,{"$f":"IF($D72=\"\",\"\",$D72*AU72)","v":0},null,{"$f":"IF($D72=\"\",\"\",$D72*AW72)","v":0},null,{"$f":"IF($D72=\"\",\"\",$D72*AY72)","v":0},null,{"$f":"IF($D72=\"\",\"\",$D72*BA72)","v":0},null,{"$f":"IF($D72=\"\",\"\",$D72*BC72)","v":0},null,{"$f":"IF($D72=\"\",\"\",$D72*BE72)","v":0},null,{"$f":"IF($D72=\"\",\"\",$D72*BG72)","v":0},null,{"$f":"IF($D72=\"\",\"\",$D72*BI72)","v":0},null,{"$f":"IF($D72=\"\",\"\",$D72*BK72)","v":0},null,{"$f":"IF($D72=\"\",\"\",$D72*BM72)","v":0},null,{"$f":"IF($D72=\"\",\"\",$D72*BO72)","v":0},null,{"$f":"IF($D72=\"\",\"\",$D72*BQ72)","v":0},null,{"$f":"IF($D72=\"\",\"\",$D72*BS72)","v":0},null,{"$f":"IF($D72=\"\",\"\",$D72*BU72)","v":0},null,{"$f":"IF($D72=\"\",\"\",$D72*BW72)","v":0},null,0,0]
[null,{"$f":"+PRESUPUESTO!B87","v":"ADH001"},{"$f":"IF(B73=0, \"\",VLOOKUP(B73,PRESUPUESTO!$B$17:$C$4607, 2, FALSE))","v":"PILARES MADERA"},{"$f":"IF(ISTEXT(B73), VLOOKUP(B73, PRESUPUESTO!$B$14:$J$4207, 9, FALSE),\"\")","v":0},null,0,null,0,null,{"$f":"IF($D73=\"\",\"\",$D73*I73)","v":0},null,{"$f":"IF($D73=\"\",\"\",$D73*K73)","v":0},null,{"$f":"IF($D73=\"\",\"\",$D73*M73)","v":0},null,{"$f":"IF($D73=\"\",\"\",$D73*O73)","v":0},null,{"$f":"IF($D73=\"\",\"\",$D73*Q73)","v":0},null,{"$f":"IF($D73=\"\",\"\",$D73*S73)","v":0},null,{"$f":"IF($D73=\"\",\"\",$D73*U73)","v":0},null,{"$f":"IF($D73=\"\",\"\",$D73*W73)","v":0},null,{"$f":"IF($D73=\"\",\"\",$D73*Y73)","v":0},null,{"$f":"IF($D73=\"\",\"\",$D73*AA73)","v":0},null,{"$f":"IF($D73=\"\",\"\",$D73*AC73)","v":0},null,{"$f":"IF($D73=\"\",\"\",$D73*AE73)","v":0},null,{"$f":"IF($D73=\"\",\"\",$D73*AG73)","v":0},null,{"$f":"IF($D73=\"\",\"\",$D73*AI73)","v":0},null,{"$f":"IF($D73=\"\",\"\",$D73*AK73)","v":0},null,{"$f":"IF($D73=\"\",\"\",$D73*AM73)","v":0},null,{"$f":"IF($D73=\"\",\"\",$D73*AO73)","v":0},null,{"$f":"IF($D73=\"\",\"\",$D73*AQ73)","v":0},null,{"$f":"IF($D73=\"\",\"\",$D73*AS73)","v":0},null,{"$f":"IF($D73=\"\",\"\",$D73*AU73)","v":0},null,{"$f":"IF($D73=\"\",\"\",$D73*AW73)","v":0},null,{"$f":"IF($D73=\"\",\"\",$D73*AY73)","v":0},null,{"$f":"IF($D73=\"\",\"\",$D73*BA73)","v":0},null,{"$f":"IF($D73=\"\",\"\",$D73*BC73)","v":0},null,{"$f":"IF($D73=\"\",\"\",$D73*BE73)","v":0},null,{"$f":"IF($D73=\"\",\"\",$D73*BG73)","v":0},null,{"$f":"IF($D73=\"\",\"\",$D73*BI73)","v":0},null,{"$f":"IF($D73=\"\",\"\",$D73*BK73)","v":0},null,{"$f":"IF($D73=\"\",\"\",$D73*BM73)","v":0},null,{"$f":"IF($D73=\"\",\"\",$D73*BO73)","v":0},null,{"$f":"IF($D73=\"\",\"\",$D73*BQ73)","v":0},null,{"$f":"IF($D73=\"\",\"\",$D73*BS73)","v":0},null,{"$f":"IF($D73=\"\",\"\",$D73*BU73)","v":0},null,{"$f":"IF($D73=\"\",\"\",$D73*BW73)","v":0},null,0,0]
[null,{"$f":"+PRESUPUESTO!B88","v":"ADH002"},{"$f":"IF(B74=0, \"\",VLOOKUP(B74,PRESUPUESTO!$B$17:$C$4607, 2, FALSE))","v":"VIGAS, CORREAS MADERA"},{"$f":"IF(ISTEXT(B74), VLOOKUP(B74, PRESUPUESTO!$B$14:$J$4207, 9, FALSE),\"\")","v":0},null,0,null,0,null,{"$f":"IF($D74=\"\",\"\",$D74*I74)","v":0},null,{"$f":"IF($D74=\"\",\"\",$D74*K74)","v":0},null,{"$f":"IF($D74=\"\",\"\",$D74*M74)","v":0},null,{"$f":"IF($D74=\"\",\"\",$D74*O74)","v":0},null,{"$f":"IF($D74=\"\",\"\",$D74*Q74)","v":0},null,{"$f":"IF($D74=\"\",\"\",$D74*S74)","v":0},null,{"$f":"IF($D74=\"\",\"\",$D74*U74)","v":0},null,{"$f":"IF($D74=\"\",\"\",$D74*W74)","v":0},null,{"$f":"IF($D74=\"\",\"\",$D74*Y74)","v":0},null,{"$f":"IF($D74=\"\",\"\",$D74*AA74)","v":0},null,{"$f":"IF($D74=\"\",\"\",$D74*AC74)","v":0},null,{"$f":"IF($D74=\"\",\"\",$D74*AE74)","v":0},null,{"$f":"IF($D74=\"\",\"\",$D74*AG74)","v":0},null,{"$f":"IF($D74=\"\",\"\",$D74*AI74)","v":0},null,{"$f":"IF($D74=\"\",\"\",$D74*AK74)","v":0},null,{"$f":"IF($D74=\"\",\"\",$D74*AM74)","v":0},null,{"$f":"IF($D74=\"\",\"\",$D74*AO74)","v":0},null,{"$f":"IF($D74=\"\",\"\",$D74*AQ74)","v":0},null,{"$f":"IF($D74=\"\",\"\",$D74*AS74)","v":0},null,{"$f":"IF($D74=\"\",\"\",$D74*AU74)","v":0},null,{"$f":"IF($D74=\"\",\"\",$D74*AW74)","v":0},null,{"$f":"IF($D74=\"\",\"\",$D74*AY74)","v":0},null,{"$f":"IF($D74=\"\",\"\",$D74*BA74)","v":0},null,{"$f":"IF($D74=\"\",\"\",$D74*BC74)","v":0},null,{"$f":"IF($D74=\"\",\"\",$D74*BE74)","v":0},null,{"$f":"IF($D74=\"\",\"\",$D74*BG74)","v":0},null,{"$f":"IF($D74=\"\",\"\",$D74*BI74)","v":0},null,{"$f":"IF($D74=\"\",\"\",$D74*BK74)","v":0},null,{"$f":"IF($D74=\"\",\"\",$D74*BM74)","v":0},null,{"$f":"IF($D74=\"\",\"\",$D74*BO74)","v":0},null,{"$f":"IF($D74=\"\",\"\",$D74*BQ74)","v":0},null,{"$f":"IF($D74=\"\",\"\",$D74*BS74)","v":0},null,{"$f":"IF($D74=\"\",\"\",$D74*BU74)","v":0},null,{"$f":"IF($D74=\"\",\"\",$D74*BW74)","v":0},null,0,0]
[null,{"$f":"+PRESUPUESTO!B89","v":"ADH005"},{"$f":"IF(B75=0, \"\",VLOOKUP(B75,PRESUPUESTO!$B$17:$C$4607, 2, FALSE))","v":"PANELES ESTRUCTURALES MADERA CERRAMIENTO VERTICAL"},{"$f":"IF(ISTEXT(B75), VLOOKUP(B75, PRESUPUESTO!$B$14:$J$4207, 9, FALSE),\"\")","v":0},null,0,null,0,null,{"$f":"IF($D75=\"\",\"\",$D75*I75)","v":0},null,{"$f":"IF($D75=\"\",\"\",$D75*K75)","v":0},null,{"$f":"IF($D75=\"\",\"\",$D75*M75)","v":0},null,{"$f":"IF($D75=\"\",\"\",$D75*O75)","v":0},null,{"$f":"IF($D75=\"\",\"\",$D75*Q75)","v":0},null,{"$f":"IF($D75=\"\",\"\",$D75*S75)","v":0},null,{"$f":"IF($D75=\"\",\"\",$D75*U75)","v":0},null,{"$f":"IF($D75=\"\",\"\",$D75*W75)","v":0},null,{"$f":"IF($D75=\"\",\"\",$D75*Y75)","v":0},null,{"$f":"IF($D75=\"\",\"\",$D75*AA75)","v":0},null,{"$f":"IF($D75=\"\",\"\",$D75*AC75)","v":0},null,{"$f":"IF($D75=\"\",\"\",$D75*AE75)","v":0},null,{"$f":"IF($D75=\"\",\"\",$D75*AG75)","v":0},null,{"$f":"IF($D75=\"\",\"\",$D75*AI75)","v":0},null,{"$f":"IF($D75=\"\",\"\",$D75*AK75)","v":0},null,{"$f":"IF($D75=\"\",\"\",$D75*AM75)","v":0},null,{"$f":"IF($D75=\"\",\"\",$D75*AO75)","v":0},null,{"$f":"IF($D75=\"\",\"\",$D75*AQ75)","v":0},null,{"$f":"IF($D75=\"\",\"\",$D75*AS75)","v":0},null,{"$f":"IF($D75=\"\",\"\",$D75*AU75)","v":0},null,{"$f":"IF($D75=\"\",\"\",$D75*AW75)","v":0},null,{"$f":"IF($D75=\"\",\"\",$D75*AY75)","v":0},null,{"$f":"IF($D75=\"\",\"\",$D75*BA75)","v":0},null,{"$f":"IF($D75=\"\",\"\",$D75*BC75)","v":0},null,{"$f":"IF($D75=\"\",\"\",$D75*BE75)","v":0},null,{"$f":"IF($D75=\"\",\"\",$D75*BG75)","v":0},null,{"$f":"IF($D75=\"\",\"\",$D75*BI75)","v":0},null,{"$f":"IF($D75=\"\",\"\",$D75*BK75)","v":0},null,{"$f":"IF($D75=\"\",\"\",$D75*BM75)","v":0},null,{"$f":"IF($D75=\"\",\"\",$D75*BO75)","v":0},null,{"$f":"IF($D75=\"\",\"\",$D75*BQ75)","v":0},null,{"$f":"IF($D75=\"\",\"\",$D75*BS75)","v":0},null,{"$f":"IF($D75=\"\",\"\",$D75*BU75)","v":0},null,{"$f":"IF($D75=\"\",\"\",$D75*BW75)","v":0},null,0,0]
[null,{"$f":"+PRESUPUESTO!B90","v":"ADH007"},{"$f":"IF(B76=0, \"\",VLOOKUP(B76,PRESUPUESTO!$B$17:$C$4607, 2, FALSE))","v":"CERAM. HORIZONTALES EN MADERA (ENTREPISOS, ALEROS)"},{"$f":"IF(ISTEXT(B76), VLOOKUP(B76, PRESUPUESTO!$B$14:$J$4207, 9, FALSE),\"\")","v":0},null,0,null,0,null,{"$f":"IF($D76=\"\",\"\",$D76*I76)","v":0},null,{"$f":"IF($D76=\"\",\"\",$D76*K76)","v":0},null,{"$f":"IF($D76=\"\",\"\",$D76*M76)","v":0},null,{"$f":"IF($D76=\"\",\"\",$D76*O76)","v":0},null,{"$f":"IF($D76=\"\",\"\",$D76*Q76)","v":0},null,{"$f":"IF($D76=\"\",\"\",$D76*S76)","v":0},null,{"$f":"IF($D76=\"\",\"\",$D76*U76)","v":0},null,{"$f":"IF($D76=\"\",\"\",$D76*W76)","v":0},null,{"$f":"IF($D76=\"\",\"\",$D76*Y76)","v":0},null,{"$f":"IF($D76=\"\",\"\",$D76*AA76)","v":0},null,{"$f":"IF($D76=\"\",\"\",$D76*AC76)","v":0},null,{"$f":"IF($D76=\"\",\"\",$D76*AE76)","v":0},null,{"$f":"IF($D76=\"\",\"\",$D76*AG76)","v":0},null,{"$f":"IF($D76=\"\",\"\",$D76*AI76)","v":0},null,{"$f":"IF($D76=\"\",\"\",$D76*AK76)","v":0},null,{"$f":"IF($D76=\"\",\"\",$D76*AM76)","v":0},null,{"$f":"IF($D76=\"\",\"\",$D76*AO76)","v":0},null,{"$f":"IF($D76=\"\",\"\",$D76*AQ76)","v":0},null,{"$f":"IF($D76=\"\",\"\",$D76*AS76)","v":0},null,{"$f":"IF($D76=\"\",\"\",$D76*AU76)","v":0},null,{"$f":"IF($D76=\"\",\"\",$D76*AW76)","v":0},null,{"$f":"IF($D76=\"\",\"\",$D76*AY76)","v":0},null,{"$f":"IF($D76=\"\",\"\",$D76*BA76)","v":0},null,{"$f":"IF($D76=\"\",\"\",$D76*BC76)","v":0},null,{"$f":"IF($D76=\"\",\"\",$D76*BE76)","v":0},null,{"$f":"IF($D76=\"\",\"\",$D76*BG76)","v":0},null,{"$f":"IF($D76=\"\",\"\",$D76*BI76)","v":0},null,{"$f":"IF($D76=\"\",\"\",$D76*BK76)","v":0},null,{"$f":"IF($D76=\"\",\"\",$D76*BM76)","v":0},null,{"$f":"IF($D76=\"\",\"\",$D76*BO76)","v":0},null,{"$f":"IF($D76=\"\",\"\",$D76*BQ76)","v":0},null,{"$f":"IF($D76=\"\",\"\",$D76*BS76)","v":0},null,{"$f":"IF($D76=\"\",\"\",$D76*BU76)","v":0},null,{"$f":"IF($D76=\"\",\"\",$D76*BW76)","v":0},null,0,0]
[null,{"$f":"+PRESUPUESTO!B91","v":"AFA002"},{"$f":"IF(B77=0, \"\",VLOOKUP(B77,PRESUPUESTO!$B$17:$C$4607, 2, FALSE))","v":"ESTRUCTURA SOPORTE MADERA P/CERRAM. LIVIANO"},{"$f":"IF(ISTEXT(B77), VLOOKUP(B77, PRESUPUESTO!$B$14:$J$4207, 9, FALSE),\"\")","v":0},null,0,null,0,null,{"$f":"IF($D77=\"\",\"\",$D77*I77)","v":0},null,{"$f":"IF($D77=\"\",\"\",$D77*K77)","v":0},null,{"$f":"IF($D77=\"\",\"\",$D77*M77)","v":0},null,{"$f":"IF($D77=\"\",\"\",$D77*O77)","v":0},null,{"$f":"IF($D77=\"\",\"\",$D77*Q77)","v":0},null,{"$f":"IF($D77=\"\",\"\",$D77*S77)","v":0},null,{"$f":"IF($D77=\"\",\"\",$D77*U77)","v":0},null,{"$f":"IF($D77=\"\",\"\",$D77*W77)","v":0},null,{"$f":"IF($D77=\"\",\"\",$D77*Y77)","v":0},null,{"$f":"IF($D77=\"\",\"\",$D77*AA77)","v":0},null,{"$f":"IF($D77=\"\",\"\",$D77*AC77)","v":0},null,{"$f":"IF($D77=\"\",\"\",$D77*AE77)","v":0},null,{"$f":"IF($D77=\"\",\"\",$D77*AG77)","v":0},null,{"$f":"IF($D77=\"\",\"\",$D77*AI77)","v":0},null,{"$f":"IF($D77=\"\",\"\",$D77*AK77)","v":0},null,{"$f":"IF($D77=\"\",\"\",$D77*AM77)","v":0},null,{"$f":"IF($D77=\"\",\"\",$D77*AO77)","v":0},null,{"$f":"IF($D77=\"\",\"\",$D77*AQ77)","v":0},null,{"$f":"IF($D77=\"\",\"\",$D77*AS77)","v":0},null,{"$f":"IF($D77=\"\",\"\",$D77*AU77)","v":0},null,{"$f":"IF($D77=\"\",\"\",$D77*AW77)","v":0},null,{"$f":"IF($D77=\"\",\"\",$D77*AY77)","v":0},null,{"$f":"IF($D77=\"\",\"\",$D77*BA77)","v":0},null,{"$f":"IF($D77=\"\",\"\",$D77*BC77)","v":0},null,{"$f":"IF($D77=\"\",\"\",$D77*BE77)","v":0},null,{"$f":"IF($D77=\"\",\"\",$D77*BG77)","v":0},null,{"$f":"IF($D77=\"\",\"\",$D77*BI77)","v":0},null,{"$f":"IF($D77=\"\",\"\",$D77*BK77)","v":0},null,{"$f":"IF($D77=\"\",\"\",$D77*BM77)","v":0},null,{"$f":"IF($D77=\"\",\"\",$D77*BO77)","v":0},null,{"$f":"IF($D77=\"\",\"\",$D77*BQ77)","v":0},null,{"$f":"IF($D77=\"\",\"\",$D77*BS77)","v":0},null,{"$f":"IF($D77=\"\",\"\",$D77*BU77)","v":0},null,{"$f":"IF($D77=\"\",\"\",$D77*BW77)","v":0},null,0,0]
[null,{"$f":"+PRESUPUESTO!B94","v":"ADF002"},{"$f":"IF(B78=0, \"\",VLOOKUP(B78,PRESUPUESTO!$B$17:$C$4607, 2, FALSE))","v":"REJILLON PORTANTE (ESP.MURO=17CM)"},{"$f":"IF(ISTEXT(B78), VLOOKUP(B78, PRESUPUESTO!$B$14:$J$4207, 9, FALSE),\"\")","v":0},null,0,null,0,null,{"$f":"IF($D78=\"\",\"\",$D78*I78)","v":0},null,{"$f":"IF($D78=\"\",\"\",$D78*K78)","v":0},null,{"$f":"IF($D78=\"\",\"\",$D78*M78)","v":0},null,{"$f":"IF($D78=\"\",\"\",$D78*O78)","v":0},null,{"$f":"IF($D78=\"\",\"\",$D78*Q78)","v":0},null,{"$f":"IF($D78=\"\",\"\",$D78*S78)","v":0},null,{"$f":"IF($D78=\"\",\"\",$D78*U78)","v":0},null,{"$f":"IF($D78=\"\",\"\",$D78*W78)","v":0},null,{"$f":"IF($D78=\"\",\"\",$D78*Y78)","v":0},null,{"$f":"IF($D78=\"\",\"\",$D78*AA78)","v":0},null,{"$f":"IF($D78=\"\",\"\",$D78*AC78)","v":0},null,{"$f":"IF($D78=\"\",\"\",$D78*AE78)","v":0},null,{"$f":"IF($D78=\"\",\"\",$D78*AG78)","v":0},null,{"$f":"IF($D78=\"\",\"\",$D78*AI78)","v":0},null,{"$f":"IF($D78=\"\",\"\",$D78*AK78)","v":0},null,{"$f":"IF($D78=\"\",\"\",$D78*AM78)","v":0},null,{"$f":"IF($D78=\"\",\"\",$D78*AO78)","v":0},null,{"$f":"IF($D78=\"\",\"\",$D78*AQ78)","v":0},null,{"$f":"IF($D78=\"\",\"\",$D78*AS78)","v":0},null,{"$f":"IF($D78=\"\",\"\",$D78*AU78)","v":0},null,{"$f":"IF($D78=\"\",\"\",$D78*AW78)","v":0},null,{"$f":"IF($D78=\"\",\"\",$D78*AY78)","v":0},null,{"$f":"IF($D78=\"\",\"\",$D78*BA78)","v":0},null,{"$f":"IF($D78=\"\",\"\",$D78*BC78)","v":0},null,{"$f":"IF($D78=\"\",\"\",$D78*BE78)","v":0},null,{"$f":"IF($D78=\"\",\"\",$D78*BG78)","v":0},null,{"$f":"IF($D78=\"\",\"\",$D78*BI78)","v":0},null,{"$f":"IF($D78=\"\",\"\",$D78*BK78)","v":0},null,{"$f":"IF($D78=\"\",\"\",$D78*BM78)","v":0},null,{"$f":"IF($D78=\"\",\"\",$D78*BO78)","v":0},null,{"$f":"IF($D78=\"\",\"\",$D78*BQ78)","v":0},null,{"$f":"IF($D78=\"\",\"\",$D78*BS78)","v":0},null,{"$f":"IF($D78=\"\",\"\",$D78*BU78)","v":0},null,{"$f":"IF($D78=\"\",\"\",$D78*BW78)","v":0},null,0,0]
[null,{"$f":"+PRESUPUESTO!B95","v":"ADF003"},{"$f":"IF(B79=0, \"\",VLOOKUP(B79,PRESUPUESTO!$B$17:$C$4607, 2, FALSE))","v":"LOSETAS CERÁMICA ARMADA"},{"$f":"IF(ISTEXT(B79), VLOOKUP(B79, PRESUPUESTO!$B$14:$J$4207, 9, FALSE),\"\")","v":0},null,0,null,0,null,{"$f":"IF($D79=\"\",\"\",$D79*I79)","v":0},null,{"$f":"IF($D79=\"\",\"\",$D79*K79)","v":0},null,{"$f":"IF($D79=\"\",\"\",$D79*M79)","v":0},null,{"$f":"IF($D79=\"\",\"\",$D79*O79)","v":0},null,{"$f":"IF($D79=\"\",\"\",$D79*Q79)","v":0},null,{"$f":"IF($D79=\"\",\"\",$D79*S79)","v":0},null,{"$f":"IF($D79=\"\",\"\",$D79*U79)","v":0},null,{"$f":"IF($D79=\"\",\"\",$D79*W79)","v":0},null,{"$f":"IF($D79=\"\",\"\",$D79*Y79)","v":0},null,{"$f":"IF($D79=\"\",\"\",$D79*AA79)","v":0},null,{"$f":"IF($D79=\"\",\"\",$D79*AC79)","v":0},null,{"$f":"IF($D79=\"\",\"\",$D79*AE79)","v":0},null,{"$f":"IF($D79=\"\",\"\",$D79*AG79)","v":0},null,{"$f":"IF($D79=\"\",\"\",$D79*AI79)","v":0},null,{"$f":"IF($D79=\"\",\"\",$D79*AK79)","v":0},null,{"$f":"IF($D79=\"\",\"\",$D79*AM79)","v":0},null,{"$f":"IF($D79=\"\",\"\",$D79*AO79)","v":0},null,{"$f":"IF($D79=\"\",\"\",$D79*AQ79)","v":0},null,{"$f":"IF($D79=\"\",\"\",$D79*AS79)","v":0},null,{"$f":"IF($D79=\"\",\"\",$D79*AU79)","v":0},null,{"$f":"IF($D79=\"\",\"\",$D79*AW79)","v":0},null,{"$f":"IF($D79=\"\",\"\",$D79*AY79)","v":0},null,{"$f":"IF($D79=\"\",\"\",$D79*BA79)","v":0},null,{"$f":"IF($D79=\"\",\"\",$D79*BC79)","v":0},null,{"$f":"IF($D79=\"\",\"\",$D79*BE79)","v":0},null,{"$f":"IF($D79=\"\",\"\",$D79*BG79)","v":0},null,{"$f":"IF($D79=\"\",\"\",$D79*BI79)","v":0},null,{"$f":"IF($D79=\"\",\"\",$D79*BK79)","v":0},null,{"$f":"IF($D79=\"\",\"\",$D79*BM79)","v":0},null,{"$f":"IF($D79=\"\",\"\",$D79*BO79)","v":0},null,{"$f":"IF($D79=\"\",\"\",$D79*BQ79)","v":0},null,{"$f":"IF($D79=\"\",\"\",$D79*BS79)","v":0},null,{"$f":"IF($D79=\"\",\"\",$D79*BU79)","v":0},null,{"$f":"IF($D79=\"\",\"\",$D79*BW79)","v":0},null,0,0]
[null,{"$f":"+PRESUPUESTO!B96","v":"AEA001"},{"$f":"IF(B80=0, \"\",VLOOKUP(B80,PRESUPUESTO!$B$17:$C$4607, 2, FALSE))","v":"LADRILLO DE CAMPO (ESP.MURO <10)"},{"$f":"IF(ISTEXT(B80), VLOOKUP(B80, PRESUPUESTO!$B$14:$J$4207, 9, FALSE),\"\")","v":0},null,0,null,0,null,{"$f":"IF($D80=\"\",\"\",$D80*I80)","v":0},null,{"$f":"IF($D80=\"\",\"\",$D80*K80)","v":0},null,{"$f":"IF($D80=\"\",\"\",$D80*M80)","v":0},null,{"$f":"IF($D80=\"\",\"\",$D80*O80)","v":0},null,{"$f":"IF($D80=\"\",\"\",$D80*Q80)","v":0},null,{"$f":"IF($D80=\"\",\"\",$D80*S80)","v":0},null,{"$f":"IF($D80=\"\",\"\",$D80*U80)","v":0},null,{"$f":"IF($D80=\"\",\"\",$D80*W80)","v":0},null,{"$f":"IF($D80=\"\",\"\",$D80*Y80)","v":0},null,{"$f":"IF($D80=\"\",\"\",$D80*AA80)","v":0},null,{"$f":"IF($D80=\"\",\"\",$D80*AC80)","v":0},null,{"$f":"IF($D80=\"\",\"\",$D80*AE80)","v":0},null,{"$f":"IF($D80=\"\",\"\",$D80*AG80)","v":0},null,{"$f":"IF($D80=\"\",\"\",$D80*AI80)","v":0},null,{"$f":"IF($D80=\"\",\"\",$D80*AK80)","v":0},null,{"$f":"IF($D80=\"\",\"\",$D80*AM80)","v":0},null,{"$f":"IF($D80=\"\",\"\",$D80*AO80)","v":0},null,{"$f":"IF($D80=\"\",\"\",$D80*AQ80)","v":0},null,{"$f":"IF($D80=\"\",\"\",$D80*AS80)","v":0},null,{"$f":"IF($D80=\"\",\"\",$D80*AU80)","v":0},null,{"$f":"IF($D80=\"\",\"\",$D80*AW80)","v":0},null,{"$f":"IF($D80=\"\",\"\",$D80*AY80)","v":0},null,{"$f":"IF($D80=\"\",\"\",$D80*BA80)","v":0},null,{"$f":"IF($D80=\"\",\"\",$D80*BC80)","v":0},null,{"$f":"IF($D80=\"\",\"\",$D80*BE80)","v":0},null,{"$f":"IF($D80=\"\",\"\",$D80*BG80)","v":0},null,{"$f":"IF($D80=\"\",\"\",$D80*BI80)","v":0},null,{"$f":"IF($D80=\"\",\"\",$D80*BK80)","v":0},null,{"$f":"IF($D80=\"\",\"\",$D80*BM80)","v":0},null,{"$f":"IF($D80=\"\",\"\",$D80*BO80)","v":0},null,{"$f":"IF($D80=\"\",\"\",$D80*BQ80)","v":0},null,{"$f":"IF($D80=\"\",\"\",$D80*BS80)","v":0},null,{"$f":"IF($D80=\"\",\"\",$D80*BU80)","v":0},null,{"$f":"IF($D80=\"\",\"\",$D80*BW80)","v":0},null,0,0]
[null,{"$f":"+PRESUPUESTO!B97","v":"AEA002"},{"$f":"IF(B81=0, \"\",VLOOKUP(B81,PRESUPUESTO!$B$17:$C$4607, 2, FALSE))","v":"LADRILLO DE PRENSA (ESP.MURO<10CM)"},{"$f":"IF(ISTEXT(B81), VLOOKUP(B81, PRESUPUESTO!$B$14:$J$4207, 9, FALSE),\"\")","v":0},null,0,null,0,null,{"$f":"IF($D81=\"\",\"\",$D81*I81)","v":0},null,{"$f":"IF($D81=\"\",\"\",$D81*K81)","v":0},null,{"$f":"IF($D81=\"\",\"\",$D81*M81)","v":0},null,{"$f":"IF($D81=\"\",\"\",$D81*O81)","v":0},null,{"$f":"IF($D81=\"\",\"\",$D81*Q81)","v":0},null,{"$f":"IF($D81=\"\",\"\",$D81*S81)","v":0},null,{"$f":"IF($D81=\"\",\"\",$D81*U81)","v":0},null,{"$f":"IF($D81=\"\",\"\",$D81*W81)","v":0},null,{"$f":"IF($D81=\"\",\"\",$D81*Y81)","v":0},null,{"$f":"IF($D81=\"\",\"\",$D81*AA81)","v":0},null,{"$f":"IF($D81=\"\",\"\",$D81*AC81)","v":0},null,{"$f":"IF($D81=\"\",\"\",$D81*AE81)","v":0},null,{"$f":"IF($D81=\"\",\"\",$D81*AG81)","v":0},null,{"$f":"IF($D81=\"\",\"\",$D81*AI81)","v":0},null,{"$f":"IF($D81=\"\",\"\",$D81*AK81)","v":0},null,{"$f":"IF($D81=\"\",\"\",$D81*AM81)","v":0},null,{"$f":"IF($D81=\"\",\"\",$D81*AO81)","v":0},null,{"$f":"IF($D81=\"\",\"\",$D81*AQ81)","v":0},null,{"$f":"IF($D81=\"\",\"\",$D81*AS81)","v":0},null,{"$f":"IF($D81=\"\",\"\",$D81*AU81)","v":0},null,{"$f":"IF($D81=\"\",\"\",$D81*AW81)","v":0},null,{"$f":"IF($D81=\"\",\"\",$D81*AY81)","v":0},null,{"$f":"IF($D81=\"\",\"\",$D81*BA81)","v":0},null,{"$f":"IF($D81=\"\",\"\",$D81*BC81)","v":0},null,{"$f":"IF($D81=\"\",\"\",$D81*BE81)","v":0},null,{"$f":"IF($D81=\"\",\"\",$D81*BG81)","v":0},null,{"$f":"IF($D81=\"\",\"\",$D81*BI81)","v":0},null,{"$f":"IF($D81=\"\",\"\",$D81*BK81)","v":0},null,{"$f":"IF($D81=\"\",\"\",$D81*BM81)","v":0},null,{"$f":"IF($D81=\"\",\"\",$D81*BO81)","v":0},null,{"$f":"IF($D81=\"\",\"\",$D81*BQ81)","v":0},null,{"$f":"IF($D81=\"\",\"\",$D81*BS81)","v":0},null,{"$f":"IF($D81=\"\",\"\",$D81*BU81)","v":0},null,{"$f":"IF($D81=\"\",\"\",$D81*BW81)","v":0},null,0,0]
[null,{"$f":"+PRESUPUESTO!B98","v":"AEA003"},{"$f":"IF(B82=0, \"\",VLOOKUP(B82,PRESUPUESTO!$B$17:$C$4607, 2, FALSE))","v":"LADRILLO CHORIZO (ESP.MURO<10CM)"},{"$f":"IF(ISTEXT(B82), VLOOKUP(B82, PRESUPUESTO!$B$14:$J$4207, 9, FALSE),\"\")","v":0},null,0,null,0,null,{"$f":"IF($D82=\"\",\"\",$D82*I82)","v":0},null,{"$f":"IF($D82=\"\",\"\",$D82*K82)","v":0},null,{"$f":"IF($D82=\"\",\"\",$D82*M82)","v":0},null,{"$f":"IF($D82=\"\",\"\",$D82*O82)","v":0},null,{"$f":"IF($D82=\"\",\"\",$D82*Q82)","v":0},null,{"$f":"IF($D82=\"\",\"\",$D82*S82)","v":0},null,{"$f":"IF($D82=\"\",\"\",$D82*U82)","v":0},null,{"$f":"IF($D82=\"\",\"\",$D82*W82)","v":0},null,{"$f":"IF($D82=\"\",\"\",$D82*Y82)","v":0},null,{"$f":"IF($D82=\"\",\"\",$D82*AA82)","v":0},null,{"$f":"IF($D82=\"\",\"\",$D82*AC82)","v":0},null,{"$f":"IF($D82=\"\",\"\",$D82*AE82)","v":0},null,{"$f":"IF($D82=\"\",\"\",$D82*AG82)","v":0},null,{"$f":"IF($D82=\"\",\"\",$D82*AI82)","v":0},null,{"$f":"IF($D82=\"\",\"\",$D82*AK82)","v":0},null,{"$f":"IF($D82=\"\",\"\",$D82*AM82)","v":0},null,{"$f":"IF($D82=\"\",\"\",$D82*AO82)","v":0},null,{"$f":"IF($D82=\"\",\"\",$D82*AQ82)","v":0},null,{"$f":"IF($D82=\"\",\"\",$D82*AS82)","v":0},null,{"$f":"IF($D82=\"\",\"\",$D82*AU82)","v":0},null,{"$f":"IF($D82=\"\",\"\",$D82*AW82)","v":0},null,{"$f":"IF($D82=\"\",\"\",$D82*AY82)","v":0},null,{"$f":"IF($D82=\"\",\"\",$D82*BA82)","v":0},null,{"$f":"IF($D82=\"\",\"\",$D82*BC82)","v":0},null,{"$f":"IF($D82=\"\",\"\",$D82*BE82)","v":0},null,{"$f":"IF($D82=\"\",\"\",$D82*BG82)","v":0},null,{"$f":"IF($D82=\"\",\"\",$D82*BI82)","v":0},null,{"$f":"IF($D82=\"\",\"\",$D82*BK82)","v":0},null,{"$f":"IF($D82=\"\",\"\",$D82*BM82)","v":0},null,{"$f":"IF($D82=\"\",\"\",$D82*BO82)","v":0},null,{"$f":"IF($D82=\"\",\"\",$D82*BQ82)","v":0},null,{"$f":"IF($D82=\"\",\"\",$D82*BS82)","v":0},null,{"$f":"IF($D82=\"\",\"\",$D82*BU82)","v":0},null,{"$f":"IF($D82=\"\",\"\",$D82*BW82)","v":0},null,0,0]
[null,{"$f":"+PRESUPUESTO!B99","v":"AEA004"},{"$f":"IF(B83=0, \"\",VLOOKUP(B83,PRESUPUESTO!$B$17:$C$4607, 2, FALSE))","v":"CERÁMICA HUECA (ESP.MURO<10CM)"},{"$f":"IF(ISTEXT(B83), VLOOKUP(B83, PRESUPUESTO!$B$14:$J$4207, 9, FALSE),\"\")","v":0},null,0,null,0,null,{"$f":"IF($D83=\"\",\"\",$D83*I83)","v":0},null,{"$f":"IF($D83=\"\",\"\",$D83*K83)","v":0},null,{"$f":"IF($D83=\"\",\"\",$D83*M83)","v":0},null,{"$f":"IF($D83=\"\",\"\",$D83*O83)","v":0},null,{"$f":"IF($D83=\"\",\"\",$D83*Q83)","v":0},null,{"$f":"IF($D83=\"\",\"\",$D83*S83)","v":0},null,{"$f":"IF($D83=\"\",\"\",$D83*U83)","v":0},null,{"$f":"IF($D83=\"\",\"\",$D83*W83)","v":0},null,{"$f":"IF($D83=\"\",\"\",$D83*Y83)","v":0},null,{"$f":"IF($D83=\"\",\"\",$D83*AA83)","v":0},null,{"$f":"IF($D83=\"\",\"\",$D83*AC83)","v":0},null,{"$f":"IF($D83=\"\",\"\",$D83*AE83)","v":0},null,{"$f":"IF($D83=\"\",\"\",$D83*AG83)","v":0},null,{"$f":"IF($D83=\"\",\"\",$D83*AI83)","v":0},null,{"$f":"IF($D83=\"\",\"\",$D83*AK83)","v":0},null,{"$f":"IF($D83=\"\",\"\",$D83*AM83)","v":0},null,{"$f":"IF($D83=\"\",\"\",$D83*AO83)","v":0},null,{"$f":"IF($D83=\"\",\"\",$D83*AQ83)","v":0},null,{"$f":"IF($D83=\"\",\"\",$D83*AS83)","v":0},null,{"$f":"IF($D83=\"\",\"\",$D83*AU83)","v":0},null,{"$f":"IF($D83=\"\",\"\",$D83*AW83)","v":0},null,{"$f":"IF($D83=\"\",\"\",$D83*AY83)","v":0},null,{"$f":"IF($D83=\"\",\"\",$D83*BA83)","v":0},null,{"$f":"IF($D83=\"\",\"\",$D83*BC83)","v":0},null,{"$f":"IF($D83=\"\",\"\",$D83*BE83)","v":0},null,{"$f":"IF($D83=\"\",\"\",$D83*BG83)","v":0},null,{"$f":"IF($D83=\"\",\"\",$D83*BI83)","v":0},null,{"$f":"IF($D83=\"\",\"\",$D83*BK83)","v":0},null,{"$f":"IF($D83=\"\",\"\",$D83*BM83)","v":0},null,{"$f":"IF($D83=\"\",\"\",$D83*BO83)","v":0},null,{"$f":"IF($D83=\"\",\"\",$D83*BQ83)","v":0},null,{"$f":"IF($D83=\"\",\"\",$D83*BS83)","v":0},null,{"$f":"IF($D83=\"\",\"\",$D83*BU83)","v":0},null,{"$f":"IF($D83=\"\",\"\",$D83*BW83)","v":0},null,0,0]
[null,{"$f":"+PRESUPUESTO!B100","v":"AEA005"},{"$f":"IF(B84=0, \"\",VLOOKUP(B84,PRESUPUESTO!$B$17:$C$4607, 2, FALSE))","v":"BLOQUE DE (HORMIGÓN) CEMENTO (ESP.MURO<10CM)"},{"$f":"IF(ISTEXT(B84), VLOOKUP(B84, PRESUPUESTO!$B$14:$J$4207, 9, FALSE),\"\")","v":0},null,0,null,0,null,{"$f":"IF($D84=\"\",\"\",$D84*I84)","v":0},null,{"$f":"IF($D84=\"\",\"\",$D84*K84)","v":0},null,{"$f":"IF($D84=\"\",\"\",$D84*M84)","v":0},null,{"$f":"IF($D84=\"\",\"\",$D84*O84)","v":0},null,{"$f":"IF($D84=\"\",\"\",$D84*Q84)","v":0},null,{"$f":"IF($D84=\"\",\"\",$D84*S84)","v":0},null,{"$f":"IF($D84=\"\",\"\",$D84*U84)","v":0},null,{"$f":"IF($D84=\"\",\"\",$D84*W84)","v":0},null,{"$f":"IF($D84=\"\",\"\",$D84*Y84)","v":0},null,{"$f":"IF($D84=\"\",\"\",$D84*AA84)","v":0},null,{"$f":"IF($D84=\"\",\"\",$D84*AC84)","v":0},null,{"$f":"IF($D84=\"\",\"\",$D84*AE84)","v":0},null,{"$f":"IF($D84=\"\",\"\",$D84*AG84)","v":0},null,{"$f":"IF($D84=\"\",\"\",$D84*AI84)","v":0},null,{"$f":"IF($D84=\"\",\"\",$D84*AK84)","v":0},null,{"$f":"IF($D84=\"\",\"\",$D84*AM84)","v":0},null,{"$f":"IF($D84=\"\",\"\",$D84*AO84)","v":0},null,{"$f":"IF($D84=\"\",\"\",$D84*AQ84)","v":0},null,{"$f":"IF($D84=\"\",\"\",$D84*AS84)","v":0},null,{"$f":"IF($D84=\"\",\"\",$D84*AU84)","v":0},null,{"$f":"IF($D84=\"\",\"\",$D84*AW84)","v":0},null,{"$f":"IF($D84=\"\",\"\",$D84*AY84)","v":0},null,{"$f":"IF($D84=\"\",\"\",$D84*BA84)","v":0},null,{"$f":"IF($D84=\"\",\"\",$D84*BC84)","v":0},null,{"$f":"IF($D84=\"\",\"\",$D84*BE84)","v":0},null,{"$f":"IF($D84=\"\",\"\",$D84*BG84)","v":0},null,{"$f":"IF($D84=\"\",\"\",$D84*BI84)","v":0},null,{"$f":"IF($D84=\"\",\"\",$D84*BK84)","v":0},null,{"$f":"IF($D84=\"\",\"\",$D84*BM84)","v":0},null,{"$f":"IF($D84=\"\",\"\",$D84*BO84)","v":0},null,{"$f":"IF($D84=\"\",\"\",$D84*BQ84)","v":0},null,{"$f":"IF($D84=\"\",\"\",$D84*BS84)","v":0},null,{"$f":"IF($D84=\"\",\"\",$D84*BU84)","v":0},null,{"$f":"IF($D84=\"\",\"\",$D84*BW84)","v":0},null,0,0]
[null,{"$f":"+PRESUPUESTO!B101","v":"AEA006"},{"$f":"IF(B85=0, \"\",VLOOKUP(B85,PRESUPUESTO!$B$17:$C$4607, 2, FALSE))","v":"LADRILLO DE CAMPO (ESP.MURO=12CM)"},{"$f":"IF(ISTEXT(B85), VLOOKUP(B85, PRESUPUESTO!$B$14:$J$4207, 9, FALSE),\"\")","v":0},null,0,null,0,null,{"$f":"IF($D85=\"\",\"\",$D85*I85)","v":0},null,{"$f":"IF($D85=\"\",\"\",$D85*K85)","v":0},null,{"$f":"IF($D85=\"\",\"\",$D85*M85)","v":0},null,{"$f":"IF($D85=\"\",\"\",$D85*O85)","v":0},null,{"$f":"IF($D85=\"\",\"\",$D85*Q85)","v":0},null,{"$f":"IF($D85=\"\",\"\",$D85*S85)","v":0},null,{"$f":"IF($D85=\"\",\"\",$D85*U85)","v":0},null,{"$f":"IF($D85=\"\",\"\",$D85*W85)","v":0},null,{"$f":"IF($D85=\"\",\"\",$D85*Y85)","v":0},null,{"$f":"IF($D85=\"\",\"\",$D85*AA85)","v":0},null,{"$f":"IF($D85=\"\",\"\",$D85*AC85)","v":0},null,{"$f":"IF($D85=\"\",\"\",$D85*AE85)","v":0},null,{"$f":"IF($D85=\"\",\"\",$D85*AG85)","v":0},null,{"$f":"IF($D85=\"\",\"\",$D85*AI85)","v":0},null,{"$f":"IF($D85=\"\",\"\",$D85*AK85)","v":0},null,{"$f":"IF($D85=\"\",\"\",$D85*AM85)","v":0},null,{"$f":"IF($D85=\"\",\"\",$D85*AO85)","v":0},null,{"$f":"IF($D85=\"\",\"\",$D85*AQ85)","v":0},null,{"$f":"IF($D85=\"\",\"\",$D85*AS85)","v":0},null,{"$f":"IF($D85=\"\",\"\",$D85*AU85)","v":0},null,{"$f":"IF($D85=\"\",\"\",$D85*AW85)","v":0},null,{"$f":"IF($D85=\"\",\"\",$D85*AY85)","v":0},null,{"$f":"IF($D85=\"\",\"\",$D85*BA85)","v":0},null,{"$f":"IF($D85=\"\",\"\",$D85*BC85)","v":0},null,{"$f":"IF($D85=\"\",\"\",$D85*BE85)","v":0},null,{"$f":"IF($D85=\"\",\"\",$D85*BG85)","v":0},null,{"$f":"IF($D85=\"\",\"\",$D85*BI85)","v":0},null,{"$f":"IF($D85=\"\",\"\",$D85*BK85)","v":0},null,{"$f":"IF($D85=\"\",\"\",$D85*BM85)","v":0},null,{"$f":"IF($D85=\"\",\"\",$D85*BO85)","v":0},null,{"$f":"IF($D85=\"\",\"\",$D85*BQ85)","v":0},null,{"$f":"IF($D85=\"\",\"\",$D85*BS85)","v":0},null,{"$f":"IF($D85=\"\",\"\",$D85*BU85)","v":0},null,{"$f":"IF($D85=\"\",\"\",$D85*BW85)","v":0},null,0,0]
[null,{"$f":"+PRESUPUESTO!B102","v":"AEA007"},{"$f":"IF(B86=0, \"\",VLOOKUP(B86,PRESUPUESTO!$B$17:$C$4607, 2, FALSE))","v":"LADRILLO DE CAMPO (ESP.MURO=12CM)"},{"$f":"IF(ISTEXT(B86), VLOOKUP(B86, PRESUPUESTO!$B$14:$J$4207, 9, FALSE),\"\")","v":0},null,0,null,0,null,{"$f":"IF($D86=\"\",\"\",$D86*I86)","v":0},null,{"$f":"IF($D86=\"\",\"\",$D86*K86)","v":0},null,{"$f":"IF($D86=\"\",\"\",$D86*M86)","v":0},null,{"$f":"IF($D86=\"\",\"\",$D86*O86)","v":0},null,{"$f":"IF($D86=\"\",\"\",$D86*Q86)","v":0},null,{"$f":"IF($D86=\"\",\"\",$D86*S86)","v":0},null,{"$f":"IF($D86=\"\",\"\",$D86*U86)","v":0},null,{"$f":"IF($D86=\"\",\"\",$D86*W86)","v":0},null,{"$f":"IF($D86=\"\",\"\",$D86*Y86)","v":0},null,{"$f":"IF($D86=\"\",\"\",$D86*AA86)","v":0},null,{"$f":"IF($D86=\"\",\"\",$D86*AC86)","v":0},null,{"$f":"IF($D86=\"\",\"\",$D86*AE86)","v":0},null,{"$f":"IF($D86=\"\",\"\",$D86*AG86)","v":0},null,{"$f":"IF($D86=\"\",\"\",$D86*AI86)","v":0},null,{"$f":"IF($D86=\"\",\"\",$D86*AK86)","v":0},null,{"$f":"IF($D86=\"\",\"\",$D86*AM86)","v":0},null,{"$f":"IF($D86=\"\",\"\",$D86*AO86)","v":0},null,{"$f":"IF($D86=\"\",\"\",$D86*AQ86)","v":0},null,{"$f":"IF($D86=\"\",\"\",$D86*AS86)","v":0},null,{"$f":"IF($D86=\"\",\"\",$D86*AU86)","v":0},null,{"$f":"IF($D86=\"\",\"\",$D86*AW86)","v":0},null,{"$f":"IF($D86=\"\",\"\",$D86*AY86)","v":0},null,{"$f":"IF($D86=\"\",\"\",$D86*BA86)","v":0},null,{"$f":"IF($D86=\"\",\"\",$D86*BC86)","v":0},null,{"$f":"IF($D86=\"\",\"\",$D86*BE86)","v":0},null,{"$f":"IF($D86=\"\",\"\",$D86*BG86)","v":0},null,{"$f":"IF($D86=\"\",\"\",$D86*BI86)","v":0},null,{"$f":"IF($D86=\"\",\"\",$D86*BK86)","v":0},null,{"$f":"IF($D86=\"\",\"\",$D86*BM86)","v":0},null,{"$f":"IF($D86=\"\",\"\",$D86*BO86)","v":0},null,{"$f":"IF($D86=\"\",\"\",$D86*BQ86)","v":0},null,{"$f":"IF($D86=\"\",\"\",$D86*BS86)","v":0},null,{"$f":"IF($D86=\"\",\"\",$D86*BU86)","v":0},null,{"$f":"IF($D86=\"\",\"\",$D86*BW86)","v":0},null,0,0]
[null,{"$f":"+PRESUPUESTO!B103","v":"AEA008"},{"$f":"IF(B87=0, \"\",VLOOKUP(B87,PRESUPUESTO!$B$17:$C$4607, 2, FALSE))","v":"LADRILLO DE CAMPO UNA CARA VISTA (ESP. MURO=12CM)"},{"$f":"IF(ISTEXT(B87), VLOOKUP(B87, PRESUPUESTO!$B$14:$J$4207, 9, FALSE),\"\")","v":0},null,0,null,0,null,{"$f":"IF($D87=\"\",\"\",$D87*I87)","v":0},null,{"$f":"IF($D87=\"\",\"\",$D87*K87)","v":0},null,{"$f":"IF($D87=\"\",\"\",$D87*M87)","v":0},null,{"$f":"IF($D87=\"\",\"\",$D87*O87)","v":0},null,{"$f":"IF($D87=\"\",\"\",$D87*Q87)","v":0},null,{"$f":"IF($D87=\"\",\"\",$D87*S87)","v":0},null,{"$f":"IF($D87=\"\",\"\",$D87*U87)","v":0},null,{"$f":"IF($D87=\"\",\"\",$D87*W87)","v":0},null,{"$f":"IF($D87=\"\",\"\",$D87*Y87)","v":0},null,{"$f":"IF($D87=\"\",\"\",$D87*AA87)","v":0},null,{"$f":"IF($D87=\"\",\"\",$D87*AC87)","v":0},null,{"$f":"IF($D87=\"\",\"\",$D87*AE87)","v":0},null,{"$f":"IF($D87=\"\",\"\",$D87*AG87)","v":0},null,{"$f":"IF($D87=\"\",\"\",$D87*AI87)","v":0},null,{"$f":"IF($D87=\"\",\"\",$D87*AK87)","v":0},null,{"$f":"IF($D87=\"\",\"\",$D87*AM87)","v":0},null,{"$f":"IF($D87=\"\",\"\",$D87*AO87)","v":0},null,{"$f":"IF($D87=\"\",\"\",$D87*AQ87)","v":0},null,{"$f":"IF($D87=\"\",\"\",$D87*AS87)","v":0},null,{"$f":"IF($D87=\"\",\"\",$D87*AU87)","v":0},null,{"$f":"IF($D87=\"\",\"\",$D87*AW87)","v":0},null,{"$f":"IF($D87=\"\",\"\",$D87*AY87)","v":0},null,{"$f":"IF($D87=\"\",\"\",$D87*BA87)","v":0},null,{"$f":"IF($D87=\"\",\"\",$D87*BC87)","v":0},null,{"$f":"IF($D87=\"\",\"\",$D87*BE87)","v":0},null,{"$f":"IF($D87=\"\",\"\",$D87*BG87)","v":0},null,{"$f":"IF($D87=\"\",\"\",$D87*BI87)","v":0},null,{"$f":"IF($D87=\"\",\"\",$D87*BK87)","v":0},null,{"$f":"IF($D87=\"\",\"\",$D87*BM87)","v":0},null,{"$f":"IF($D87=\"\",\"\",$D87*BO87)","v":0},null,{"$f":"IF($D87=\"\",\"\",$D87*BQ87)","v":0},null,{"$f":"IF($D87=\"\",\"\",$D87*BS87)","v":0},null,{"$f":"IF($D87=\"\",\"\",$D87*BU87)","v":0},null,{"$f":"IF($D87=\"\",\"\",$D87*BW87)","v":0},null,0,0]
[null,{"$f":"+PRESUPUESTO!B104","v":"AEA009"},{"$f":"IF(B88=0, \"\",VLOOKUP(B88,PRESUPUESTO!$B$17:$C$4607, 2, FALSE))","v":"LADRILLO DE PRENSA UNA CARA VISTA (ESP. MURO=12CM)"},{"$f":"IF(ISTEXT(B88), VLOOKUP(B88, PRESUPUESTO!$B$14:$J$4207, 9, FALSE),\"\")","v":0},null,0,null,0,null,{"$f":"IF($D88=\"\",\"\",$D88*I88)","v":0},null,{"$f":"IF($D88=\"\",\"\",$D88*K88)","v":0},null,{"$f":"IF($D88=\"\",\"\",$D88*M88)","v":0},null,{"$f":"IF($D88=\"\",\"\",$D88*O88)","v":0},null,{"$f":"IF($D88=\"\",\"\",$D88*Q88)","v":0},null,{"$f":"IF($D88=\"\",\"\",$D88*S88)","v":0},null,{"$f":"IF($D88=\"\",\"\",$D88*U88)","v":0},null,{"$f":"IF($D88=\"\",\"\",$D88*W88)","v":0},null,{"$f":"IF($D88=\"\",\"\",$D88*Y88)","v":0},null,{"$f":"IF($D88=\"\",\"\",$D88*AA88)","v":0},null,{"$f":"IF($D88=\"\",\"\",$D88*AC88)","v":0},null,{"$f":"IF($D88=\"\",\"\",$D88*AE88)","v":0},null,{"$f":"IF($D88=\"\",\"\",$D88*AG88)","v":0},null,{"$f":"IF($D88=\"\",\"\",$D88*AI88)","v":0},null,{"$f":"IF($D88=\"\",\"\",$D88*AK88)","v":0},null,{"$f":"IF($D88=\"\",\"\",$D88*AM88)","v":0},null,{"$f":"IF($D88=\"\",\"\",$D88*AO88)","v":0},null,{"$f":"IF($D88=\"\",\"\",$D88*AQ88)","v":0},null,{"$f":"IF($D88=\"\",\"\",$D88*AS88)","v":0},null,{"$f":"IF($D88=\"\",\"\",$D88*AU88)","v":0},null,{"$f":"IF($D88=\"\",\"\",$D88*AW88)","v":0},null,{"$f":"IF($D88=\"\",\"\",$D88*AY88)","v":0},null,{"$f":"IF($D88=\"\",\"\",$D88*BA88)","v":0},null,{"$f":"IF($D88=\"\",\"\",$D88*BC88)","v":0},null,{"$f":"IF($D88=\"\",\"\",$D88*BE88)","v":0},null,{"$f":"IF($D88=\"\",\"\",$D88*BG88)","v":0},null,{"$f":"IF($D88=\"\",\"\",$D88*BI88)","v":0},null,{"$f":"IF($D88=\"\",\"\",$D88*BK88)","v":0},null,{"$f":"IF($D88=\"\",\"\",$D88*BM88)","v":0},null,{"$f":"IF($D88=\"\",\"\",$D88*BO88)","v":0},null,{"$f":"IF($D88=\"\",\"\",$D88*BQ88)","v":0},null,{"$f":"IF($D88=\"\",\"\",$D88*BS88)","v":0},null,{"$f":"IF($D88=\"\",\"\",$D88*BU88)","v":0},null,{"$f":"IF($D88=\"\",\"\",$D88*BW88)","v":0},null,0,0]
[null,{"$f":"+PRESUPUESTO!B105","v":"AEA010"},{"$f":"IF(B89=0, \"\",VLOOKUP(B89,PRESUPUESTO!$B$17:$C$4607, 2, FALSE))","v":"CERÁMICA HUECA (ESP.MURO=12CM)"},{"$f":"IF(ISTEXT(B89), VLOOKUP(B89, PRESUPUESTO!$B$14:$J$4207, 9, FALSE),\"\")","v":0},null,0,null,0,null,{"$f":"IF($D89=\"\",\"\",$D89*I89)","v":0},null,{"$f":"IF($D89=\"\",\"\",$D89*K89)","v":0},null,{"$f":"IF($D89=\"\",\"\",$D89*M89)","v":0},null,{"$f":"IF($D89=\"\",\"\",$D89*O89)","v":0},null,{"$f":"IF($D89=\"\",\"\",$D89*Q89)","v":0},null,{"$f":"IF($D89=\"\",\"\",$D89*S89)","v":0},null,{"$f":"IF($D89=\"\",\"\",$D89*U89)","v":0},null,{"$f":"IF($D89=\"\",\"\",$D89*W89)","v":0},null,{"$f":"IF($D89=\"\",\"\",$D89*Y89)","v":0},null,{"$f":"IF($D89=\"\",\"\",$D89*AA89)","v":0},null,{"$f":"IF($D89=\"\",\"\",$D89*AC89)","v":0},null,{"$f":"IF($D89=\"\",\"\",$D89*AE89)","v":0},null,{"$f":"IF($D89=\"\",\"\",$D89*AG89)","v":0},null,{"$f":"IF($D89=\"\",\"\",$D89*AI89)","v":0},null,{"$f":"IF($D89=\"\",\"\",$D89*AK89)","v":0},null,{"$f":"IF($D89=\"\",\"\",$D89*AM89)","v":0},null,{"$f":"IF($D89=\"\",\"\",$D89*AO89)","v":0},null,{"$f":"IF($D89=\"\",\"\",$D89*AQ89)","v":0},null,{"$f":"IF($D89=\"\",\"\",$D89*AS89)","v":0},null,{"$f":"IF($D89=\"\",\"\",$D89*AU89)","v":0},null,{"$f":"IF($D89=\"\",\"\",$D89*AW89)","v":0},null,{"$f":"IF($D89=\"\",\"\",$D89*AY89)","v":0},null,{"$f":"IF($D89=\"\",\"\",$D89*BA89)","v":0},null,{"$f":"IF($D89=\"\",\"\",$D89*BC89)","v":0},null,{"$f":"IF($D89=\"\",\"\",$D89*BE89)","v":0},null,{"$f":"IF($D89=\"\",\"\",$D89*BG89)","v":0},null,{"$f":"IF($D89=\"\",\"\",$D89*BI89)","v":0},null,{"$f":"IF($D89=\"\",\"\",$D89*BK89)","v":0},null,{"$f":"IF($D89=\"\",\"\",$D89*BM89)","v":0},null,{"$f":"IF($D89=\"\",\"\",$D89*BO89)","v":0},null,{"$f":"IF($D89=\"\",\"\",$D89*BQ89)","v":0},null,{"$f":"IF($D89=\"\",\"\",$D89*BS89)","v":0},null,{"$f":"IF($D89=\"\",\"\",$D89*BU89)","v":0},null,{"$f":"IF($D89=\"\",\"\",$D89*BW89)","v":0},null,0,0]
[null,{"$f":"+PRESUPUESTO!B106","v":"AEA011"},{"$f":"IF(B90=0, \"\",VLOOKUP(B90,PRESUPUESTO!$B$17:$C$4607, 2, FALSE))","v":"BLOQUES HORMIGÓN (ESP.MURO=12CM)"},{"$f":"IF(ISTEXT(B90), VLOOKUP(B90, PRESUPUESTO!$B$14:$J$4207, 9, FALSE),\"\")","v":0},null,0,null,0,null,{"$f":"IF($D90=\"\",\"\",$D90*I90)","v":0},null,{"$f":"IF($D90=\"\",\"\",$D90*K90)","v":0},null,{"$f":"IF($D90=\"\",\"\",$D90*M90)","v":0},null,{"$f":"IF($D90=\"\",\"\",$D90*O90)","v":0},null,{"$f":"IF($D90=\"\",\"\",$D90*Q90)","v":0},null,{"$f":"IF($D90=\"\",\"\",$D90*S90)","v":0},null,{"$f":"IF($D90=\"\",\"\",$D90*U90)","v":0},null,{"$f":"IF($D90=\"\",\"\",$D90*W90)","v":0},null,{"$f":"IF($D90=\"\",\"\",$D90*Y90)","v":0},null,{"$f":"IF($D90=\"\",\"\",$D90*AA90)","v":0},null,{"$f":"IF($D90=\"\",\"\",$D90*AC90)","v":0},null,{"$f":"IF($D90=\"\",\"\",$D90*AE90)","v":0},null,{"$f":"IF($D90=\"\",\"\",$D90*AG90)","v":0},null,{"$f":"IF($D90=\"\",\"\",$D90*AI90)","v":0},null,{"$f":"IF($D90=\"\",\"\",$D90*AK90)","v":0},null,{"$f":"IF($D90=\"\",\"\",$D90*AM90)","v":0},null,{"$f":"IF($D90=\"\",\"\",$D90*AO90)","v":0},null,{"$f":"IF($D90=\"\",\"\",$D90*AQ90)","v":0},null,{"$f":"IF($D90=\"\",\"\",$D90*AS90)","v":0},null,{"$f":"IF($D90=\"\",\"\",$D90*AU90)","v":0},null,{"$f":"IF($D90=\"\",\"\",$D90*AW90)","v":0},null,{"$f":"IF($D90=\"\",\"\",$D90*AY90)","v":0},null,{"$f":"IF($D90=\"\",\"\",$D90*BA90)","v":0},null,{"$f":"IF($D90=\"\",\"\",$D90*BC90)","v":0},null,{"$f":"IF($D90=\"\",\"\",$D90*BE90)","v":0},null,{"$f":"IF($D90=\"\",\"\",$D90*BG90)","v":0},null,{"$f":"IF($D90=\"\",\"\",$D90*BI90)","v":0},null,{"$f":"IF($D90=\"\",\"\",$D90*BK90)","v":0},null,{"$f":"IF($D90=\"\",\"\",$D90*BM90)","v":0},null,{"$f":"IF($D90=\"\",\"\",$D90*BO90)","v":0},null,{"$f":"IF($D90=\"\",\"\",$D90*BQ90)","v":0},null,{"$f":"IF($D90=\"\",\"\",$D90*BS90)","v":0},null,{"$f":"IF($D90=\"\",\"\",$D90*BU90)","v":0},null,{"$f":"IF($D90=\"\",\"\",$D90*BW90)","v":0},null,0,0]
[null,{"$f":"+PRESUPUESTO!B107","v":"AEA012"},{"$f":"IF(B91=0, \"\",VLOOKUP(B91,PRESUPUESTO!$B$17:$C$4607, 2, FALSE))","v":"LADRILLO DE CAMPO (ESP.MURO=17CM)"},{"$f":"IF(ISTEXT(B91), VLOOKUP(B91, PRESUPUESTO!$B$14:$J$4207, 9, FALSE),\"\")","v":0},null,0,null,0,null,{"$f":"IF($D91=\"\",\"\",$D91*I91)","v":0},null,{"$f":"IF($D91=\"\",\"\",$D91*K91)","v":0},null,{"$f":"IF($D91=\"\",\"\",$D91*M91)","v":0},null,{"$f":"IF($D91=\"\",\"\",$D91*O91)","v":0},null,{"$f":"IF($D91=\"\",\"\",$D91*Q91)","v":0},null,{"$f":"IF($D91=\"\",\"\",$D91*S91)","v":0},null,{"$f":"IF($D91=\"\",\"\",$D91*U91)","v":0},null,{"$f":"IF($D91=\"\",\"\",$D91*W91)","v":0},null,{"$f":"IF($D91=\"\",\"\",$D91*Y91)","v":0},null,{"$f":"IF($D91=\"\",\"\",$D91*AA91)","v":0},null,{"$f":"IF($D91=\"\",\"\",$D91*AC91)","v":0},null,{"$f":"IF($D91=\"\",\"\",$D91*AE91)","v":0},null,{"$f":"IF($D91=\"\",\"\",$D91*AG91)","v":0},null,{"$f":"IF($D91=\"\",\"\",$D91*AI91)","v":0},null,{"$f":"IF($D91=\"\",\"\",$D91*AK91)","v":0},null,{"$f":"IF($D91=\"\",\"\",$D91*AM91)","v":0},null,{"$f":"IF($D91=\"\",\"\",$D91*AO91)","v":0},null,{"$f":"IF($D91=\"\",\"\",$D91*AQ91)","v":0},null,{"$f":"IF($D91=\"\",\"\",$D91*AS91)","v":0},null,{"$f":"IF($D91=\"\",\"\",$D91*AU91)","v":0},null,{"$f":"IF($D91=\"\",\"\",$D91*AW91)","v":0},null,{"$f":"IF($D91=\"\",\"\",$D91*AY91)","v":0},null,{"$f":"IF($D91=\"\",\"\",$D91*BA91)","v":0},null,{"$f":"IF($D91=\"\",\"\",$D91*BC91)","v":0},null,{"$f":"IF($D91=\"\",\"\",$D91*BE91)","v":0},null,{"$f":"IF($D91=\"\",\"\",$D91*BG91)","v":0},null,{"$f":"IF($D91=\"\",\"\",$D91*BI91)","v":0},null,{"$f":"IF($D91=\"\",\"\",$D91*BK91)","v":0},null,{"$f":"IF($D91=\"\",\"\",$D91*BM91)","v":0},null,{"$f":"IF($D91=\"\",\"\",$D91*BO91)","v":0},null,{"$f":"IF($D91=\"\",\"\",$D91*BQ91)","v":0},null,{"$f":"IF($D91=\"\",\"\",$D91*BS91)","v":0},null,{"$f":"IF($D91=\"\",\"\",$D91*BU91)","v":0},null,{"$f":"IF($D91=\"\",\"\",$D91*BW91)","v":0},null,0,0]
[null,{"$f":"+PRESUPUESTO!B108","v":"AEA013"},{"$f":"IF(B92=0, \"\",VLOOKUP(B92,PRESUPUESTO!$B$17:$C$4607, 2, FALSE))","v":"LADRILLO DE PRENSA (ESP.MURO=17CM)"},{"$f":"IF(ISTEXT(B92), VLOOKUP(B92, PRESUPUESTO!$B$14:$J$4207, 9, FALSE),\"\")","v":0},null,0,null,0,null,{"$f":"IF($D92=\"\",\"\",$D92*I92)","v":0},null,{"$f":"IF($D92=\"\",\"\",$D92*K92)","v":0},null,{"$f":"IF($D92=\"\",\"\",$D92*M92)","v":0},null,{"$f":"IF($D92=\"\",\"\",$D92*O92)","v":0},null,{"$f":"IF($D92=\"\",\"\",$D92*Q92)","v":0},null,{"$f":"IF($D92=\"\",\"\",$D92*S92)","v":0},null,{"$f":"IF($D92=\"\",\"\",$D92*U92)","v":0},null,{"$f":"IF($D92=\"\",\"\",$D92*W92)","v":0},null,{"$f":"IF($D92=\"\",\"\",$D92*Y92)","v":0},null,{"$f":"IF($D92=\"\",\"\",$D92*AA92)","v":0},null,{"$f":"IF($D92=\"\",\"\",$D92*AC92)","v":0},null,{"$f":"IF($D92=\"\",\"\",$D92*AE92)","v":0},null,{"$f":"IF($D92=\"\",\"\",$D92*AG92)","v":0},null,{"$f":"IF($D92=\"\",\"\",$D92*AI92)","v":0},null,{"$f":"IF($D92=\"\",\"\",$D92*AK92)","v":0},null,{"$f":"IF($D92=\"\",\"\",$D92*AM92)","v":0},null,{"$f":"IF($D92=\"\",\"\",$D92*AO92)","v":0},null,{"$f":"IF($D92=\"\",\"\",$D92*AQ92)","v":0},null,{"$f":"IF($D92=\"\",\"\",$D92*AS92)","v":0},null,{"$f":"IF($D92=\"\",\"\",$D92*AU92)","v":0},null,{"$f":"IF($D92=\"\",\"\",$D92*AW92)","v":0},null,{"$f":"IF($D92=\"\",\"\",$D92*AY92)","v":0},null,{"$f":"IF($D92=\"\",\"\",$D92*BA92)","v":0},null,{"$f":"IF($D92=\"\",\"\",$D92*BC92)","v":0},null,{"$f":"IF($D92=\"\",\"\",$D92*BE92)","v":0},null,{"$f":"IF($D92=\"\",\"\",$D92*BG92)","v":0},null,{"$f":"IF($D92=\"\",\"\",$D92*BI92)","v":0},null,{"$f":"IF($D92=\"\",\"\",$D92*BK92)","v":0},null,{"$f":"IF($D92=\"\",\"\",$D92*BM92)","v":0},null,{"$f":"IF($D92=\"\",\"\",$D92*BO92)","v":0},null,{"$f":"IF($D92=\"\",\"\",$D92*BQ92)","v":0},null,{"$f":"IF($D92=\"\",\"\",$D92*BS92)","v":0},null,{"$f":"IF($D92=\"\",\"\",$D92*BU92)","v":0},null,{"$f":"IF($D92=\"\",\"\",$D92*BW92)","v":0},null,0,0]
[null,{"$f":"+PRESUPUESTO!B109","v":"AEA014"},{"$f":"IF(B93=0, \"\",VLOOKUP(B93,PRESUPUESTO!$B$17:$C$4607, 2, FALSE))","v":"CERÁMICA HUECA (ESP.MURO=17CM)"},{"$f":"IF(ISTEXT(B93), VLOOKUP(B93, PRESUPUESTO!$B$14:$J$4207, 9, FALSE),\"\")","v":0},null,0,null,0,null,{"$f":"IF($D93=\"\",\"\",$D93*I93)","v":0},null,{"$f":"IF($D93=\"\",\"\",$D93*K93)","v":0},null,{"$f":"IF($D93=\"\",\"\",$D93*M93)","v":0},null,{"$f":"IF($D93=\"\",\"\",$D93*O93)","v":0},null,{"$f":"IF($D93=\"\",\"\",$D93*Q93)","v":0},null,{"$f":"IF($D93=\"\",\"\",$D93*S93)","v":0},null,{"$f":"IF($D93=\"\",\"\",$D93*U93)","v":0},null,{"$f":"IF($D93=\"\",\"\",$D93*W93)","v":0},null,{"$f":"IF($D93=\"\",\"\",$D93*Y93)","v":0},null,{"$f":"IF($D93=\"\",\"\",$D93*AA93)","v":0},null,{"$f":"IF($D93=\"\",\"\",$D93*AC93)","v":0},null,{"$f":"IF($D93=\"\",\"\",$D93*AE93)","v":0},null,{"$f":"IF($D93=\"\",\"\",$D93*AG93)","v":0},null,{"$f":"IF($D93=\"\",\"\",$D93*AI93)","v":0},null,{"$f":"IF($D93=\"\",\"\",$D93*AK93)","v":0},null,{"$f":"IF($D93=\"\",\"\",$D93*AM93)","v":0},null,{"$f":"IF($D93=\"\",\"\",$D93*AO93)","v":0},null,{"$f":"IF($D93=\"\",\"\",$D93*AQ93)","v":0},null,{"$f":"IF($D93=\"\",\"\",$D93*AS93)","v":0},null,{"$f":"IF($D93=\"\",\"\",$D93*AU93)","v":0},null,{"$f":"IF($D93=\"\",\"\",$D93*AW93)","v":0},null,{"$f":"IF($D93=\"\",\"\",$D93*AY93)","v":0},null,{"$f":"IF($D93=\"\",\"\",$D93*BA93)","v":0},null,{"$f":"IF($D93=\"\",\"\",$D93*BC93)","v":0},null,{"$f":"IF($D93=\"\",\"\",$D93*BE93)","v":0},null,{"$f":"IF($D93=\"\",\"\",$D93*BG93)","v":0},null,{"$f":"IF($D93=\"\",\"\",$D93*BI93)","v":0},null,{"$f":"IF($D93=\"\",\"\",$D93*BK93)","v":0},null,{"$f":"IF($D93=\"\",\"\",$D93*BM93)","v":0},null,{"$f":"IF($D93=\"\",\"\",$D93*BO93)","v":0},null,{"$f":"IF($D93=\"\",\"\",$D93*BQ93)","v":0},null,{"$f":"IF($D93=\"\",\"\",$D93*BS93)","v":0},null,{"$f":"IF($D93=\"\",\"\",$D93*BU93)","v":0},null,{"$f":"IF($D93=\"\",\"\",$D93*BW93)","v":0},null,0,0]
[null,{"$f":"+PRESUPUESTO!B110","v":"AEA015"},{"$f":"IF(B94=0, \"\",VLOOKUP(B94,PRESUPUESTO!$B$17:$C$4607, 2, FALSE))","v":"BLOQUES HORMIGÓN (ESP.MURO=20CM)"},{"$f":"IF(ISTEXT(B94), VLOOKUP(B94, PRESUPUESTO!$B$14:$J$4207, 9, FALSE),\"\")","v":0},null,0,null,0,null,{"$f":"IF($D94=\"\",\"\",$D94*I94)","v":0},null,{"$f":"IF($D94=\"\",\"\",$D94*K94)","v":0},null,{"$f":"IF($D94=\"\",\"\",$D94*M94)","v":0},null,{"$f":"IF($D94=\"\",\"\",$D94*O94)","v":0},null,{"$f":"IF($D94=\"\",\"\",$D94*Q94)","v":0},null,{"$f":"IF($D94=\"\",\"\",$D94*S94)","v":0},null,{"$f":"IF($D94=\"\",\"\",$D94*U94)","v":0},null,{"$f":"IF($D94=\"\",\"\",$D94*W94)","v":0},null,{"$f":"IF($D94=\"\",\"\",$D94*Y94)","v":0},null,{"$f":"IF($D94=\"\",\"\",$D94*AA94)","v":0},null,{"$f":"IF($D94=\"\",\"\",$D94*AC94)","v":0},null,{"$f":"IF($D94=\"\",\"\",$D94*AE94)","v":0},null,{"$f":"IF($D94=\"\",\"\",$D94*AG94)","v":0},null,{"$f":"IF($D94=\"\",\"\",$D94*AI94)","v":0},null,{"$f":"IF($D94=\"\",\"\",$D94*AK94)","v":0},null,{"$f":"IF($D94=\"\",\"\",$D94*AM94)","v":0},null,{"$f":"IF($D94=\"\",\"\",$D94*AO94)","v":0},null,{"$f":"IF($D94=\"\",\"\",$D94*AQ94)","v":0},null,{"$f":"IF($D94=\"\",\"\",$D94*AS94)","v":0},null,{"$f":"IF($D94=\"\",\"\",$D94*AU94)","v":0},null,{"$f":"IF($D94=\"\",\"\",$D94*AW94)","v":0},null,{"$f":"IF($D94=\"\",\"\",$D94*AY94)","v":0},null,{"$f":"IF($D94=\"\",\"\",$D94*BA94)","v":0},null,{"$f":"IF($D94=\"\",\"\",$D94*BC94)","v":0},null,{"$f":"IF($D94=\"\",\"\",$D94*BE94)","v":0},null,{"$f":"IF($D94=\"\",\"\",$D94*BG94)","v":0},null,{"$f":"IF($D94=\"\",\"\",$D94*BI94)","v":0},null,{"$f":"IF($D94=\"\",\"\",$D94*BK94)","v":0},null,{"$f":"IF($D94=\"\",\"\",$D94*BM94)","v":0},null,{"$f":"IF($D94=\"\",\"\",$D94*BO94)","v":0},null,{"$f":"IF($D94=\"\",\"\",$D94*BQ94)","v":0},null,{"$f":"IF($D94=\"\",\"\",$D94*BS94)","v":0},null,{"$f":"IF($D94=\"\",\"\",$D94*BU94)","v":0},null,{"$f":"IF($D94=\"\",\"\",$D94*BW94)","v":0},null,0,0]
[null,{"$f":"+PRESUPUESTO!B111","v":"AEA016"},{"$f":"IF(B95=0, \"\",VLOOKUP(B95,PRESUPUESTO!$B$17:$C$4607, 2, FALSE))","v":"LADRILLO DE CAMPO C/UN LADO VISTO (ESP.MURO=17CM)"},{"$f":"IF(ISTEXT(B95), VLOOKUP(B95, PRESUPUESTO!$B$14:$J$4207, 9, FALSE),\"\")","v":0},null,0,null,0,null,{"$f":"IF($D95=\"\",\"\",$D95*I95)","v":0},null,{"$f":"IF($D95=\"\",\"\",$D95*K95)","v":0},null,{"$f":"IF($D95=\"\",\"\",$D95*M95)","v":0},null,{"$f":"IF($D95=\"\",\"\",$D95*O95)","v":0},null,{"$f":"IF($D95=\"\",\"\",$D95*Q95)","v":0},null,{"$f":"IF($D95=\"\",\"\",$D95*S95)","v":0},null,{"$f":"IF($D95=\"\",\"\",$D95*U95)","v":0},null,{"$f":"IF($D95=\"\",\"\",$D95*W95)","v":0},null,{"$f":"IF($D95=\"\",\"\",$D95*Y95)","v":0},null,{"$f":"IF($D95=\"\",\"\",$D95*AA95)","v":0},null,{"$f":"IF($D95=\"\",\"\",$D95*AC95)","v":0},null,{"$f":"IF($D95=\"\",\"\",$D95*AE95)","v":0},null,{"$f":"IF($D95=\"\",\"\",$D95*AG95)","v":0},null,{"$f":"IF($D95=\"\",\"\",$D95*AI95)","v":0},null,{"$f":"IF($D95=\"\",\"\",$D95*AK95)","v":0},null,{"$f":"IF($D95=\"\",\"\",$D95*AM95)","v":0},null,{"$f":"IF($D95=\"\",\"\",$D95*AO95)","v":0},null,{"$f":"IF($D95=\"\",\"\",$D95*AQ95)","v":0},null,{"$f":"IF($D95=\"\",\"\",$D95*AS95)","v":0},null,{"$f":"IF($D95=\"\",\"\",$D95*AU95)","v":0},null,{"$f":"IF($D95=\"\",\"\",$D95*AW95)","v":0},null,{"$f":"IF($D95=\"\",\"\",$D95*AY95)","v":0},null,{"$f":"IF($D95=\"\",\"\",$D95*BA95)","v":0},null,{"$f":"IF($D95=\"\",\"\",$D95*BC95)","v":0},null,{"$f":"IF($D95=\"\",\"\",$D95*BE95)","v":0},null,{"$f":"IF($D95=\"\",\"\",$D95*BG95)","v":0},null,{"$f":"IF($D95=\"\",\"\",$D95*BI95)","v":0},null,{"$f":"IF($D95=\"\",\"\",$D95*BK95)","v":0},null,{"$f":"IF($D95=\"\",\"\",$D95*BM95)","v":0},null,{"$f":"IF($D95=\"\",\"\",$D95*BO95)","v":0},null,{"$f":"IF($D95=\"\",\"\",$D95*BQ95)","v":0},null,{"$f":"IF($D95=\"\",\"\",$D95*BS95)","v":0},null,{"$f":"IF($D95=\"\",\"\",$D95*BU95)","v":0},null,{"$f":"IF($D95=\"\",\"\",$D95*BW95)","v":0},null,0,0]
[null,{"$f":"+PRESUPUESTO!B112","v":"AEA017"},{"$f":"IF(B96=0, \"\",VLOOKUP(B96,PRESUPUESTO!$B$17:$C$4607, 2, FALSE))","v":"LADRILLO DE PRENSA C/UN LADO VISTO (ESP.MURO=17CM)"},{"$f":"IF(ISTEXT(B96), VLOOKUP(B96, PRESUPUESTO!$B$14:$J$4207, 9, FALSE),\"\")","v":0},null,0,null,0,null,{"$f":"IF($D96=\"\",\"\",$D96*I96)","v":0},null,{"$f":"IF($D96=\"\",\"\",$D96*K96)","v":0},null,{"$f":"IF($D96=\"\",\"\",$D96*M96)","v":0},null,{"$f":"IF($D96=\"\",\"\",$D96*O96)","v":0},null,{"$f":"IF($D96=\"\",\"\",$D96*Q96)","v":0},null,{"$f":"IF($D96=\"\",\"\",$D96*S96)","v":0},null,{"$f":"IF($D96=\"\",\"\",$D96*U96)","v":0},null,{"$f":"IF($D96=\"\",\"\",$D96*W96)","v":0},null,{"$f":"IF($D96=\"\",\"\",$D96*Y96)","v":0},null,{"$f":"IF($D96=\"\",\"\",$D96*AA96)","v":0},null,{"$f":"IF($D96=\"\",\"\",$D96*AC96)","v":0},null,{"$f":"IF($D96=\"\",\"\",$D96*AE96)","v":0},null,{"$f":"IF($D96=\"\",\"\",$D96*AG96)","v":0},null,{"$f":"IF($D96=\"\",\"\",$D96*AI96)","v":0},null,{"$f":"IF($D96=\"\",\"\",$D96*AK96)","v":0},null,{"$f":"IF($D96=\"\",\"\",$D96*AM96)","v":0},null,{"$f":"IF($D96=\"\",\"\",$D96*AO96)","v":0},null,{"$f":"IF($D96=\"\",\"\",$D96*AQ96)","v":0},null,{"$f":"IF($D96=\"\",\"\",$D96*AS96)","v":0},null,{"$f":"IF($D96=\"\",\"\",$D96*AU96)","v":0},null,{"$f":"IF($D96=\"\",\"\",$D96*AW96)","v":0},null,{"$f":"IF($D96=\"\",\"\",$D96*AY96)","v":0},null,{"$f":"IF($D96=\"\",\"\",$D96*BA96)","v":0},null,{"$f":"IF($D96=\"\",\"\",$D96*BC96)","v":0},null,{"$f":"IF($D96=\"\",\"\",$D96*BE96)","v":0},null,{"$f":"IF($D96=\"\",\"\",$D96*BG96)","v":0},null,{"$f":"IF($D96=\"\",\"\",$D96*BI96)","v":0},null,{"$f":"IF($D96=\"\",\"\",$D96*BK96)","v":0},null,{"$f":"IF($D96=\"\",\"\",$D96*BM96)","v":0},null,{"$f":"IF($D96=\"\",\"\",$D96*BO96)","v":0},null,{"$f":"IF($D96=\"\",\"\",$D96*BQ96)","v":0},null,{"$f":"IF($D96=\"\",\"\",$D96*BS96)","v":0},null,{"$f":"IF($D96=\"\",\"\",$D96*BU96)","v":0},null,{"$f":"IF($D96=\"\",\"\",$D96*BW96)","v":0},null,{"$f":"+E96+G96+I96+K96+M96+O96+Q96+S96+U96+W96+Y96+AA96+AC96+AE96+AG96+AI96+AK96+AM96+AO96+AQ96+AS96+AU96+AW96+AY96+BA96+BC96+BE96+BG96+BI96+BK96+BM96+BO96+BQ96+BS96+BU96+BW96","v":0},0]
[null,{"$f":"+PRESUPUESTO!B113","v":"AEA018"},{"$f":"IF(B97=0, \"\",VLOOKUP(B97,PRESUPUESTO!$B$17:$C$4607, 2, FALSE))","v":"LADRILLO DE CAMPO (ESP.MURO=25CM)"},{"$f":"IF(ISTEXT(B97), VLOOKUP(B97, PRESUPUESTO!$B$14:$J$4207, 9, FALSE),\"\")","v":0},null,0,null,0,null,{"$f":"IF($D97=\"\",\"\",$D97*I97)","v":0},null,{"$f":"IF($D97=\"\",\"\",$D97*K97)","v":0},null,{"$f":"IF($D97=\"\",\"\",$D97*M97)","v":0},null,{"$f":"IF($D97=\"\",\"\",$D97*O97)","v":0},null,{"$f":"IF($D97=\"\",\"\",$D97*Q97)","v":0},null,{"$f":"IF($D97=\"\",\"\",$D97*S97)","v":0},null,{"$f":"IF($D97=\"\",\"\",$D97*U97)","v":0},null,{"$f":"IF($D97=\"\",\"\",$D97*W97)","v":0},null,{"$f":"IF($D97=\"\",\"\",$D97*Y97)","v":0},null,{"$f":"IF($D97=\"\",\"\",$D97*AA97)","v":0},null,{"$f":"IF($D97=\"\",\"\",$D97*AC97)","v":0},null,{"$f":"IF($D97=\"\",\"\",$D97*AE97)","v":0},null,{"$f":"IF($D97=\"\",\"\",$D97*AG97)","v":0},null,{"$f":"IF($D97=\"\",\"\",$D97*AI97)","v":0},null,{"$f":"IF($D97=\"\",\"\",$D97*AK97)","v":0},null,{"$f":"IF($D97=\"\",\"\",$D97*AM97)","v":0},null,{"$f":"IF($D97=\"\",\"\",$D97*AO97)","v":0},null,{"$f":"IF($D97=\"\",\"\",$D97*AQ97)","v":0},null,{"$f":"IF($D97=\"\",\"\",$D97*AS97)","v":0},null,{"$f":"IF($D97=\"\",\"\",$D97*AU97)","v":0},null,{"$f":"IF($D97=\"\",\"\",$D97*AW97)","v":0},null,{"$f":"IF($D97=\"\",\"\",$D97*AY97)","v":0},null,{"$f":"IF($D97=\"\",\"\",$D97*BA97)","v":0},null,{"$f":"IF($D97=\"\",\"\",$D97*BC97)","v":0},null,{"$f":"IF($D97=\"\",\"\",$D97*BE97)","v":0},null,{"$f":"IF($D97=\"\",\"\",$D97*BG97)","v":0},null,{"$f":"IF($D97=\"\",\"\",$D97*BI97)","v":0},null,{"$f":"IF($D97=\"\",\"\",$D97*BK97)","v":0},null,{"$f":"IF($D97=\"\",\"\",$D97*BM97)","v":0},null,{"$f":"IF($D97=\"\",\"\",$D97*BO97)","v":0},null,{"$f":"IF($D97=\"\",\"\",$D97*BQ97)","v":0},null,{"$f":"IF($D97=\"\",\"\",$D97*BS97)","v":0},null,{"$f":"IF($D97=\"\",\"\",$D97*BU97)","v":0},null,{"$f":"IF($D97=\"\",\"\",$D97*BW97)","v":0},null,0,0]
[null,{"$f":"+PRESUPUESTO!B114","v":"AEA019"},{"$f":"IF(B98=0, \"\",VLOOKUP(B98,PRESUPUESTO!$B$17:$C$4607, 2, FALSE))","v":"LADRILLO DE PRENSA (ESP.MURO=25CM)"},{"$f":"IF(ISTEXT(B98), VLOOKUP(B98, PRESUPUESTO!$B$14:$J$4207, 9, FALSE),\"\")","v":0},null,0,null,0,null,{"$f":"IF($D98=\"\",\"\",$D98*I98)","v":0},null,{"$f":"IF($D98=\"\",\"\",$D98*K98)","v":0},null,{"$f":"IF($D98=\"\",\"\",$D98*M98)","v":0},null,{"$f":"IF($D98=\"\",\"\",$D98*O98)","v":0},null,{"$f":"IF($D98=\"\",\"\",$D98*Q98)","v":0},null,{"$f":"IF($D98=\"\",\"\",$D98*S98)","v":0},null,{"$f":"IF($D98=\"\",\"\",$D98*U98)","v":0},null,{"$f":"IF($D98=\"\",\"\",$D98*W98)","v":0},null,{"$f":"IF($D98=\"\",\"\",$D98*Y98)","v":0},null,{"$f":"IF($D98=\"\",\"\",$D98*AA98)","v":0},null,{"$f":"IF($D98=\"\",\"\",$D98*AC98)","v":0},null,{"$f":"IF($D98=\"\",\"\",$D98*AE98)","v":0},null,{"$f":"IF($D98=\"\",\"\",$D98*AG98)","v":0},null,{"$f":"IF($D98=\"\",\"\",$D98*AI98)","v":0},null,{"$f":"IF($D98=\"\",\"\",$D98*AK98)","v":0},null,{"$f":"IF($D98=\"\",\"\",$D98*AM98)","v":0},null,{"$f":"IF($D98=\"\",\"\",$D98*AO98)","v":0},null,{"$f":"IF($D98=\"\",\"\",$D98*AQ98)","v":0},null,{"$f":"IF($D98=\"\",\"\",$D98*AS98)","v":0},null,{"$f":"IF($D98=\"\",\"\",$D98*AU98)","v":0},null,{"$f":"IF($D98=\"\",\"\",$D98*AW98)","v":0},null,{"$f":"IF($D98=\"\",\"\",$D98*AY98)","v":0},null,{"$f":"IF($D98=\"\",\"\",$D98*BA98)","v":0},null,{"$f":"IF($D98=\"\",\"\",$D98*BC98)","v":0},null,{"$f":"IF($D98=\"\",\"\",$D98*BE98)","v":0},null,{"$f":"IF($D98=\"\",\"\",$D98*BG98)","v":0},null,{"$f":"IF($D98=\"\",\"\",$D98*BI98)","v":0},null,{"$f":"IF($D98=\"\",\"\",$D98*BK98)","v":0},null,{"$f":"IF($D98=\"\",\"\",$D98*BM98)","v":0},null,{"$f":"IF($D98=\"\",\"\",$D98*BO98)","v":0},null,{"$f":"IF($D98=\"\",\"\",$D98*BQ98)","v":0},null,{"$f":"IF($D98=\"\",\"\",$D98*BS98)","v":0},null,{"$f":"IF($D98=\"\",\"\",$D98*BU98)","v":0},null,{"$f":"IF($D98=\"\",\"\",$D98*BW98)","v":0},null,0,0]
[null,{"$f":"+PRESUPUESTO!B115","v":"AEA020"},{"$f":"IF(B99=0, \"\",VLOOKUP(B99,PRESUPUESTO!$B$17:$C$4607, 2, FALSE))","v":"CERÁMICA HUECA (ESP.MURO=25CM)"},{"$f":"IF(ISTEXT(B99), VLOOKUP(B99, PRESUPUESTO!$B$14:$J$4207, 9, FALSE),\"\")","v":0},null,0,null,0,null,{"$f":"IF($D99=\"\",\"\",$D99*I99)","v":0},null,{"$f":"IF($D99=\"\",\"\",$D99*K99)","v":0},null,{"$f":"IF($D99=\"\",\"\",$D99*M99)","v":0},null,{"$f":"IF($D99=\"\",\"\",$D99*O99)","v":0},null,{"$f":"IF($D99=\"\",\"\",$D99*Q99)","v":0},null,{"$f":"IF($D99=\"\",\"\",$D99*S99)","v":0},null,{"$f":"IF($D99=\"\",\"\",$D99*U99)","v":0},null,{"$f":"IF($D99=\"\",\"\",$D99*W99)","v":0},null,{"$f":"IF($D99=\"\",\"\",$D99*Y99)","v":0},null,{"$f":"IF($D99=\"\",\"\",$D99*AA99)","v":0},null,{"$f":"IF($D99=\"\",\"\",$D99*AC99)","v":0},null,{"$f":"IF($D99=\"\",\"\",$D99*AE99)","v":0},null,{"$f":"IF($D99=\"\",\"\",$D99*AG99)","v":0},null,{"$f":"IF($D99=\"\",\"\",$D99*AI99)","v":0},null,{"$f":"IF($D99=\"\",\"\",$D99*AK99)","v":0},null,{"$f":"IF($D99=\"\",\"\",$D99*AM99)","v":0},null,{"$f":"IF($D99=\"\",\"\",$D99*AO99)","v":0},null,{"$f":"IF($D99=\"\",\"\",$D99*AQ99)","v":0},null,{"$f":"IF($D99=\"\",\"\",$D99*AS99)","v":0},null,{"$f":"IF($D99=\"\",\"\",$D99*AU99)","v":0},null,{"$f":"IF($D99=\"\",\"\",$D99*AW99)","v":0},null,{"$f":"IF($D99=\"\",\"\",$D99*AY99)","v":0},null,{"$f":"IF($D99=\"\",\"\",$D99*BA99)","v":0},null,{"$f":"IF($D99=\"\",\"\",$D99*BC99)","v":0},null,{"$f":"IF($D99=\"\",\"\",$D99*BE99)","v":0},null,{"$f":"IF($D99=\"\",\"\",$D99*BG99)","v":0},null,{"$f":"IF($D99=\"\",\"\",$D99*BI99)","v":0},null,{"$f":"IF($D99=\"\",\"\",$D99*BK99)","v":0},null,{"$f":"IF($D99=\"\",\"\",$D99*BM99)","v":0},null,{"$f":"IF($D99=\"\",\"\",$D99*BO99)","v":0},null,{"$f":"IF($D99=\"\",\"\",$D99*BQ99)","v":0},null,{"$f":"IF($D99=\"\",\"\",$D99*BS99)","v":0},null,{"$f":"IF($D99=\"\",\"\",$D99*BU99)","v":0},null,{"$f":"IF($D99=\"\",\"\",$D99*BW99)","v":0},null,0,0]
[null,{"$f":"+PRESUPUESTO!B116","v":"AEA021"},{"$f":"IF(B100=0, \"\",VLOOKUP(B100,PRESUPUESTO!$B$17:$C$4607, 2, FALSE))","v":"LADRILLO DE CAMPO, C/UN LADO VISTO (ESP.MURO=25CM)"},{"$f":"IF(ISTEXT(B100), VLOOKUP(B100, PRESUPUESTO!$B$14:$J$4207, 9, FALSE),\"\")","v":0},null,{"$f":"IF($D100=\"\",\"\",$D100*E100)","v":0},null,{"$f":"IF($D100=\"\",\"\",$D100*G100)","v":0},null,{"$f":"IF($D100=\"\",\"\",$D100*I100)","v":0},null,{"$f":"IF($D100=\"\",\"\",$D100*K100)","v":0},null,{"$f":"IF($D100=\"\",\"\",$D100*M100)","v":0},null,{"$f":"IF($D100=\"\",\"\",$D100*O100)","v":0},null,{"$f":"IF($D100=\"\",\"\",$D100*Q100)","v":0},null,{"$f":"IF($D100=\"\",\"\",$D100*S100)","v":0},null,{"$f":"IF($D100=\"\",\"\",$D100*U100)","v":0},null,{"$f":"IF($D100=\"\",\"\",$D100*W100)","v":0},null,{"$f":"IF($D100=\"\",\"\",$D100*Y100)","v":0},null,{"$f":"IF($D100=\"\",\"\",$D100*AA100)","v":0},null,{"$f":"IF($D100=\"\",\"\",$D100*AC100)","v":0},null,{"$f":"IF($D100=\"\",\"\",$D100*AE100)","v":0},null,{"$f":"IF($D100=\"\",\"\",$D100*AG100)","v":0},null,{"$f":"IF($D100=\"\",\"\",$D100*AI100)","v":0},null,{"$f":"IF($D100=\"\",\"\",$D100*AK100)","v":0},null,{"$f":"IF($D100=\"\",\"\",$D100*AM100)","v":0},null,{"$f":"IF($D100=\"\",\"\",$D100*AO100)","v":0},null,{"$f":"IF($D100=\"\",\"\",$D100*AQ100)","v":0},null,{"$f":"IF($D100=\"\",\"\",$D100*AS100)","v":0},null,{"$f":"IF($D100=\"\",\"\",$D100*AU100)","v":0},null,{"$f":"IF($D100=\"\",\"\",$D100*AW100)","v":0},null,{"$f":"IF($D100=\"\",\"\",$D100*AY100)","v":0},null,{"$f":"IF($D100=\"\",\"\",$D100*BA100)","v":0},null,{"$f":"IF($D100=\"\",\"\",$D100*BC100)","v":0},null,{"$f":"IF($D100=\"\",\"\",$D100*BE100)","v":0},null,{"$f":"IF($D100=\"\",\"\",$D100*BG100)","v":0},null,{"$f":"IF($D100=\"\",\"\",$D100*BI100)","v":0},null,{"$f":"IF($D100=\"\",\"\",$D100*BK100)","v":0},null,{"$f":"IF($D100=\"\",\"\",$D100*BM100)","v":0},null,{"$f":"IF($D100=\"\",\"\",$D100*BO100)","v":0},null,{"$f":"IF($D100=\"\",\"\",$D100*BQ100)","v":0},null,{"$f":"IF($D100=\"\",\"\",$D100*BS100)","v":0},null,{"$f":"IF($D100=\"\",\"\",$D100*BU100)","v":0},null,{"$f":"IF($D100=\"\",\"\",$D100*BW100)","v":0},null,{"$f":"+E100+G100+I100+K100+M100+O100+Q100+S100+U100+W100+Y100+AA100+AC100+AE100+AG100+AI100+AK100+AM100+AO100+AQ100+AS100+AU100+AW100+AY100+BA100+BC100+BE100+BG100+BI100+BK100+BM100+BO100+BQ100+BS100+BU100+BW100","v":0},{"$f":"IF(D100=\"\",\"\",ROUND(F100+H100+J100+L100+N100+P100+R100+T100+V100+X100+Z100+AB100+AD100+AF100+AH100+AJ100+AL100+AN100+AP100+AR100+AT100+AV100+AX100+AZ100+BB100+BD100+BF100+BH100+BJ100+BL100+BN100+BP100+BR100+BT100+BV100+BX100,2))","v":0}]
[null,{"$f":"+PRESUPUESTO!B117","v":"AEA022"},{"$f":"IF(B101=0, \"\",VLOOKUP(B101,PRESUPUESTO!$B$17:$C$4607, 2, FALSE))","v":"LADRILLO DE PRENSA, C/UN LADO VISTO (ESP.MURO=25CM)"},{"$f":"IF(ISTEXT(B101), VLOOKUP(B101, PRESUPUESTO!$B$14:$J$4207, 9, FALSE),\"\")","v":0},null,0,null,0,null,0,null,0,null,0,null,0,null,0,null,0,null,0,null,0,null,0,null,0,null,0,null,0,null,0,null,0,null,0,null,0,null,0,null,0,null,0,null,0,null,0,null,0,null,0,null,0,null,0,null,0,null,0,null,0,null,0,null,0,null,0,null,0,null,0,null,0,null,0,0]
[null,{"$f":"+PRESUPUESTO!B118","v":"AEB001"},{"$f":"IF(B102=0, \"\",VLOOKUP(B102,PRESUPUESTO!$B$17:$C$4607, 2, FALSE))","v":"LADRILLO CHORIZO CALADO(ESP.MURO<10CM)"},{"$f":"IF(ISTEXT(B102), VLOOKUP(B102, PRESUPUESTO!$B$14:$J$4207, 9, FALSE),\"\")","v":0},null,0,null,0,null,0,null,0,null,0,null,0,null,0,null,0,null,0,null,0,null,0,null,0,null,0,null,0,null,0,null,0,null,0,null,0,null,0,null,0,null,0,null,0,null,0,null,0,null,0,null,0,null,0,null,0,null,0,null,0,null,0,null,0,null,0,null,0,null,0,null,0,null,0,0]
[null,{"$f":"+PRESUPUESTO!B119","v":"AEB002"},{"$f":"IF(B103=0, \"\",VLOOKUP(B103,PRESUPUESTO!$B$17:$C$4607, 2, FALSE))","v":"LADRILLO CALADO (ESP.MURO=12)"},{"$f":"IF(ISTEXT(B103), VLOOKUP(B103, PRESUPUESTO!$B$14:$J$4207, 9, FALSE),\"\")","v":0},null,0,null,0,null,0,null,0,null,0,null,0,null,0,null,0,null,0,null,0,null,0,null,0,null,0,null,0,null,0,null,0,null,0,null,0,null,0,null,0,null,0,null,0,null,0,null,0,null,0,null,0,null,0,null,0,null,0,null,0,null,0,null,0,null,0,null,0,null,0,null,0,null,0,0]
[null,{"$f":"+PRESUPUESTO!B120","v":"AEB003"},{"$f":"IF(B104=0, \"\",VLOOKUP(B104,PRESUPUESTO!$B$17:$C$4607, 2, FALSE))","v":"CERÁMICA HUECA MURO CALADO E=12"},{"$f":"IF(ISTEXT(B104), VLOOKUP(B104, PRESUPUESTO!$B$14:$J$4207, 9, FALSE),\"\")","v":0},null,0,null,0,null,0,null,0,null,0,null,0,null,0,null,0,null,0,null,0,null,0,null,0,null,0,null,0,null,0,null,0,null,0,null,0,null,0,null,0,null,0,null,0,null,0,null,0,null,0,null,0,null,0,null,0,null,0,null,0,null,0,null,0,null,0,null,0,null,0,null,0,null,0,0]
[null,{"$f":"+PRESUPUESTO!B121","v":"AEB004"},{"$f":"IF(B105=0, \"\",VLOOKUP(B105,PRESUPUESTO!$B$17:$C$4607, 2, FALSE))","v":"BLOQUE CALADO (ESP.MURO= 12CM)"},{"$f":"IF(ISTEXT(B105), VLOOKUP(B105, PRESUPUESTO!$B$14:$J$4207, 9, FALSE),\"\")","v":0},null,0,null,0,null,0,null,0,null,0,null,0,null,0,null,0,null,0,null,0,null,0,null,0,null,0,null,0,null,0,null,0,null,0,null,0,null,0,null,0,null,0,null,0,null,0,null,0,null,0,null,0,null,0,null,0,null,0,null,0,null,0,null,0,null,0,null,0,null,0,null,0,null,0,0]
[null,{"$f":"+PRESUPUESTO!B122","v":"AEF005"},{"$f":"IF(B106=0, \"\",VLOOKUP(B106,PRESUPUESTO!$B$17:$C$4607, 2, FALSE))","v":"DUCTOS MAMPOSTERÍA"},{"$f":"IF(ISTEXT(B106), VLOOKUP(B106, PRESUPUESTO!$B$14:$J$4207, 9, FALSE),\"\")","v":0},null,0,null,0,null,0,null,0,null,0,null,0,null,0,null,0,null,0,null,0,null,0,null,0,null,0,null,0,null,0,null,0,null,0,null,0,null,0,null,0,null,0,null,0,null,0,null,0,null,0,null,0,null,0,null,0,null,0,null,0,null,0,null,0,null,0,null,0,null,0,null,0,null,0,0]
[null,{"$f":"+PRESUPUESTO!B124","v":"AEC001"},{"$f":"IF(B107=0, \"\",VLOOKUP(B107,PRESUPUESTO!$B$17:$C$4607, 2, FALSE))","v":"POLIESTIRENO EXPANDIDO (AISL.MUROS)"},{"$f":"IF(ISTEXT(B107), VLOOKUP(B107, PRESUPUESTO!$B$14:$J$4207, 9, FALSE),\"\")","v":0},null,0,null,0,null,0,null,0,null,0,null,0,null,0,null,0,null,0,null,0,null,0,null,0,null,0,null,0,null,0,null,0,null,0,null,0,null,0,null,0,null,0,null,0,null,0,null,0,null,0,null,0,null,0,null,0,null,0,null,0,null,0,null,0,null,0,null,0,null,0,null,0,null,0,0]
[null,{"$f":"+PRESUPUESTO!B125","v":"AEC002"},{"$f":"IF(B108=0, \"\",VLOOKUP(B108,PRESUPUESTO!$B$17:$C$4607, 2, FALSE))","v":"POLIURETANO PROYECTADO (AISL.MUROS)"},{"$f":"IF(ISTEXT(B108), VLOOKUP(B108, PRESUPUESTO!$B$14:$J$4207, 9, FALSE),\"\")","v":0},null,0,null,0,null,0,null,0,null,0,null,0,null,0,null,0,null,0,null,0,null,0,null,0,null,0,null,0,null,0,null,0,null,0,null,0,null,0,null,0,null,0,null,0,null,0,null,0,null,0,null,0,null,0,null,0,null,0,null,0,null,0,null,0,null,0,null,0,null,0,null,0,null,0,0]
[null,{"$f":"+PRESUPUESTO!B126","v":"AEC003"},{"$f":"IF(B109=0, \"\",VLOOKUP(B109,PRESUPUESTO!$B$17:$C$4607, 2, FALSE))","v":"LANA DE VIDRIO (AISL.MUROS)"},{"$f":"IF(ISTEXT(B109), VLOOKUP(B109, PRESUPUESTO!$B$14:$J$4207, 9, FALSE),\"\")","v":0},null,0,null,0,null,0,null,0,null,0,null,0,null,0,null,0,null,0,null,0,null,0,null,0,null,0,null,0,null,0,null,0,null,0,null,0,null,0,null,0,null,0,null,0,null,0,null,0,null,0,null,0,null,0,null,0,null,0,null,0,null,0,null,0,null,0,null,0,null,0,null,0,null,0,0]
[null,{"$f":"+PRESUPUESTO!B128","v":"AFA003"},{"$f":"IF(B110=0, \"\",VLOOKUP(B110,PRESUPUESTO!$B$17:$C$4607, 2, FALSE))","v":"PANELES MADERA CERRAM. VERTICAL"},{"$f":"IF(ISTEXT(B110), VLOOKUP(B110, PRESUPUESTO!$B$14:$J$4207, 9, FALSE),\"\")","v":0},null,0,null,0,null,0,null,0,null,0,null,0,null,0,null,0,null,0,null,0,null,0,null,0,null,0,null,0,null,0,null,0,null,0,null,0,null,0,null,0,null,0,null,0,null,0,null,0,null,0,null,0,null,0,null,0,null,0,null,0,null,0,null,0,null,0,null,0,null,0,null,0,null,0,0]
[null,{"$f":"+PRESUPUESTO!B129","v":"AFA004"},{"$f":"IF(B111=0, \"\",VLOOKUP(B111,PRESUPUESTO!$B$17:$C$4607, 2, FALSE))","v":"PLACAS YESO CERRAM. VERTICAL"},{"$f":"IF(ISTEXT(B111), VLOOKUP(B111, PRESUPUESTO!$B$14:$J$4207, 9, FALSE),\"\")","v":0},null,0,null,0,null,0,null,0,null,0,null,0,null,0,null,0,null,0,null,0,null,0,null,0,null,0,null,0,null,0,null,0,null,0,null,0,null,0,null,0,null,0,null,0,null,0,null,0,null,0,null,0,null,0,null,0,null,0,null,0,null,0,null,0,null,0,null,0,null,0,null,0,null,0,0]
[null,{"$f":"+PRESUPUESTO!B130","v":"AFB001"},{"$f":"IF(B112=0, \"\",VLOOKUP(B112,PRESUPUESTO!$B$17:$C$4607, 2, FALSE))","v":"POLIURETANO PROYECTADO (CERRAM. LIVIANOS)"},{"$f":"IF(ISTEXT(B112), VLOOKUP(B112, PRESUPUESTO!$B$14:$J$4207, 9, FALSE),\"\")","v":0},null,0,null,0,null,0,null,0,null,0,null,0,null,0,null,0,null,0,null,0,null,0,null,0,null,0,null,0,null,0,null,0,null,0,null,0,null,0,null,0,null,0,null,0,null,0,null,0,null,0,null,0,null,0,null,0,null,0,null,0,null,0,null,0,null,0,null,0,null,0,null,0,null,0,0]
[null,{"$f":"+PRESUPUESTO!B131","v":"AFB002"},{"$f":"IF(B113=0, \"\",VLOOKUP(B113,PRESUPUESTO!$B$17:$C$4607, 2, FALSE))","v":"POLIESTIRENO EXPANDIDO (CERRAM. LIVIANOS)"},{"$f":"IF(ISTEXT(B113), VLOOKUP(B113, PRESUPUESTO!$B$14:$J$4207, 9, FALSE),\"\")","v":0},null,0,null,0,null,0,null,0,null,0,null,0,null,0,null,0,null,0,null,0,null,0,null,0,null,0,null,0,null,0,null,0,null,0,null,0,null,0,null,0,null,0,null,0,null,0,null,0,null,0,null,0,null,0,null,0,null,0,null,0,null,0,null,0,null,0,null,0,null,0,null,0,null,0,0]
[null,{"$f":"+PRESUPUESTO!B132","v":"AFB003"},{"$f":"IF(B114=0, \"\",VLOOKUP(B114,PRESUPUESTO!$B$17:$C$4607, 2, FALSE))","v":"POLIETILENO (CERRAM. LIVIANOS)"},{"$f":"IF(ISTEXT(B114), VLOOKUP(B114, PRESUPUESTO!$B$14:$J$4207, 9, FALSE),\"\")","v":0},null,0,null,0,null,0,null,0,null,0,null,0,null,0,null,0,null,0,null,0,null,0,null,0,null,0,null,0,null,0,null,0,null,0,null,0,null,0,null,0,null,0,null,0,null,0,null,0,null,0,null,0,null,0,null,0,null,0,null,0,null,0,null,0,null,0,null,0,null,0,null,0,null,0,0]
[null,{"$f":"+PRESUPUESTO!B133","v":"AFB004"},{"$f":"IF(B115=0, \"\",VLOOKUP(B115,PRESUPUESTO!$B$17:$C$4607, 2, FALSE))","v":"TYVEK (CERRAM. LIVIANOS)"},{"$f":"IF(ISTEXT(B115), VLOOKUP(B115, PRESUPUESTO!$B$14:$J$4207, 9, FALSE),\"\")","v":0},null,0,null,0,null,0,null,0,null,0,null,0,null,0,null,0,null,0,null,0,null,0,null,0,null,0,null,0,null,0,null,0,null,0,null,0,null,0,null,0,null,0,null,0,null,0,null,0,null,0,null,0,null,0,null,0,null,0,null,0,null,0,null,0,null,0,null,0,null,0,null,0,null,0,0]
[null,{"$f":"+PRESUPUESTO!B134","v":"AFB005"},{"$f":"IF(B116=0, \"\",VLOOKUP(B116,PRESUPUESTO!$B$17:$C$4607, 2, FALSE))","v":"MEMBRANAS ASFÁLTICAS (CERRAM.LIVIANOS)"},{"$f":"IF(ISTEXT(B116), VLOOKUP(B116, PRESUPUESTO!$B$14:$J$4207, 9, FALSE),\"\")","v":0},null,0,null,0,null,0,null,0,null,0,null,0,null,0,null,0,null,0,null,0,null,0,null,0,null,0,null,0,null,0,null,0,null,0,null,0,null,0,null,0,null,0,null,0,null,0,null,0,null,0,null,0,null,0,null,0,null,0,null,0,null,0,null,0,null,0,null,0,null,0,null,0,null,0,0]
[null,{"$f":"+PRESUPUESTO!B136","v":"AED001"},{"$f":"IF(B117=0, \"\",VLOOKUP(B117,PRESUPUESTO!$B$17:$C$4607, 2, FALSE))","v":"AYP C/HIDRÓFUGO 1AS HILADAS EN MUROS"},{"$f":"IF(ISTEXT(B117), VLOOKUP(B117, PRESUPUESTO!$B$14:$J$4207, 9, FALSE),\"\")","v":0},null,0,null,0,null,0,null,0,null,0,null,0,null,0,null,0,null,0,null,0,null,0,null,0,null,0,null,0,null,0,null,0,null,0,null,0,null,0,null,0,null,0,null,0,null,0,null,0,null,0,null,0,null,0,null,0,null,0,null,0,null,0,null,0,null,0,null,0,null,0,null,0,null,0,0]
[null,{"$f":"+PRESUPUESTO!B137","v":"AED002"},{"$f":"IF(B118=0, \"\",VLOOKUP(B118,PRESUPUESTO!$B$17:$C$4607, 2, FALSE))","v":"AYP C/HIDRÓFUGO EN ANTEPECHOS"},{"$f":"IF(ISTEXT(B118), VLOOKUP(B118, PRESUPUESTO!$B$14:$J$4207, 9, FALSE),\"\")","v":0},null,0,null,0,null,0,null,0,null,0,null,0,null,0,null,0,null,0,null,0,null,0,null,0,null,0,null,0,null,0,null,0,null,0,null,0,null,0,null,0,null,0,null,0,null,0,null,0,null,0,null,0,null,0,null,0,null,0,null,0,null,0,null,0,null,0,null,0,null,0,null,0,null,0,0]
[null,{"$f":"+PRESUPUESTO!B138","v":"AHA001"},{"$f":"IF(B119=0, \"\",VLOOKUP(B119,PRESUPUESTO!$B$17:$C$4607, 2, FALSE))","v":"AZOTADA Y GRUESA CIELORRASOS"},{"$f":"IF(ISTEXT(B119), VLOOKUP(B119, PRESUPUESTO!$B$14:$J$4207, 9, FALSE),\"\")","v":0},null,0,null,0,null,0,null,0,null,0,null,0,null,0,null,0,null,0,null,0,null,0,null,0,null,0,null,0,null,0,null,0,null,0,null,0,null,0,null,0,null,0,null,0,null,0,null,0,null,0,null,0,null,0,null,0,null,0,null,0,null,0,null,0,null,0,null,0,null,0,null,0,null,0,0]
[null,{"$f":"+PRESUPUESTO!B139","v":"AHA002"},{"$f":"IF(B120=0, \"\",VLOOKUP(B120,PRESUPUESTO!$B$17:$C$4607, 2, FALSE))","v":"AZOTADA Y GRUESA EN ESCALERAS"},{"$f":"IF(ISTEXT(B120), VLOOKUP(B120, PRESUPUESTO!$B$14:$J$4207, 9, FALSE),\"\")","v":0},null,0,null,0,null,0,null,0,null,0,null,0,null,0,null,0,null,0,null,0,null,0,null,0,null,0,null,0,null,0,null,0,null,0,null,0,null,0,null,0,null,0,null,0,null,0,null,0,null,0,null,0,null,0,null,0,null,0,null,0,null,0,null,0,null,0,null,0,null,0,null,0,null,0,0]
[null,{"$f":"+PRESUPUESTO!B140","v":"AHA003"},{"$f":"IF(B121=0, \"\",VLOOKUP(B121,PRESUPUESTO!$B$17:$C$4607, 2, FALSE))","v":"FINA CIELORRASOS"},{"$f":"IF(ISTEXT(B121), VLOOKUP(B121, PRESUPUESTO!$B$14:$J$4207, 9, FALSE),\"\")","v":0},null,0,null,0,null,0,null,0,null,0,null,0,null,0,null,0,null,0,null,0,null,0,null,0,null,0,null,0,null,0,null,0,null,0,null,0,null,0,null,0,null,0,null,0,null,0,null,0,null,0,null,0,null,0,null,0,null,0,null,0,null,0,null,0,null,0,null,0,null,0,null,0,null,0,0]
[null,{"$f":"+PRESUPUESTO!B141","v":"AHA004"},{"$f":"IF(B122=0, \"\",VLOOKUP(B122,PRESUPUESTO!$B$17:$C$4607, 2, FALSE))","v":"FINA EN ESCALERAS"},{"$f":"IF(ISTEXT(B122), VLOOKUP(B122, PRESUPUESTO!$B$14:$J$4207, 9, FALSE),\"\")","v":0},null,0,null,0,null,0,null,0,null,0,null,0,null,0,null,0,null,0,null,0,null,0,null,0,null,0,null,0,null,0,null,0,null,0,null,0,null,0,null,0,null,0,null,0,null,0,null,0,null,0,null,0,null,0,null,0,null,0,null,0,null,0,null,0,null,0,null,0,null,0,null,0,null,0,0]
[null,{"$f":"+PRESUPUESTO!B142","v":"AHA005"},{"$f":"IF(B123=0, \"\",VLOOKUP(B123,PRESUPUESTO!$B$17:$C$4607, 2, FALSE))","v":"BALAI COMÚN CIELORRASOS"},{"$f":"IF(ISTEXT(B123), VLOOKUP(B123, PRESUPUESTO!$B$14:$J$4207, 9, FALSE),\"\")","v":0},null,0,null,0,null,0,null,0,null,0,null,0,null,0,null,0,null,0,null,0,null,0,null,0,null,0,null,0,null,0,null,0,null,0,null,0,null,0,null,0,null,0,null,0,null,0,null,0,null,0,null,0,null,0,null,0,null,0,null,0,null,0,null,0,null,0,null,0,null,0,null,0,null,0,0]
[null,{"$f":"+PRESUPUESTO!B143","v":"AHA006"},{"$f":"IF(B124=0, \"\",VLOOKUP(B124,PRESUPUESTO!$B$17:$C$4607, 2, FALSE))","v":"BALAI FRETAZADO CIELORRASOS"},{"$f":"IF(ISTEXT(B124), VLOOKUP(B124, PRESUPUESTO!$B$14:$J$4207, 9, FALSE),\"\")","v":0},null,0,null,0,null,0,null,0,null,0,null,0,null,0,null,0,null,0,null,0,null,0,null,0,null,0,null,0,null,0,null,0,null,0,null,0,null,0,null,0,null,0,null,0,null,0,null,0,null,0,null,0,null,0,null,0,null,0,null,0,null,0,null,0,null,0,null,0,null,0,null,0,null,0,0]
[null,{"$f":"+PRESUPUESTO!B144","v":"AHA007"},{"$f":"IF(B125=0, \"\",VLOOKUP(B125,PRESUPUESTO!$B$17:$C$4607, 2, FALSE))","v":"CIELORRASO S/METAL DESPLEGADO"},{"$f":"IF(ISTEXT(B125), VLOOKUP(B125, PRESUPUESTO!$B$14:$J$4207, 9, FALSE),\"\")","v":0},null,0,null,0,null,0,null,0,null,0,null,0,null,0,null,0,null,0,null,0,null,0,null,0,null,0,null,0,null,0,null,0,null,0,null,0,null,0,null,0,null,0,null,0,null,0,null,0,null,0,null,0,null,0,null,0,null,0,null,0,null,0,null,0,null,0,null,0,null,0,null,0,null,0,0]
[null,{"$f":"+PRESUPUESTO!B145","v":"AHB001"},{"$f":"IF(B126=0, \"\",VLOOKUP(B126,PRESUPUESTO!$B$17:$C$4607, 2, FALSE))","v":"AZOTADA Y GRUESA MUROS INT."},{"$f":"IF(ISTEXT(B126), VLOOKUP(B126, PRESUPUESTO!$B$14:$J$4207, 9, FALSE),\"\")","v":0},null,0,null,0,null,0,null,0,null,0,null,0,null,0,null,0,null,0,null,0,null,0,null,0,null,0,null,0,null,0,null,0,null,0,null,0,null,0,null,0,null,0,null,0,null,0,null,0,null,0,null,0,null,0,null,0,null,0,null,0,null,0,null,0,null,0,null,0,null,0,null,0,null,0,0]
[null,{"$f":"+PRESUPUESTO!B146","v":"AHB002"},{"$f":"IF(B127=0, \"\",VLOOKUP(B127,PRESUPUESTO!$B$17:$C$4607, 2, FALSE))","v":"GRUESA MUROS INT."},{"$f":"IF(ISTEXT(B127), VLOOKUP(B127, PRESUPUESTO!$B$14:$J$4207, 9, FALSE),\"\")","v":0},null,0,null,0,null,0,null,0,null,0,null,0,null,0,null,0,null,0,null,0,null,0,null,0,null,0,null,0,null,0,null,0,null,0,null,0,null,0,null,0,null,0,null,0,null,0,null,0,null,0,null,0,null,0,null,0,null,0,null,0,null,0,null,0,null,0,null,0,null,0,null,0,null,0,0]
[null,{"$f":"+PRESUPUESTO!B147","v":"AHB003"},{"$f":"IF(B128=0, \"\",VLOOKUP(B128,PRESUPUESTO!$B$17:$C$4607, 2, FALSE))","v":"FINA MUROS INT."},{"$f":"IF(ISTEXT(B128), VLOOKUP(B128, PRESUPUESTO!$B$14:$J$4207, 9, FALSE),\"\")","v":0},null,0,null,0,null,0,null,0,null,0,null,0,null,0,null,0,null,0,null,0,null,0,null,0,null,0,null,0,null,0,null,0,null,0,null,0,null,0,null,0,null,0,null,0,null,0,null,0,null,0,null,0,null,0,null,0,null,0,null,0,null,0,null,0,null,0,null,0,null,0,null,0,null,0,0]
[null,{"$f":"+PRESUPUESTO!B148","v":"AHB004"},{"$f":"IF(B129=0, \"\",VLOOKUP(B129,PRESUPUESTO!$B$17:$C$4607, 2, FALSE))","v":"BALAI COMÚN MUROS INT."},{"$f":"IF(ISTEXT(B129), VLOOKUP(B129, PRESUPUESTO!$B$14:$J$4207, 9, FALSE),\"\")","v":0},null,0,null,0,null,0,null,0,null,0,null,0,null,0,null,0,null,0,null,0,null,0,null,0,null,0,null,0,null,0,null,0,null,0,null,0,null,0,null,0,null,0,null,0,null,0,null,0,null,0,null,0,null,0,null,0,null,0,null,0,null,0,null,0,null,0,null,0,null,0,null,0,null,0,0]
[null,{"$f":"+PRESUPUESTO!B149","v":"AHB005"},{"$f":"IF(B130=0, \"\",VLOOKUP(B130,PRESUPUESTO!$B$17:$C$4607, 2, FALSE))","v":"BALAI FRETAZADO MUROS INT."},{"$f":"IF(ISTEXT(B130), VLOOKUP(B130, PRESUPUESTO!$B$14:$J$4207, 9, FALSE),\"\")","v":0},null,0,null,0,null,0,null,0,null,0,null,0,null,0,null,0,null,0,null,0,null,0,null,0,null,0,null,0,null,0,null,0,null,0,null,0,null,0,null,0,null,0,null,0,null,0,null,0,null,0,null,0,null,0,null,0,null,0,null,0,null,0,null,0,null,0,null,0,null,0,null,0,null,0,0]
[null,{"$f":"+PRESUPUESTO!B150","v":"AHB006"},{"$f":"IF(B131=0, \"\",VLOOKUP(B131,PRESUPUESTO!$B$17:$C$4607, 2, FALSE))","v":"REVOQUE BOLSEADO MUROS INT."},{"$f":"IF(ISTEXT(B131), VLOOKUP(B131, PRESUPUESTO!$B$14:$J$4207, 9, FALSE),\"\")","v":0},null,0,null,0,null,0,null,0,null,0,null,0,null,0,null,0,null,0,null,0,null,0,null,0,null,0,null,0,null,0,null,0,null,0,null,0,null,0,null,0,null,0,null,0,null,0,null,0,null,0,null,0,null,0,null,0,null,0,null,0,null,0,null,0,null,0,null,0,null,0,null,0,null,0,0]
[null,{"$f":"+PRESUPUESTO!B151","v":"AHB007"},{"$f":"IF(B132=0, \"\",VLOOKUP(B132,PRESUPUESTO!$B$17:$C$4607, 2, FALSE))","v":"REVOQUE SOBRE METAL DESPLEGADO (MUROS INT)"},{"$f":"IF(ISTEXT(B132), VLOOKUP(B132, PRESUPUESTO!$B$14:$J$4207, 9, FALSE),\"\")","v":0},null,0,null,0,null,0,null,0,null,0,null,0,null,0,null,0,null,0,null,0,null,0,null,0,null,0,null,0,null,0,null,0,null,0,null,0,null,0,null,0,null,0,null,0,null,0,null,0,null,0,null,0,null,0,null,0,null,0,null,0,null,0,null,0,null,0,null,0,null,0,null,0,null,0,0]
[null,{"$f":"+PRESUPUESTO!B152","v":"AHB009"},{"$f":"IF(B133=0, \"\",VLOOKUP(B133,PRESUPUESTO!$B$17:$C$4607, 2, FALSE))","v":"REVOQUE A UNA CAPA (MUROS INT)"},{"$f":"IF(ISTEXT(B133), VLOOKUP(B133, PRESUPUESTO!$B$14:$J$4207, 9, FALSE),\"\")","v":0},null,0,null,0,null,0,null,0,null,0,null,0,null,0,null,0,null,0,null,0,null,0,null,0,null,0,null,0,null,0,null,0,null,0,null,0,null,0,null,0,null,0,null,0,null,0,null,0,null,0,null,0,null,0,null,0,null,0,null,0,null,0,null,0,null,0,null,0,null,0,null,0,null,0,0]
[null,{"$f":"+PRESUPUESTO!B153","v":"AHC001"},{"$f":"IF(B134=0, \"\",VLOOKUP(B134,PRESUPUESTO!$B$17:$C$4607, 2, FALSE))","v":"AYP C/HIDRÓFUGO CARA EXT.MUROS"},{"$f":"IF(ISTEXT(B134), VLOOKUP(B134, PRESUPUESTO!$B$14:$J$4207, 9, FALSE),\"\")","v":0},null,0,null,0,null,0,null,0,null,0,null,0,null,0,null,0,null,0,null,0,null,0,null,0,null,0,null,0,null,0,null,0,null,0,null,0,null,0,null,0,null,0,null,0,null,0,null,0,null,0,null,0,null,0,null,0,null,0,null,0,null,0,null,0,null,0,null,0,null,0,null,0,null,0,0]
[null,{"$f":"+PRESUPUESTO!B154","v":"AHC002"},{"$f":"IF(B135=0, \"\",VLOOKUP(B135,PRESUPUESTO!$B$17:$C$4607, 2, FALSE))","v":"AYP C/HIDRÓFUGO EN TANQUES DE AGUA"},{"$f":"IF(ISTEXT(B135), VLOOKUP(B135, PRESUPUESTO!$B$14:$J$4207, 9, FALSE),\"\")","v":0},null,0,null,0,null,0,null,0,null,0,null,0,null,0,null,0,null,0,null,0,null,0,null,0,null,0,null,0,null,0,null,0,null,0,null,0,null,0,null,0,null,0,null,0,null,0,null,0,null,0,null,0,null,0,null,0,null,0,null,0,null,0,null,0,null,0,null,0,null,0,null,0,null,0,0]
[null,{"$f":"+PRESUPUESTO!B155","v":"AHD001"},{"$f":"IF(B136=0, \"\",VLOOKUP(B136,PRESUPUESTO!$B$17:$C$4607, 2, FALSE))","v":"AZOTADA Y GRUESA MUROS EXT."},{"$f":"IF(ISTEXT(B136), VLOOKUP(B136, PRESUPUESTO!$B$14:$J$4207, 9, FALSE),\"\")","v":0},null,0,null,0,null,0,null,0,null,0,null,0,null,0,null,0,null,0,null,0,null,0,null,0,null,0,null,0,null,0,null,0,null,0,null,0,null,0,null,0,null,0,null,0,null,0,null,0,null,0,null,0,null,0,null,0,null,0,null,0,null,0,null,0,null,0,null,0,null,0,null,0,null,0,0]
[null,{"$f":"+PRESUPUESTO!B156","v":"AHD002"},{"$f":"IF(B137=0, \"\",VLOOKUP(B137,PRESUPUESTO!$B$17:$C$4607, 2, FALSE))","v":"FINA MUROS EXT."},{"$f":"IF(ISTEXT(B137), VLOOKUP(B137, PRESUPUESTO!$B$14:$J$4207, 9, FALSE),\"\")","v":0},null,0,null,0,null,0,null,0,null,0,null,0,null,0,null,0,null,0,null,0,null,0,null,0,null,0,null,0,null,0,null,0,null,0,null,0,null,0,null,0,null,0,null,0,null,0,null,0,null,0,null,0,null,0,null,0,null,0,null,0,null,0,null,0,null,0,null,0,null,0,null,0,null,0,0]
[null,{"$f":"+PRESUPUESTO!B157","v":"AHD003"},{"$f":"IF(B138=0, \"\",VLOOKUP(B138,PRESUPUESTO!$B$17:$C$4607, 2, FALSE))","v":"BALAI COMÚN MUROS EXT."},{"$f":"IF(ISTEXT(B138), VLOOKUP(B138, PRESUPUESTO!$B$14:$J$4207, 9, FALSE),\"\")","v":0},null,0,null,0,null,0,null,0,null,0,null,0,null,0,null,0,null,0,null,0,null,0,null,0,null,0,null,0,null,0,null,0,null,0,null,0,null,0,null,0,null,0,null,0,null,0,null,0,null,0,null,0,null,0,null,0,null,0,null,0,null,0,null,0,null,0,null,0,null,0,null,0,null,0,0]
[null,{"$f":"+PRESUPUESTO!B158","v":"AHD004"},{"$f":"IF(B139=0, \"\",VLOOKUP(B139,PRESUPUESTO!$B$17:$C$4607, 2, FALSE))","v":"BALAI FRETAZADO MUROS EXT."},{"$f":"IF(ISTEXT(B139), VLOOKUP(B139, PRESUPUESTO!$B$14:$J$4207, 9, FALSE),\"\")","v":0},null,0,null,0,null,0,null,0,null,0,null,0,null,0,null,0,null,0,null,0,null,0,null,0,null,0,null,0,null,0,null,0,null,0,null,0,null,0,null,0,null,0,null,0,null,0,null,0,null,0,null,0,null,0,null,0,null,0,null,0,null,0,null,0,null,0,null,0,null,0,null,0,null,0,0]
[null,{"$f":"+PRESUPUESTO!B159","v":"AHD005"},{"$f":"IF(B140=0, \"\",VLOOKUP(B140,PRESUPUESTO!$B$17:$C$4607, 2, FALSE))","v":"REVOQUE BOLSEADO MUROS EXT."},{"$f":"IF(ISTEXT(B140), VLOOKUP(B140, PRESUPUESTO!$B$14:$J$4207, 9, FALSE),\"\")","v":0},null,0,null,0,null,0,null,0,null,0,null,0,null,0,null,0,null,0,null,0,null,0,null,0,null,0,null,0,null,0,null,0,null,0,null,0,null,0,null,0,null,0,null,0,null,0,null,0,null,0,null,0,null,0,null,0,null,0,null,0,null,0,null,0,null,0,null,0,null,0,null,0,null,0,0]
[null,{"$f":"+PRESUPUESTO!B160","v":"AHD006"},{"$f":"IF(B141=0, \"\",VLOOKUP(B141,PRESUPUESTO!$B$17:$C$4607, 2, FALSE))","v":"MOCHETAS (EXTERIORES)"},{"$f":"IF(ISTEXT(B141), VLOOKUP(B141, PRESUPUESTO!$B$14:$J$4207, 9, FALSE),\"\")","v":0},null,0,null,0,null,0,null,0,null,0,null,0,null,0,null,0,null,0,null,0,null,0,null,0,null,0,null,0,null,0,null,0,null,0,null,0,null,0,null,0,null,0,null,0,null,0,null,0,null,0,null,0,null,0,null,0,null,0,null,0,null,0,null,0,null,0,null,0,null,0,null,0,null,0,0]
[null,{"$f":"+PRESUPUESTO!B162","v":"AHE001"},{"$f":"IF(B142=0, \"\",VLOOKUP(B142,PRESUPUESTO!$B$17:$C$4607, 2, FALSE))","v":"APLACADO DE LADRILLO DE CAMPO"},{"$f":"IF(ISTEXT(B142), VLOOKUP(B142, PRESUPUESTO!$B$14:$J$4207, 9, FALSE),\"\")","v":0},null,0,null,0,null,0,null,0,null,0,null,0,null,0,null,0,null,0,null,0,null,0,null,0,null,0,null,0,null,0,null,0,null,0,null,0,null,0,null,0,null,0,null,0,null,0,null,0,null,0,null,0,null,0,null,0,null,0,null,0,null,0,null,0,null,0,null,0,null,0,null,0,null,0,0]
[null,{"$f":"+PRESUPUESTO!B163","v":"AHE002"},{"$f":"IF(B143=0, \"\",VLOOKUP(B143,PRESUPUESTO!$B$17:$C$4607, 2, FALSE))","v":"APLACADO DE LADRILLO DE PRENSA"},{"$f":"IF(ISTEXT(B143), VLOOKUP(B143, PRESUPUESTO!$B$14:$J$4207, 9, FALSE),\"\")","v":0},null,0,null,0,null,0,null,0,null,0,null,0,null,0,null,0,null,0,null,0,null,0,null,0,null,0,null,0,null,0,null,0,null,0,null,0,null,0,null,0,null,0,null,0,null,0,null,0,null,0,null,0,null,0,null,0,null,0,null,0,null,0,null,0,null,0,null,0,null,0,null,0,null,0,0]
[null,{"$f":"+PRESUPUESTO!B164","v":"AHE003"},{"$f":"IF(B144=0, \"\",VLOOKUP(B144,PRESUPUESTO!$B$17:$C$4607, 2, FALSE))","v":"APLACADO LADRILLO CHORIZO (CAMPO/PRENSA)"},{"$f":"IF(ISTEXT(B144), VLOOKUP(B144, PRESUPUESTO!$B$14:$J$4207, 9, FALSE),\"\")","v":0},null,0,null,0,null,0,null,0,null,0,null,0,null,0,null,0,null,0,null,0,null,0,null,0,null,0,null,0,null,0,null,0,null,0,null,0,null,0,null,0,null,0,null,0,null,0,null,0,null,0,null,0,null,0,null,0,null,0,null,0,null,0,null,0,null,0,null,0,null,0,null,0,null,0,0]
[null,{"$f":"+PRESUPUESTO!B165","v":"AHE011"},{"$f":"IF(B145=0, \"\",VLOOKUP(B145,PRESUPUESTO!$B$17:$C$4607, 2, FALSE))","v":"REVEST.EXT. PIEZAS CERÁMICAS"},{"$f":"IF(ISTEXT(B145), VLOOKUP(B145, PRESUPUESTO!$B$14:$J$4207, 9, FALSE),\"\")","v":0},null,{"$f":"IF($D145=\"\",\"\",$D145*E145)","v":0},null,{"$f":"IF($D145=\"\",\"\",$D145*G145)","v":0},null,{"$f":"IF($D145=\"\",\"\",$D145*I145)","v":0},null,{"$f":"IF($D145=\"\",\"\",$D145*K145)","v":0},null,{"$f":"IF($D145=\"\",\"\",$D145*M145)","v":0},null,{"$f":"IF($D145=\"\",\"\",$D145*O145)","v":0},null,{"$f":"IF($D145=\"\",\"\",$D145*Q145)","v":0},null,{"$f":"IF($D145=\"\",\"\",$D145*S145)","v":0},null,{"$f":"IF($D145=\"\",\"\",$D145*U145)","v":0},null,{"$f":"IF($D145=\"\",\"\",$D145*W145)","v":0},null,{"$f":"IF($D145=\"\",\"\",$D145*Y145)","v":0},null,{"$f":"IF($D145=\"\",\"\",$D145*AA145)","v":0},null,{"$f":"IF($D145=\"\",\"\",$D145*AC145)","v":0},null,{"$f":"IF($D145=\"\",\"\",$D145*AE145)","v":0},null,{"$f":"IF($D145=\"\",\"\",$D145*AG145)","v":0},null,{"$f":"IF($D145=\"\",\"\",$D145*AI145)","v":0},null,{"$f":"IF($D145=\"\",\"\",$D145*AK145)","v":0},null,{"$f":"IF($D145=\"\",\"\",$D145*AM145)","v":0},null,{"$f":"IF($D145=\"\",\"\",$D145*AO145)","v":0},null,{"$f":"IF($D145=\"\",\"\",$D145*AQ145)","v":0},null,{"$f":"IF($D145=\"\",\"\",$D145*AS145)","v":0},null,{"$f":"IF($D145=\"\",\"\",$D145*AU145)","v":0},null,{"$f":"IF($D145=\"\",\"\",$D145*AW145)","v":0},null,{"$f":"IF($D145=\"\",\"\",$D145*AY145)","v":0},null,{"$f":"IF($D145=\"\",\"\",$D145*BA145)","v":0},null,{"$f":"IF($D145=\"\",\"\",$D145*BC145)","v":0},null,{"$f":"IF($D145=\"\",\"\",$D145*BE145)","v":0},null,{"$f":"IF($D145=\"\",\"\",$D145*BG145)","v":0},null,{"$f":"IF($D145=\"\",\"\",$D145*BI145)","v":0},null,{"$f":"IF($D145=\"\",\"\",$D145*BK145)","v":0},null,{"$f":"IF($D145=\"\",\"\",$D145*BM145)","v":0},null,{"$f":"IF($D145=\"\",\"\",$D145*BO145)","v":0},null,{"$f":"IF($D145=\"\",\"\",$D145*BQ145)","v":0},null,{"$f":"IF($D145=\"\",\"\",$D145*BS145)","v":0},null,{"$f":"IF($D145=\"\",\"\",$D145*BU145)","v":0},null,{"$f":"IF($D145=\"\",\"\",$D145*BW145)","v":0},null,{"$f":"+E145+G145+I145+K145+M145+O145+Q145+S145+U145+W145+Y145+AA145+AC145+AE145+AG145+AI145+AK145+AM145+AO145+AQ145+AS145+AU145+AW145+AY145+BA145+BC145+BE145+BG145+BI145+BK145+BM145+BO145+BQ145+BS145+BU145+BW145","v":0},{"$f":"IF(D145=\"\",\"\",ROUND(F145+H145+J145+L145+N145+P145+R145+T145+V145+X145+Z145+AB145+AD145+AF145+AH145+AJ145+AL145+AN145+AP145+AR145+AT145+AV145+AX145+AZ145+BB145+BD145+BF145+BH145+BJ145+BL145+BN145+BP145+BR145+BT145+BV145+BX145,2))","v":0}]
[null,{"$f":"+PRESUPUESTO!B167","v":"AHE008"},{"$f":"IF(B146=0, \"\",VLOOKUP(B146,PRESUPUESTO!$B$17:$C$4607, 2, FALSE))","v":"ANTEPECHOS AYP"},{"$f":"IF(ISTEXT(B146), VLOOKUP(B146, PRESUPUESTO!$B$14:$J$4207, 9, FALSE),\"\")","v":0},null,0,null,0,null,0,null,0,null,0,null,0,null,0,null,0,null,0,null,0,null,0,null,0,null,0,null,0,null,0,null,0,null,0,null,0,null,0,null,0,null,0,null,0,null,0,null,0,null,0,null,0,null,0,null,0,null,0,null,0,null,0,null,0,null,0,null,0,null,0,null,0,null,0,0]
[null,{"$f":"+PRESUPUESTO!B168","v":"AHE013"},{"$f":"IF(B147=0, \"\",VLOOKUP(B147,PRESUPUESTO!$B$17:$C$4607, 2, FALSE))","v":"ANTEPECHOS CERAMICA"},{"$f":"IF(ISTEXT(B147), VLOOKUP(B147, PRESUPUESTO!$B$14:$J$4207, 9, FALSE),\"\")","v":0},null,0,null,0,null,0,null,0,null,0,null,0,null,0,null,0,null,0,null,0,null,0,null,0,null,0,null,0,null,0,null,0,null,0,null,0,null,0,null,0,null,0,null,0,null,0,null,0,null,0,null,0,null,0,null,0,null,0,null,0,null,0,null,0,null,0,null,0,null,0,null,0,null,0,0]
[null,{"$f":"+PRESUPUESTO!B170","v":"AHF003"},{"$f":"IF(B148=0, \"\",VLOOKUP(B148,PRESUPUESTO!$B$17:$C$4607, 2, FALSE))","v":"CERÁMICA ESMALTADA BAÑOS/COCINAS"},{"$f":"IF(ISTEXT(B148), VLOOKUP(B148, PRESUPUESTO!$B$14:$J$4207, 9, FALSE),\"\")","v":0},null,0,null,0,null,0,null,0,null,0,null,0,null,0,null,0,null,0,null,0,null,0,null,0,null,0,null,0,null,0,null,0,null,0,null,0,null,0,null,0,null,0,null,0,null,0,null,0,null,0,null,0,null,0,null,0,null,0,null,0,null,0,null,0,null,0,null,0,null,0,null,0,null,0,0]
[null,{"$f":"+PRESUPUESTO!B171","v":"AHF004"},{"$f":"IF(B149=0, \"\",VLOOKUP(B149,PRESUPUESTO!$B$17:$C$4607, 2, FALSE))","v":"PORCELANATO BAÑOS/COCINAS"},{"$f":"IF(ISTEXT(B149), VLOOKUP(B149, PRESUPUESTO!$B$14:$J$4207, 9, FALSE),\"\")","v":0},null,0,null,0,null,0,null,0,null,0,null,0,null,0,null,0,null,0,null,0,null,0,null,0,null,0,null,0,null,0,null,0,null,0,null,0,null,0,null,0,null,0,null,0,null,0,null,0,null,0,null,0,null,0,null,0,null,0,null,0,null,0,null,0,null,0,null,0,null,0,null,0,null,0,0]
[null,{"$f":"+PRESUPUESTO!B173","v":"AHA008"},{"$f":"IF(B150=0, \"\",VLOOKUP(B150,PRESUPUESTO!$B$17:$C$4607, 2, FALSE))","v":"YESO (CIELORRASOS)"},{"$f":"IF(ISTEXT(B150), VLOOKUP(B150, PRESUPUESTO!$B$14:$J$4207, 9, FALSE),\"\")","v":0},null,0,null,0,null,0,null,0,null,0,null,0,null,0,null,0,null,0,null,0,null,0,null,0,null,0,null,0,null,0,null,0,null,0,null,0,null,0,null,0,null,0,null,0,null,0,null,0,null,0,null,0,null,0,null,0,null,0,null,0,null,0,null,0,null,0,null,0,null,0,null,0,null,0,0]
[null,{"$f":"+PRESUPUESTO!B174","v":"AHH001"},{"$f":"IF(B151=0, \"\",VLOOKUP(B151,PRESUPUESTO!$B$17:$C$4607, 2, FALSE))","v":"PLACAS ESPUMA POLIESTIRENO (CIELORRASOS)"},{"$f":"IF(ISTEXT(B151), VLOOKUP(B151, PRESUPUESTO!$B$14:$J$4207, 9, FALSE),\"\")","v":0},null,0,null,0,null,0,null,0,null,0,null,0,null,0,null,0,null,0,null,0,null,0,null,0,null,0,null,0,null,0,null,0,null,0,null,0,null,0,null,0,null,0,null,0,null,0,null,0,null,0,null,0,null,0,null,0,null,0,null,0,null,0,null,0,null,0,null,0,null,0,null,0,null,0,0]
[null,{"$f":"+PRESUPUESTO!B175","v":"AHH002"},{"$f":"IF(B152=0, \"\",VLOOKUP(B152,PRESUPUESTO!$B$17:$C$4607, 2, FALSE))","v":"MADERA (CIELORRASOS)"},{"$f":"IF(ISTEXT(B152), VLOOKUP(B152, PRESUPUESTO!$B$14:$J$4207, 9, FALSE),\"\")","v":0},null,0,null,0,null,0,null,0,null,0,null,0,null,0,null,0,null,0,null,0,null,0,null,0,null,0,null,0,null,0,null,0,null,0,null,0,null,0,null,0,null,0,null,0,null,0,null,0,null,0,null,0,null,0,null,0,null,0,null,0,null,0,null,0,null,0,null,0,null,0,null,0,null,0,0]
[null,{"$f":"+PRESUPUESTO!B176","v":"AHH003"},{"$f":"IF(B153=0, \"\",VLOOKUP(B153,PRESUPUESTO!$B$17:$C$4607, 2, FALSE))","v":"PLACAS YESO (CIELORRASOS)"},{"$f":"IF(ISTEXT(B153), VLOOKUP(B153, PRESUPUESTO!$B$14:$J$4207, 9, FALSE),\"\")","v":0},null,0,null,0,null,0,null,0,null,0,null,0,null,0,null,0,null,0,null,0,null,0,null,0,null,0,null,0,null,0,null,0,null,0,null,0,null,0,null,0,null,0,null,0,null,0,null,0,null,0,null,0,null,0,null,0,null,0,null,0,null,0,null,0,null,0,null,0,null,0,null,0,null,0,0]
[null,{"$f":"+PRESUPUESTO!B178","v":"AIA001"},{"$f":"IF(B154=0, \"\",VLOOKUP(B154,PRESUPUESTO!$B$17:$C$4607, 2, FALSE))","v":"CONTRAPISO INTERIOR COMÚN SOBRE TERRENO"},{"$f":"IF(ISTEXT(B154), VLOOKUP(B154, PRESUPUESTO!$B$14:$J$4207, 9, FALSE),\"\")","v":0},null,0,null,0,null,0,null,0,null,0,null,0,null,0,null,0,null,0,null,0,null,0,null,0,null,0,null,0,null,0,null,0,null,0,null,0,null,0,null,0,null,0,null,0,null,0,null,0,null,0,null,0,null,0,null,0,null,0,null,0,null,0,null,0,null,0,null,0,null,0,null,0,null,0,0]
[null,{"$f":"+PRESUPUESTO!B179","v":"AIA002"},{"$f":"IF(B155=0, \"\",VLOOKUP(B155,PRESUPUESTO!$B$17:$C$4607, 2, FALSE))","v":"CONTRAPISO INTERIOR ARMADO SOBRE TERRENO"},{"$f":"IF(ISTEXT(B155), VLOOKUP(B155, PRESUPUESTO!$B$14:$J$4207, 9, FALSE),\"\")","v":0},null,0,null,0,null,0,null,0,null,0,null,0,null,0,null,0,null,0,null,0,null,0,null,0,null,0,null,0,null,0,null,0,null,0,null,0,null,0,null,0,null,0,null,0,null,0,null,0,null,0,null,0,null,0,null,0,null,0,null,0,null,0,null,0,null,0,null,0,null,0,null,0,null,0,0]
[null,{"$f":"+PRESUPUESTO!B180","v":"AIA003"},{"$f":"IF(B156=0, \"\",VLOOKUP(B156,PRESUPUESTO!$B$17:$C$4607, 2, FALSE))","v":"CONTRAPISO EXTERIOR COMÚN SOBRE TERRENO"},{"$f":"IF(ISTEXT(B156), VLOOKUP(B156, PRESUPUESTO!$B$14:$J$4207, 9, FALSE),\"\")","v":0},null,0,null,0,null,0,null,0,null,0,null,0,null,0,null,0,null,0,null,0,null,0,null,0,null,0,null,0,null,0,null,0,null,0,null,0,null,0,null,0,null,0,null,0,null,0,null,0,null,0,null,0,null,0,null,0,null,0,null,0,null,0,null,0,null,0,null,0,null,0,null,0,null,0,0]
[null,{"$f":"+PRESUPUESTO!B181","v":"AIA004"},{"$f":"IF(B157=0, \"\",VLOOKUP(B157,PRESUPUESTO!$B$17:$C$4607, 2, FALSE))","v":"CONTRAPISO EXTERIOR ARMADO SOBRE TERRENO"},{"$f":"IF(ISTEXT(B157), VLOOKUP(B157, PRESUPUESTO!$B$14:$J$4207, 9, FALSE),\"\")","v":0},null,0,null,0,null,0,null,0,null,0,null,0,null,0,null,0,null,0,null,0,null,0,null,0,null,0,null,0,null,0,null,0,null,0,null,0,null,0,null,0,null,0,null,0,null,0,null,0,null,0,null,0,null,0,null,0,null,0,null,0,null,0,null,0,null,0,null,0,null,0,null,0,null,0,0]
[null,{"$f":"+PRESUPUESTO!B182","v":"AIA005"},{"$f":"IF(B158=0, \"\",VLOOKUP(B158,PRESUPUESTO!$B$17:$C$4607, 2, FALSE))","v":"CONTRAPISO INTERIOR EN ENTREPISOS"},{"$f":"IF(ISTEXT(B158), VLOOKUP(B158, PRESUPUESTO!$B$14:$J$4207, 9, FALSE),\"\")","v":0},null,0,null,0,null,0,null,0,null,0,null,0,null,0,null,0,null,0,null,0,null,0,null,0,null,0,null,0,null,0,null,0,null,0,null,0,null,0,null,0,null,0,null,0,null,0,null,0,null,0,null,0,null,0,null,0,null,0,null,0,null,0,null,0,null,0,null,0,null,0,null,0,null,0,0]
[null,{"$f":"+PRESUPUESTO!B183","v":"AIA006"},{"$f":"IF(B159=0, \"\",VLOOKUP(B159,PRESUPUESTO!$B$17:$C$4607, 2, FALSE))","v":"CONTRAPISO EN BAÑOS"},{"$f":"IF(ISTEXT(B159), VLOOKUP(B159, PRESUPUESTO!$B$14:$J$4207, 9, FALSE),\"\")","v":0},null,0,null,0,null,0,null,0,null,0,null,0,null,0,null,0,null,0,null,0,null,0,null,0,null,0,null,0,null,0,null,0,null,0,null,0,null,0,null,0,null,0,null,0,null,0,null,0,null,0,null,0,null,0,null,0,null,0,null,0,null,0,null,0,null,0,null,0,null,0,null,0,null,0,0]
[null,{"$f":"+PRESUPUESTO!B185","v":"AIB001"},{"$f":"IF(B160=0, \"\",VLOOKUP(B160,PRESUPUESTO!$B$17:$C$4607, 2, FALSE))","v":"ARENA Y PORTLAND LUSTRADO IN SITU (PISOS)"},{"$f":"IF(ISTEXT(B160), VLOOKUP(B160, PRESUPUESTO!$B$14:$J$4207, 9, FALSE),\"\")","v":0},null,0,null,0,null,0,null,0,null,0,null,0,null,0,null,0,null,0,null,0,null,0,null,0,null,0,null,0,null,0,null,0,null,0,null,0,null,0,null,0,null,0,null,0,null,0,null,0,null,0,null,0,null,0,null,0,null,0,null,0,null,0,null,0,null,0,null,0,null,0,null,0,null,0,0]
[null,{"$f":"+PRESUPUESTO!B186","v":"AIB002"},{"$f":"IF(B161=0, \"\",VLOOKUP(B161,PRESUPUESTO!$B$17:$C$4607, 2, FALSE))","v":"ADOQUINES HORMIGÓN (PISOS)"},{"$f":"IF(ISTEXT(B161), VLOOKUP(B161, PRESUPUESTO!$B$14:$J$4207, 9, FALSE),\"\")","v":0},null,0,null,0,null,0,null,0,null,0,null,0,null,0,null,0,null,0,null,0,null,0,null,0,null,0,null,0,null,0,null,0,null,0,null,0,null,0,null,0,null,0,null,0,null,0,null,0,null,0,null,0,null,0,null,0,null,0,null,0,null,0,null,0,null,0,null,0,null,0,null,0,null,0,0]
[null,{"$f":"+PRESUPUESTO!B187","v":"AIB003"},{"$f":"IF(B162=0, \"\",VLOOKUP(B162,PRESUPUESTO!$B$17:$C$4607, 2, FALSE))","v":"HORMIGÓN FRETAZADO (PISOS)"},{"$f":"IF(ISTEXT(B162), VLOOKUP(B162, PRESUPUESTO!$B$14:$J$4207, 9, FALSE),\"\")","v":0},null,0,null,0,null,0,null,0,null,0,null,0,null,0,null,0,null,0,null,0,null,0,null,0,null,0,null,0,null,0,null,0,null,0,null,0,null,0,null,0,null,0,null,0,null,0,null,0,null,0,null,0,null,0,null,0,null,0,null,0,null,0,null,0,null,0,null,0,null,0,null,0,null,0,0]
[null,{"$f":"+PRESUPUESTO!B188","v":"AIB004"},{"$f":"IF(B163=0, \"\",VLOOKUP(B163,PRESUPUESTO!$B$17:$C$4607, 2, FALSE))","v":"BALDOSA DE VEREDA (20*20)"},{"$f":"IF(ISTEXT(B163), VLOOKUP(B163, PRESUPUESTO!$B$14:$J$4207, 9, FALSE),\"\")","v":0},null,0,null,0,null,0,null,0,null,0,null,0,null,0,null,0,null,0,null,0,null,0,null,0,null,0,null,0,null,0,null,0,null,0,null,0,null,0,null,0,null,0,null,0,null,0,null,0,null,0,null,0,null,0,null,0,null,0,null,0,null,0,null,0,null,0,null,0,null,0,null,0,null,0,0]
[null,{"$f":"+PRESUPUESTO!B189","v":"AIB005"},{"$f":"IF(B164=0, \"\",VLOOKUP(B164,PRESUPUESTO!$B$17:$C$4607, 2, FALSE))","v":"BALDOSA CALCÁREA"},{"$f":"IF(ISTEXT(B164), VLOOKUP(B164, PRESUPUESTO!$B$14:$J$4207, 9, FALSE),\"\")","v":0},null,0,null,0,null,0,null,0,null,0,null,0,null,0,null,0,null,0,null,0,null,0,null,0,null,0,null,0,null,0,null,0,null,0,null,0,null,0,null,0,null,0,null,0,null,0,null,0,null,0,null,0,null,0,null,0,null,0,null,0,null,0,null,0,null,0,null,0,null,0,null,0,null,0,0]
[null,{"$f":"+PRESUPUESTO!B190","v":"AIB006"},{"$f":"IF(B165=0, \"\",VLOOKUP(B165,PRESUPUESTO!$B$17:$C$4607, 2, FALSE))","v":"HORMIGON C JUNTAS LADRILLO (PISOS)"},{"$f":"IF(ISTEXT(B165), VLOOKUP(B165, PRESUPUESTO!$B$14:$J$4207, 9, FALSE),\"\")","v":0},null,0,null,0,null,0,null,0,null,0,null,0,null,0,null,0,null,0,null,0,null,0,null,0,null,0,null,0,null,0,null,0,null,0,null,0,null,0,null,0,null,0,null,0,null,0,null,0,null,0,null,0,null,0,null,0,null,0,null,0,null,0,null,0,null,0,null,0,null,0,null,0,null,0,0]
[null,{"$f":"+PRESUPUESTO!B191","v":"AIB007"},{"$f":"IF(B166=0, \"\",VLOOKUP(B166,PRESUPUESTO!$B$17:$C$4607, 2, FALSE))","v":"ALISADO DE ARENA Y PORTLAND (PISOS)"},{"$f":"IF(ISTEXT(B166), VLOOKUP(B166, PRESUPUESTO!$B$14:$J$4207, 9, FALSE),\"\")","v":0},null,0,null,0,null,0,null,0,null,0,null,0,null,0,null,0,null,0,null,0,null,0,null,0,null,0,null,0,null,0,null,0,null,0,null,0,null,0,null,0,null,0,null,0,null,0,null,0,null,0,null,0,null,0,null,0,null,0,null,0,null,0,null,0,null,0,null,0,null,0,null,0,null,0,0]
[null,{"$f":"+PRESUPUESTO!B192","v":"AIC001"},{"$f":"IF(B167=0, \"\",VLOOKUP(B167,PRESUPUESTO!$B$17:$C$4607, 2, FALSE))","v":"BALDOSA MONOLITICA 20*20 PULIDA EN FÁBRICA"},{"$f":"IF(ISTEXT(B167), VLOOKUP(B167, PRESUPUESTO!$B$14:$J$4207, 9, FALSE),\"\")","v":0},null,0,null,0,null,0,null,0,null,0,null,0,null,0,null,0,null,0,null,0,null,0,null,0,null,0,null,0,null,0,null,0,null,0,null,0,null,0,null,0,null,0,null,0,null,0,null,0,null,0,null,0,null,0,null,0,null,0,null,0,null,0,null,0,null,0,null,0,null,0,null,0,null,0,0]
[null,{"$f":"+PRESUPUESTO!B193","v":"AID001"},{"$f":"IF(B168=0, \"\",VLOOKUP(B168,PRESUPUESTO!$B$17:$C$4607, 2, FALSE))","v":"PARQUÉ ENGRAMPADO"},{"$f":"IF(ISTEXT(B168), VLOOKUP(B168, PRESUPUESTO!$B$14:$J$4207, 9, FALSE),\"\")","v":0},null,0,null,0,null,0,null,0,null,0,null,0,null,0,null,0,null,0,null,0,null,0,null,0,null,0,null,0,null,0,null,0,null,0,null,0,null,0,null,0,null,0,null,0,null,0,null,0,null,0,null,0,null,0,null,0,null,0,null,0,null,0,null,0,null,0,null,0,null,0,null,0,null,0,0]
[null,{"$f":"+PRESUPUESTO!B194","v":"AID002"},{"$f":"IF(B169=0, \"\",VLOOKUP(B169,PRESUPUESTO!$B$17:$C$4607, 2, FALSE))","v":"PARQUÉ PEGADO"},{"$f":"IF(ISTEXT(B169), VLOOKUP(B169, PRESUPUESTO!$B$14:$J$4207, 9, FALSE),\"\")","v":0},null,0,null,0,null,0,null,0,null,0,null,0,null,0,null,0,null,0,null,0,null,0,null,0,null,0,null,0,null,0,null,0,null,0,null,0,null,0,null,0,null,0,null,0,null,0,null,0,null,0,null,0,null,0,null,0,null,0,null,0,null,0,null,0,null,0,null,0,null,0,null,0,null,0,0]
[null,{"$f":"+PRESUPUESTO!B195","v":"AID003"},{"$f":"IF(B170=0, \"\",VLOOKUP(B170,PRESUPUESTO!$B$17:$C$4607, 2, FALSE))","v":"PISO FLOTANTE"},{"$f":"IF(ISTEXT(B170), VLOOKUP(B170, PRESUPUESTO!$B$14:$J$4207, 9, FALSE),\"\")","v":0},null,0,null,0,null,0,null,0,null,0,null,0,null,0,null,0,null,0,null,0,null,0,null,0,null,0,null,0,null,0,null,0,null,0,null,0,null,0,null,0,null,0,null,0,null,0,null,0,null,0,null,0,null,0,null,0,null,0,null,0,null,0,null,0,null,0,null,0,null,0,null,0,null,0,0]
[null,{"$f":"+PRESUPUESTO!B196","v":"AID004"},{"$f":"IF(B171=0, \"\",VLOOKUP(B171,PRESUPUESTO!$B$17:$C$4607, 2, FALSE))","v":"TABLA (PISOS)"},{"$f":"IF(ISTEXT(B171), VLOOKUP(B171, PRESUPUESTO!$B$14:$J$4207, 9, FALSE),\"\")","v":0},null,0,null,0,null,0,null,0,null,0,null,0,null,0,null,0,null,0,null,0,null,0,null,0,null,0,null,0,null,0,null,0,null,0,null,0,null,0,null,0,null,0,null,0,null,0,null,0,null,0,null,0,null,0,null,0,null,0,null,0,null,0,null,0,null,0,null,0,null,0,null,0,null,0,0]
[null,{"$f":"+PRESUPUESTO!B197","v":"AIE001"},{"$f":"IF(B172=0, \"\",VLOOKUP(B172,PRESUPUESTO!$B$17:$C$4607, 2, FALSE))","v":"CERÁMICA ESMALTADA (PISOS)"},{"$f":"IF(ISTEXT(B172), VLOOKUP(B172, PRESUPUESTO!$B$14:$J$4207, 9, FALSE),\"\")","v":0},null,0,null,0,null,0,null,0,null,0,null,0,null,0,null,0,null,0,null,0,null,0,null,0,null,0,null,0,null,0,null,0,null,0,null,0,null,0,null,0,null,0,null,0,null,0,null,0,null,0,null,0,null,0,null,0,null,0,null,0,null,0,null,0,null,0,null,0,null,0,null,0,null,0,0]
[null,{"$f":"+PRESUPUESTO!B198","v":"AIE004"},{"$f":"IF(B173=0, \"\",VLOOKUP(B173,PRESUPUESTO!$B$17:$C$4607, 2, FALSE))","v":"LAYOTA COMÚN (PISOS)"},{"$f":"IF(ISTEXT(B173), VLOOKUP(B173, PRESUPUESTO!$B$14:$J$4207, 9, FALSE),\"\")","v":0},null,0,null,0,null,0,null,0,null,0,null,0,null,0,null,0,null,0,null,0,null,0,null,0,null,0,null,0,null,0,null,0,null,0,null,0,null,0,null,0,null,0,null,0,null,0,null,0,null,0,null,0,null,0,null,0,null,0,null,0,null,0,null,0,null,0,null,0,null,0,null,0,null,0,0]
[null,{"$f":"+PRESUPUESTO!B199","v":"AIE005"},{"$f":"IF(B174=0, \"\",VLOOKUP(B174,PRESUPUESTO!$B$17:$C$4607, 2, FALSE))","v":"LAYOTA ESMALTADA (PISOS)"},{"$f":"IF(ISTEXT(B174), VLOOKUP(B174, PRESUPUESTO!$B$14:$J$4207, 9, FALSE),\"\")","v":0},null,0,null,0,null,0,null,0,null,0,null,0,null,0,null,0,null,0,null,0,null,0,null,0,null,0,null,0,null,0,null,0,null,0,null,0,null,0,null,0,null,0,null,0,null,0,null,0,null,0,null,0,null,0,null,0,null,0,null,0,null,0,null,0,null,0,null,0,null,0,null,0,null,0,0]
[null,{"$f":"+PRESUPUESTO!B200","v":"AIE006"},{"$f":"IF(B175=0, \"\",VLOOKUP(B175,PRESUPUESTO!$B$17:$C$4607, 2, FALSE))","v":"LADRILLO, TEJUELA (PISOS)"},{"$f":"IF(ISTEXT(B175), VLOOKUP(B175, PRESUPUESTO!$B$14:$J$4207, 9, FALSE),\"\")","v":0},null,0,null,0,null,0,null,0,null,0,null,0,null,0,null,0,null,0,null,0,null,0,null,0,null,0,null,0,null,0,null,0,null,0,null,0,null,0,null,0,null,0,null,0,null,0,null,0,null,0,null,0,null,0,null,0,null,0,null,0,null,0,null,0,null,0,null,0,null,0,null,0,null,0,0]
[null,{"$f":"+PRESUPUESTO!B201","v":"AIE007"},{"$f":"IF(B176=0, \"\",VLOOKUP(B176,PRESUPUESTO!$B$17:$C$4607, 2, FALSE))","v":"PAVIMIENTO CERAMICA G3 y G4"},{"$f":"IF(ISTEXT(B176), VLOOKUP(B176, PRESUPUESTO!$B$14:$J$4207, 9, FALSE),\"\")","v":0},null,0,null,0,null,0,null,0,null,0,null,0,null,0,null,0,null,0,null,0,null,0,null,0,null,0,null,0,null,0,null,0,null,0,null,0,null,0,null,0,null,0,null,0,null,0,null,0,null,0,null,0,null,0,null,0,null,0,null,0,null,0,null,0,null,0,null,0,null,0,null,0,null,0,0]
[null,{"$f":"+PRESUPUESTO!B202","v":"AIF001"},{"$f":"IF(B177=0, \"\",VLOOKUP(B177,PRESUPUESTO!$B$17:$C$4607, 2, FALSE))","v":"PIEDRA LAJA PIEZAS IRREGULARES (PISOS)"},{"$f":"IF(ISTEXT(B177), VLOOKUP(B177, PRESUPUESTO!$B$14:$J$4207, 9, FALSE),\"\")","v":0},null,0,null,0,null,0,null,0,null,0,null,0,null,0,null,0,null,0,null,0,null,0,null,0,null,0,null,0,null,0,null,0,null,0,null,0,null,0,null,0,null,0,null,0,null,0,null,0,null,0,null,0,null,0,null,0,null,0,null,0,null,0,null,0,null,0,null,0,null,0,null,0,null,0,0]
[null,{"$f":"+PRESUPUESTO!B203","v":"AIF002"},{"$f":"IF(B178=0, \"\",VLOOKUP(B178,PRESUPUESTO!$B$17:$C$4607, 2, FALSE))","v":"PIEDRA LAJA PIEZAS RECTAS (PISOS)"},{"$f":"IF(ISTEXT(B178), VLOOKUP(B178, PRESUPUESTO!$B$14:$J$4207, 9, FALSE),\"\")","v":0},null,0,null,0,null,0,null,0,null,0,null,0,null,0,null,0,null,0,null,0,null,0,null,0,null,0,null,0,null,0,null,0,null,0,null,0,null,0,null,0,null,0,null,0,null,0,null,0,null,0,null,0,null,0,null,0,null,0,null,0,null,0,null,0,null,0,null,0,null,0,null,0,null,0,0]
[null,{"$f":"+PRESUPUESTO!B204","v":"AIG001"},{"$f":"IF(B179=0, \"\",VLOOKUP(B179,PRESUPUESTO!$B$17:$C$4607, 2, FALSE))","v":"PORCELANATO (PISOS)"},{"$f":"IF(ISTEXT(B179), VLOOKUP(B179, PRESUPUESTO!$B$14:$J$4207, 9, FALSE),\"\")","v":0},null,0,null,0,null,0,null,0,null,0,null,0,null,0,null,0,null,0,null,0,null,0,null,0,null,0,null,0,null,0,null,0,null,0,null,0,null,0,null,0,null,0,null,0,null,0,null,0,null,0,null,0,null,0,null,0,null,0,null,0,null,0,null,0,null,0,null,0,null,0,null,0,null,0,0]
[null,{"$f":"+PRESUPUESTO!B206","v":"AIH001"},{"$f":"IF(B180=0, \"\",VLOOKUP(B180,PRESUPUESTO!$B$17:$C$4607, 2, FALSE))","v":"ARENA Y PORTLAND LUSTRADO (ESCALONES)"},{"$f":"IF(ISTEXT(B180), VLOOKUP(B180, PRESUPUESTO!$B$14:$J$4207, 9, FALSE),\"\")","v":0},null,0,null,0,null,0,null,0,null,0,null,0,null,0,null,0,null,0,null,0,null,0,null,0,null,0,null,0,null,0,null,0,null,0,null,0,null,0,null,0,null,0,null,0,null,0,null,0,null,0,null,0,null,0,null,0,null,0,null,0,null,0,null,0,null,0,null,0,null,0,null,0,null,0,0]
[null,{"$f":"+PRESUPUESTO!B207","v":"AIH002"},{"$f":"IF(B181=0, \"\",VLOOKUP(B181,PRESUPUESTO!$B$17:$C$4607, 2, FALSE))","v":"BALDOSA MONOLÍTICA PULIDA (ESCALONES)"},{"$f":"IF(ISTEXT(B181), VLOOKUP(B181, PRESUPUESTO!$B$14:$J$4207, 9, FALSE),\"\")","v":0},null,0,null,0,null,0,null,0,null,0,null,0,null,0,null,0,null,0,null,0,null,0,null,0,null,0,null,0,null,0,null,0,null,0,null,0,null,0,null,0,null,0,null,0,null,0,null,0,null,0,null,0,null,0,null,0,null,0,null,0,null,0,null,0,null,0,null,0,null,0,null,0,null,0,0]
[null,{"$f":"+PRESUPUESTO!B208","v":"AIH006"},{"$f":"IF(B182=0, \"\",VLOOKUP(B182,PRESUPUESTO!$B$17:$C$4607, 2, FALSE))","v":"LAJOTA (ESCALONES)"},{"$f":"IF(ISTEXT(B182), VLOOKUP(B182, PRESUPUESTO!$B$14:$J$4207, 9, FALSE),\"\")","v":0},null,0,null,0,null,0,null,0,null,0,null,0,null,0,null,0,null,0,null,0,null,0,null,0,null,0,null,0,null,0,null,0,null,0,null,0,null,0,null,0,null,0,null,0,null,0,null,0,null,0,null,0,null,0,null,0,null,0,null,0,null,0,null,0,null,0,null,0,null,0,null,0,null,0,0]
[null,{"$f":"+PRESUPUESTO!B209","v":"AIH007"},{"$f":"IF(B183=0, \"\",VLOOKUP(B183,PRESUPUESTO!$B$17:$C$4607, 2, FALSE))","v":"LADRILLO (ESCALONES)"},{"$f":"IF(ISTEXT(B183), VLOOKUP(B183, PRESUPUESTO!$B$14:$J$4207, 9, FALSE),\"\")","v":0},null,0,null,0,null,0,null,0,null,0,null,0,null,0,null,0,null,0,null,0,null,0,null,0,null,0,null,0,null,0,null,0,null,0,null,0,null,0,null,0,null,0,null,0,null,0,null,0,null,0,null,0,null,0,null,0,null,0,null,0,null,0,null,0,null,0,null,0,null,0,null,0,null,0,0]
[null,{"$f":"+PRESUPUESTO!B210","v":"AIH009"},{"$f":"IF(B184=0, \"\",VLOOKUP(B184,PRESUPUESTO!$B$17:$C$4607, 2, FALSE))","v":"CERÁMICA ESMALTADA (ESCALONES)"},{"$f":"IF(ISTEXT(B184), VLOOKUP(B184, PRESUPUESTO!$B$14:$J$4207, 9, FALSE),\"\")","v":0},null,0,null,0,null,0,null,0,null,0,null,0,null,0,null,0,null,0,null,0,null,0,null,0,null,0,null,0,null,0,null,0,null,0,null,0,null,0,null,0,null,0,null,0,null,0,null,0,null,0,null,0,null,0,null,0,null,0,null,0,null,0,null,0,null,0,null,0,null,0,null,0,null,0,0]
[null,{"$f":"+PRESUPUESTO!B211","v":"AIH011"},{"$f":"IF(B185=0, \"\",VLOOKUP(B185,PRESUPUESTO!$B$17:$C$4607, 2, FALSE))","v":"MADERA (ESCALONES)"},{"$f":"IF(ISTEXT(B185), VLOOKUP(B185, PRESUPUESTO!$B$14:$J$4207, 9, FALSE),\"\")","v":0},null,0,null,0,null,0,null,0,null,0,null,0,null,0,null,0,null,0,null,0,null,0,null,0,null,0,null,0,null,0,null,0,null,0,null,0,null,0,null,0,null,0,null,0,null,0,null,0,null,0,null,0,null,0,null,0,null,0,null,0,null,0,null,0,null,0,null,0,null,0,null,0,null,0,0]
[null,{"$f":"+PRESUPUESTO!B212","v":"AIH012"},{"$f":"IF(B186=0, \"\",VLOOKUP(B186,PRESUPUESTO!$B$17:$C$4607, 2, FALSE))","v":"NARIZ MADERA DURA"},{"$f":"IF(ISTEXT(B186), VLOOKUP(B186, PRESUPUESTO!$B$14:$J$4207, 9, FALSE),\"\")","v":0},null,0,null,0,null,0,null,0,null,0,null,0,null,0,null,0,null,0,null,0,null,0,null,0,null,0,null,0,null,0,null,0,null,0,null,0,null,0,null,0,null,0,null,0,null,0,null,0,null,0,null,0,null,0,null,0,null,0,null,0,null,0,null,0,null,0,null,0,null,0,null,0,null,0,0]
[null,{"$f":"+PRESUPUESTO!B213","v":"AIH014"},{"$f":"IF(B187=0, \"\",VLOOKUP(B187,PRESUPUESTO!$B$17:$C$4607, 2, FALSE))","v":"NARIZ HORMIGÓN PREFABRICADO"},{"$f":"IF(ISTEXT(B187), VLOOKUP(B187, PRESUPUESTO!$B$14:$J$4207, 9, FALSE),\"\")","v":0},null,0,null,0,null,0,null,0,null,0,null,0,null,0,null,0,null,0,null,0,null,0,null,0,null,0,null,0,null,0,null,0,null,0,null,0,null,0,null,0,null,0,null,0,null,0,null,0,null,0,null,0,null,0,null,0,null,0,null,0,null,0,null,0,null,0,null,0,null,0,null,0,null,0,0]
[null,{"$f":"+PRESUPUESTO!B214","v":"AIH015"},{"$f":"IF(B188=0, \"\",VLOOKUP(B188,PRESUPUESTO!$B$17:$C$4607, 2, FALSE))","v":"NARIZ HIERRO"},{"$f":"IF(ISTEXT(B188), VLOOKUP(B188, PRESUPUESTO!$B$14:$J$4207, 9, FALSE),\"\")","v":0},null,0,null,0,null,0,null,0,null,0,null,0,null,0,null,0,null,0,null,0,null,0,null,0,null,0,null,0,null,0,null,0,null,0,null,0,null,0,null,0,null,0,null,0,null,0,null,0,null,0,null,0,null,0,null,0,null,0,null,0,null,0,null,0,null,0,null,0,null,0,null,0,null,0,0]
[null,{"$f":"+PRESUPUESTO!B216","v":"AII006"},{"$f":"IF(B189=0, \"\",VLOOKUP(B189,PRESUPUESTO!$B$17:$C$4607, 2, FALSE))","v":"ZÓCALOS CERÁMICA"},{"$f":"IF(ISTEXT(B189), VLOOKUP(B189, PRESUPUESTO!$B$14:$J$4207, 9, FALSE),\"\")","v":0},null,0,null,0,null,0,null,0,null,0,null,0,null,0,null,0,null,0,null,0,null,0,null,0,null,0,null,0,null,0,null,0,null,0,null,0,null,0,null,0,null,0,null,0,null,0,null,0,null,0,null,0,null,0,null,0,null,0,null,0,null,0,null,0,null,0,null,0,null,0,null,0,null,0,0]
[null,{"$f":"+PRESUPUESTO!B217","v":"AII007"},{"$f":"IF(B190=0, \"\",VLOOKUP(B190,PRESUPUESTO!$B$17:$C$4607, 2, FALSE))","v":"ZÓCALOS PORCELANATO"},{"$f":"IF(ISTEXT(B190), VLOOKUP(B190, PRESUPUESTO!$B$14:$J$4207, 9, FALSE),\"\")","v":0},null,0,null,0,null,0,null,0,null,0,null,0,null,0,null,0,null,0,null,0,null,0,null,0,null,0,null,0,null,0,null,0,null,0,null,0,null,0,null,0,null,0,null,0,null,0,null,0,null,0,null,0,null,0,null,0,null,0,null,0,null,0,null,0,null,0,null,0,null,0,null,0,null,0,0]
[null,{"$f":"+PRESUPUESTO!B218","v":"AII008"},{"$f":"IF(B191=0, \"\",VLOOKUP(B191,PRESUPUESTO!$B$17:$C$4607, 2, FALSE))","v":"ZÓCALOS MADERA"},{"$f":"IF(ISTEXT(B191), VLOOKUP(B191, PRESUPUESTO!$B$14:$J$4207, 9, FALSE),\"\")","v":0},null,0,null,0,null,0,null,0,null,0,null,0,null,0,null,0,null,0,null,0,null,0,null,0,null,0,null,0,null,0,null,0,null,0,null,0,null,0,null,0,null,0,null,0,null,0,null,0,null,0,null,0,null,0,null,0,null,0,null,0,null,0,null,0,null,0,null,0,null,0,null,0,null,0,0]
[null,{"$f":"+PRESUPUESTO!B219","v":"AIJ002"},{"$f":"IF(B192=0, \"\",VLOOKUP(B192,PRESUPUESTO!$B$17:$C$4607, 2, FALSE))","v":"ENTREPUERTAS"},{"$f":"IF(ISTEXT(B192), VLOOKUP(B192, PRESUPUESTO!$B$14:$J$4207, 9, FALSE),\"\")","v":0},null,0,null,0,null,0,null,0,null,0,null,0,null,0,null,0,null,0,null,0,null,0,null,0,null,0,null,0,null,0,null,0,null,0,null,0,null,0,null,0,null,0,null,0,null,0,null,0,null,0,null,0,null,0,null,0,null,0,null,0,null,0,null,0,null,0,null,0,null,0,null,0,null,0,0]
[null,{"$f":"+PRESUPUESTO!B221","v":"AJA001"},{"$f":"IF(B193=0, \"\",VLOOKUP(B193,PRESUPUESTO!$B$17:$C$4607, 2, FALSE))","v":"LOSAS HORMIGÓN (MESADAS)"},{"$f":"IF(ISTEXT(B193), VLOOKUP(B193, PRESUPUESTO!$B$14:$J$4207, 9, FALSE),\"\")","v":0},null,0,null,0,null,0,null,0,null,0,null,0,null,0,null,0,null,0,null,0,null,0,null,0,null,0,null,0,null,0,null,0,null,0,null,0,null,0,null,0,null,0,null,0,null,0,null,0,null,0,null,0,null,0,null,0,null,0,null,0,null,0,null,0,null,0,null,0,null,0,null,0,null,0,0]
[null,{"$f":"+PRESUPUESTO!B222","v":"AJA002"},{"$f":"IF(B194=0, \"\",VLOOKUP(B194,PRESUPUESTO!$B$17:$C$4607, 2, FALSE))","v":"MESADAS MÁRMOL O GRANITO"},{"$f":"IF(ISTEXT(B194), VLOOKUP(B194, PRESUPUESTO!$B$14:$J$4207, 9, FALSE),\"\")","v":0},null,0,null,0,null,0,null,0,null,0,null,0,null,0,null,0,null,0,null,0,null,0,null,0,null,0,null,0,null,0,null,0,null,0,null,0,null,0,null,0,null,0,null,0,null,0,null,0,null,0,null,0,null,0,null,0,null,0,null,0,null,0,null,0,null,0,null,0,null,0,null,0,null,0,0]
[null,{"$f":"+PRESUPUESTO!B223","v":"AJA003"},{"$f":"IF(B195=0, \"\",VLOOKUP(B195,PRESUPUESTO!$B$17:$C$4607, 2, FALSE))","v":"MESADAS MONOLÍTICO"},{"$f":"IF(ISTEXT(B195), VLOOKUP(B195, PRESUPUESTO!$B$14:$J$4207, 9, FALSE),\"\")","v":0},null,0,null,0,null,0,null,0,null,0,null,0,null,0,null,0,null,0,null,0,null,0,null,0,null,0,null,0,null,0,null,0,null,0,null,0,null,0,null,0,null,0,null,0,null,0,null,0,null,0,null,0,null,0,null,0,null,0,null,0,null,0,null,0,null,0,null,0,null,0,null,0,null,0,0]
[null,{"$f":"+PRESUPUESTO!B224","v":"AJA004"},{"$f":"IF(B196=0, \"\",VLOOKUP(B196,PRESUPUESTO!$B$17:$C$4607, 2, FALSE))","v":"MESADAS C/ESCALLAS DE MARMOL"},{"$f":"IF(ISTEXT(B196), VLOOKUP(B196, PRESUPUESTO!$B$14:$J$4207, 9, FALSE),\"\")","v":0},null,0,null,0,null,0,null,0,null,0,null,0,null,0,null,0,null,0,null,0,null,0,null,0,null,0,null,0,null,0,null,0,null,0,null,0,null,0,null,0,null,0,null,0,null,0,null,0,null,0,null,0,null,0,null,0,null,0,null,0,null,0,null,0,null,0,null,0,null,0,null,0,null,0,0]
[null,{"$f":"+PRESUPUESTO!B225","v":"AND011"},{"$f":"IF(B197=0, \"\",VLOOKUP(B197,PRESUPUESTO!$B$17:$C$4607, 2, FALSE))","v":"SUMINISTRO DE MESADAS DE COCINA (incluye piletas)"},{"$f":"IF(ISTEXT(B197), VLOOKUP(B197, PRESUPUESTO!$B$14:$J$4207, 9, FALSE),\"\")","v":0},null,0,null,0,null,0,null,0,null,0,null,0,null,0,null,0,null,0,null,0,null,0,null,0,null,0,null,0,null,0,null,0,null,0,null,0,null,0,null,0,null,0,null,0,null,0,null,0,null,0,null,0,null,0,null,0,null,0,null,0,null,0,null,0,null,0,null,0,null,0,null,0,null,0,0]
[null,{"$f":"+PRESUPUESTO!B226","v":"AND012"},{"$f":"IF(B198=0, \"\",VLOOKUP(B198,PRESUPUESTO!$B$17:$C$4607, 2, FALSE))","v":"COLOCACION DE MESADAS DE COCINA"},{"$f":"IF(ISTEXT(B198), VLOOKUP(B198, PRESUPUESTO!$B$14:$J$4207, 9, FALSE),\"\")","v":0},null,0,null,0,null,0,null,0,null,0,null,0,null,0,null,0,null,0,null,0,null,0,null,0,null,0,null,0,null,0,null,0,null,0,null,0,null,0,null,0,null,0,null,0,null,0,null,0,null,0,null,0,null,0,null,0,null,0,null,0,null,0,null,0,null,0,null,0,null,0,null,0,null,0,0]
[null,{"$f":"+PRESUPUESTO!B228","v":"AEF002"},{"$f":"IF(B199=0, \"\",VLOOKUP(B199,PRESUPUESTO!$B$17:$C$4607, 2, FALSE))","v":"JUNTAS DILATACIÓN/TRABAJO EN MUROS"},{"$f":"IF(ISTEXT(B199), VLOOKUP(B199, PRESUPUESTO!$B$14:$J$4207, 9, FALSE),\"\")","v":0},null,0,null,0,null,0,null,0,null,0,null,0,null,0,null,0,null,0,null,0,null,0,null,0,null,0,null,0,null,0,null,0,null,0,null,0,null,0,null,0,null,0,null,0,null,0,null,0,null,0,null,0,null,0,null,0,null,0,null,0,null,0,null,0,null,0,null,0,null,0,null,0,null,0,0]
[null,{"$f":"+PRESUPUESTO!B229","v":"AIJ003"},{"$f":"IF(B200=0, \"\",VLOOKUP(B200,PRESUPUESTO!$B$17:$C$4607, 2, FALSE))","v":"JUNTAS DE TRABAJO/DILATACIÓN EN PB/ENTREPISOS"},{"$f":"IF(ISTEXT(B200), VLOOKUP(B200, PRESUPUESTO!$B$14:$J$4207, 9, FALSE),\"\")","v":0},null,{"$f":"IF($D200=\"\",\"\",$D200*E200)","v":0},null,{"$f":"IF($D200=\"\",\"\",$D200*G200)","v":0},null,{"$f":"IF($D200=\"\",\"\",$D200*I200)","v":0},null,{"$f":"IF($D200=\"\",\"\",$D200*K200)","v":0},null,{"$f":"IF($D200=\"\",\"\",$D200*M200)","v":0},null,{"$f":"IF($D200=\"\",\"\",$D200*O200)","v":0},null,{"$f":"IF($D200=\"\",\"\",$D200*Q200)","v":0},null,{"$f":"IF($D200=\"\",\"\",$D200*S200)","v":0},null,{"$f":"IF($D200=\"\",\"\",$D200*U200)","v":0},null,{"$f":"IF($D200=\"\",\"\",$D200*W200)","v":0},null,{"$f":"IF($D200=\"\",\"\",$D200*Y200)","v":0},null,{"$f":"IF($D200=\"\",\"\",$D200*AA200)","v":0},null,{"$f":"IF($D200=\"\",\"\",$D200*AC200)","v":0},null,{"$f":"IF($D200=\"\",\"\",$D200*AE200)","v":0},null,{"$f":"IF($D200=\"\",\"\",$D200*AG200)","v":0},null,{"$f":"IF($D200=\"\",\"\",$D200*AI200)","v":0},null,{"$f":"IF($D200=\"\",\"\",$D200*AK200)","v":0},null,{"$f":"IF($D200=\"\",\"\",$D200*AM200)","v":0},null,{"$f":"IF($D200=\"\",\"\",$D200*AO200)","v":0},null,{"$f":"IF($D200=\"\",\"\",$D200*AQ200)","v":0},null,{"$f":"IF($D200=\"\",\"\",$D200*AS200)","v":0},null,{"$f":"IF($D200=\"\",\"\",$D200*AU200)","v":0},null,{"$f":"IF($D200=\"\",\"\",$D200*AW200)","v":0},null,{"$f":"IF($D200=\"\",\"\",$D200*AY200)","v":0},null,{"$f":"IF($D200=\"\",\"\",$D200*BA200)","v":0},null,{"$f":"IF($D200=\"\",\"\",$D200*BC200)","v":0},null,{"$f":"IF($D200=\"\",\"\",$D200*BE200)","v":0},null,{"$f":"IF($D200=\"\",\"\",$D200*BG200)","v":0},null,{"$f":"IF($D200=\"\",\"\",$D200*BI200)","v":0},null,{"$f":"IF($D200=\"\",\"\",$D200*BK200)","v":0},null,{"$f":"IF($D200=\"\",\"\",$D200*BM200)","v":0},null,{"$f":"IF($D200=\"\",\"\",$D200*BO200)","v":0},null,{"$f":"IF($D200=\"\",\"\",$D200*BQ200)","v":0},null,{"$f":"IF($D200=\"\",\"\",$D200*BS200)","v":0},null,{"$f":"IF($D200=\"\",\"\",$D200*BU200)","v":0},null,{"$f":"IF($D200=\"\",\"\",$D200*BW200)","v":0},null,{"$f":"+E200+G200+I200+K200+M200+O200+Q200+S200+U200+W200+Y200+AA200+AC200+AE200+AG200+AI200+AK200+AM200+AO200+AQ200+AS200+AU200+AW200+AY200+BA200+BC200+BE200+BG200+BI200+BK200+BM200+BO200+BQ200+BS200+BU200+BW200","v":0},{"$f":"IF(D200=\"\",\"\",ROUND(F200+H200+J200+L200+N200+P200+R200+T200+V200+X200+Z200+AB200+AD200+AF200+AH200+AJ200+AL200+AN200+AP200+AR200+AT200+AV200+AX200+AZ200+BB200+BD200+BF200+BH200+BJ200+BL200+BN200+BP200+BR200+BT200+BV200+BX200,2))","v":0}]
[null,{"$f":"+PRESUPUESTO!B230","v":"AKA011"},{"$f":"IF(B201=0, \"\",VLOOKUP(B201,PRESUPUESTO!$B$17:$C$4607, 2, FALSE))","v":"JUNTAS DILATACIÓN/TRABAJO (AZOTEAS)"},{"$f":"IF(ISTEXT(B201), VLOOKUP(B201, PRESUPUESTO!$B$14:$J$4207, 9, FALSE),\"\")","v":0},null,0,null,0,null,0,null,0,null,0,null,0,null,0,null,0,null,0,null,0,null,0,null,0,null,0,null,0,null,0,null,0,null,0,null,0,null,0,null,0,null,0,null,0,null,0,null,0,null,0,null,0,null,0,null,0,null,0,null,0,null,0,null,0,null,0,null,0,null,0,null,0,null,0,0]
[null,{"$f":"+PRESUPUESTO!B232","v":"AKA001"},{"$f":"IF(B202=0, \"\",VLOOKUP(B202,PRESUPUESTO!$B$17:$C$4607, 2, FALSE))","v":"ALISADO ARENA Y PORTLAND (AZOTEAS)"},{"$f":"IF(ISTEXT(B202), VLOOKUP(B202, PRESUPUESTO!$B$14:$J$4207, 9, FALSE),\"\")","v":0},null,0,null,0,null,0,null,0,null,0,null,0,null,0,null,0,null,0,null,0,null,0,null,0,null,0,null,0,null,0,null,0,null,0,null,0,null,0,null,0,null,0,null,0,null,0,null,0,null,0,null,0,null,0,null,0,null,0,null,0,null,0,null,0,null,0,null,0,null,0,null,0,null,0,0]
[null,{"$f":"+PRESUPUESTO!B233","v":"AKA002"},{"$f":"IF(B203=0, \"\",VLOOKUP(B203,PRESUPUESTO!$B$17:$C$4607, 2, FALSE))","v":"RELLENOS Y PENDIENTES C/HORMIGÓN CASCOTE (AZOTEAS, TERR.)"},{"$f":"IF(ISTEXT(B203), VLOOKUP(B203, PRESUPUESTO!$B$14:$J$4207, 9, FALSE),\"\")","v":0},null,0,null,0,null,0,null,0,null,0,null,0,null,0,null,0,null,0,null,0,null,0,null,0,null,0,null,0,null,0,null,0,null,0,null,0,null,0,null,0,null,0,null,0,null,0,null,0,null,0,null,0,null,0,null,0,null,0,null,0,null,0,null,0,null,0,null,0,null,0,null,0,null,0,0]
[null,{"$f":"+PRESUPUESTO!B234","v":"AKA003"},{"$f":"IF(B204=0, \"\",VLOOKUP(B204,PRESUPUESTO!$B$17:$C$4607, 2, FALSE))","v":"RELLENOS Y PENDIENTES C/HGON. ALIVIANADO (AZOTEAS, TERR.)"},{"$f":"IF(ISTEXT(B204), VLOOKUP(B204, PRESUPUESTO!$B$14:$J$4207, 9, FALSE),\"\")","v":0},null,0,null,0,null,0,null,0,null,0,null,0,null,0,null,0,null,0,null,0,null,0,null,0,null,0,null,0,null,0,null,0,null,0,null,0,null,0,null,0,null,0,null,0,null,0,null,0,null,0,null,0,null,0,null,0,null,0,null,0,null,0,null,0,null,0,null,0,null,0,null,0,null,0,0]
[null,{"$f":"+PRESUPUESTO!B235","v":"AKA004"},{"$f":"IF(B205=0, \"\",VLOOKUP(B205,PRESUPUESTO!$B$17:$C$4607, 2, FALSE))","v":"TEJUELA (AZOTEAS)"},{"$f":"IF(ISTEXT(B205), VLOOKUP(B205, PRESUPUESTO!$B$14:$J$4207, 9, FALSE),\"\")","v":0},null,0,null,0,null,0,null,0,null,0,null,0,null,0,null,0,null,0,null,0,null,0,null,0,null,0,null,0,null,0,null,0,null,0,null,0,null,0,null,0,null,0,null,0,null,0,null,0,null,0,null,0,null,0,null,0,null,0,null,0,null,0,null,0,null,0,null,0,null,0,null,0,null,0,0]
[null,{"$f":"+PRESUPUESTO!B236","v":"AKA005"},{"$f":"IF(B206=0, \"\",VLOOKUP(B206,PRESUPUESTO!$B$17:$C$4607, 2, FALSE))","v":"ALISADO ARENA Y PORTLAND C/JUNTAS (AZOTEAS)"},{"$f":"IF(ISTEXT(B206), VLOOKUP(B206, PRESUPUESTO!$B$14:$J$4207, 9, FALSE),\"\")","v":0},null,0,null,0,null,0,null,0,null,0,null,0,null,0,null,0,null,0,null,0,null,0,null,0,null,0,null,0,null,0,null,0,null,0,null,0,null,0,null,0,null,0,null,0,null,0,null,0,null,0,null,0,null,0,null,0,null,0,null,0,null,0,null,0,null,0,null,0,null,0,null,0,null,0,0]
[null,{"$f":"+PRESUPUESTO!B237","v":"AKA007"},{"$f":"IF(B207=0, \"\",VLOOKUP(B207,PRESUPUESTO!$B$17:$C$4607, 2, FALSE))","v":"TEJAS S/CUBIERTA PESADA"},{"$f":"IF(ISTEXT(B207), VLOOKUP(B207, PRESUPUESTO!$B$14:$J$4207, 9, FALSE),\"\")","v":0},null,0,null,0,null,0,null,0,null,0,null,0,null,0,null,0,null,0,null,0,null,0,null,0,null,0,null,0,null,0,null,0,null,0,null,0,null,0,null,0,null,0,null,0,null,0,null,0,null,0,null,0,null,0,null,0,null,0,null,0,null,0,null,0,null,0,null,0,null,0,null,0,null,0,0]
[null,{"$f":"+PRESUPUESTO!B238","v":"AKA008"},{"$f":"IF(B208=0, \"\",VLOOKUP(B208,PRESUPUESTO!$B$17:$C$4607, 2, FALSE))","v":"SOBRETECHO FIBROCEMENTO"},{"$f":"IF(ISTEXT(B208), VLOOKUP(B208, PRESUPUESTO!$B$14:$J$4207, 9, FALSE),\"\")","v":0},null,0,null,0,null,0,null,0,null,0,null,0,null,0,null,0,null,0,null,0,null,0,null,0,null,0,null,0,null,0,null,0,null,0,null,0,null,0,null,0,null,0,null,0,null,0,null,0,null,0,null,0,null,0,null,0,null,0,null,0,null,0,null,0,null,0,null,0,null,0,null,0,null,0,0]
[null,{"$f":"+PRESUPUESTO!B239","v":"AKA012"},{"$f":"IF(B209=0, \"\",VLOOKUP(B209,PRESUPUESTO!$B$17:$C$4607, 2, FALSE))","v":"ARENA Y PORTLAND DE PRETILES Y GARGANTAS"},{"$f":"IF(ISTEXT(B209), VLOOKUP(B209, PRESUPUESTO!$B$14:$J$4207, 9, FALSE),\"\")","v":0},null,0,null,0,null,0,null,0,null,0,null,0,null,0,null,0,null,0,null,0,null,0,null,0,null,0,null,0,null,0,null,0,null,0,null,0,null,0,null,0,null,0,null,0,null,0,null,0,null,0,null,0,null,0,null,0,null,0,null,0,null,0,null,0,null,0,null,0,null,0,null,0,null,0,0]
[null,{"$f":"+PRESUPUESTO!B240","v":"AKA013"},{"$f":"IF(B210=0, \"\",VLOOKUP(B210,PRESUPUESTO!$B$17:$C$4607, 2, FALSE))","v":"CANTO RODADO (TERMINACIÓN AZOTEAS)"},{"$f":"IF(ISTEXT(B210), VLOOKUP(B210, PRESUPUESTO!$B$14:$J$4207, 9, FALSE),\"\")","v":0},null,0,null,0,null,0,null,0,null,0,null,0,null,0,null,0,null,0,null,0,null,0,null,0,null,0,null,0,null,0,null,0,null,0,null,0,null,0,null,0,null,0,null,0,null,0,null,0,null,0,null,0,null,0,null,0,null,0,null,0,null,0,null,0,null,0,null,0,null,0,null,0,null,0,0]
[null,{"$f":"+PRESUPUESTO!B241","v":"AKB001"},{"$f":"IF(B211=0, \"\",VLOOKUP(B211,PRESUPUESTO!$B$17:$C$4607, 2, FALSE))","v":"POLIETILENO (AZOTEAS/BALCONES)"},{"$f":"IF(ISTEXT(B211), VLOOKUP(B211, PRESUPUESTO!$B$14:$J$4207, 9, FALSE),\"\")","v":0},null,0,null,0,null,0,null,0,null,0,null,0,null,0,null,0,null,0,null,0,null,0,null,0,null,0,null,0,null,0,null,0,null,0,null,0,null,0,null,0,null,0,null,0,null,0,null,0,null,0,null,0,null,0,null,0,null,0,null,0,null,0,null,0,null,0,null,0,null,0,null,0,null,0,0]
[null,{"$f":"+PRESUPUESTO!B242","v":"AKB002"},{"$f":"IF(B212=0, \"\",VLOOKUP(B212,PRESUPUESTO!$B$17:$C$4607, 2, FALSE))","v":"POLIESTIRENO EXPANDIDO EN PLACAS (AZOTEAS Y BALCONES)"},{"$f":"IF(ISTEXT(B212), VLOOKUP(B212, PRESUPUESTO!$B$14:$J$4207, 9, FALSE),\"\")","v":0},null,0,null,0,null,0,null,0,null,0,null,0,null,0,null,0,null,0,null,0,null,0,null,0,null,0,null,0,null,0,null,0,null,0,null,0,null,0,null,0,null,0,null,0,null,0,null,0,null,0,null,0,null,0,null,0,null,0,null,0,null,0,null,0,null,0,null,0,null,0,null,0,null,0,0]
[null,{"$f":"+PRESUPUESTO!B243","v":"AKB003"},{"$f":"IF(B213=0, \"\",VLOOKUP(B213,PRESUPUESTO!$B$17:$C$4607, 2, FALSE))","v":"POLIURETANO PROYECTADO (AZOTEAS/BALCONES)"},{"$f":"IF(ISTEXT(B213), VLOOKUP(B213, PRESUPUESTO!$B$14:$J$4207, 9, FALSE),\"\")","v":0},null,0,null,0,null,0,null,0,null,0,null,0,null,0,null,0,null,0,null,0,null,0,null,0,null,0,null,0,null,0,null,0,null,0,null,0,null,0,null,0,null,0,null,0,null,0,null,0,null,0,null,0,null,0,null,0,null,0,null,0,null,0,null,0,null,0,null,0,null,0,null,0,null,0,0]
[null,{"$f":"+PRESUPUESTO!B244","v":"AKB004"},{"$f":"IF(B214=0, \"\",VLOOKUP(B214,PRESUPUESTO!$B$17:$C$4607, 2, FALSE))","v":"EMULSIÓN ASFALTICA C/VELO DE VIDRIO (AZOTEAS/BALCONES)"},{"$f":"IF(ISTEXT(B214), VLOOKUP(B214, PRESUPUESTO!$B$14:$J$4207, 9, FALSE),\"\")","v":0},null,0,null,0,null,0,null,0,null,0,null,0,null,0,null,0,null,0,null,0,null,0,null,0,null,0,null,0,null,0,null,0,null,0,null,0,null,0,null,0,null,0,null,0,null,0,null,0,null,0,null,0,null,0,null,0,null,0,null,0,null,0,null,0,null,0,null,0,null,0,null,0,null,0,0]
[null,{"$f":"+PRESUPUESTO!B245","v":"AKB005"},{"$f":"IF(B215=0, \"\",VLOOKUP(B215,PRESUPUESTO!$B$17:$C$4607, 2, FALSE))","v":"MEMBRANA SOLDABLE (AZOTEAS/BALCONES)"},{"$f":"IF(ISTEXT(B215), VLOOKUP(B215, PRESUPUESTO!$B$14:$J$4207, 9, FALSE),\"\")","v":0},null,0,null,0,null,0,null,0,null,0,null,0,null,0,null,0,null,0,null,0,null,0,null,0,null,0,null,0,null,0,null,0,null,0,null,0,null,0,null,0,null,0,null,0,null,0,null,0,null,0,null,0,null,0,null,0,null,0,null,0,null,0,null,0,null,0,null,0,null,0,null,0,null,0,0]
[null,{"$f":"+PRESUPUESTO!B246","v":"AKB007"},{"$f":"IF(B216=0, \"\",VLOOKUP(B216,PRESUPUESTO!$B$17:$C$4607, 2, FALSE))","v":"PINTURA ALUMINIO ASFALTICO (AZOTEAS)"},{"$f":"IF(ISTEXT(B216), VLOOKUP(B216, PRESUPUESTO!$B$14:$J$4207, 9, FALSE),\"\")","v":0},null,0,null,0,null,0,null,0,null,0,null,0,null,0,null,0,null,0,null,0,null,0,null,0,null,0,null,0,null,0,null,0,null,0,null,0,null,0,null,0,null,0,null,0,null,0,null,0,null,0,null,0,null,0,null,0,null,0,null,0,null,0,null,0,null,0,null,0,null,0,null,0,null,0,0]
[null,{"$f":"+PRESUPUESTO!B247","v":"AKB008"},{"$f":"IF(B217=0, \"\",VLOOKUP(B217,PRESUPUESTO!$B$17:$C$4607, 2, FALSE))","v":"PINTURA IMPERMEABILIZANTE"},{"$f":"IF(ISTEXT(B217), VLOOKUP(B217, PRESUPUESTO!$B$14:$J$4207, 9, FALSE),\"\")","v":0},null,0,null,0,null,0,null,0,null,0,null,0,null,0,null,0,null,0,null,0,null,0,null,0,null,0,null,0,null,0,null,0,null,0,null,0,null,0,null,0,null,0,null,0,null,0,null,0,null,0,null,0,null,0,null,0,null,0,null,0,null,0,null,0,null,0,null,0,null,0,null,0,null,0,0]
[null,{"$f":"+PRESUPUESTO!B249","v":"ALA001"},{"$f":"IF(B218=0, \"\",VLOOKUP(B218,PRESUPUESTO!$B$17:$C$4607, 2, FALSE))","v":"ENTABLONADO S/CORREAS MADERA (CUBIERTA LIV.)"},{"$f":"IF(ISTEXT(B218), VLOOKUP(B218, PRESUPUESTO!$B$14:$J$4207, 9, FALSE),\"\")","v":0},null,0,null,0,null,0,null,0,null,0,null,0,null,0,null,0,null,0,null,0,null,0,null,0,null,0,null,0,null,0,null,0,null,0,null,0,null,0,null,0,null,0,null,0,null,0,null,0,null,0,null,0,null,0,null,0,null,0,null,0,null,0,null,0,null,0,null,0,null,0,null,0,null,0,0]
[null,{"$f":"+PRESUPUESTO!B250","v":"ALA002"},{"$f":"IF(B219=0, \"\",VLOOKUP(B219,PRESUPUESTO!$B$17:$C$4607, 2, FALSE))","v":"POLIETILENO S/ENTABLONADO (CUBIERTA LIV.)"},{"$f":"IF(ISTEXT(B219), VLOOKUP(B219, PRESUPUESTO!$B$14:$J$4207, 9, FALSE),\"\")","v":0},null,0,null,0,null,0,null,0,null,0,null,0,null,0,null,0,null,0,null,0,null,0,null,0,null,0,null,0,null,0,null,0,null,0,null,0,null,0,null,0,null,0,null,0,null,0,null,0,null,0,null,0,null,0,null,0,null,0,null,0,null,0,null,0,null,0,null,0,null,0,null,0,null,0,0]
[null,{"$f":"+PRESUPUESTO!B251","v":"ALA003"},{"$f":"IF(B220=0, \"\",VLOOKUP(B220,PRESUPUESTO!$B$17:$C$4607, 2, FALSE))","v":"POLIURETANO PROYECTADO (CUBIERTA LIV.)"},{"$f":"IF(ISTEXT(B220), VLOOKUP(B220, PRESUPUESTO!$B$14:$J$4207, 9, FALSE),\"\")","v":0},null,0,null,0,null,0,null,0,null,0,null,0,null,0,null,0,null,0,null,0,null,0,null,0,null,0,null,0,null,0,null,0,null,0,null,0,null,0,null,0,null,0,null,0,null,0,null,0,null,0,null,0,null,0,null,0,null,0,null,0,null,0,null,0,null,0,null,0,null,0,null,0,null,0,0]
[null,{"$f":"+PRESUPUESTO!B252","v":"ALA004"},{"$f":"IF(B221=0, \"\",VLOOKUP(B221,PRESUPUESTO!$B$17:$C$4607, 2, FALSE))","v":"ESPUMA POLIESTIRENO EN PLACAS (CUBIERTA LIV.)"},{"$f":"IF(ISTEXT(B221), VLOOKUP(B221, PRESUPUESTO!$B$14:$J$4207, 9, FALSE),\"\")","v":0},null,0,null,0,null,0,null,0,null,0,null,0,null,0,null,0,null,0,null,0,null,0,null,0,null,0,null,0,null,0,null,0,null,0,null,0,null,0,null,0,null,0,null,0,null,0,null,0,null,0,null,0,null,0,null,0,null,0,null,0,null,0,null,0,null,0,null,0,null,0,null,0,null,0,0]
[null,{"$f":"+PRESUPUESTO!B253","v":"ALA005"},{"$f":"IF(B222=0, \"\",VLOOKUP(B222,PRESUPUESTO!$B$17:$C$4607, 2, FALSE))","v":"TYVEC (CUBIERTA LIV.)"},{"$f":"IF(ISTEXT(B222), VLOOKUP(B222, PRESUPUESTO!$B$14:$J$4207, 9, FALSE),\"\")","v":0},null,0,null,0,null,0,null,0,null,0,null,0,null,0,null,0,null,0,null,0,null,0,null,0,null,0,null,0,null,0,null,0,null,0,null,0,null,0,null,0,null,0,null,0,null,0,null,0,null,0,null,0,null,0,null,0,null,0,null,0,null,0,null,0,null,0,null,0,null,0,null,0,null,0,0]
[null,{"$f":"+PRESUPUESTO!B254","v":"ALA006"},{"$f":"IF(B223=0, \"\",VLOOKUP(B223,PRESUPUESTO!$B$17:$C$4607, 2, FALSE))","v":"MEMBRANA ASFALTICA (CUBIERTA LIV.)"},{"$f":"IF(ISTEXT(B223), VLOOKUP(B223, PRESUPUESTO!$B$14:$J$4207, 9, FALSE),\"\")","v":0},null,0,null,0,null,0,null,0,null,0,null,0,null,0,null,0,null,0,null,0,null,0,null,0,null,0,null,0,null,0,null,0,null,0,null,0,null,0,null,0,null,0,null,0,null,0,null,0,null,0,null,0,null,0,null,0,null,0,null,0,null,0,null,0,null,0,null,0,null,0,null,0,null,0,0]
[null,{"$f":"+PRESUPUESTO!B255","v":"ALA007"},{"$f":"IF(B224=0, \"\",VLOOKUP(B224,PRESUPUESTO!$B$17:$C$4607, 2, FALSE))","v":"CUMBRERAS, LIMAHOYAS"},{"$f":"IF(ISTEXT(B224), VLOOKUP(B224, PRESUPUESTO!$B$14:$J$4207, 9, FALSE),\"\")","v":0},null,0,null,0,null,0,null,0,null,0,null,0,null,0,null,0,null,0,null,0,null,0,null,0,null,0,null,0,null,0,null,0,null,0,null,0,null,0,null,0,null,0,null,0,null,0,null,0,null,0,null,0,null,0,null,0,null,0,null,0,null,0,null,0,null,0,null,0,null,0,null,0,null,0,0]
[null,{"$f":"+PRESUPUESTO!B256","v":"ALA008"},{"$f":"IF(B225=0, \"\",VLOOKUP(B225,PRESUPUESTO!$B$17:$C$4607, 2, FALSE))","v":"CANALONES"},{"$f":"IF(ISTEXT(B225), VLOOKUP(B225, PRESUPUESTO!$B$14:$J$4207, 9, FALSE),\"\")","v":0},null,0,null,0,null,0,null,0,null,0,null,0,null,0,null,0,null,0,null,0,null,0,null,0,null,0,null,0,null,0,null,0,null,0,null,0,null,0,null,0,null,0,null,0,null,0,null,0,null,0,null,0,null,0,null,0,null,0,null,0,null,0,null,0,null,0,null,0,null,0,null,0,null,0,0]
[null,{"$f":"+PRESUPUESTO!B257","v":"ALB001"},{"$f":"IF(B226=0, \"\",VLOOKUP(B226,PRESUPUESTO!$B$17:$C$4607, 2, FALSE))","v":"CUBIERTA HIERRO GALVANIZADO"},{"$f":"IF(ISTEXT(B226), VLOOKUP(B226, PRESUPUESTO!$B$14:$J$4207, 9, FALSE),\"\")","v":0},null,0,null,0,null,0,null,0,null,0,null,0,null,0,null,0,null,0,null,0,null,0,null,0,null,0,null,0,null,0,null,0,null,0,null,0,null,0,null,0,null,0,null,0,null,0,null,0,null,0,null,0,null,0,null,0,null,0,null,0,null,0,null,0,null,0,null,0,null,0,null,0,null,0,0]
[null,{"$f":"+PRESUPUESTO!B258","v":"ALB002"},{"$f":"IF(B227=0, \"\",VLOOKUP(B227,PRESUPUESTO!$B$17:$C$4607, 2, FALSE))","v":"PANELES AUTOPORTANTES DE CHAPA, MULTICAPA"},{"$f":"IF(ISTEXT(B227), VLOOKUP(B227, PRESUPUESTO!$B$14:$J$4207, 9, FALSE),\"\")","v":0},null,0,null,0,null,0,null,0,null,0,null,0,null,0,null,0,null,0,null,0,null,0,null,0,null,0,null,0,null,0,null,0,null,0,null,0,null,0,null,0,null,0,null,0,null,0,null,0,null,0,null,0,null,0,null,0,null,0,null,0,null,0,null,0,null,0,null,0,null,0,null,0,null,0,0]
[null,{"$f":"+PRESUPUESTO!B259","v":"ALC001"},{"$f":"IF(B228=0, \"\",VLOOKUP(B228,PRESUPUESTO!$B$17:$C$4607, 2, FALSE))","v":"CUBIERTA FIBROCEMENTO"},{"$f":"IF(ISTEXT(B228), VLOOKUP(B228, PRESUPUESTO!$B$14:$J$4207, 9, FALSE),\"\")","v":0},null,0,null,0,null,0,null,0,null,0,null,0,null,0,null,0,null,0,null,0,null,0,null,0,null,0,null,0,null,0,null,0,null,0,null,0,null,0,null,0,null,0,null,0,null,0,null,0,null,0,null,0,null,0,null,0,null,0,null,0,null,0,null,0,null,0,null,0,null,0,null,0,null,0,0]
[null,{"$f":"+PRESUPUESTO!B260","v":"ALD001"},{"$f":"IF(B229=0, \"\",VLOOKUP(B229,PRESUPUESTO!$B$17:$C$4607, 2, FALSE))","v":"TEJAS S/ENTRAMADO MADERA"},{"$f":"IF(ISTEXT(B229), VLOOKUP(B229, PRESUPUESTO!$B$14:$J$4207, 9, FALSE),\"\")","v":0},null,0,null,0,null,0,null,0,null,0,null,0,null,0,null,0,null,0,null,0,null,0,null,0,null,0,null,0,null,0,null,0,null,0,null,0,null,0,null,0,null,0,null,0,null,0,null,0,null,0,null,0,null,0,null,0,null,0,null,0,null,0,null,0,null,0,null,0,null,0,null,0,null,0,0]
[null,{"$f":"+PRESUPUESTO!B262","v":"AEF003"},{"$f":"IF(B230=0, \"\",VLOOKUP(B230,PRESUPUESTO!$B$17:$C$4607, 2, FALSE))","v":"CANTONERAS (COLOCACIÓN)"},{"$f":"IF(ISTEXT(B230), VLOOKUP(B230, PRESUPUESTO!$B$14:$J$4207, 9, FALSE),\"\")","v":0},null,0,null,0,null,0,null,0,null,0,null,0,null,0,null,0,null,0,null,0,null,0,null,0,null,0,null,0,null,0,null,0,null,0,null,0,null,0,null,0,null,0,null,0,null,0,null,0,null,0,null,0,null,0,null,0,null,0,null,0,null,0,null,0,null,0,null,0,null,0,null,0,null,0,0]
[null,{"$f":"+PRESUPUESTO!B263","v":"ANA001"},{"$f":"IF(B231=0, \"\",VLOOKUP(B231,PRESUPUESTO!$B$17:$C$4607, 2, FALSE))","v":"AYUDA A ELÉCTRICA"},{"$f":"IF(ISTEXT(B231), VLOOKUP(B231, PRESUPUESTO!$B$14:$J$4207, 9, FALSE),\"\")","v":0},null,0,null,0,null,0,null,0,null,0,null,0,null,0,null,0,null,0,null,0,null,0,null,0,null,0,null,0,null,0,null,0,null,0,null,0,null,0,null,0,null,0,null,0,null,0,null,0,null,0,null,0,null,0,null,0,null,0,null,0,null,0,null,0,null,0,null,0,null,0,null,0,null,0,0]
[null,{"$f":"+PRESUPUESTO!B264","v":"ANA002"},{"$f":"IF(B232=0, \"\",VLOOKUP(B232,PRESUPUESTO!$B$17:$C$4607, 2, FALSE))","v":"AYUDA A SANITARIA"},{"$f":"IF(ISTEXT(B232), VLOOKUP(B232, PRESUPUESTO!$B$14:$J$4207, 9, FALSE),\"\")","v":0},null,0,null,0,null,0,null,0,null,0,null,0,null,0,null,0,null,0,null,0,null,0,null,0,null,0,null,0,null,0,null,0,null,0,null,0,null,0,null,0,null,0,null,0,null,0,null,0,null,0,null,0,null,0,null,0,null,0,null,0,null,0,null,0,null,0,null,0,null,0,null,0,null,0,0]
[null,{"$f":"+PRESUPUESTO!B265","v":"ANA003"},{"$f":"IF(B233=0, \"\",VLOOKUP(B233,PRESUPUESTO!$B$17:$C$4607, 2, FALSE))","v":"AYUDA ASCENSOR"},{"$f":"IF(ISTEXT(B233), VLOOKUP(B233, PRESUPUESTO!$B$14:$J$4207, 9, FALSE),\"\")","v":0},null,0,null,0,null,0,null,0,null,0,null,0,null,0,null,0,null,0,null,0,null,0,null,0,null,0,null,0,null,0,null,0,null,0,null,0,null,0,null,0,null,0,null,0,null,0,null,0,null,0,null,0,null,0,null,0,null,0,null,0,null,0,null,0,null,0,null,0,null,0,null,0,null,0,0]
[null,{"$f":"+PRESUPUESTO!B266","v":"ANB001"},{"$f":"IF(B234=0, \"\",VLOOKUP(B234,PRESUPUESTO!$B$17:$C$4607, 2, FALSE))","v":"NICHOS DE MEDIDORES"},{"$f":"IF(ISTEXT(B234), VLOOKUP(B234, PRESUPUESTO!$B$14:$J$4207, 9, FALSE),\"\")","v":0},null,0,null,0,null,0,null,0,null,0,null,0,null,0,null,0,null,0,null,0,null,0,null,0,null,0,null,0,null,0,null,0,null,0,null,0,null,0,null,0,null,0,null,0,null,0,null,0,null,0,null,0,null,0,null,0,null,0,null,0,null,0,null,0,null,0,null,0,null,0,null,0,null,0,0]
[null,{"$f":"+PRESUPUESTO!B267","v":"ANB002"},{"$f":"IF(B235=0, \"\",VLOOKUP(B235,PRESUPUESTO!$B$17:$C$4607, 2, FALSE))","v":"NICHOS DE MANGUERAS DE INCENDIO"},{"$f":"IF(ISTEXT(B235), VLOOKUP(B235, PRESUPUESTO!$B$14:$J$4207, 9, FALSE),\"\")","v":0},null,0,null,0,null,0,null,0,null,0,null,0,null,0,null,0,null,0,null,0,null,0,null,0,null,0,null,0,null,0,null,0,null,0,null,0,null,0,null,0,null,0,null,0,null,0,null,0,null,0,null,0,null,0,null,0,null,0,null,0,null,0,null,0,null,0,null,0,null,0,null,0,null,0,0]
[null,{"$f":"+PRESUPUESTO!B268","v":"AJC001"},{"$f":"IF(B236=0, \"\",VLOOKUP(B236,PRESUPUESTO!$B$17:$C$4607, 2, FALSE))","v":"EXTRACTORES"},{"$f":"IF(ISTEXT(B236), VLOOKUP(B236, PRESUPUESTO!$B$14:$J$4207, 9, FALSE),\"\")","v":0},null,0,null,0,null,0,null,0,null,0,null,0,null,0,null,0,null,0,null,0,null,0,null,0,null,0,null,0,null,0,null,0,null,0,null,0,null,0,null,0,null,0,null,0,null,0,null,0,null,0,null,0,null,0,null,0,null,0,null,0,null,0,null,0,null,0,null,0,null,0,null,0,null,0,0]
[null,{"$f":"+PRESUPUESTO!B271","v":"ADE001"},{"$f":"IF(B237=0, \"\",VLOOKUP(B237,PRESUPUESTO!$B$17:$C$4607, 2, FALSE))","v":"PILARES/VIGAS HORM.PREFABRICADO"},{"$f":"IF(ISTEXT(B237), VLOOKUP(B237, PRESUPUESTO!$B$14:$J$4207, 9, FALSE),\"\")","v":0},null,0,null,0,null,0,null,0,null,0,null,0,null,0,null,0,null,0,null,0,null,0,null,0,null,0,null,0,null,0,null,0,null,0,null,0,null,0,null,0,null,0,null,0,null,0,null,0,null,0,null,0,null,0,null,0,null,0,null,0,null,0,null,0,null,0,null,0,null,0,null,0,null,0,0]
[null,{"$f":"+PRESUPUESTO!B272","v":"ADE002"},{"$f":"IF(B238=0, \"\",VLOOKUP(B238,PRESUPUESTO!$B$17:$C$4607, 2, FALSE))","v":"PANELES (MUROS) HORM.PREFABRICADO"},{"$f":"IF(ISTEXT(B238), VLOOKUP(B238, PRESUPUESTO!$B$14:$J$4207, 9, FALSE),\"\")","v":0},null,0,null,0,null,0,null,0,null,0,null,0,null,0,null,0,null,0,null,0,null,0,null,0,null,0,null,0,null,0,null,0,null,0,null,0,null,0,null,0,null,0,null,0,null,0,null,0,null,0,null,0,null,0,null,0,null,0,null,0,null,0,null,0,null,0,null,0,null,0,null,0,null,0,0]
[null,{"$f":"+PRESUPUESTO!B273","v":"ADE003"},{"$f":"IF(B239=0, \"\",VLOOKUP(B239,PRESUPUESTO!$B$17:$C$4607, 2, FALSE))","v":"LOSAS HORM.PREFABRICADO"},{"$f":"IF(ISTEXT(B239), VLOOKUP(B239, PRESUPUESTO!$B$14:$J$4207, 9, FALSE),\"\")","v":0},null,0,null,0,null,0,null,0,null,0,null,0,null,0,null,0,null,0,null,0,null,0,null,0,null,0,null,0,null,0,null,0,null,0,null,0,null,0,null,0,null,0,null,0,null,0,null,0,null,0,null,0,null,0,null,0,null,0,null,0,null,0,null,0,null,0,null,0,null,0,null,0,null,0,0]
[null,{"$f":"+PRESUPUESTO!B274","v":"ADE005"},{"$f":"IF(B240=0, \"\",VLOOKUP(B240,PRESUPUESTO!$B$17:$C$4607, 2, FALSE))","v":"ANTEPECHOS HORM.PREFABRICADO"},{"$f":"IF(ISTEXT(B240), VLOOKUP(B240, PRESUPUESTO!$B$14:$J$4207, 9, FALSE),\"\")","v":0},null,0,null,0,null,0,null,0,null,0,null,0,null,0,null,0,null,0,null,0,null,0,null,0,null,0,null,0,null,0,null,0,null,0,null,0,null,0,null,0,null,0,null,0,null,0,null,0,null,0,null,0,null,0,null,0,null,0,null,0,null,0,null,0,null,0,null,0,null,0,null,0,null,0,0]
[null,{"$f":"+PRESUPUESTO!B275","v":"ADE006"},{"$f":"IF(B241=0, \"\",VLOOKUP(B241,PRESUPUESTO!$B$17:$C$4607, 2, FALSE))","v":"DINTELES HORM.PREFABRICADO"},{"$f":"IF(ISTEXT(B241), VLOOKUP(B241, PRESUPUESTO!$B$14:$J$4207, 9, FALSE),\"\")","v":0},null,0,null,0,null,0,null,0,null,0,null,0,null,0,null,0,null,0,null,0,null,0,null,0,null,0,null,0,null,0,null,0,null,0,null,0,null,0,null,0,null,0,null,0,null,0,null,0,null,0,null,0,null,0,null,0,null,0,null,0,null,0,null,0,null,0,null,0,null,0,null,0,null,0,0]
[null,{"$f":"+PRESUPUESTO!B276","v":"ADE007"},{"$f":"IF(B242=0, \"\",VLOOKUP(B242,PRESUPUESTO!$B$17:$C$4607, 2, FALSE))","v":"SISTEMAS C/BOVEDILLAS (HORM.PREFABRICADO)"},{"$f":"IF(ISTEXT(B242), VLOOKUP(B242, PRESUPUESTO!$B$14:$J$4207, 9, FALSE),\"\")","v":0},null,0,null,0,null,0,null,0,null,0,null,0,null,0,null,0,null,0,null,0,null,0,null,0,null,0,null,0,null,0,null,0,null,0,null,0,null,0,null,0,null,0,null,0,null,0,null,0,null,0,null,0,null,0,null,0,null,0,null,0,null,0,null,0,null,0,null,0,null,0,null,0,null,0,0]
[null,{"$f":"+PRESUPUESTO!B277","v":"ADE008"},{"$f":"IF(B243=0, \"\",VLOOKUP(B243,PRESUPUESTO!$B$17:$C$4607, 2, FALSE))","v":"ESCALONES DE HORMIGON PREFABRICADO"},{"$f":"IF(ISTEXT(B243), VLOOKUP(B243, PRESUPUESTO!$B$14:$J$4207, 9, FALSE),\"\")","v":0},null,0,null,0,null,0,null,0,null,0,null,0,null,0,null,0,null,0,null,0,null,0,null,0,null,0,null,0,null,0,null,0,null,0,null,0,null,0,null,0,null,0,null,0,null,0,null,0,null,0,null,0,null,0,null,0,null,0,null,0,null,0,null,0,null,0,null,0,null,0,null,0,null,0,0]
[null,{"$f":"+PRESUPUESTO!B278","v":"AND015"},{"$f":"IF(B244=0, \"\",VLOOKUP(B244,PRESUPUESTO!$B$17:$C$4607, 2, FALSE))","v":"SUMINISTRO DE VIGUETAS PREFABRICADAS"},{"$f":"IF(ISTEXT(B244), VLOOKUP(B244, PRESUPUESTO!$B$14:$J$4207, 9, FALSE),\"\")","v":0},null,0,null,0,null,0,null,0,null,0,null,0,null,0,null,0,null,0,null,0,null,0,null,0,null,0,null,0,null,0,null,0,null,0,null,0,null,0,null,0,null,0,null,0,null,0,null,0,null,0,null,0,null,0,null,0,null,0,null,0,null,0,null,0,null,0,null,0,null,0,null,0,null,0,0]
[null,{"$f":"+PRESUPUESTO!B279","v":"AND016"},{"$f":"IF(B245=0, \"\",VLOOKUP(B245,PRESUPUESTO!$B$17:$C$4607, 2, FALSE))","v":"COLOCACION DE VIGUETAS PREFABRICADAS"},{"$f":"IF(ISTEXT(B245), VLOOKUP(B245, PRESUPUESTO!$B$14:$J$4207, 9, FALSE),\"\")","v":0},null,0,null,0,null,0,null,0,null,0,null,0,null,0,null,0,null,0,null,0,null,0,null,0,null,0,null,0,null,0,null,0,null,0,null,0,null,0,null,0,null,0,null,0,null,0,null,0,null,0,null,0,null,0,null,0,null,0,null,0,null,0,null,0,null,0,null,0,null,0,null,0,null,0,0]
[null,{"$f":"+PRESUPUESTO!B280","v":"AKA006"},{"$f":"IF(B246=0, \"\",VLOOKUP(B246,PRESUPUESTO!$B$17:$C$4607, 2, FALSE))","v":"LOSETAS PREFABICADAS HORMIGÓN (AZOTEAS)"},{"$f":"IF(ISTEXT(B246), VLOOKUP(B246, PRESUPUESTO!$B$14:$J$4207, 9, FALSE),\"\")","v":0},null,0,null,0,null,0,null,0,null,0,null,0,null,0,null,0,null,0,null,0,null,0,null,0,null,0,null,0,null,0,null,0,null,0,null,0,null,0,null,0,null,0,null,0,null,0,null,0,null,0,null,0,null,0,null,0,null,0,null,0,null,0,null,0,null,0,null,0,null,0,null,0,null,0,0]
[null,{"$f":"+PRESUPUESTO!B282","v":"APA001"},{"$f":"IF(B247=0, \"\",VLOOKUP(B247,PRESUPUESTO!$B$17:$C$4607, 2, FALSE))","v":"M2 PANELES VERTICALES"},{"$f":"IF(ISTEXT(B247), VLOOKUP(B247, PRESUPUESTO!$B$14:$J$4207, 9, FALSE),\"\")","v":0},null,0,null,0,null,0,null,0,null,0,null,0,null,0,null,0,null,0,null,0,null,0,null,0,null,0,null,0,null,0,null,0,null,0,null,0,null,0,null,0,null,0,null,0,null,0,null,0,null,0,null,0,null,0,null,0,null,0,null,0,null,0,null,0,null,0,null,0,null,0,null,0,null,0,0]
[null,{"$f":"+PRESUPUESTO!B283","v":"APA002"},{"$f":"IF(B248=0, \"\",VLOOKUP(B248,PRESUPUESTO!$B$17:$C$4607, 2, FALSE))","v":"M2 PANELES HORIZONTALES"},{"$f":"IF(ISTEXT(B248), VLOOKUP(B248, PRESUPUESTO!$B$14:$J$4207, 9, FALSE),\"\")","v":0},null,0,null,0,null,0,null,0,null,0,null,0,null,0,null,0,null,0,null,0,null,0,null,0,null,0,null,0,null,0,null,0,null,0,null,0,null,0,null,0,null,0,null,0,null,0,null,0,null,0,null,0,null,0,null,0,null,0,null,0,null,0,null,0,null,0,null,0,null,0,null,0,null,0,0]
[null,{"$f":"+PRESUPUESTO!B284","v":"APB001"},{"$f":"IF(B249=0, \"\",VLOOKUP(B249,PRESUPUESTO!$B$17:$C$4607, 2, FALSE))","v":"M2 ESCALERA"},{"$f":"IF(ISTEXT(B249), VLOOKUP(B249, PRESUPUESTO!$B$14:$J$4207, 9, FALSE),\"\")","v":0},null,0,null,0,null,0,null,0,null,0,null,0,null,0,null,0,null,0,null,0,null,0,null,0,null,0,null,0,null,0,null,0,null,0,null,0,null,0,null,0,null,0,null,0,null,0,null,0,null,0,null,0,null,0,null,0,null,0,null,0,null,0,null,0,null,0,null,0,null,0,null,0,null,0,0]
[null,{"$f":"+PRESUPUESTO!B285","v":"APC001"},{"$f":"IF(B250=0, \"\",VLOOKUP(B250,PRESUPUESTO!$B$17:$C$4607, 2, FALSE))","v":"M2 REVOQUE ESTRUCTURAL EN MUROS"},{"$f":"IF(ISTEXT(B250), VLOOKUP(B250, PRESUPUESTO!$B$14:$J$4207, 9, FALSE),\"\")","v":0},null,0,null,0,null,0,null,0,null,0,null,0,null,0,null,0,null,0,null,0,null,0,null,0,null,0,null,0,null,0,null,0,null,0,null,0,null,0,null,0,null,0,null,0,null,0,null,0,null,0,null,0,null,0,null,0,null,0,null,0,null,0,null,0,null,0,null,0,null,0,null,0,null,0,0]
[null,{"$f":"+PRESUPUESTO!B286","v":"APC002"},{"$f":"IF(B251=0, \"\",VLOOKUP(B251,PRESUPUESTO!$B$17:$C$4607, 2, FALSE))","v":"M2 REVOQUE TERMINACION MUROS"},{"$f":"IF(ISTEXT(B251), VLOOKUP(B251, PRESUPUESTO!$B$14:$J$4207, 9, FALSE),\"\")","v":0},null,0,null,0,null,0,null,0,null,0,null,0,null,0,null,0,null,0,null,0,null,0,null,0,null,0,null,0,null,0,null,0,null,0,null,0,null,0,null,0,null,0,null,0,null,0,null,0,null,0,null,0,null,0,null,0,null,0,null,0,null,0,null,0,null,0,null,0,null,0,null,0,null,0,0]
[null,{"$f":"+PRESUPUESTO!B287","v":"APC003"},{"$f":"IF(B252=0, \"\",VLOOKUP(B252,PRESUPUESTO!$B$17:$C$4607, 2, FALSE))","v":"M2 REVOQUE CIELORASOS PRIMERA CAPA"},{"$f":"IF(ISTEXT(B252), VLOOKUP(B252, PRESUPUESTO!$B$14:$J$4207, 9, FALSE),\"\")","v":0},null,0,null,0,null,0,null,0,null,0,null,0,null,0,null,0,null,0,null,0,null,0,null,0,null,0,null,0,null,0,null,0,null,0,null,0,null,0,null,0,null,0,null,0,null,0,null,0,null,0,null,0,null,0,null,0,null,0,null,0,null,0,null,0,null,0,null,0,null,0,null,0,null,0,0]
[null,{"$f":"+PRESUPUESTO!B288","v":"APC004"},{"$f":"IF(B253=0, \"\",VLOOKUP(B253,PRESUPUESTO!$B$17:$C$4607, 2, FALSE))","v":"M2 REVOQUE CIELORRASOS TERMINACION"},{"$f":"IF(ISTEXT(B253), VLOOKUP(B253, PRESUPUESTO!$B$14:$J$4207, 9, FALSE),\"\")","v":0},null,0,null,0,null,0,null,0,null,0,null,0,null,0,null,0,null,0,null,0,null,0,null,0,null,0,null,0,null,0,null,0,null,0,null,0,null,0,null,0,null,0,null,0,null,0,null,0,null,0,null,0,null,0,null,0,null,0,null,0,null,0,null,0,null,0,null,0,null,0,null,0,null,0,0]
[null,{"$f":"+PRESUPUESTO!B289","v":"APD001"},{"$f":"IF(B254=0, \"\",VLOOKUP(B254,PRESUPUESTO!$B$17:$C$4607, 2, FALSE))","v":"M2 CARPETA DE COMPRESION LOSAS"},{"$f":"IF(ISTEXT(B254), VLOOKUP(B254, PRESUPUESTO!$B$14:$J$4207, 9, FALSE),\"\")","v":0},null,0,null,0,null,0,null,0,null,0,null,0,null,0,null,0,null,0,null,0,null,0,null,0,null,0,null,0,null,0,null,0,null,0,null,0,null,0,null,0,null,0,null,0,null,0,null,0,null,0,null,0,null,0,null,0,null,0,null,0,null,0,null,0,null,0,null,0,null,0,null,0,null,0,0]
[null,{"$f":"+PRESUPUESTO!B291","v":"AQA001"},{"$f":"IF(B255=0, \"\",VLOOKUP(B255,PRESUPUESTO!$B$17:$C$4607, 2, FALSE))","v":"CRUPE ESTRUCTURA METALICA EN MUROS"},{"$f":"IF(ISTEXT(B255), VLOOKUP(B255, PRESUPUESTO!$B$14:$J$4207, 9, FALSE),\"\")","v":0},null,0,null,0,null,0,null,0,null,0,null,0,null,0,null,0,null,0,null,0,null,0,null,0,null,0,null,0,null,0,null,0,null,0,null,0,null,0,null,0,null,0,null,0,null,0,null,0,null,0,null,0,null,0,null,0,null,0,null,0,null,0,null,0,null,0,null,0,null,0,null,0,null,0,0]
[null,{"$f":"+PRESUPUESTO!B292","v":"AQA002"},{"$f":"IF(B256=0, \"\",VLOOKUP(B256,PRESUPUESTO!$B$17:$C$4607, 2, FALSE))","v":"CRUPE VIGAS RETICULADAS ENTREPISOS"},{"$f":"IF(ISTEXT(B256), VLOOKUP(B256, PRESUPUESTO!$B$14:$J$4207, 9, FALSE),\"\")","v":0},null,0,null,0,null,0,null,0,null,0,null,0,null,0,null,0,null,0,null,0,null,0,null,0,null,0,null,0,null,0,null,0,null,0,null,0,null,0,null,0,null,0,null,0,null,0,null,0,null,0,null,0,null,0,null,0,null,0,null,0,null,0,null,0,null,0,null,0,null,0,null,0,null,0,0]
[null,{"$f":"+PRESUPUESTO!B293","v":"AQA003"},{"$f":"IF(B257=0, \"\",VLOOKUP(B257,PRESUPUESTO!$B$17:$C$4607, 2, FALSE))","v":"CRUPE ESTRUCTURA METALICA CUBIERTA"},{"$f":"IF(ISTEXT(B257), VLOOKUP(B257, PRESUPUESTO!$B$14:$J$4207, 9, FALSE),\"\")","v":0},null,{"$f":"IF($D257=\"\",\"\",$D257*E257)","v":0},null,{"$f":"IF($D257=\"\",\"\",$D257*G257)","v":0},null,{"$f":"IF($D257=\"\",\"\",$D257*I257)","v":0},null,{"$f":"IF($D257=\"\",\"\",$D257*K257)","v":0},null,{"$f":"IF($D257=\"\",\"\",$D257*M257)","v":0},null,{"$f":"IF($D257=\"\",\"\",$D257*O257)","v":0},null,{"$f":"IF($D257=\"\",\"\",$D257*Q257)","v":0},null,{"$f":"IF($D257=\"\",\"\",$D257*S257)","v":0},null,{"$f":"IF($D257=\"\",\"\",$D257*U257)","v":0},null,{"$f":"IF($D257=\"\",\"\",$D257*W257)","v":0},null,{"$f":"IF($D257=\"\",\"\",$D257*Y257)","v":0},null,{"$f":"IF($D257=\"\",\"\",$D257*AA257)","v":0},null,{"$f":"IF($D257=\"\",\"\",$D257*AC257)","v":0},null,{"$f":"IF($D257=\"\",\"\",$D257*AE257)","v":0},null,{"$f":"IF($D257=\"\",\"\",$D257*AG257)","v":0},null,{"$f":"IF($D257=\"\",\"\",$D257*AI257)","v":0},null,{"$f":"IF($D257=\"\",\"\",$D257*AK257)","v":0},null,{"$f":"IF($D257=\"\",\"\",$D257*AM257)","v":0},null,{"$f":"IF($D257=\"\",\"\",$D257*AO257)","v":0},null,{"$f":"IF($D257=\"\",\"\",$D257*AQ257)","v":0},null,{"$f":"IF($D257=\"\",\"\",$D257*AS257)","v":0},null,{"$f":"IF($D257=\"\",\"\",$D257*AU257)","v":0},null,{"$f":"IF($D257=\"\",\"\",$D257*AW257)","v":0},null,{"$f":"IF($D257=\"\",\"\",$D257*AY257)","v":0},null,{"$f":"IF($D257=\"\",\"\",$D257*BA257)","v":0},null,{"$f":"IF($D257=\"\",\"\",$D257*BC257)","v":0},null,{"$f":"IF($D257=\"\",\"\",$D257*BE257)","v":0},null,{"$f":"IF($D257=\"\",\"\",$D257*BG257)","v":0},null,{"$f":"IF($D257=\"\",\"\",$D257*BI257)","v":0},null,{"$f":"IF($D257=\"\",\"\",$D257*BK257)","v":0},null,{"$f":"IF($D257=\"\",\"\",$D257*BM257)","v":0},null,{"$f":"IF($D257=\"\",\"\",$D257*BO257)","v":0},null,{"$f":"IF($D257=\"\",\"\",$D257*BQ257)","v":0},null,{"$f":"IF($D257=\"\",\"\",$D257*BS257)","v":0},null,{"$f":"IF($D257=\"\",\"\",$D257*BU257)","v":0},null,{"$f":"IF($D257=\"\",\"\",$D257*BW257)","v":0},null,{"$f":"+E257+G257+I257+K257+M257+O257+Q257+S257+U257+W257+Y257+AA257+AC257+AE257+AG257+AI257+AK257+AM257+AO257+AQ257+AS257+AU257+AW257+AY257+BA257+BC257+BE257+BG257+BI257+BK257+BM257+BO257+BQ257+BS257+BU257+BW257","v":0},{"$f":"IF(D257=\"\",\"\",ROUND(F257+H257+J257+L257+N257+P257+R257+T257+V257+X257+Z257+AB257+AD257+AF257+AH257+AJ257+AL257+AN257+AP257+AR257+AT257+AV257+AX257+AZ257+BB257+BD257+BF257+BH257+BJ257+BL257+BN257+BP257+BR257+BT257+BV257+BX257,2))","v":0}]
[null,{"$f":"+PRESUPUESTO!B294","v":"AQB001"},{"$f":"IF(B258=0, \"\",VLOOKUP(B258,PRESUPUESTO!$B$17:$C$4607, 2, FALSE))","v":"CRUPE PROTECT MUROS"},{"$f":"IF(ISTEXT(B258), VLOOKUP(B258, PRESUPUESTO!$B$14:$J$4207, 9, FALSE),\"\")","v":0},null,0,null,0,null,0,null,0,null,0,null,0,null,0,null,0,null,0,null,0,null,0,null,0,null,0,null,0,null,0,null,0,null,0,null,0,null,0,null,0,null,0,null,0,null,0,null,0,null,0,null,0,null,0,null,0,null,0,null,0,null,0,null,0,null,0,null,0,null,0,null,0,null,0,0]
[null,{"$f":"+PRESUPUESTO!B295","v":"AQB002"},{"$f":"IF(B259=0, \"\",VLOOKUP(B259,PRESUPUESTO!$B$17:$C$4607, 2, FALSE))","v":"CRUPE PROTECT ENTREPISOS"},{"$f":"IF(ISTEXT(B259), VLOOKUP(B259, PRESUPUESTO!$B$14:$J$4207, 9, FALSE),\"\")","v":0},null,0,null,0,null,0,null,0,null,0,null,0,null,0,null,0,null,0,null,0,null,0,null,0,null,0,null,0,null,0,null,0,null,0,null,0,null,0,null,0,null,0,null,0,null,0,null,0,null,0,null,0,null,0,null,0,null,0,null,0,null,0,null,0,null,0,null,0,null,0,null,0,null,0,0]
[null,{"$f":"+PRESUPUESTO!B296","v":"AQB003"},{"$f":"IF(B260=0, \"\",VLOOKUP(B260,PRESUPUESTO!$B$17:$C$4607, 2, FALSE))","v":"CRUPE PROTECT CUBIERTA"},{"$f":"IF(ISTEXT(B260), VLOOKUP(B260, PRESUPUESTO!$B$14:$J$4207, 9, FALSE),\"\")","v":0},null,0,null,0,null,0,null,0,null,0,null,0,null,0,null,0,null,0,null,0,null,0,null,0,null,0,null,0,null,0,null,0,null,0,null,0,null,0,null,0,null,0,null,0,null,0,null,0,null,0,null,0,null,0,null,0,null,0,null,0,null,0,null,0,null,0,null,0,null,0,null,0,null,0,0]
[null,{"$f":"+PRESUPUESTO!B297","v":"AQC001"},{"$f":"IF(B261=0, \"\",VLOOKUP(B261,PRESUPUESTO!$B$17:$C$4607, 2, FALSE))","v":"CRUPE TERMINACION EXTERIOR MUROS"},{"$f":"IF(ISTEXT(B261), VLOOKUP(B261, PRESUPUESTO!$B$14:$J$4207, 9, FALSE),\"\")","v":0},null,0,null,0,null,0,null,0,null,0,null,0,null,0,null,0,null,0,null,0,null,0,null,0,null,0,null,0,null,0,null,0,null,0,null,0,null,0,null,0,null,0,null,0,null,0,null,0,null,0,null,0,null,0,null,0,null,0,null,0,null,0,null,0,null,0,null,0,null,0,null,0,null,0,0]
[null,{"$f":"+PRESUPUESTO!B298","v":"AQC002"},{"$f":"IF(B262=0, \"\",VLOOKUP(B262,PRESUPUESTO!$B$17:$C$4607, 2, FALSE))","v":"CRUPE TERMINACION INTERIOR MUROS"},{"$f":"IF(ISTEXT(B262), VLOOKUP(B262, PRESUPUESTO!$B$14:$J$4207, 9, FALSE),\"\")","v":0},null,0,null,0,null,0,null,0,null,0,null,0,null,0,null,0,null,0,null,0,null,0,null,0,null,0,null,0,null,0,null,0,null,0,null,0,null,0,null,0,null,0,null,0,null,0,null,0,null,0,null,0,null,0,null,0,null,0,null,0,null,0,null,0,null,0,null,0,null,0,null,0,null,0,0]
[null,{"$f":"+PRESUPUESTO!B299","v":"AQC003"},{"$f":"IF(B263=0, \"\",VLOOKUP(B263,PRESUPUESTO!$B$17:$C$4607, 2, FALSE))","v":"CRUPE TERMINACION INFERIOR ENTREPISOS"},{"$f":"IF(ISTEXT(B263), VLOOKUP(B263, PRESUPUESTO!$B$14:$J$4207, 9, FALSE),\"\")","v":0},null,0,null,0,null,0,null,0,null,0,null,0,null,0,null,0,null,0,null,0,null,0,null,0,null,0,null,0,null,0,null,0,null,0,null,0,null,0,null,0,null,0,null,0,null,0,null,0,null,0,null,0,null,0,null,0,null,0,null,0,null,0,null,0,null,0,null,0,null,0,null,0,null,0,0]
[null,{"$f":"+PRESUPUESTO!B300","v":"AQC004"},{"$f":"IF(B264=0, \"\",VLOOKUP(B264,PRESUPUESTO!$B$17:$C$4607, 2, FALSE))","v":"CRUPE TERMINACION INFERIOR CUBIERTA"},{"$f":"IF(ISTEXT(B264), VLOOKUP(B264, PRESUPUESTO!$B$14:$J$4207, 9, FALSE),\"\")","v":0},null,0,null,0,null,0,null,0,null,0,null,0,null,0,null,0,null,0,null,0,null,0,null,0,null,0,null,0,null,0,null,0,null,0,null,0,null,0,null,0,null,0,null,0,null,0,null,0,null,0,null,0,null,0,null,0,null,0,null,0,null,0,null,0,null,0,null,0,null,0,null,0,null,0,0]
[null,{"$f":"+PRESUPUESTO!B301","v":"AQD001"},{"$f":"IF(B265=0, \"\",VLOOKUP(B265,PRESUPUESTO!$B$17:$C$4607, 2, FALSE))","v":"CRUPE ESCALERAS"},{"$f":"IF(ISTEXT(B265), VLOOKUP(B265, PRESUPUESTO!$B$14:$J$4207, 9, FALSE),\"\")","v":0},null,0,null,0,null,0,null,0,null,0,null,0,null,0,null,0,null,0,null,0,null,0,null,0,null,0,null,0,null,0,null,0,null,0,null,0,null,0,null,0,null,0,null,0,null,0,null,0,null,0,null,0,null,0,null,0,null,0,null,0,null,0,null,0,null,0,null,0,null,0,null,0,null,0,0]
[null,{"$f":"+PRESUPUESTO!B303","v":"ARA001"},{"$f":"IF(B266=0, \"\",VLOOKUP(B266,PRESUPUESTO!$B$17:$C$4607, 2, FALSE))","v":"RBS PANELES VERTICALES EXTERIORES C/ AISLACION"},{"$f":"IF(ISTEXT(B266), VLOOKUP(B266, PRESUPUESTO!$B$14:$J$4207, 9, FALSE),\"\")","v":0},null,0,null,0,null,0,null,0,null,0,null,0,null,0,null,0,null,0,null,0,null,0,null,0,null,0,null,0,null,0,null,0,null,0,null,0,null,0,null,0,null,0,null,0,null,0,null,0,null,0,null,0,null,0,null,0,null,0,null,0,null,0,null,0,null,0,null,0,null,0,null,0,null,0,0]
[null,{"$f":"+PRESUPUESTO!B304","v":"ARA002"},{"$f":"IF(B267=0, \"\",VLOOKUP(B267,PRESUPUESTO!$B$17:$C$4607, 2, FALSE))","v":"RBS PANELES VERTICALES INTERIORES"},{"$f":"IF(ISTEXT(B267), VLOOKUP(B267, PRESUPUESTO!$B$14:$J$4207, 9, FALSE),\"\")","v":0},null,0,null,0,null,0,null,0,null,0,null,0,null,0,null,0,null,0,null,0,null,0,null,0,null,0,null,0,null,0,null,0,null,0,null,0,null,0,null,0,null,0,null,0,null,0,null,0,null,0,null,0,null,0,null,0,null,0,null,0,null,0,null,0,null,0,null,0,null,0,null,0,null,0,0]
[null,{"$f":"+PRESUPUESTO!B306","v":"ASA001"},{"$f":"IF(B268=0, \"\",VLOOKUP(B268,PRESUPUESTO!$B$17:$C$4607, 2, FALSE))","v":"DEFLORENCIA MUROS EXTERIORES"},{"$f":"IF(ISTEXT(B268), VLOOKUP(B268, PRESUPUESTO!$B$14:$J$4207, 9, FALSE),\"\")","v":0},null,0,null,0,null,0,null,0,null,0,null,0,null,0,null,0,null,0,null,0,null,0,null,0,null,0,null,0,null,0,null,0,null,0,null,0,null,0,null,0,null,0,null,0,null,0,null,0,null,0,null,0,null,0,null,0,null,0,null,0,null,0,null,0,null,0,null,0,null,0,null,0,null,0,0]
[null,{"$f":"+PRESUPUESTO!B307","v":"ASA002"},{"$f":"IF(B269=0, \"\",VLOOKUP(B269,PRESUPUESTO!$B$17:$C$4607, 2, FALSE))","v":"DEFLORENCIA MUROS INTERIORES"},{"$f":"IF(ISTEXT(B269), VLOOKUP(B269, PRESUPUESTO!$B$14:$J$4207, 9, FALSE),\"\")","v":0},null,0,null,0,null,0,null,0,null,0,null,0,null,0,null,0,null,0,null,0,null,0,null,0,null,0,null,0,null,0,null,0,null,0,null,0,null,0,null,0,null,0,null,0,null,0,null,0,null,0,null,0,null,0,null,0,null,0,null,0,null,0,null,0,null,0,null,0,null,0,null,0,null,0,0]
[null,{"$f":"+PRESUPUESTO!B308","v":"ASA003"},{"$f":"IF(B270=0, \"\",VLOOKUP(B270,PRESUPUESTO!$B$17:$C$4607, 2, FALSE))","v":"DEFLORENCIA MUROS MEDIANEROS"},{"$f":"IF(ISTEXT(B270), VLOOKUP(B270, PRESUPUESTO!$B$14:$J$4207, 9, FALSE),\"\")","v":0},null,0,null,0,null,0,null,0,null,0,null,0,null,0,null,0,null,0,null,0,null,0,null,0,null,0,null,0,null,0,null,0,null,0,null,0,null,0,null,0,null,0,null,0,null,0,null,0,null,0,null,0,null,0,null,0,null,0,null,0,null,0,null,0,null,0,null,0,null,0,null,0,null,0,0]
[null,{"$f":"+PRESUPUESTO!B309","v":"ASB001"},{"$f":"IF(B271=0, \"\",VLOOKUP(B271,PRESUPUESTO!$B$17:$C$4607, 2, FALSE))","v":"DEFLORENCIA LOSAS HORIZONTALES H.A."},{"$f":"IF(ISTEXT(B271), VLOOKUP(B271, PRESUPUESTO!$B$14:$J$4207, 9, FALSE),\"\")","v":0},null,0,null,0,null,0,null,0,null,0,null,0,null,0,null,0,null,0,null,0,null,0,null,0,null,0,null,0,null,0,null,0,null,0,null,0,null,0,null,0,null,0,null,0,null,0,null,0,null,0,null,0,null,0,null,0,null,0,null,0,null,0,null,0,null,0,null,0,null,0,null,0,null,0,0]
[null,{"$f":"+PRESUPUESTO!B310","v":"ASB002"},{"$f":"IF(B272=0, \"\",VLOOKUP(B272,PRESUPUESTO!$B$17:$C$4607, 2, FALSE))","v":"DEFLORENCIA LOSETA CORTAFUEGO H.A."},{"$f":"IF(ISTEXT(B272), VLOOKUP(B272, PRESUPUESTO!$B$14:$J$4207, 9, FALSE),\"\")","v":0},null,0,null,0,null,0,null,0,null,0,null,0,null,0,null,0,null,0,null,0,null,0,null,0,null,0,null,0,null,0,null,0,null,0,null,0,null,0,null,0,null,0,null,0,null,0,null,0,null,0,null,0,null,0,null,0,null,0,null,0,null,0,null,0,null,0,null,0,null,0,null,0,null,0,0]
[null,{"$f":"+PRESUPUESTO!B311","v":"ASB003"},{"$f":"IF(B273=0, \"\",VLOOKUP(B273,PRESUPUESTO!$B$17:$C$4607, 2, FALSE))","v":"DEFLORENCIA ENTREPISO H.A."},{"$f":"IF(ISTEXT(B273), VLOOKUP(B273, PRESUPUESTO!$B$14:$J$4207, 9, FALSE),\"\")","v":0},null,0,null,0,null,0,null,0,null,0,null,0,null,0,null,0,null,0,null,0,null,0,null,0,null,0,null,0,null,0,null,0,null,0,null,0,null,0,null,0,null,0,null,0,null,0,null,0,null,0,null,0,null,0,null,0,null,0,null,0,null,0,null,0,null,0,null,0,null,0,null,0,null,0,0]
[null,{"$f":"+PRESUPUESTO!B312","v":"ASB004"},{"$f":"IF(B274=0, \"\",VLOOKUP(B274,PRESUPUESTO!$B$17:$C$4607, 2, FALSE))","v":"DEFLORENCIA LOSAS DE CUBIERTA H.A."},{"$f":"IF(ISTEXT(B274), VLOOKUP(B274, PRESUPUESTO!$B$14:$J$4207, 9, FALSE),\"\")","v":0},null,0,null,0,null,0,null,0,null,0,null,0,null,0,null,0,null,0,null,0,null,0,null,0,null,0,null,0,null,0,null,0,null,0,null,0,null,0,null,0,null,0,null,0,null,0,null,0,null,0,null,0,null,0,null,0,null,0,null,0,null,0,null,0,null,0,null,0,null,0,null,0,null,0,0]
[null,{"$f":"+PRESUPUESTO!B313","v":"ASC001"},{"$f":"IF(B275=0, \"\",VLOOKUP(B275,PRESUPUESTO!$B$17:$C$4607, 2, FALSE))","v":"DEFLORENCIA ESCALERAS H.A."},{"$f":"IF(ISTEXT(B275), VLOOKUP(B275, PRESUPUESTO!$B$14:$J$4207, 9, FALSE),\"\")","v":0},null,0,null,0,null,0,null,0,null,0,null,0,null,0,null,0,null,0,null,0,null,0,null,0,null,0,null,0,null,0,null,0,null,0,null,0,null,0,null,0,null,0,null,0,null,0,null,0,null,0,null,0,null,0,null,0,null,0,null,0,null,0,null,0,null,0,null,0,null,0,null,0,null,0,0]
[null,{"$f":"+PRESUPUESTO!B315","v":"ATA001"},{"$f":"IF(B276=0, \"\",VLOOKUP(B276,PRESUPUESTO!$B$17:$C$4607, 2, FALSE))","v":"MONTFRIO (SPM) PARED EXTERIOR"},{"$f":"IF(ISTEXT(B276), VLOOKUP(B276, PRESUPUESTO!$B$14:$J$4207, 9, FALSE),\"\")","v":0},null,0,null,0,null,0,null,0,null,0,null,0,null,0,null,0,null,0,null,0,null,0,null,0,null,0,null,0,null,0,null,0,null,0,null,0,null,0,null,0,null,0,null,0,null,0,null,0,null,0,null,0,null,0,null,0,null,0,null,0,null,0,null,0,null,0,null,0,null,0,null,0,null,0,0]
[null,{"$f":"+PRESUPUESTO!B316","v":"ATA002"},{"$f":"IF(B277=0, \"\",VLOOKUP(B277,PRESUPUESTO!$B$17:$C$4607, 2, FALSE))","v":"MONTFRIO (SPM) PARED INTERIOR"},{"$f":"IF(ISTEXT(B277), VLOOKUP(B277, PRESUPUESTO!$B$14:$J$4207, 9, FALSE),\"\")","v":0},null,0,null,0,null,0,null,0,null,0,null,0,null,0,null,0,null,0,null,0,null,0,null,0,null,0,null,0,null,0,null,0,null,0,null,0,null,0,null,0,null,0,null,0,null,0,null,0,null,0,null,0,null,0,null,0,null,0,null,0,null,0,null,0,null,0,null,0,null,0,null,0,null,0,0]
[null,{"$f":"+PRESUPUESTO!B317","v":"ATB001"},{"$f":"IF(B278=0, \"\",VLOOKUP(B278,PRESUPUESTO!$B$17:$C$4607, 2, FALSE))","v":"MONTFRIO (SPM) CUBIERTA"},{"$f":"IF(ISTEXT(B278), VLOOKUP(B278, PRESUPUESTO!$B$14:$J$4207, 9, FALSE),\"\")","v":0},null,0,null,0,null,0,null,0,null,0,null,0,null,0,null,0,null,0,null,0,null,0,null,0,null,0,null,0,null,0,null,0,null,0,null,0,null,0,null,0,null,0,null,0,null,0,null,0,null,0,null,0,null,0,null,0,null,0,null,0,null,0,null,0,null,0,null,0,null,0,null,0,null,0,0]
[null,{"$f":"+PRESUPUESTO!B319","v":"AGB010"},{"$f":"IF(B279=0, \"\",VLOOKUP(B279,PRESUPUESTO!$B$17:$C$4607, 2, FALSE))","v":"AL1 CARPINTERIA DE ALUMINIO"},{"$f":"IF(ISTEXT(B279), VLOOKUP(B279, PRESUPUESTO!$B$14:$J$4207, 9, FALSE),\"\")","v":0},null,0,null,0,null,0,null,0,null,0,null,0,null,0,null,0,null,0,null,0,null,0,null,0,null,0,null,0,null,0,null,0,null,0,null,0,null,0,null,0,null,0,null,0,null,0,null,0,null,0,null,0,null,0,null,0,null,0,null,0,null,0,null,0,null,0,null,0,null,0,null,0,null,0,0]
[null,{"$f":"+PRESUPUESTO!B320","v":"AGB011"},{"$f":"IF(B280=0, \"\",VLOOKUP(B280,PRESUPUESTO!$B$17:$C$4607, 2, FALSE))","v":"AL2 CARPINTERIA DE ALUMINIO"},{"$f":"IF(ISTEXT(B280), VLOOKUP(B280, PRESUPUESTO!$B$14:$J$4207, 9, FALSE),\"\")","v":0},null,0,null,0,null,0,null,0,null,0,null,0,null,0,null,0,null,0,null,0,null,0,null,0,null,0,null,0,null,0,null,0,null,0,null,0,null,0,null,0,null,0,null,0,null,0,null,0,null,0,null,0,null,0,null,0,null,0,null,0,null,0,null,0,null,0,null,0,null,0,null,0,null,0,0]
[null,{"$f":"+PRESUPUESTO!B321","v":"AGB012"},{"$f":"IF(B281=0, \"\",VLOOKUP(B281,PRESUPUESTO!$B$17:$C$4607, 2, FALSE))","v":"AL3 CARPINTERIA DE ALUMINIO"},{"$f":"IF(ISTEXT(B281), VLOOKUP(B281, PRESUPUESTO!$B$14:$J$4207, 9, FALSE),\"\")","v":0},null,0,null,0,null,0,null,0,null,0,null,0,null,0,null,0,null,0,null,0,null,0,null,0,null,0,null,0,null,0,null,0,null,0,null,0,null,0,null,0,null,0,null,0,null,0,null,0,null,0,null,0,null,0,null,0,null,0,null,0,null,0,null,0,null,0,null,0,null,0,null,0,null,0,0]
[null,{"$f":"+PRESUPUESTO!B322","v":"AGB013"},{"$f":"IF(B282=0, \"\",VLOOKUP(B282,PRESUPUESTO!$B$17:$C$4607, 2, FALSE))","v":"AL4 CARPINTERIA DE ALUMINIO"},{"$f":"IF(ISTEXT(B282), VLOOKUP(B282, PRESUPUESTO!$B$14:$J$4207, 9, FALSE),\"\")","v":0},null,0,null,0,null,0,null,0,null,0,null,0,null,0,null,0,null,0,null,0,null,0,null,0,null,0,null,0,null,0,null,0,null,0,null,0,null,0,null,0,null,0,null,0,null,0,null,0,null,0,null,0,null,0,null,0,null,0,null,0,null,0,null,0,null,0,null,0,null,0,null,0,null,0,0]
[null,{"$f":"+PRESUPUESTO!B323","v":"AGB014"},{"$f":"IF(B283=0, \"\",VLOOKUP(B283,PRESUPUESTO!$B$17:$C$4607, 2, FALSE))","v":"AL5 CARPINTERIA DE ALUMINIO"},{"$f":"IF(ISTEXT(B283), VLOOKUP(B283, PRESUPUESTO!$B$14:$J$4207, 9, FALSE),\"\")","v":0},null,0,null,0,null,0,null,0,null,0,null,0,null,0,null,0,null,0,null,0,null,0,null,0,null,0,null,0,null,0,null,0,null,0,null,0,null,0,null,0,null,0,null,0,null,0,null,0,null,0,null,0,null,0,null,0,null,0,null,0,null,0,null,0,null,0,null,0,null,0,null,0,null,0,0]
[null,{"$f":"+PRESUPUESTO!B324","v":"AGB015"},{"$f":"IF(B284=0, \"\",VLOOKUP(B284,PRESUPUESTO!$B$17:$C$4607, 2, FALSE))","v":"AL6 CARPINTERIA DE ALUMINIO"},{"$f":"IF(ISTEXT(B284), VLOOKUP(B284, PRESUPUESTO!$B$14:$J$4207, 9, FALSE),\"\")","v":0},null,0,null,0,null,0,null,0,null,0,null,0,null,0,null,0,null,0,null,0,null,0,null,0,null,0,null,0,null,0,null,0,null,0,null,0,null,0,null,0,null,0,null,0,null,0,null,0,null,0,null,0,null,0,null,0,null,0,null,0,null,0,null,0,null,0,null,0,null,0,null,0,null,0,0]
[null,{"$f":"+PRESUPUESTO!B325","v":"AGB016"},{"$f":"IF(B285=0, \"\",VLOOKUP(B285,PRESUPUESTO!$B$17:$C$4607, 2, FALSE))","v":"AL7 CARPINTERIA DE ALUMINIO"},{"$f":"IF(ISTEXT(B285), VLOOKUP(B285, PRESUPUESTO!$B$14:$J$4207, 9, FALSE),\"\")","v":0},null,0,null,0,null,0,null,0,null,0,null,0,null,0,null,0,null,0,null,0,null,0,null,0,null,0,null,0,null,0,null,0,null,0,null,0,null,0,null,0,null,0,null,0,null,0,null,0,null,0,null,0,null,0,null,0,null,0,null,0,null,0,null,0,null,0,null,0,null,0,null,0,null,0,0]
[null,{"$f":"+PRESUPUESTO!B326","v":"AGB017"},{"$f":"IF(B286=0, \"\",VLOOKUP(B286,PRESUPUESTO!$B$17:$C$4607, 2, FALSE))","v":"AL8 CARPINTERIA DE ALUMINIO"},{"$f":"IF(ISTEXT(B286), VLOOKUP(B286, PRESUPUESTO!$B$14:$J$4207, 9, FALSE),\"\")","v":0},null,0,null,0,null,0,null,0,null,0,null,0,null,0,null,0,null,0,null,0,null,0,null,0,null,0,null,0,null,0,null,0,null,0,null,0,null,0,null,0,null,0,null,0,null,0,null,0,null,0,null,0,null,0,null,0,null,0,null,0,null,0,null,0,null,0,null,0,null,0,null,0,null,0,0]
[null,{"$f":"+PRESUPUESTO!B327","v":"AGB018"},{"$f":"IF(B287=0, \"\",VLOOKUP(B287,PRESUPUESTO!$B$17:$C$4607, 2, FALSE))","v":"AL9 CARPINTERIA DE ALUMINIO"},{"$f":"IF(ISTEXT(B287), VLOOKUP(B287, PRESUPUESTO!$B$14:$J$4207, 9, FALSE),\"\")","v":0},null,0,null,0,null,0,null,0,null,0,null,0,null,0,null,0,null,0,null,0,null,0,null,0,null,0,null,0,null,0,null,0,null,0,null,0,null,0,null,0,null,0,null,0,null,0,null,0,null,0,null,0,null,0,null,0,null,0,null,0,null,0,null,0,null,0,null,0,null,0,null,0,null,0,0]
[null,{"$f":"+PRESUPUESTO!B328","v":"AGB019"},{"$f":"IF(B288=0, \"\",VLOOKUP(B288,PRESUPUESTO!$B$17:$C$4607, 2, FALSE))","v":"AL10 CARPINTERIA DE ALUMINIO"},{"$f":"IF(ISTEXT(B288), VLOOKUP(B288, PRESUPUESTO!$B$14:$J$4207, 9, FALSE),\"\")","v":0},null,0,null,0,null,0,null,0,null,0,null,0,null,0,null,0,null,0,null,0,null,0,null,0,null,0,null,0,null,0,null,0,null,0,null,0,null,0,null,0,null,0,null,0,null,0,null,0,null,0,null,0,null,0,null,0,null,0,null,0,null,0,null,0,null,0,null,0,null,0,null,0,null,0,0]
[null,{"$f":"+PRESUPUESTO!B329","v":"AGB020"},{"$f":"IF(B289=0, \"\",VLOOKUP(B289,PRESUPUESTO!$B$17:$C$4607, 2, FALSE))","v":"AL11 CARPINTERIA DE ALUMINIO"},{"$f":"IF(ISTEXT(B289), VLOOKUP(B289, PRESUPUESTO!$B$14:$J$4207, 9, FALSE),\"\")","v":0},null,0,null,0,null,0,null,0,null,0,null,0,null,0,null,0,null,0,null,0,null,0,null,0,null,0,null,0,null,0,null,0,null,0,null,0,null,0,null,0,null,0,null,0,null,0,null,0,null,0,null,0,null,0,null,0,null,0,null,0,null,0,null,0,null,0,null,0,null,0,null,0,null,0,0]
[null,{"$f":"+PRESUPUESTO!B330","v":"AGB021"},{"$f":"IF(B290=0, \"\",VLOOKUP(B290,PRESUPUESTO!$B$17:$C$4607, 2, FALSE))","v":"AL12 CARPINTERIA DE ALUMINIO"},{"$f":"IF(ISTEXT(B290), VLOOKUP(B290, PRESUPUESTO!$B$14:$J$4207, 9, FALSE),\"\")","v":0},null,0,null,0,null,0,null,0,null,0,null,0,null,0,null,0,null,0,null,0,null,0,null,0,null,0,null,0,null,0,null,0,null,0,null,0,null,0,null,0,null,0,null,0,null,0,null,0,null,0,null,0,null,0,null,0,null,0,null,0,null,0,null,0,null,0,null,0,null,0,null,0,null,0,0]
[null,{"$f":"+PRESUPUESTO!B331","v":"AGB022"},{"$f":"IF(B291=0, \"\",VLOOKUP(B291,PRESUPUESTO!$B$17:$C$4607, 2, FALSE))","v":"AL13 CARPINTERIA DE ALUMINIO"},{"$f":"IF(ISTEXT(B291), VLOOKUP(B291, PRESUPUESTO!$B$14:$J$4207, 9, FALSE),\"\")","v":0},null,0,null,0,null,0,null,0,null,0,null,0,null,0,null,0,null,0,null,0,null,0,null,0,null,0,null,0,null,0,null,0,null,0,null,0,null,0,null,0,null,0,null,0,null,0,null,0,null,0,null,0,null,0,null,0,null,0,null,0,null,0,null,0,null,0,null,0,null,0,null,0,null,0,0]
[null,{"$f":"+PRESUPUESTO!B332","v":"AGB023"},{"$f":"IF(B292=0, \"\",VLOOKUP(B292,PRESUPUESTO!$B$17:$C$4607, 2, FALSE))","v":"AL14 CARPINTERIA DE ALUMINIO"},{"$f":"IF(ISTEXT(B292), VLOOKUP(B292, PRESUPUESTO!$B$14:$J$4207, 9, FALSE),\"\")","v":0},null,0,null,0,null,0,null,0,null,0,null,0,null,0,null,0,null,0,null,0,null,0,null,0,null,0,null,0,null,0,null,0,null,0,null,0,null,0,null,0,null,0,null,0,null,0,null,0,null,0,null,0,null,0,null,0,null,0,null,0,null,0,null,0,null,0,null,0,null,0,null,0,null,0,0]
[null,{"$f":"+PRESUPUESTO!B333","v":"AGB024"},{"$f":"IF(B293=0, \"\",VLOOKUP(B293,PRESUPUESTO!$B$17:$C$4607, 2, FALSE))","v":"AL15 CARPINTERIA DE ALUMINIO"},{"$f":"IF(ISTEXT(B293), VLOOKUP(B293, PRESUPUESTO!$B$14:$J$4207, 9, FALSE),\"\")","v":0},null,0,null,0,null,0,null,0,null,0,null,0,null,0,null,0,null,0,null,0,null,0,null,0,null,0,null,0,null,0,null,0,null,0,null,0,null,0,null,0,null,0,null,0,null,0,null,0,null,0,null,0,null,0,null,0,null,0,null,0,null,0,null,0,null,0,null,0,null,0,null,0,null,0,0]
[null,{"$f":"+PRESUPUESTO!B334","v":"AGB025"},{"$f":"IF(B294=0, \"\",VLOOKUP(B294,PRESUPUESTO!$B$17:$C$4607, 2, FALSE))","v":"AL16 CARPINTERIA DE ALUMINIO"},{"$f":"IF(ISTEXT(B294), VLOOKUP(B294, PRESUPUESTO!$B$14:$J$4207, 9, FALSE),\"\")","v":0},null,0,null,0,null,0,null,0,null,0,null,0,null,0,null,0,null,0,null,0,null,0,null,0,null,0,null,0,null,0,null,0,null,0,null,0,null,0,null,0,null,0,null,0,null,0,null,0,null,0,null,0,null,0,null,0,null,0,null,0,null,0,null,0,null,0,null,0,null,0,null,0,null,0,0]
[null,{"$f":"+PRESUPUESTO!B335","v":"AGB026"},{"$f":"IF(B295=0, \"\",VLOOKUP(B295,PRESUPUESTO!$B$17:$C$4607, 2, FALSE))","v":"AL17 CARPINTERIA DE ALUMINIO"},{"$f":"IF(ISTEXT(B295), VLOOKUP(B295, PRESUPUESTO!$B$14:$J$4207, 9, FALSE),\"\")","v":0},null,0,null,0,null,0,null,0,null,0,null,0,null,0,null,0,null,0,null,0,null,0,null,0,null,0,null,0,null,0,null,0,null,0,null,0,null,0,null,0,null,0,null,0,null,0,null,0,null,0,null,0,null,0,null,0,null,0,null,0,null,0,null,0,null,0,null,0,null,0,null,0,null,0,0]
[null,{"$f":"+PRESUPUESTO!B336","v":"AGB027"},{"$f":"IF(B296=0, \"\",VLOOKUP(B296,PRESUPUESTO!$B$17:$C$4607, 2, FALSE))","v":"AL18 CARPINTERIA DE ALUMINIO"},{"$f":"IF(ISTEXT(B296), VLOOKUP(B296, PRESUPUESTO!$B$14:$J$4207, 9, FALSE),\"\")","v":0},null,0,null,0,null,0,null,0,null,0,null,0,null,0,null,0,null,0,null,0,null,0,null,0,null,0,null,0,null,0,null,0,null,0,null,0,null,0,null,0,null,0,null,0,null,0,null,0,null,0,null,0,null,0,null,0,null,0,null,0,null,0,null,0,null,0,null,0,null,0,null,0,null,0,0]
[null,{"$f":"+PRESUPUESTO!B337","v":"AGB028"},{"$f":"IF(B297=0, \"\",VLOOKUP(B297,PRESUPUESTO!$B$17:$C$4607, 2, FALSE))","v":"AL19 CARPINTERIA DE ALUMINIO"},{"$f":"IF(ISTEXT(B297), VLOOKUP(B297, PRESUPUESTO!$B$14:$J$4207, 9, FALSE),\"\")","v":0},null,0,null,0,null,0,null,0,null,0,null,0,null,0,null,0,null,0,null,0,null,0,null,0,null,0,null,0,null,0,null,0,null,0,null,0,null,0,null,0,null,0,null,0,null,0,null,0,null,0,null,0,null,0,null,0,null,0,null,0,null,0,null,0,null,0,null,0,null,0,null,0,null,0,0]
[null,{"$f":"+PRESUPUESTO!B338","v":"AGB029"},{"$f":"IF(B298=0, \"\",VLOOKUP(B298,PRESUPUESTO!$B$17:$C$4607, 2, FALSE))","v":"AL20 CARPINTERIA DE ALUMINIO"},{"$f":"IF(ISTEXT(B298), VLOOKUP(B298, PRESUPUESTO!$B$14:$J$4207, 9, FALSE),\"\")","v":0},null,0,null,0,null,0,null,0,null,0,null,0,null,0,null,0,null,0,null,0,null,0,null,0,null,0,null,0,null,0,null,0,null,0,null,0,null,0,null,0,null,0,null,0,null,0,null,0,null,0,null,0,null,0,null,0,null,0,null,0,null,0,null,0,null,0,null,0,null,0,null,0,null,0,0]
[null,{"$f":"+PRESUPUESTO!B339","v":"AND002"},{"$f":"IF(B299=0, \"\",VLOOKUP(B299,PRESUPUESTO!$B$17:$C$4607, 2, FALSE))","v":"COLOCACION DE ABERTURAS DE ALUMINIO"},{"$f":"IF(ISTEXT(B299), VLOOKUP(B299, PRESUPUESTO!$B$14:$J$4207, 9, FALSE),\"\")","v":0},null,0,null,0,null,0,null,0,null,0,null,0,null,0,null,0,null,0,null,0,null,0,null,0,null,0,null,0,null,0,null,0,null,0,null,0,null,0,null,0,null,0,null,0,null,0,null,0,null,0,null,0,null,0,null,0,null,0,null,0,null,0,null,0,null,0,null,0,null,0,null,0,null,0,0]
[null,{"$f":"+PRESUPUESTO!B341","v":"AGA008"},{"$f":"IF(B300=0, \"\",VLOOKUP(B300,PRESUPUESTO!$B$17:$C$4607, 2, FALSE))","v":"C1 CARPINTERIA DE MADERA"},{"$f":"IF(ISTEXT(B300), VLOOKUP(B300, PRESUPUESTO!$B$14:$J$4207, 9, FALSE),\"\")","v":0},null,0,null,0,null,0,null,0,null,0,null,0,null,0,null,0,null,0,null,0,null,0,null,0,null,0,null,0,null,0,null,0,null,0,null,0,null,0,null,0,null,0,null,0,null,0,null,0,null,0,null,0,null,0,null,0,null,0,null,0,null,0,null,0,null,0,null,0,null,0,null,0,null,0,0]
[null,{"$f":"+PRESUPUESTO!B342","v":"AGA009"},{"$f":"IF(B301=0, \"\",VLOOKUP(B301,PRESUPUESTO!$B$17:$C$4607, 2, FALSE))","v":"C2 CARPINTERIA DE MADERA"},{"$f":"IF(ISTEXT(B301), VLOOKUP(B301, PRESUPUESTO!$B$14:$J$4207, 9, FALSE),\"\")","v":0},null,0,null,0,null,0,null,0,null,0,null,0,null,0,null,0,null,0,null,0,null,0,null,0,null,0,null,0,null,0,null,0,null,0,null,0,null,0,null,0,null,0,null,0,null,0,null,0,null,0,null,0,null,0,null,0,null,0,null,0,null,0,null,0,null,0,null,0,null,0,null,0,null,0,0]
[null,{"$f":"+PRESUPUESTO!B343","v":"AGA010"},{"$f":"IF(B302=0, \"\",VLOOKUP(B302,PRESUPUESTO!$B$17:$C$4607, 2, FALSE))","v":"C3 CARPINTERIA DE MADERA"},{"$f":"IF(ISTEXT(B302), VLOOKUP(B302, PRESUPUESTO!$B$14:$J$4207, 9, FALSE),\"\")","v":0},null,0,null,0,null,0,null,0,null,0,null,0,null,0,null,0,null,0,null,0,null,0,null,0,null,0,null,0,null,0,null,0,null,0,null,0,null,0,null,0,null,0,null,0,null,0,null,0,null,0,null,0,null,0,null,0,null,0,null,0,null,0,null,0,null,0,null,0,null,0,null,0,null,0,0]
[null,{"$f":"+PRESUPUESTO!B344","v":"AGA011"},{"$f":"IF(B303=0, \"\",VLOOKUP(B303,PRESUPUESTO!$B$17:$C$4607, 2, FALSE))","v":"C4 CARPINTERIA DE MADERA"},{"$f":"IF(ISTEXT(B303), VLOOKUP(B303, PRESUPUESTO!$B$14:$J$4207, 9, FALSE),\"\")","v":0},null,0,null,0,null,0,null,0,null,0,null,0,null,0,null,0,null,0,null,0,null,0,null,0,null,0,null,0,null,0,null,0,null,0,null,0,null,0,null,0,null,0,null,0,null,0,null,0,null,0,null,0,null,0,null,0,null,0,null,0,null,0,null,0,null,0,null,0,null,0,null,0,null,0,0]
[null,{"$f":"+PRESUPUESTO!B345","v":"AGA012"},{"$f":"IF(B304=0, \"\",VLOOKUP(B304,PRESUPUESTO!$B$17:$C$4607, 2, FALSE))","v":"C5 CARPINTERIA DE MADERA"},{"$f":"IF(ISTEXT(B304), VLOOKUP(B304, PRESUPUESTO!$B$14:$J$4207, 9, FALSE),\"\")","v":0},null,0,null,0,null,0,null,0,null,0,null,0,null,0,null,0,null,0,null,0,null,0,null,0,null,0,null,0,null,0,null,0,null,0,null,0,null,0,null,0,null,0,null,0,null,0,null,0,null,0,null,0,null,0,null,0,null,0,null,0,null,0,null,0,null,0,null,0,null,0,null,0,null,0,0]
[null,{"$f":"+PRESUPUESTO!B346","v":"AGA013"},{"$f":"IF(B305=0, \"\",VLOOKUP(B305,PRESUPUESTO!$B$17:$C$4607, 2, FALSE))","v":"C6 CARPINTERIA DE MADERA"},{"$f":"IF(ISTEXT(B305), VLOOKUP(B305, PRESUPUESTO!$B$14:$J$4207, 9, FALSE),\"\")","v":0},null,0,null,0,null,0,null,0,null,0,null,0,null,0,null,0,null,0,null,0,null,0,null,0,null,0,null,0,null,0,null,0,null,0,null,0,null,0,null,0,null,0,null,0,null,0,null,0,null,0,null,0,null,0,null,0,null,0,null,0,null,0,null,0,null,0,null,0,null,0,null,0,null,0,0]
[null,{"$f":"+PRESUPUESTO!B347","v":"AGA014"},{"$f":"IF(B306=0, \"\",VLOOKUP(B306,PRESUPUESTO!$B$17:$C$4607, 2, FALSE))","v":"C7 CARPINTERIA DE MADERA"},{"$f":"IF(ISTEXT(B306), VLOOKUP(B306, PRESUPUESTO!$B$14:$J$4207, 9, FALSE),\"\")","v":0},null,0,null,0,null,0,null,0,null,0,null,0,null,0,null,0,null,0,null,0,null,0,null,0,null,0,null,0,null,0,null,0,null,0,null,0,null,0,null,0,null,0,null,0,null,0,null,0,null,0,null,0,null,0,null,0,null,0,null,0,null,0,null,0,null,0,null,0,null,0,null,0,null,0,0]
[null,{"$f":"+PRESUPUESTO!B348","v":"AGA015"},{"$f":"IF(B307=0, \"\",VLOOKUP(B307,PRESUPUESTO!$B$17:$C$4607, 2, FALSE))","v":"C8 CARPINTERIA DE MADERA"},{"$f":"IF(ISTEXT(B307), VLOOKUP(B307, PRESUPUESTO!$B$14:$J$4207, 9, FALSE),\"\")","v":0},null,0,null,0,null,0,null,0,null,0,null,0,null,0,null,0,null,0,null,0,null,0,null,0,null,0,null,0,null,0,null,0,null,0,null,0,null,0,null,0,null,0,null,0,null,0,null,0,null,0,null,0,null,0,null,0,null,0,null,0,null,0,null,0,null,0,null,0,null,0,null,0,null,0,0]
[null,{"$f":"+PRESUPUESTO!B349","v":"AGA016"},{"$f":"IF(B308=0, \"\",VLOOKUP(B308,PRESUPUESTO!$B$17:$C$4607, 2, FALSE))","v":"C9 CARPINTERIA DE MADERA"},{"$f":"IF(ISTEXT(B308), VLOOKUP(B308, PRESUPUESTO!$B$14:$J$4207, 9, FALSE),\"\")","v":0},null,0,null,0,null,0,null,0,null,0,null,0,null,0,null,0,null,0,null,0,null,0,null,0,null,0,null,0,null,0,null,0,null,0,null,0,null,0,null,0,null,0,null,0,null,0,null,0,null,0,null,0,null,0,null,0,null,0,null,0,null,0,null,0,null,0,null,0,null,0,null,0,null,0,0]
[null,{"$f":"+PRESUPUESTO!B350","v":"AGA017"},{"$f":"IF(B309=0, \"\",VLOOKUP(B309,PRESUPUESTO!$B$17:$C$4607, 2, FALSE))","v":"C10 CARPINTERIA DE MADERA"},{"$f":"IF(ISTEXT(B309), VLOOKUP(B309, PRESUPUESTO!$B$14:$J$4207, 9, FALSE),\"\")","v":0},null,0,null,0,null,0,null,0,null,0,null,0,null,0,null,0,null,0,null,0,null,0,null,0,null,0,null,0,null,0,null,0,null,0,null,0,null,0,null,0,null,0,null,0,null,0,null,0,null,0,null,0,null,0,null,0,null,0,null,0,null,0,null,0,null,0,null,0,null,0,null,0,null,0,0]
[null,{"$f":"+PRESUPUESTO!B351","v":"AGA018"},{"$f":"IF(B310=0, \"\",VLOOKUP(B310,PRESUPUESTO!$B$17:$C$4607, 2, FALSE))","v":"C11 CARPINTERIA DE MADERA"},{"$f":"IF(ISTEXT(B310), VLOOKUP(B310, PRESUPUESTO!$B$14:$J$4207, 9, FALSE),\"\")","v":0},null,0,null,0,null,0,null,0,null,0,null,0,null,0,null,0,null,0,null,0,null,0,null,0,null,0,null,0,null,0,null,0,null,0,null,0,null,0,null,0,null,0,null,0,null,0,null,0,null,0,null,0,null,0,null,0,null,0,null,0,null,0,null,0,null,0,null,0,null,0,null,0,null,0,0]
[null,{"$f":"+PRESUPUESTO!B352","v":"AGA019"},{"$f":"IF(B311=0, \"\",VLOOKUP(B311,PRESUPUESTO!$B$17:$C$4607, 2, FALSE))","v":"C12 CARPINTERIA DE MADERA"},{"$f":"IF(ISTEXT(B311), VLOOKUP(B311, PRESUPUESTO!$B$14:$J$4207, 9, FALSE),\"\")","v":0},null,0,null,0,null,0,null,0,null,0,null,0,null,0,null,0,null,0,null,0,null,0,null,0,null,0,null,0,null,0,null,0,null,0,null,0,null,0,null,0,null,0,null,0,null,0,null,0,null,0,null,0,null,0,null,0,null,0,null,0,null,0,null,0,null,0,null,0,null,0,null,0,null,0,0]
[null,{"$f":"+PRESUPUESTO!B353","v":"AGA020"},{"$f":"IF(B312=0, \"\",VLOOKUP(B312,PRESUPUESTO!$B$17:$C$4607, 2, FALSE))","v":"C13 CARPINTERIA DE MADERA"},{"$f":"IF(ISTEXT(B312), VLOOKUP(B312, PRESUPUESTO!$B$14:$J$4207, 9, FALSE),\"\")","v":0},null,0,null,0,null,0,null,0,null,0,null,0,null,0,null,0,null,0,null,0,null,0,null,0,null,0,null,0,null,0,null,0,null,0,null,0,null,0,null,0,null,0,null,0,null,0,null,0,null,0,null,0,null,0,null,0,null,0,null,0,null,0,null,0,null,0,null,0,null,0,null,0,null,0,0]
[null,{"$f":"+PRESUPUESTO!B354","v":"AGA021"},{"$f":"IF(B313=0, \"\",VLOOKUP(B313,PRESUPUESTO!$B$17:$C$4607, 2, FALSE))","v":"C14 CARPINTERIA DE MADERA"},{"$f":"IF(ISTEXT(B313), VLOOKUP(B313, PRESUPUESTO!$B$14:$J$4207, 9, FALSE),\"\")","v":0},null,0,null,0,null,0,null,0,null,0,null,0,null,0,null,0,null,0,null,0,null,0,null,0,null,0,null,0,null,0,null,0,null,0,null,0,null,0,null,0,null,0,null,0,null,0,null,0,null,0,null,0,null,0,null,0,null,0,null,0,null,0,null,0,null,0,null,0,null,0,null,0,null,0,0]
[null,{"$f":"+PRESUPUESTO!B355","v":"AGA022"},{"$f":"IF(B314=0, \"\",VLOOKUP(B314,PRESUPUESTO!$B$17:$C$4607, 2, FALSE))","v":"C15 CARPINTERIA DE MADERA"},{"$f":"IF(ISTEXT(B314), VLOOKUP(B314, PRESUPUESTO!$B$14:$J$4207, 9, FALSE),\"\")","v":0},null,0,null,0,null,0,null,0,null,0,null,0,null,0,null,0,null,0,null,0,null,0,null,0,null,0,null,0,null,0,null,0,null,0,null,0,null,0,null,0,null,0,null,0,null,0,null,0,null,0,null,0,null,0,null,0,null,0,null,0,null,0,null,0,null,0,null,0,null,0,null,0,null,0,0]
[null,{"$f":"+PRESUPUESTO!B356","v":"AGA023"},{"$f":"IF(B315=0, \"\",VLOOKUP(B315,PRESUPUESTO!$B$17:$C$4607, 2, FALSE))","v":"C16 CARPINTERIA DE MADERA"},{"$f":"IF(ISTEXT(B315), VLOOKUP(B315, PRESUPUESTO!$B$14:$J$4207, 9, FALSE),\"\")","v":0},null,0,null,0,null,0,null,0,null,0,null,0,null,0,null,0,null,0,null,0,null,0,null,0,null,0,null,0,null,0,null,0,null,0,null,0,null,0,null,0,null,0,null,0,null,0,null,0,null,0,null,0,null,0,null,0,null,0,null,0,null,0,null,0,null,0,null,0,null,0,null,0,null,0,0]
[null,{"$f":"+PRESUPUESTO!B357","v":"AGA024"},{"$f":"IF(B316=0, \"\",VLOOKUP(B316,PRESUPUESTO!$B$17:$C$4607, 2, FALSE))","v":"C17 CARPINTERIA DE MADERA"},{"$f":"IF(ISTEXT(B316), VLOOKUP(B316, PRESUPUESTO!$B$14:$J$4207, 9, FALSE),\"\")","v":0},null,{"$f":"IF($D316=\"\",\"\",$D316*E316)","v":0},null,{"$f":"IF($D316=\"\",\"\",$D316*G316)","v":0},null,{"$f":"IF($D316=\"\",\"\",$D316*I316)","v":0},null,{"$f":"IF($D316=\"\",\"\",$D316*K316)","v":0},null,{"$f":"IF($D316=\"\",\"\",$D316*M316)","v":0},null,{"$f":"IF($D316=\"\",\"\",$D316*O316)","v":0},null,{"$f":"IF($D316=\"\",\"\",$D316*Q316)","v":0},null,{"$f":"IF($D316=\"\",\"\",$D316*S316)","v":0},null,{"$f":"IF($D316=\"\",\"\",$D316*U316)","v":0},null,{"$f":"IF($D316=\"\",\"\",$D316*W316)","v":0},null,{"$f":"IF($D316=\"\",\"\",$D316*Y316)","v":0},null,{"$f":"IF($D316=\"\",\"\",$D316*AA316)","v":0},null,{"$f":"IF($D316=\"\",\"\",$D316*AC316)","v":0},null,{"$f":"IF($D316=\"\",\"\",$D316*AE316)","v":0},null,{"$f":"IF($D316=\"\",\"\",$D316*AG316)","v":0},null,{"$f":"IF($D316=\"\",\"\",$D316*AI316)","v":0},null,{"$f":"IF($D316=\"\",\"\",$D316*AK316)","v":0},null,{"$f":"IF($D316=\"\",\"\",$D316*AM316)","v":0},null,{"$f":"IF($D316=\"\",\"\",$D316*AO316)","v":0},null,{"$f":"IF($D316=\"\",\"\",$D316*AQ316)","v":0},null,{"$f":"IF($D316=\"\",\"\",$D316*AS316)","v":0},null,{"$f":"IF($D316=\"\",\"\",$D316*AU316)","v":0},null,{"$f":"IF($D316=\"\",\"\",$D316*AW316)","v":0},null,{"$f":"IF($D316=\"\",\"\",$D316*AY316)","v":0},null,{"$f":"IF($D316=\"\",\"\",$D316*BA316)","v":0},null,{"$f":"IF($D316=\"\",\"\",$D316*BC316)","v":0},null,{"$f":"IF($D316=\"\",\"\",$D316*BE316)","v":0},null,{"$f":"IF($D316=\"\",\"\",$D316*BG316)","v":0},null,{"$f":"IF($D316=\"\",\"\",$D316*BI316)","v":0},null,{"$f":"IF($D316=\"\",\"\",$D316*BK316)","v":0},null,{"$f":"IF($D316=\"\",\"\",$D316*BM316)","v":0},null,{"$f":"IF($D316=\"\",\"\",$D316*BO316)","v":0},null,{"$f":"IF($D316=\"\",\"\",$D316*BQ316)","v":0},null,{"$f":"IF($D316=\"\",\"\",$D316*BS316)","v":0},null,{"$f":"IF($D316=\"\",\"\",$D316*BU316)","v":0},null,{"$f":"IF($D316=\"\",\"\",$D316*BW316)","v":0},null,{"$f":"+E316+G316+I316+K316+M316+O316+Q316+S316+U316+W316+Y316+AA316+AC316+AE316+AG316+AI316+AK316+AM316+AO316+AQ316+AS316+AU316+AW316+AY316+BA316+BC316+BE316+BG316+BI316+BK316+BM316+BO316+BQ316+BS316+BU316+BW316","v":0},{"$f":"IF(D316=\"\",\"\",ROUND(F316+H316+J316+L316+N316+P316+R316+T316+V316+X316+Z316+AB316+AD316+AF316+AH316+AJ316+AL316+AN316+AP316+AR316+AT316+AV316+AX316+AZ316+BB316+BD316+BF316+BH316+BJ316+BL316+BN316+BP316+BR316+BT316+BV316+BX316,2))","v":0}]
[null,{"$f":"+PRESUPUESTO!B358","v":"AGA025"},{"$f":"IF(B317=0, \"\",VLOOKUP(B317,PRESUPUESTO!$B$17:$C$4607, 2, FALSE))","v":"C18 CARPINTERIA DE MADERA"},{"$f":"IF(ISTEXT(B317), VLOOKUP(B317, PRESUPUESTO!$B$14:$J$4207, 9, FALSE),\"\")","v":0},null,0,null,0,null,0,null,0,null,0,null,0,null,0,null,0,null,0,null,0,null,0,null,0,null,0,null,0,null,0,null,0,null,0,null,0,null,0,null,0,null,0,null,0,null,0,null,0,null,0,null,0,null,0,null,0,null,0,null,0,null,0,null,0,null,0,null,0,null,0,null,0,null,0,0]
[null,{"$f":"+PRESUPUESTO!B359","v":"AGA026"},{"$f":"IF(B318=0, \"\",VLOOKUP(B318,PRESUPUESTO!$B$17:$C$4607, 2, FALSE))","v":"C19 CARPINTERIA DE MADERA"},{"$f":"IF(ISTEXT(B318), VLOOKUP(B318, PRESUPUESTO!$B$14:$J$4207, 9, FALSE),\"\")","v":0},null,0,null,0,null,0,null,0,null,0,null,0,null,0,null,0,null,0,null,0,null,0,null,0,null,0,null,0,null,0,null,0,null,0,null,0,null,0,null,0,null,0,null,0,null,0,null,0,null,0,null,0,null,0,null,0,null,0,null,0,null,0,null,0,null,0,null,0,null,0,null,0,null,0,0]
[null,{"$f":"+PRESUPUESTO!B360","v":"AGA027"},{"$f":"IF(B319=0, \"\",VLOOKUP(B319,PRESUPUESTO!$B$17:$C$4607, 2, FALSE))","v":"C20 CARPINTERIA DE MADERA"},{"$f":"IF(ISTEXT(B319), VLOOKUP(B319, PRESUPUESTO!$B$14:$J$4207, 9, FALSE),\"\")","v":0},null,0,null,0,null,0,null,0,null,0,null,0,null,0,null,0,null,0,null,0,null,0,null,0,null,0,null,0,null,0,null,0,null,0,null,0,null,0,null,0,null,0,null,0,null,0,null,0,null,0,null,0,null,0,null,0,null,0,null,0,null,0,null,0,null,0,null,0,null,0,null,0,null,0,0]
[null,{"$f":"+PRESUPUESTO!B361","v":"AND004 "},{"$f":"IF(B320=0, \"\",VLOOKUP(B320,PRESUPUESTO!$B$17:$C$4607, 2, FALSE))","v":"COLOCACION DE ABERTURAS DE MADERA"},{"$f":"IF(ISTEXT(B320), VLOOKUP(B320, PRESUPUESTO!$B$14:$J$4207, 9, FALSE),\"\")","v":0},null,0,null,0,null,0,null,0,null,0,null,0,null,0,null,0,null,0,null,0,null,0,null,0,null,0,null,0,null,0,null,0,null,0,null,0,null,0,null,0,null,0,null,0,null,0,null,0,null,0,null,0,null,0,null,0,null,0,null,0,null,0,null,0,null,0,null,0,null,0,null,0,null,0,0]
[null,{"$f":"+PRESUPUESTO!B363","v":"AGC011"},{"$f":"IF(B321=0, \"\",VLOOKUP(B321,PRESUPUESTO!$B$17:$C$4607, 2, FALSE))","v":"H1 CARPINTERIA DE HIERRO"},{"$f":"IF(ISTEXT(B321), VLOOKUP(B321, PRESUPUESTO!$B$14:$J$4207, 9, FALSE),\"\")","v":0},null,0,null,0,null,0,null,0,null,0,null,0,null,0,null,0,null,0,null,0,null,0,null,0,null,0,null,0,null,0,null,0,null,0,null,0,null,0,null,0,null,0,null,0,null,0,null,0,null,0,null,0,null,0,null,0,null,0,null,0,null,0,null,0,null,0,null,0,null,0,null,0,null,0,0]
[null,{"$f":"+PRESUPUESTO!B364","v":"AGC012"},{"$f":"IF(B322=0, \"\",VLOOKUP(B322,PRESUPUESTO!$B$17:$C$4607, 2, FALSE))","v":"H2 CARPINTERIA DE HIERRO"},{"$f":"IF(ISTEXT(B322), VLOOKUP(B322, PRESUPUESTO!$B$14:$J$4207, 9, FALSE),\"\")","v":0},null,0,null,0,null,0,null,0,null,0,null,0,null,0,null,0,null,0,null,0,null,0,null,0,null,0,null,0,null,0,null,0,null,0,null,0,null,0,null,0,null,0,null,0,null,0,null,0,null,0,null,0,null,0,null,0,null,0,null,0,null,0,null,0,null,0,null,0,null,0,null,0,null,0,0]
[null,{"$f":"+PRESUPUESTO!B365","v":"AGC013"},{"$f":"IF(B323=0, \"\",VLOOKUP(B323,PRESUPUESTO!$B$17:$C$4607, 2, FALSE))","v":"H3 CARPINTERIA DE HIERRO"},{"$f":"IF(ISTEXT(B323), VLOOKUP(B323, PRESUPUESTO!$B$14:$J$4207, 9, FALSE),\"\")","v":0},null,0,null,0,null,0,null,0,null,0,null,0,null,0,null,0,null,0,null,0,null,0,null,0,null,0,null,0,null,0,null,0,null,0,null,0,null,0,null,0,null,0,null,0,null,0,null,0,null,0,null,0,null,0,null,0,null,0,null,0,null,0,null,0,null,0,null,0,null,0,null,0,null,0,0]
[null,{"$f":"+PRESUPUESTO!B366","v":"AGC014"},{"$f":"IF(B324=0, \"\",VLOOKUP(B324,PRESUPUESTO!$B$17:$C$4607, 2, FALSE))","v":"H4 CARPINTERIA DE HIERRO"},{"$f":"IF(ISTEXT(B324), VLOOKUP(B324, PRESUPUESTO!$B$14:$J$4207, 9, FALSE),\"\")","v":0},null,0,null,0,null,0,null,0,null,0,null,0,null,0,null,0,null,0,null,0,null,0,null,0,null,0,null,0,null,0,null,0,null,0,null,0,null,0,null,0,null,0,null,0,null,0,null,0,null,0,null,0,null,0,null,0,null,0,null,0,null,0,null,0,null,0,null,0,null,0,null,0,null,0,0]
[null,{"$f":"+PRESUPUESTO!B367","v":"AGC015"},{"$f":"IF(B325=0, \"\",VLOOKUP(B325,PRESUPUESTO!$B$17:$C$4607, 2, FALSE))","v":"H5 CARPINTERIA DE HIERRO"},{"$f":"IF(ISTEXT(B325), VLOOKUP(B325, PRESUPUESTO!$B$14:$J$4207, 9, FALSE),\"\")","v":0},null,0,null,0,null,0,null,0,null,0,null,0,null,0,null,0,null,0,null,0,null,0,null,0,null,0,null,0,null,0,null,0,null,0,null,0,null,0,null,0,null,0,null,0,null,0,null,0,null,0,null,0,null,0,null,0,null,0,null,0,null,0,null,0,null,0,null,0,null,0,null,0,null,0,0]
[null,{"$f":"+PRESUPUESTO!B368","v":"AGC016"},{"$f":"IF(B326=0, \"\",VLOOKUP(B326,PRESUPUESTO!$B$17:$C$4607, 2, FALSE))","v":"H6 CARPINTERIA DE HIERRO"},{"$f":"IF(ISTEXT(B326), VLOOKUP(B326, PRESUPUESTO!$B$14:$J$4207, 9, FALSE),\"\")","v":0},null,0,null,0,null,0,null,0,null,0,null,0,null,0,null,0,null,0,null,0,null,0,null,0,null,0,null,0,null,0,null,0,null,0,null,0,null,0,null,0,null,0,null,0,null,0,null,0,null,0,null,0,null,0,null,0,null,0,null,0,null,0,null,0,null,0,null,0,null,0,null,0,null,0,0]
[null,{"$f":"+PRESUPUESTO!B369","v":"AGC017"},{"$f":"IF(B327=0, \"\",VLOOKUP(B327,PRESUPUESTO!$B$17:$C$4607, 2, FALSE))","v":"H7 CARPINTERIA DE HIERRO"},{"$f":"IF(ISTEXT(B327), VLOOKUP(B327, PRESUPUESTO!$B$14:$J$4207, 9, FALSE),\"\")","v":0},null,0,null,0,null,0,null,0,null,0,null,0,null,0,null,0,null,0,null,0,null,0,null,0,null,0,null,0,null,0,null,0,null,0,null,0,null,0,null,0,null,0,null,0,null,0,null,0,null,0,null,0,null,0,null,0,null,0,null,0,null,0,null,0,null,0,null,0,null,0,null,0,null,0,0]
[null,{"$f":"+PRESUPUESTO!B370","v":"AGC018"},{"$f":"IF(B328=0, \"\",VLOOKUP(B328,PRESUPUESTO!$B$17:$C$4607, 2, FALSE))","v":"H8 CARPINTERIA DE HIERRO"},{"$f":"IF(ISTEXT(B328), VLOOKUP(B328, PRESUPUESTO!$B$14:$J$4207, 9, FALSE),\"\")","v":0},null,0,null,0,null,0,null,0,null,0,null,0,null,0,null,0,null,0,null,0,null,0,null,0,null,0,null,0,null,0,null,0,null,0,null,0,null,0,null,0,null,0,null,0,null,0,null,0,null,0,null,0,null,0,null,0,null,0,null,0,null,0,null,0,null,0,null,0,null,0,null,0,null,0,0]
[null,{"$f":"+PRESUPUESTO!B371","v":"AGC019"},{"$f":"IF(B329=0, \"\",VLOOKUP(B329,PRESUPUESTO!$B$17:$C$4607, 2, FALSE))","v":"H9 CARPINTERIA DE HIERRO"},{"$f":"IF(ISTEXT(B329), VLOOKUP(B329, PRESUPUESTO!$B$14:$J$4207, 9, FALSE),\"\")","v":0},null,0,null,0,null,0,null,0,null,0,null,0,null,0,null,0,null,0,null,0,null,0,null,0,null,0,null,0,null,0,null,0,null,0,null,0,null,0,null,0,null,0,null,0,null,0,null,0,null,0,null,0,null,0,null,0,null,0,null,0,null,0,null,0,null,0,null,0,null,0,null,0,null,0,0]
[null,{"$f":"+PRESUPUESTO!B372","v":"AGC020"},{"$f":"IF(B330=0, \"\",VLOOKUP(B330,PRESUPUESTO!$B$17:$C$4607, 2, FALSE))","v":"H10 CARPINTERIA DE HIERRO"},{"$f":"IF(ISTEXT(B330), VLOOKUP(B330, PRESUPUESTO!$B$14:$J$4207, 9, FALSE),\"\")","v":0},null,0,null,0,null,0,null,0,null,0,null,0,null,0,null,0,null,0,null,0,null,0,null,0,null,0,null,0,null,0,null,0,null,0,null,0,null,0,null,0,null,0,null,0,null,0,null,0,null,0,null,0,null,0,null,0,null,0,null,0,null,0,null,0,null,0,null,0,null,0,null,0,null,0,0]
[null,{"$f":"+PRESUPUESTO!B373","v":"AGC021"},{"$f":"IF(B331=0, \"\",VLOOKUP(B331,PRESUPUESTO!$B$17:$C$4607, 2, FALSE))","v":"H11 CARPINTERIA DE HIERRO"},{"$f":"IF(ISTEXT(B331), VLOOKUP(B331, PRESUPUESTO!$B$14:$J$4207, 9, FALSE),\"\")","v":0},null,0,null,0,null,0,null,0,null,0,null,0,null,0,null,0,null,0,null,0,null,0,null,0,null,0,null,0,null,0,null,0,null,0,null,0,null,0,null,0,null,0,null,0,null,0,null,0,null,0,null,0,null,0,null,0,null,0,null,0,null,0,null,0,null,0,null,0,null,0,null,0,null,0,0]
[null,{"$f":"+PRESUPUESTO!B374","v":"AGC022"},{"$f":"IF(B332=0, \"\",VLOOKUP(B332,PRESUPUESTO!$B$17:$C$4607, 2, FALSE))","v":"H12 CARPINTERIA DE HIERRO"},{"$f":"IF(ISTEXT(B332), VLOOKUP(B332, PRESUPUESTO!$B$14:$J$4207, 9, FALSE),\"\")","v":0},null,0,null,0,null,0,null,0,null,0,null,0,null,0,null,0,null,0,null,0,null,0,null,0,null,0,null,0,null,0,null,0,null,0,null,0,null,0,null,0,null,0,null,0,null,0,null,0,null,0,null,0,null,0,null,0,null,0,null,0,null,0,null,0,null,0,null,0,null,0,null,0,null,0,0]
[null,{"$f":"+PRESUPUESTO!B375","v":"AGC023"},{"$f":"IF(B333=0, \"\",VLOOKUP(B333,PRESUPUESTO!$B$17:$C$4607, 2, FALSE))","v":"H13 CARPINTERIA DE HIERRO"},{"$f":"IF(ISTEXT(B333), VLOOKUP(B333, PRESUPUESTO!$B$14:$J$4207, 9, FALSE),\"\")","v":0},null,0,null,0,null,0,null,0,null,0,null,0,null,0,null,0,null,0,null,0,null,0,null,0,null,0,null,0,null,0,null,0,null,0,null,0,null,0,null,0,null,0,null,0,null,0,null,0,null,0,null,0,null,0,null,0,null,0,null,0,null,0,null,0,null,0,null,0,null,0,null,0,null,0,0]
[null,{"$f":"+PRESUPUESTO!B376","v":"AGC024"},{"$f":"IF(B334=0, \"\",VLOOKUP(B334,PRESUPUESTO!$B$17:$C$4607, 2, FALSE))","v":"H14 CARPINTERIA DE HIERRO"},{"$f":"IF(ISTEXT(B334), VLOOKUP(B334, PRESUPUESTO!$B$14:$J$4207, 9, FALSE),\"\")","v":0},null,0,null,0,null,0,null,0,null,0,null,0,null,0,null,0,null,0,null,0,null,0,null,0,null,0,null,0,null,0,null,0,null,0,null,0,null,0,null,0,null,0,null,0,null,0,null,0,null,0,null,0,null,0,null,0,null,0,null,0,null,0,null,0,null,0,null,0,null,0,null,0,null,0,0]
[null,{"$f":"+PRESUPUESTO!B377","v":"AGC025"},{"$f":"IF(B335=0, \"\",VLOOKUP(B335,PRESUPUESTO!$B$17:$C$4607, 2, FALSE))","v":"H15 CARPINTERIA DE HIERRO"},{"$f":"IF(ISTEXT(B335), VLOOKUP(B335, PRESUPUESTO!$B$14:$J$4207, 9, FALSE),\"\")","v":0},null,0,null,0,null,0,null,0,null,0,null,0,null,0,null,0,null,0,null,0,null,0,null,0,null,0,null,0,null,0,null,0,null,0,null,0,null,0,null,0,null,0,null,0,null,0,null,0,null,0,null,0,null,0,null,0,null,0,null,0,null,0,null,0,null,0,null,0,null,0,null,0,null,0,0]
[null,{"$f":"+PRESUPUESTO!B378","v":"AGC026"},{"$f":"IF(B336=0, \"\",VLOOKUP(B336,PRESUPUESTO!$B$17:$C$4607, 2, FALSE))","v":"H16 CARPINTERIA DE HIERRO"},{"$f":"IF(ISTEXT(B336), VLOOKUP(B336, PRESUPUESTO!$B$14:$J$4207, 9, FALSE),\"\")","v":0},null,0,null,0,null,0,null,0,null,0,null,0,null,0,null,0,null,0,null,0,null,0,null,0,null,0,null,0,null,0,null,0,null,0,null,0,null,0,null,0,null,0,null,0,null,0,null,0,null,0,null,0,null,0,null,0,null,0,null,0,null,0,null,0,null,0,null,0,null,0,null,0,null,0,0]
[null,{"$f":"+PRESUPUESTO!B379","v":"AGC027"},{"$f":"IF(B337=0, \"\",VLOOKUP(B337,PRESUPUESTO!$B$17:$C$4607, 2, FALSE))","v":"H17 CARPINTERIA DE HIERRO"},{"$f":"IF(ISTEXT(B337), VLOOKUP(B337, PRESUPUESTO!$B$14:$J$4207, 9, FALSE),\"\")","v":0},null,0,null,0,null,0,null,0,null,0,null,0,null,0,null,0,null,0,null,0,null,0,null,0,null,0,null,0,null,0,null,0,null,0,null,0,null,0,null,0,null,0,null,0,null,0,null,0,null,0,null,0,null,0,null,0,null,0,null,0,null,0,null,0,null,0,null,0,null,0,null,0,null,0,0]
[null,{"$f":"+PRESUPUESTO!B380","v":"AGC028"},{"$f":"IF(B338=0, \"\",VLOOKUP(B338,PRESUPUESTO!$B$17:$C$4607, 2, FALSE))","v":"H18 CARPINTERIA DE HIERRO"},{"$f":"IF(ISTEXT(B338), VLOOKUP(B338, PRESUPUESTO!$B$14:$J$4207, 9, FALSE),\"\")","v":0},null,0,null,0,null,0,null,0,null,0,null,0,null,0,null,0,null,0,null,0,null,0,null,0,null,0,null,0,null,0,null,0,null,0,null,0,null,0,null,0,null,0,null,0,null,0,null,0,null,0,null,0,null,0,null,0,null,0,null,0,null,0,null,0,null,0,null,0,null,0,null,0,null,0,0]
[null,{"$f":"+PRESUPUESTO!B381","v":"AGC029"},{"$f":"IF(B339=0, \"\",VLOOKUP(B339,PRESUPUESTO!$B$17:$C$4607, 2, FALSE))","v":"H19 CARPINTERIA DE HIERRO"},{"$f":"IF(ISTEXT(B339), VLOOKUP(B339, PRESUPUESTO!$B$14:$J$4207, 9, FALSE),\"\")","v":0},null,0,null,0,null,0,null,0,null,0,null,0,null,0,null,0,null,0,null,0,null,0,null,0,null,0,null,0,null,0,null,0,null,0,null,0,null,0,null,0,null,0,null,0,null,0,null,0,null,0,null,0,null,0,null,0,null,0,null,0,null,0,null,0,null,0,null,0,null,0,null,0,null,0,0]
[null,{"$f":"+PRESUPUESTO!B382","v":"AGC030"},{"$f":"IF(B340=0, \"\",VLOOKUP(B340,PRESUPUESTO!$B$17:$C$4607, 2, FALSE))","v":"H20 CARPINTERIA DE HIERRO"},{"$f":"IF(ISTEXT(B340), VLOOKUP(B340, PRESUPUESTO!$B$14:$J$4207, 9, FALSE),\"\")","v":0},null,0,null,0,null,0,null,0,null,0,null,0,null,0,null,0,null,0,null,0,null,0,null,0,null,0,null,0,null,0,null,0,null,0,null,0,null,0,null,0,null,0,null,0,null,0,null,0,null,0,null,0,null,0,null,0,null,0,null,0,null,0,null,0,null,0,null,0,null,0,null,0,null,0,0]
[null,{"$f":"+PRESUPUESTO!B383","v":"AND006"},{"$f":"IF(B341=0, \"\",VLOOKUP(B341,PRESUPUESTO!$B$17:$C$4607, 2, FALSE))","v":"COLOCACION DE ABERTURAS DE HIERRO"},{"$f":"IF(ISTEXT(B341), VLOOKUP(B341, PRESUPUESTO!$B$14:$J$4207, 9, FALSE),\"\")","v":0},null,0,null,0,null,0,null,0,null,0,null,0,null,0,null,0,null,0,null,0,null,0,null,0,null,0,null,0,null,0,null,0,null,0,null,0,null,0,null,0,null,0,null,0,null,0,null,0,null,0,null,0,null,0,null,0,null,0,null,0,null,0,null,0,null,0,null,0,null,0,null,0,null,0,0]
[null,{"$f":"+PRESUPUESTO!B385","v":"AGD010"},{"$f":"IF(B342=0, \"\",VLOOKUP(B342,PRESUPUESTO!$B$17:$C$4607, 2, FALSE))","v":"PVC1 CORTINA DE ENROLLAR"},{"$f":"IF(ISTEXT(B342), VLOOKUP(B342, PRESUPUESTO!$B$14:$J$4207, 9, FALSE),\"\")","v":0},null,0,null,0,null,0,null,0,null,0,null,0,null,0,null,0,null,0,null,0,null,0,null,0,null,0,null,0,null,0,null,0,null,0,null,0,null,0,null,0,null,0,null,0,null,0,null,0,null,0,null,0,null,0,null,0,null,0,null,0,null,0,null,0,null,0,null,0,null,0,null,0,null,0,0]
[null,{"$f":"+PRESUPUESTO!B386","v":"AGD011"},{"$f":"IF(B343=0, \"\",VLOOKUP(B343,PRESUPUESTO!$B$17:$C$4607, 2, FALSE))","v":"PVC2 CORTINA DE ENROLLAR"},{"$f":"IF(ISTEXT(B343), VLOOKUP(B343, PRESUPUESTO!$B$14:$J$4207, 9, FALSE),\"\")","v":0},null,0,null,0,null,0,null,0,null,0,null,0,null,0,null,0,null,0,null,0,null,0,null,0,null,0,null,0,null,0,null,0,null,0,null,0,null,0,null,0,null,0,null,0,null,0,null,0,null,0,null,0,null,0,null,0,null,0,null,0,null,0,null,0,null,0,null,0,null,0,null,0,null,0,0]
[null,{"$f":"+PRESUPUESTO!B387","v":"AGD012"},{"$f":"IF(B344=0, \"\",VLOOKUP(B344,PRESUPUESTO!$B$17:$C$4607, 2, FALSE))","v":"PVC3 CORTINA DE ENROLLAR"},{"$f":"IF(ISTEXT(B344), VLOOKUP(B344, PRESUPUESTO!$B$14:$J$4207, 9, FALSE),\"\")","v":0},null,0,null,0,null,0,null,0,null,0,null,0,null,0,null,0,null,0,null,0,null,0,null,0,null,0,null,0,null,0,null,0,null,0,null,0,null,0,null,0,null,0,null,0,null,0,null,0,null,0,null,0,null,0,null,0,null,0,null,0,null,0,null,0,null,0,null,0,null,0,null,0,null,0,0]
[null,{"$f":"+PRESUPUESTO!B388","v":"AGD013"},{"$f":"IF(B345=0, \"\",VLOOKUP(B345,PRESUPUESTO!$B$17:$C$4607, 2, FALSE))","v":"PVC4 CORTINA DE ENROLLAR"},{"$f":"IF(ISTEXT(B345), VLOOKUP(B345, PRESUPUESTO!$B$14:$J$4207, 9, FALSE),\"\")","v":0},null,0,null,0,null,0,null,0,null,0,null,0,null,0,null,0,null,0,null,0,null,0,null,0,null,0,null,0,null,0,null,0,null,0,null,0,null,0,null,0,null,0,null,0,null,0,null,0,null,0,null,0,null,0,null,0,null,0,null,0,null,0,null,0,null,0,null,0,null,0,null,0,null,0,0]
[null,{"$f":"+PRESUPUESTO!B389","v":"AGD014"},{"$f":"IF(B346=0, \"\",VLOOKUP(B346,PRESUPUESTO!$B$17:$C$4607, 2, FALSE))","v":"PVC5 CORTINA DE ENROLLAR"},{"$f":"IF(ISTEXT(B346), VLOOKUP(B346, PRESUPUESTO!$B$14:$J$4207, 9, FALSE),\"\")","v":0},null,0,null,0,null,0,null,0,null,0,null,0,null,0,null,0,null,0,null,0,null,0,null,0,null,0,null,0,null,0,null,0,null,0,null,0,null,0,null,0,null,0,null,0,null,0,null,0,null,0,null,0,null,0,null,0,null,0,null,0,null,0,null,0,null,0,null,0,null,0,null,0,null,0,0]
[null,{"$f":"+PRESUPUESTO!B391","v":"AGE010"},{"$f":"IF(B347=0, \"\",VLOOKUP(B347,PRESUPUESTO!$B$17:$C$4607, 2, FALSE))","v":"VIDRIOS (GLOBAL)"},{"$f":"IF(ISTEXT(B347), VLOOKUP(B347, PRESUPUESTO!$B$14:$J$4207, 9, FALSE),\"\")","v":0},null,0,null,0,null,0,null,0,null,0,null,0,null,0,null,0,null,0,null,0,null,0,null,0,null,0,null,0,null,0,null,0,null,0,null,0,null,0,null,0,null,0,null,0,null,0,null,0,null,0,null,0,null,0,null,0,null,0,null,0,null,0,null,0,null,0,null,0,null,0,null,0,null,0,0]
[null,{"$f":"+PRESUPUESTO!B393","v":"BBA008"},{"$f":"IF(B348=0, \"\",VLOOKUP(B348,PRESUPUESTO!$B$17:$C$4607, 2, FALSE))","v":"CONEXIONES DOMICILIARIAS A SANEAMIENTO"},{"$f":"IF(ISTEXT(B348), VLOOKUP(B348, PRESUPUESTO!$B$14:$J$4207, 9, FALSE),\"\")","v":0},null,0,null,0,null,0,null,0,null,0,null,0,null,0,null,0,null,0,null,0,null,0,null,0,null,0,null,0,null,0,null,0,null,0,null,0,null,0,null,0,null,0,null,0,null,0,null,0,null,0,null,0,null,0,null,0,null,0,null,0,null,0,null,0,null,0,null,0,null,0,null,0,null,0,0]
[null,{"$f":"+PRESUPUESTO!B394","v":"BBB009"},{"$f":"IF(B349=0, \"\",VLOOKUP(B349,PRESUPUESTO!$B$17:$C$4607, 2, FALSE))","v":"CONEXIONES DOMICILIARIAS (AGUA POTABLE)"},{"$f":"IF(ISTEXT(B349), VLOOKUP(B349, PRESUPUESTO!$B$14:$J$4207, 9, FALSE),\"\")","v":0},null,0,null,0,null,0,null,0,null,0,null,0,null,0,null,0,null,0,null,0,null,0,null,0,null,0,null,0,null,0,null,0,null,0,null,0,null,0,null,0,null,0,null,0,null,0,null,0,null,0,null,0,null,0,null,0,null,0,null,0,null,0,null,0,null,0,null,0,null,0,null,0,null,0,0]
[null,{"$f":"+PRESUPUESTO!B396","v":"AMA004"},{"$f":"IF(B350=0, \"\",VLOOKUP(B350,PRESUPUESTO!$B$17:$C$4607, 2, FALSE))","v":"RED AGUA POLIPROPILENO ROSCADO"},{"$f":"IF(ISTEXT(B350), VLOOKUP(B350, PRESUPUESTO!$B$14:$J$4207, 9, FALSE),\"\")","v":0},null,0,null,0,null,0,null,0,null,0,null,0,null,0,null,0,null,0,null,0,null,0,null,0,null,0,null,0,null,0,null,0,null,0,null,0,null,0,null,0,null,0,null,0,null,0,null,0,null,0,null,0,null,0,null,0,null,0,null,0,null,0,null,0,null,0,null,0,null,0,null,0,null,0,0]
[null,{"$f":"+PRESUPUESTO!B397","v":"AMA005"},{"$f":"IF(B351=0, \"\",VLOOKUP(B351,PRESUPUESTO!$B$17:$C$4607, 2, FALSE))","v":"RED AGUA POLIPROPILENO TERMOFUSIONADO"},{"$f":"IF(ISTEXT(B351), VLOOKUP(B351, PRESUPUESTO!$B$14:$J$4207, 9, FALSE),\"\")","v":0},null,0,null,0,null,0,null,0,null,0,null,0,null,0,null,0,null,0,null,0,null,0,null,0,null,0,null,0,null,0,null,0,null,0,null,0,null,0,null,0,null,0,null,0,null,0,null,0,null,0,null,0,null,0,null,0,null,0,null,0,null,0,null,0,null,0,null,0,null,0,null,0,null,0,0]
[null,{"$f":"+PRESUPUESTO!B398","v":"AMA010"},{"$f":"IF(B352=0, \"\",VLOOKUP(B352,PRESUPUESTO!$B$17:$C$4607, 2, FALSE))","v":"EQUIPOS DE BOMBEO"},{"$f":"IF(ISTEXT(B352), VLOOKUP(B352, PRESUPUESTO!$B$14:$J$4207, 9, FALSE),\"\")","v":0},null,0,null,0,null,0,null,0,null,0,null,0,null,0,null,0,null,0,null,0,null,0,null,0,null,0,null,0,null,0,null,0,null,0,null,0,null,0,null,0,null,0,null,0,null,0,null,0,null,0,null,0,null,0,null,0,null,0,null,0,null,0,null,0,null,0,null,0,null,0,null,0,null,0,0]
[null,{"$f":"+PRESUPUESTO!B399","v":"AMA011"},{"$f":"IF(B353=0, \"\",VLOOKUP(B353,PRESUPUESTO!$B$17:$C$4607, 2, FALSE))","v":"INSTALACIONES EN DEPÓSITOS AGUA POTABLE"},{"$f":"IF(ISTEXT(B353), VLOOKUP(B353, PRESUPUESTO!$B$14:$J$4207, 9, FALSE),\"\")","v":0},null,0,null,0,null,0,null,0,null,0,null,0,null,0,null,0,null,0,null,0,null,0,null,0,null,0,null,0,null,0,null,0,null,0,null,0,null,0,null,0,null,0,null,0,null,0,null,0,null,0,null,0,null,0,null,0,null,0,null,0,null,0,null,0,null,0,null,0,null,0,null,0,null,0,0]
[null,{"$f":"+PRESUPUESTO!B401","v":"AMA006"},{"$f":"IF(B354=0, \"\",VLOOKUP(B354,PRESUPUESTO!$B$17:$C$4607, 2, FALSE))","v":"CONEXIONES APARATOS SANITARIOS Y GRIFERÍA"},{"$f":"IF(ISTEXT(B354), VLOOKUP(B354, PRESUPUESTO!$B$14:$J$4207, 9, FALSE),\"\")","v":0},null,0,null,0,null,0,null,0,null,0,null,0,null,0,null,0,null,0,null,0,null,0,null,0,null,0,null,0,null,0,null,0,null,0,null,0,null,0,null,0,null,0,null,0,null,0,null,0,null,0,null,0,null,0,null,0,null,0,null,0,null,0,null,0,null,0,null,0,null,0,null,0,null,0,0]
[null,{"$f":"+PRESUPUESTO!B402","v":"AMA007"},{"$f":"IF(B355=0, \"\",VLOOKUP(B355,PRESUPUESTO!$B$17:$C$4607, 2, FALSE))","v":"COLOCACIÓN CISTERNAS"},{"$f":"IF(ISTEXT(B355), VLOOKUP(B355, PRESUPUESTO!$B$14:$J$4207, 9, FALSE),\"\")","v":0},null,0,null,0,null,0,null,0,null,0,null,0,null,0,null,0,null,0,null,0,null,0,null,0,null,0,null,0,null,0,null,0,null,0,null,0,null,0,null,0,null,0,null,0,null,0,null,0,null,0,null,0,null,0,null,0,null,0,null,0,null,0,null,0,null,0,null,0,null,0,null,0,null,0,0]
[null,{"$f":"+PRESUPUESTO!B403","v":"AMA008"},{"$f":"IF(B356=0, \"\",VLOOKUP(B356,PRESUPUESTO!$B$17:$C$4607, 2, FALSE))","v":"ACCESORIOS BAÑOS"},{"$f":"IF(ISTEXT(B356), VLOOKUP(B356, PRESUPUESTO!$B$14:$J$4207, 9, FALSE),\"\")","v":0},null,0,null,0,null,0,null,0,null,0,null,0,null,0,null,0,null,0,null,0,null,0,null,0,null,0,null,0,null,0,null,0,null,0,null,0,null,0,null,0,null,0,null,0,null,0,null,0,null,0,null,0,null,0,null,0,null,0,null,0,null,0,null,0,null,0,null,0,null,0,null,0,null,0,0]
[null,{"$f":"+PRESUPUESTO!B404","v":"AND007"},{"$f":"IF(B357=0, \"\",VLOOKUP(B357,PRESUPUESTO!$B$17:$C$4607, 2, FALSE))","v":"SUMINISTRO DE ARTEFACTOS SANITARIOS (incluye cisternas)"},{"$f":"IF(ISTEXT(B357), VLOOKUP(B357, PRESUPUESTO!$B$14:$J$4207, 9, FALSE),\"\")","v":0},null,0,null,0,null,0,null,0,null,0,null,0,null,0,null,0,null,0,null,0,null,0,null,0,null,0,null,0,null,0,null,0,null,0,null,0,null,0,null,0,null,0,null,0,null,0,null,0,null,0,null,0,null,0,null,0,null,0,null,0,null,0,null,0,null,0,null,0,null,0,null,0,null,0,0]
[null,{"$f":"+PRESUPUESTO!B405","v":"AND008"},{"$f":"IF(B358=0, \"\",VLOOKUP(B358,PRESUPUESTO!$B$17:$C$4607, 2, FALSE))","v":"COLOCACION DE ARTEFACTOS SANITARIOS"},{"$f":"IF(ISTEXT(B358), VLOOKUP(B358, PRESUPUESTO!$B$14:$J$4207, 9, FALSE),\"\")","v":0},null,0,null,0,null,0,null,0,null,0,null,0,null,0,null,0,null,0,null,0,null,0,null,0,null,0,null,0,null,0,null,0,null,0,null,0,null,0,null,0,null,0,null,0,null,0,null,0,null,0,null,0,null,0,null,0,null,0,null,0,null,0,null,0,null,0,null,0,null,0,null,0,null,0,0]
[null,{"$f":"+PRESUPUESTO!B406","v":"AND009"},{"$f":"IF(B359=0, \"\",VLOOKUP(B359,PRESUPUESTO!$B$17:$C$4607, 2, FALSE))","v":"SUMINISTRO DE GRIFERIA"},{"$f":"IF(ISTEXT(B359), VLOOKUP(B359, PRESUPUESTO!$B$14:$J$4207, 9, FALSE),\"\")","v":0},null,0,null,0,null,0,null,0,null,0,null,0,null,0,null,0,null,0,null,0,null,0,null,0,null,0,null,0,null,0,null,0,null,0,null,0,null,0,null,0,null,0,null,0,null,0,null,0,null,0,null,0,null,0,null,0,null,0,null,0,null,0,null,0,null,0,null,0,null,0,null,0,null,0,0]
[null,{"$f":"+PRESUPUESTO!B407","v":"AND010"},{"$f":"IF(B360=0, \"\",VLOOKUP(B360,PRESUPUESTO!$B$17:$C$4607, 2, FALSE))","v":"COLOCACION DE GRIFERIA"},{"$f":"IF(ISTEXT(B360), VLOOKUP(B360, PRESUPUESTO!$B$14:$J$4207, 9, FALSE),\"\")","v":0},null,0,null,0,null,0,null,0,null,0,null,0,null,0,null,0,null,0,null,0,null,0,null,0,null,0,null,0,null,0,null,0,null,0,null,0,null,0,null,0,null,0,null,0,null,0,null,0,null,0,null,0,null,0,null,0,null,0,null,0,null,0,null,0,null,0,null,0,null,0,null,0,null,0,0]
[null,{"$f":"+PRESUPUESTO!B409","v":"AMA001"},{"$f":"IF(B361=0, \"\",VLOOKUP(B361,PRESUPUESTO!$B$17:$C$4607, 2, FALSE))","v":"DESAGÜES P.V.C."},{"$f":"IF(ISTEXT(B361), VLOOKUP(B361, PRESUPUESTO!$B$14:$J$4207, 9, FALSE),\"\")","v":0},null,0,null,0,null,0,null,0,null,0,null,0,null,0,null,0,null,0,null,0,null,0,null,0,null,0,null,0,null,0,null,0,null,0,null,0,null,0,null,0,null,0,null,0,null,0,null,0,null,0,null,0,null,0,null,0,null,0,null,0,null,0,null,0,null,0,null,0,null,0,null,0,null,0,0]
[null,{"$f":"+PRESUPUESTO!B410","v":"AMA002"},{"$f":"IF(B362=0, \"\",VLOOKUP(B362,PRESUPUESTO!$B$17:$C$4607, 2, FALSE))","v":"DESAGÜES FF"},{"$f":"IF(ISTEXT(B362), VLOOKUP(B362, PRESUPUESTO!$B$14:$J$4207, 9, FALSE),\"\")","v":0},null,0,null,0,null,0,null,0,null,0,null,0,null,0,null,0,null,0,null,0,null,0,null,0,null,0,null,0,null,0,null,0,null,0,null,0,null,0,null,0,null,0,null,0,null,0,null,0,null,0,null,0,null,0,null,0,null,0,null,0,null,0,null,0,null,0,null,0,null,0,null,0,null,0,0]
[null,{"$f":"+PRESUPUESTO!B411","v":"AMA003"},{"$f":"IF(B363=0, \"\",VLOOKUP(B363,PRESUPUESTO!$B$17:$C$4607, 2, FALSE))","v":"DESAGÜES PPL CON JUNTAS DE GOMA"},{"$f":"IF(ISTEXT(B363), VLOOKUP(B363, PRESUPUESTO!$B$14:$J$4207, 9, FALSE),\"\")","v":0},null,0,null,0,null,0,null,0,null,0,null,0,null,0,null,0,null,0,null,0,null,0,null,0,null,0,null,0,null,0,null,0,null,0,null,0,null,0,null,0,null,0,null,0,null,0,null,0,null,0,null,0,null,0,null,0,null,0,null,0,null,0,null,0,null,0,null,0,null,0,null,0,null,0,0]
[null,{"$f":"+PRESUPUESTO!B413","v":"AMB001"},{"$f":"IF(B364=0, \"\",VLOOKUP(B364,PRESUPUESTO!$B$17:$C$4607, 2, FALSE))","v":"MANGUERAS Y GRIFOS"},{"$f":"IF(ISTEXT(B364), VLOOKUP(B364, PRESUPUESTO!$B$14:$J$4207, 9, FALSE),\"\")","v":0},null,0,null,0,null,0,null,0,null,0,null,0,null,0,null,0,null,0,null,0,null,0,null,0,null,0,null,0,null,0,null,0,null,0,null,0,null,0,null,0,null,0,null,0,null,0,null,0,null,0,null,0,null,0,null,0,null,0,null,0,null,0,null,0,null,0,null,0,null,0,null,0,null,0,0]
[null,{"$f":"+PRESUPUESTO!B414","v":"AMB002"},{"$f":"IF(B365=0, \"\",VLOOKUP(B365,PRESUPUESTO!$B$17:$C$4607, 2, FALSE))","v":"EXTINGUIDORES"},{"$f":"IF(ISTEXT(B365), VLOOKUP(B365, PRESUPUESTO!$B$14:$J$4207, 9, FALSE),\"\")","v":0},null,0,null,0,null,0,null,0,null,0,null,0,null,0,null,0,null,0,null,0,null,0,null,0,null,0,null,0,null,0,null,0,null,0,null,0,null,0,null,0,null,0,null,0,null,0,null,0,null,0,null,0,null,0,null,0,null,0,null,0,null,0,null,0,null,0,null,0,null,0,null,0,null,0,0]
[null,{"$f":"+PRESUPUESTO!B415","v":"AMB004"},{"$f":"IF(B366=0, \"\",VLOOKUP(B366,PRESUPUESTO!$B$17:$C$4607, 2, FALSE))","v":"INSTALACIÓN AGUA POR MEDIDAS CONTRA INCENDIO, RED,TANQUE, GRIFOS, BOCAS INCENDIO"},{"$f":"IF(ISTEXT(B366), VLOOKUP(B366, PRESUPUESTO!$B$14:$J$4207, 9, FALSE),\"\")","v":0},null,0,null,0,null,0,null,0,null,0,null,0,null,0,null,0,null,0,null,0,null,0,null,0,null,0,null,0,null,0,null,0,null,0,null,0,null,0,null,0,null,0,null,0,null,0,null,0,null,0,null,0,null,0,null,0,null,0,null,0,null,0,null,0,null,0,null,0,null,0,null,0,null,0,0]
[null,{"$f":"+PRESUPUESTO!B416","v":"AMB005"},{"$f":"IF(B367=0, \"\",VLOOKUP(B367,PRESUPUESTO!$B$17:$C$4607, 2, FALSE))","v":"SEÑALIZACION MEDIDAS CONTRA INCENDIO"},{"$f":"IF(ISTEXT(B367), VLOOKUP(B367, PRESUPUESTO!$B$14:$J$4207, 9, FALSE),\"\")","v":0},null,0,null,0,null,0,null,0,null,0,null,0,null,0,null,0,null,0,null,0,null,0,null,0,null,0,null,0,null,0,null,0,null,0,null,0,null,0,null,0,null,0,null,0,null,0,null,0,null,0,null,0,null,0,null,0,null,0,null,0,null,0,null,0,null,0,null,0,null,0,null,0,null,0,0]
[null,{"$f":"+PRESUPUESTO!B417","v":"AMB006"},{"$f":"IF(B368=0, \"\",VLOOKUP(B368,PRESUPUESTO!$B$17:$C$4607, 2, FALSE))","v":"INSTALACIÓN ELECTRICA POR MEDIDAS CONTRA INCENDIO, ALARMAS, BOMBAS,"},{"$f":"IF(ISTEXT(B368), VLOOKUP(B368, PRESUPUESTO!$B$14:$J$4207, 9, FALSE),\"\")","v":0},null,0,null,0,null,0,null,0,null,0,null,0,null,0,null,0,null,0,null,0,null,0,null,0,null,0,null,0,null,0,null,0,null,0,null,0,null,0,null,0,null,0,null,0,null,0,null,0,null,0,null,0,null,0,null,0,null,0,null,0,null,0,null,0,null,0,null,0,null,0,null,0,null,0,0]
[null,{"$f":"+PRESUPUESTO!B419","v":"AMC001"},{"$f":"IF(B369=0, \"\",VLOOKUP(B369,PRESUPUESTO!$B$17:$C$4607, 2, FALSE))","v":"CANALIZACIONES EN LOSAS ( INST. ELÉCTRICA)"},{"$f":"IF(ISTEXT(B369), VLOOKUP(B369, PRESUPUESTO!$B$14:$J$4207, 9, FALSE),\"\")","v":0},null,0,null,0,null,0,null,0,null,0,null,0,null,0,null,0,null,0,null,0,null,0,null,0,null,0,null,0,null,0,null,0,null,0,null,0,null,0,null,0,null,0,null,0,null,0,null,0,null,0,null,0,null,0,null,0,null,0,null,0,null,0,null,0,null,0,null,0,null,0,null,0,null,0,0]
[null,{"$f":"+PRESUPUESTO!B420","v":"AMC002"},{"$f":"IF(B370=0, \"\",VLOOKUP(B370,PRESUPUESTO!$B$17:$C$4607, 2, FALSE))","v":"CANALIZACIONES EN MUROS ( INST. ELÉCTRICA)"},{"$f":"IF(ISTEXT(B370), VLOOKUP(B370, PRESUPUESTO!$B$14:$J$4207, 9, FALSE),\"\")","v":0},null,0,null,0,null,0,null,0,null,0,null,0,null,0,null,0,null,0,null,0,null,0,null,0,null,0,null,0,null,0,null,0,null,0,null,0,null,0,null,0,null,0,null,0,null,0,null,0,null,0,null,0,null,0,null,0,null,0,null,0,null,0,null,0,null,0,null,0,null,0,null,0,null,0,0]
[null,{"$f":"+PRESUPUESTO!B421","v":"AMC003"},{"$f":"IF(B371=0, \"\",VLOOKUP(B371,PRESUPUESTO!$B$17:$C$4607, 2, FALSE))","v":"CANALIZACIONES SUBTERRÁNEAS (INST. ELÉCTRICA)"},{"$f":"IF(ISTEXT(B371), VLOOKUP(B371, PRESUPUESTO!$B$14:$J$4207, 9, FALSE),\"\")","v":0},null,{"$f":"IF($D371=\"\",\"\",$D371*E371)","v":0},null,{"$f":"IF($D371=\"\",\"\",$D371*G371)","v":0},null,{"$f":"IF($D371=\"\",\"\",$D371*I371)","v":0},null,{"$f":"IF($D371=\"\",\"\",$D371*K371)","v":0},null,{"$f":"IF($D371=\"\",\"\",$D371*M371)","v":0},null,{"$f":"IF($D371=\"\",\"\",$D371*O371)","v":0},null,{"$f":"IF($D371=\"\",\"\",$D371*Q371)","v":0},null,{"$f":"IF($D371=\"\",\"\",$D371*S371)","v":0},null,{"$f":"IF($D371=\"\",\"\",$D371*U371)","v":0},null,{"$f":"IF($D371=\"\",\"\",$D371*W371)","v":0},null,{"$f":"IF($D371=\"\",\"\",$D371*Y371)","v":0},null,{"$f":"IF($D371=\"\",\"\",$D371*AA371)","v":0},null,{"$f":"IF($D371=\"\",\"\",$D371*AC371)","v":0},null,{"$f":"IF($D371=\"\",\"\",$D371*AE371)","v":0},null,{"$f":"IF($D371=\"\",\"\",$D371*AG371)","v":0},null,{"$f":"IF($D371=\"\",\"\",$D371*AI371)","v":0},null,{"$f":"IF($D371=\"\",\"\",$D371*AK371)","v":0},null,{"$f":"IF($D371=\"\",\"\",$D371*AM371)","v":0},null,{"$f":"IF($D371=\"\",\"\",$D371*AO371)","v":0},null,{"$f":"IF($D371=\"\",\"\",$D371*AQ371)","v":0},null,{"$f":"IF($D371=\"\",\"\",$D371*AS371)","v":0},null,{"$f":"IF($D371=\"\",\"\",$D371*AU371)","v":0},null,{"$f":"IF($D371=\"\",\"\",$D371*AW371)","v":0},null,{"$f":"IF($D371=\"\",\"\",$D371*AY371)","v":0},null,{"$f":"IF($D371=\"\",\"\",$D371*BA371)","v":0},null,{"$f":"IF($D371=\"\",\"\",$D371*BC371)","v":0},null,{"$f":"IF($D371=\"\",\"\",$D371*BE371)","v":0},null,{"$f":"IF($D371=\"\",\"\",$D371*BG371)","v":0},null,{"$f":"IF($D371=\"\",\"\",$D371*BI371)","v":0},null,{"$f":"IF($D371=\"\",\"\",$D371*BK371)","v":0},null,{"$f":"IF($D371=\"\",\"\",$D371*BM371)","v":0},null,{"$f":"IF($D371=\"\",\"\",$D371*BO371)","v":0},null,{"$f":"IF($D371=\"\",\"\",$D371*BQ371)","v":0},null,{"$f":"IF($D371=\"\",\"\",$D371*BS371)","v":0},null,{"$f":"IF($D371=\"\",\"\",$D371*BU371)","v":0},null,{"$f":"IF($D371=\"\",\"\",$D371*BW371)","v":0},null,{"$f":"+E371+G371+I371+K371+M371+O371+Q371+S371+U371+W371+Y371+AA371+AC371+AE371+AG371+AI371+AK371+AM371+AO371+AQ371+AS371+AU371+AW371+AY371+BA371+BC371+BE371+BG371+BI371+BK371+BM371+BO371+BQ371+BS371+BU371+BW371","v":0},{"$f":"IF(D371=\"\",\"\",ROUND(F371+H371+J371+L371+N371+P371+R371+T371+V371+X371+Z371+AB371+AD371+AF371+AH371+AJ371+AL371+AN371+AP371+AR371+AT371+AV371+AX371+AZ371+BB371+BD371+BF371+BH371+BJ371+BL371+BN371+BP371+BR371+BT371+BV371+BX371,2))","v":0}]
[null,{"$f":"+PRESUPUESTO!B422","v":"AMC004"},{"$f":"IF(B372=0, \"\",VLOOKUP(B372,PRESUPUESTO!$B$17:$C$4607, 2, FALSE))","v":"ENHEBRADOS"},{"$f":"IF(ISTEXT(B372), VLOOKUP(B372, PRESUPUESTO!$B$14:$J$4207, 9, FALSE),\"\")","v":0},null,0,null,0,null,0,null,0,null,0,null,0,null,0,null,0,null,0,null,0,null,0,null,0,null,0,null,0,null,0,null,0,null,0,null,0,null,0,null,0,null,0,null,0,null,0,null,0,null,0,null,0,null,0,null,0,null,0,null,0,null,0,null,0,null,0,null,0,null,0,null,0,null,0,0]
[null,{"$f":"+PRESUPUESTO!B423","v":"AMC005"},{"$f":"IF(B373=0, \"\",VLOOKUP(B373,PRESUPUESTO!$B$17:$C$4607, 2, FALSE))","v":"TERMINACIONES ENTABLEROS"},{"$f":"IF(ISTEXT(B373), VLOOKUP(B373, PRESUPUESTO!$B$14:$J$4207, 9, FALSE),\"\")","v":0},null,0,null,0,null,0,null,0,null,0,null,0,null,0,null,0,null,0,null,0,null,0,null,0,null,0,null,0,null,0,null,0,null,0,null,0,null,0,null,0,null,0,null,0,null,0,null,0,null,0,null,0,null,0,null,0,null,0,null,0,null,0,null,0,null,0,null,0,null,0,null,0,null,0,0]
[null,{"$f":"+PRESUPUESTO!B424","v":"AMC006"},{"$f":"IF(B374=0, \"\",VLOOKUP(B374,PRESUPUESTO!$B$17:$C$4607, 2, FALSE))","v":"COLOCACIÓN DE MÓDULOS Y PLACAS"},{"$f":"IF(ISTEXT(B374), VLOOKUP(B374, PRESUPUESTO!$B$14:$J$4207, 9, FALSE),\"\")","v":0},null,0,null,0,null,0,null,0,null,0,null,0,null,0,null,0,null,0,null,0,null,0,null,0,null,0,null,0,null,0,null,0,null,0,null,0,null,0,null,0,null,0,null,0,null,0,null,0,null,0,null,0,null,0,null,0,null,0,null,0,null,0,null,0,null,0,null,0,null,0,null,0,null,0,0]
[null,{"$f":"+PRESUPUESTO!B425","v":"AMC007"},{"$f":"IF(B375=0, \"\",VLOOKUP(B375,PRESUPUESTO!$B$17:$C$4607, 2, FALSE))","v":"SUMINISTRO Y COLOCACIÓN DE LUMINARIAS"},{"$f":"IF(ISTEXT(B375), VLOOKUP(B375, PRESUPUESTO!$B$14:$J$4207, 9, FALSE),\"\")","v":0},null,0,null,0,null,0,null,0,null,0,null,0,null,0,null,0,null,0,null,0,null,0,null,0,null,0,null,0,null,0,null,0,null,0,null,0,null,0,null,0,null,0,null,0,null,0,null,0,null,0,null,0,null,0,null,0,null,0,null,0,null,0,null,0,null,0,null,0,null,0,null,0,null,0,0]
[null,{"$f":"+PRESUPUESTO!B426","v":"AMC008"},{"$f":"IF(B376=0, \"\",VLOOKUP(B376,PRESUPUESTO!$B$17:$C$4607, 2, FALSE))","v":"INSTALACIÓN PARARRAYOS"},{"$f":"IF(ISTEXT(B376), VLOOKUP(B376, PRESUPUESTO!$B$14:$J$4207, 9, FALSE),\"\")","v":0},null,0,null,0,null,0,null,0,null,0,null,0,null,0,null,0,null,0,null,0,null,0,null,0,null,0,null,0,null,0,null,0,null,0,null,0,null,0,null,0,null,0,null,0,null,0,null,0,null,0,null,0,null,0,null,0,null,0,null,0,null,0,null,0,null,0,null,0,null,0,null,0,null,0,0]
[null,{"$f":"+PRESUPUESTO!B427","v":"AMD001"},{"$f":"IF(B377=0, \"\",VLOOKUP(B377,PRESUPUESTO!$B$17:$C$4607, 2, FALSE))","v":"CANLIZACIONES EN LOSAS (TELEFÓNO)"},{"$f":"IF(ISTEXT(B377), VLOOKUP(B377, PRESUPUESTO!$B$14:$J$4207, 9, FALSE),\"\")","v":0},null,0,null,0,null,0,null,0,null,0,null,0,null,0,null,0,null,0,null,0,null,0,null,0,null,0,null,0,null,0,null,0,null,0,null,0,null,0,null,0,null,0,null,0,null,0,null,0,null,0,null,0,null,0,null,0,null,0,null,0,null,0,null,0,null,0,null,0,null,0,null,0,null,0,0]
[null,{"$f":"+PRESUPUESTO!B428","v":"AMD002"},{"$f":"IF(B378=0, \"\",VLOOKUP(B378,PRESUPUESTO!$B$17:$C$4607, 2, FALSE))","v":"CANALIZACIONES EN MUROS (TELEFÓNO)"},{"$f":"IF(ISTEXT(B378), VLOOKUP(B378, PRESUPUESTO!$B$14:$J$4207, 9, FALSE),\"\")","v":0},null,0,null,0,null,0,null,0,null,0,null,0,null,0,null,0,null,0,null,0,null,0,null,0,null,0,null,0,null,0,null,0,null,0,null,0,null,0,null,0,null,0,null,0,null,0,null,0,null,0,null,0,null,0,null,0,null,0,null,0,null,0,null,0,null,0,null,0,null,0,null,0,null,0,0]
[null,{"$f":"+PRESUPUESTO!B429","v":"AMD003"},{"$f":"IF(B379=0, \"\",VLOOKUP(B379,PRESUPUESTO!$B$17:$C$4607, 2, FALSE))","v":"ENHEBRADOS (TELEFÓNO)"},{"$f":"IF(ISTEXT(B379), VLOOKUP(B379, PRESUPUESTO!$B$14:$J$4207, 9, FALSE),\"\")","v":0},null,0,null,0,null,0,null,0,null,0,null,0,null,0,null,0,null,0,null,0,null,0,null,0,null,0,null,0,null,0,null,0,null,0,null,0,null,0,null,0,null,0,null,0,null,0,null,0,null,0,null,0,null,0,null,0,null,0,null,0,null,0,null,0,null,0,null,0,null,0,null,0,null,0,0]
[null,{"$f":"+PRESUPUESTO!B430","v":"AMD004"},{"$f":"IF(B380=0, \"\",VLOOKUP(B380,PRESUPUESTO!$B$17:$C$4607, 2, FALSE))","v":"CAJA TERMINAL (TELEFÓNO)"},{"$f":"IF(ISTEXT(B380), VLOOKUP(B380, PRESUPUESTO!$B$14:$J$4207, 9, FALSE),\"\")","v":0},null,0,null,0,null,0,null,0,null,0,null,0,null,0,null,0,null,0,null,0,null,0,null,0,null,0,null,0,null,0,null,0,null,0,null,0,null,0,null,0,null,0,null,0,null,0,null,0,null,0,null,0,null,0,null,0,null,0,null,0,null,0,null,0,null,0,null,0,null,0,null,0,null,0,0]
[null,{"$f":"+PRESUPUESTO!B431","v":"AMF001"},{"$f":"IF(B381=0, \"\",VLOOKUP(B381,PRESUPUESTO!$B$17:$C$4607, 2, FALSE))","v":"PORTERO ELÉCTRICO"},{"$f":"IF(ISTEXT(B381), VLOOKUP(B381, PRESUPUESTO!$B$14:$J$4207, 9, FALSE),\"\")","v":0},null,0,null,0,null,0,null,0,null,0,null,0,null,0,null,0,null,0,null,0,null,0,null,0,null,0,null,0,null,0,null,0,null,0,null,0,null,0,null,0,null,0,null,0,null,0,null,0,null,0,null,0,null,0,null,0,null,0,null,0,null,0,null,0,null,0,null,0,null,0,null,0,null,0,0]
[null,{"$f":"+PRESUPUESTO!B432","v":"BCB006"},{"$f":"IF(B382=0, \"\",VLOOKUP(B382,PRESUPUESTO!$B$17:$C$4607, 2, FALSE))","v":"TASAS DE CONEXIÓN Y CARGA (UTE)"},{"$f":"IF(ISTEXT(B382), VLOOKUP(B382, PRESUPUESTO!$B$14:$J$4207, 9, FALSE),\"\")","v":0},null,0,null,0,null,0,null,0,null,0,null,0,null,0,null,0,null,0,null,0,null,0,null,0,null,0,null,0,null,0,null,0,null,0,null,0,null,0,null,0,null,0,null,0,null,0,null,0,null,0,null,0,null,0,null,0,null,0,null,0,null,0,null,0,null,0,null,0,null,0,null,0,null,0,0]
[null,{"$f":"+PRESUPUESTO!B434","v":"AME001"},{"$f":"IF(B383=0, \"\",VLOOKUP(B383,PRESUPUESTO!$B$17:$C$4607, 2, FALSE))","v":"MOTOR (ASCENSORES)"},{"$f":"IF(ISTEXT(B383), VLOOKUP(B383, PRESUPUESTO!$B$14:$J$4207, 9, FALSE),\"\")","v":0},null,0,null,0,null,0,null,0,null,0,null,0,null,0,null,0,null,0,null,0,null,0,null,0,null,0,null,0,null,0,null,0,null,0,null,0,null,0,null,0,null,0,null,0,null,0,null,0,null,0,null,0,null,0,null,0,null,0,null,0,null,0,null,0,null,0,null,0,null,0,null,0,null,0,0]
[null,{"$f":"+PRESUPUESTO!B435","v":"AME002"},{"$f":"IF(B384=0, \"\",VLOOKUP(B384,PRESUPUESTO!$B$17:$C$4607, 2, FALSE))","v":"ESTRUCTURA DE CABINA ASCENSOR Y COM. PARCIAL"},{"$f":"IF(ISTEXT(B384), VLOOKUP(B384, PRESUPUESTO!$B$14:$J$4207, 9, FALSE),\"\")","v":0},null,0,null,0,null,0,null,0,null,0,null,0,null,0,null,0,null,0,null,0,null,0,null,0,null,0,null,0,null,0,null,0,null,0,null,0,null,0,null,0,null,0,null,0,null,0,null,0,null,0,null,0,null,0,null,0,null,0,null,0,null,0,null,0,null,0,null,0,null,0,null,0,null,0,0]
[null,{"$f":"+PRESUPUESTO!B436","v":"AME003"},{"$f":"IF(B385=0, \"\",VLOOKUP(B385,PRESUPUESTO!$B$17:$C$4607, 2, FALSE))","v":"TERMINACIÓN DE CABINA ASCENSOR Y COMANDOS"},{"$f":"IF(ISTEXT(B385), VLOOKUP(B385, PRESUPUESTO!$B$14:$J$4207, 9, FALSE),\"\")","v":0},null,0,null,0,null,0,null,0,null,0,null,0,null,0,null,0,null,0,null,0,null,0,null,0,null,0,null,0,null,0,null,0,null,0,null,0,null,0,null,0,null,0,null,0,null,0,null,0,null,0,null,0,null,0,null,0,null,0,null,0,null,0,null,0,null,0,null,0,null,0,null,0,null,0,0]
[null,{"$f":"+PRESUPUESTO!B438","v":"AHG001"},{"$f":"IF(B386=0, \"\",VLOOKUP(B386,PRESUPUESTO!$B$17:$C$4607, 2, FALSE))","v":"PINTURA A LA CAL CON FIJADOR EN PARAMENTOS"},{"$f":"IF(ISTEXT(B386), VLOOKUP(B386, PRESUPUESTO!$B$14:$J$4207, 9, FALSE),\"\")","v":0},null,0,null,0,null,0,null,0,null,0,null,0,null,0,null,0,null,0,null,0,null,0,null,0,null,0,null,0,null,0,null,0,null,0,null,0,null,0,null,0,null,0,null,0,null,0,null,0,null,0,null,0,null,0,null,0,null,0,null,0,null,0,null,0,null,0,null,0,null,0,null,0,null,0,0]
[null,{"$f":"+PRESUPUESTO!B439","v":"AHG002"},{"$f":"IF(B387=0, \"\",VLOOKUP(B387,PRESUPUESTO!$B$17:$C$4607, 2, FALSE))","v":"PINTURA A LA CAL CON FIJADOR EN CIELORRASOS"},{"$f":"IF(ISTEXT(B387), VLOOKUP(B387, PRESUPUESTO!$B$14:$J$4207, 9, FALSE),\"\")","v":0},null,0,null,0,null,0,null,0,null,0,null,0,null,0,null,0,null,0,null,0,null,0,null,0,null,0,null,0,null,0,null,0,null,0,null,0,null,0,null,0,null,0,null,0,null,0,null,0,null,0,null,0,null,0,null,0,null,0,null,0,null,0,null,0,null,0,null,0,null,0,null,0,null,0,0]
[null,{"$f":"+PRESUPUESTO!B440","v":"AHG003"},{"$f":"IF(B388=0, \"\",VLOOKUP(B388,PRESUPUESTO!$B$17:$C$4607, 2, FALSE))","v":"PINTURA AL AGUA EN PARAMENTOS/CIELORRASOS"},{"$f":"IF(ISTEXT(B388), VLOOKUP(B388, PRESUPUESTO!$B$14:$J$4207, 9, FALSE),\"\")","v":0},null,0,null,0,null,0,null,0,null,0,null,0,null,0,null,0,null,0,null,0,null,0,null,0,null,0,null,0,null,0,null,0,null,0,null,0,null,0,null,0,null,0,null,0,null,0,null,0,null,0,null,0,null,0,null,0,null,0,null,0,null,0,null,0,null,0,null,0,null,0,null,0,null,0,0]
[null,{"$f":"+PRESUPUESTO!B441","v":"AHG004"},{"$f":"IF(B389=0, \"\",VLOOKUP(B389,PRESUPUESTO!$B$17:$C$4607, 2, FALSE))","v":"PINTURAS CEMENTICIAS (EXTERIORES)"},{"$f":"IF(ISTEXT(B389), VLOOKUP(B389, PRESUPUESTO!$B$14:$J$4207, 9, FALSE),\"\")","v":0},null,0,null,0,null,0,null,0,null,0,null,0,null,0,null,0,null,0,null,0,null,0,null,0,null,0,null,0,null,0,null,0,null,0,null,0,null,0,null,0,null,0,null,0,null,0,null,0,null,0,null,0,null,0,null,0,null,0,null,0,null,0,null,0,null,0,null,0,null,0,null,0,null,0,0]
[null,{"$f":"+PRESUPUESTO!B442","v":"AHG005"},{"$f":"IF(B390=0, \"\",VLOOKUP(B390,PRESUPUESTO!$B$17:$C$4607, 2, FALSE))","v":"PINTURA LATEX ACRILICA (EXTERIORES)"},{"$f":"IF(ISTEXT(B390), VLOOKUP(B390, PRESUPUESTO!$B$14:$J$4207, 9, FALSE),\"\")","v":0},null,0,null,0,null,0,null,0,null,0,null,0,null,0,null,0,null,0,null,0,null,0,null,0,null,0,null,0,null,0,null,0,null,0,null,0,null,0,null,0,null,0,null,0,null,0,null,0,null,0,null,0,null,0,null,0,null,0,null,0,null,0,null,0,null,0,null,0,null,0,null,0,null,0,0]
[null,{"$f":"+PRESUPUESTO!B443","v":"AHG010"},{"$f":"IF(B391=0, \"\",VLOOKUP(B391,PRESUPUESTO!$B$17:$C$4607, 2, FALSE))","v":"ESMALTES SINTÉTICOS (S/MADERA/HERRERÍA)"},{"$f":"IF(ISTEXT(B391), VLOOKUP(B391, PRESUPUESTO!$B$14:$J$4207, 9, FALSE),\"\")","v":0},null,0,null,0,null,0,null,0,null,0,null,0,null,0,null,0,null,0,null,0,null,0,null,0,null,0,null,0,null,0,null,0,null,0,null,0,null,0,null,0,null,0,null,0,null,0,null,0,null,0,null,0,null,0,null,0,null,0,null,0,null,0,null,0,null,0,null,0,null,0,null,0,null,0,0]
[null,{"$f":"+PRESUPUESTO!B444","v":"AHG011"},{"$f":"IF(B392=0, \"\",VLOOKUP(B392,PRESUPUESTO!$B$17:$C$4607, 2, FALSE))","v":"BARNIZ MARINO"},{"$f":"IF(ISTEXT(B392), VLOOKUP(B392, PRESUPUESTO!$B$14:$J$4207, 9, FALSE),\"\")","v":0},null,0,null,0,null,0,null,0,null,0,null,0,null,0,null,0,null,0,null,0,null,0,null,0,null,0,null,0,null,0,null,0,null,0,null,0,null,0,null,0,null,0,null,0,null,0,null,0,null,0,null,0,null,0,null,0,null,0,null,0,null,0,null,0,null,0,null,0,null,0,null,0,null,0,0]
[null,{"$f":"+PRESUPUESTO!B446","v":"AOA001"},{"$f":"IF(B393=0, \"\",VLOOKUP(B393,PRESUPUESTO!$B$17:$C$4607, 2, FALSE))","v":"FUNDACIONES PARA SUM"},{"$f":"IF(ISTEXT(B393), VLOOKUP(B393, PRESUPUESTO!$B$14:$J$4207, 9, FALSE),\"\")","v":0},null,0,null,0,null,0,null,0,null,0,null,0,null,0,null,0,null,0,null,0,null,0,null,0,null,0,null,0,null,0,null,0,null,0,null,0,null,0,null,0,null,0,null,0,null,0,null,0,null,0,null,0,null,0,null,0,null,0,null,0,null,0,null,0,null,0,null,0,null,0,null,0,null,0,0]
[null,{"$f":"+PRESUPUESTO!B447","v":"AOA005"},{"$f":"IF(B394=0, \"\",VLOOKUP(B394,PRESUPUESTO!$B$17:$C$4607, 2, FALSE))","v":"ESTRUCTURA PARA SUM"},{"$f":"IF(ISTEXT(B394), VLOOKUP(B394, PRESUPUESTO!$B$14:$J$4207, 9, FALSE),\"\")","v":0},null,0,null,0,null,0,null,0,null,0,null,0,null,0,null,0,null,0,null,0,null,0,null,0,null,0,null,0,null,0,null,0,null,0,null,0,null,0,null,0,null,0,null,0,null,0,null,0,null,0,null,0,null,0,null,0,null,0,null,0,null,0,null,0,null,0,null,0,null,0,null,0,null,0,0]
[null,{"$f":"+PRESUPUESTO!B448","v":"AOA010"},{"$f":"IF(B395=0, \"\",VLOOKUP(B395,PRESUPUESTO!$B$17:$C$4607, 2, FALSE))","v":"ALBAÑILERIA PARA SUM"},{"$f":"IF(ISTEXT(B395), VLOOKUP(B395, PRESUPUESTO!$B$14:$J$4207, 9, FALSE),\"\")","v":0},null,0,null,0,null,0,null,0,null,0,null,0,null,0,null,0,null,0,null,0,null,0,null,0,null,0,null,0,null,0,null,0,null,0,null,0,null,0,null,0,null,0,null,0,null,0,null,0,null,0,null,0,null,0,null,0,null,0,null,0,null,0,null,0,null,0,null,0,null,0,null,0,null,0,0]
[null,{"$f":"+PRESUPUESTO!B449","v":"AOA015"},{"$f":"IF(B396=0, \"\",VLOOKUP(B396,PRESUPUESTO!$B$17:$C$4607, 2, FALSE))","v":"SANITARIA PARA SUM"},{"$f":"IF(ISTEXT(B396), VLOOKUP(B396, PRESUPUESTO!$B$14:$J$4207, 9, FALSE),\"\")","v":0},null,0,null,0,null,0,null,0,null,0,null,0,null,0,null,0,null,0,null,0,null,0,null,0,null,0,null,0,null,0,null,0,null,0,null,0,null,0,null,0,null,0,null,0,null,0,null,0,null,0,null,0,null,0,null,0,null,0,null,0,null,0,null,0,null,0,null,0,null,0,null,0,null,0,0]
[null,{"$f":"+PRESUPUESTO!B450","v":"AOA020"},{"$f":"IF(B397=0, \"\",VLOOKUP(B397,PRESUPUESTO!$B$17:$C$4607, 2, FALSE))","v":"ELECTRICA PARA SUM"},{"$f":"IF(ISTEXT(B397), VLOOKUP(B397, PRESUPUESTO!$B$14:$J$4207, 9, FALSE),\"\")","v":0},null,0,null,0,null,0,null,0,null,0,null,0,null,0,null,0,null,0,null,0,null,0,null,0,null,0,null,0,null,0,null,0,null,0,null,0,null,0,null,0,null,0,null,0,null,0,null,0,null,0,null,0,null,0,null,0,null,0,null,0,null,0,null,0,null,0,null,0,null,0,null,0,null,0,0]
[null,{"$f":"+PRESUPUESTO!B451","v":"AOA025"},{"$f":"IF(B398=0, \"\",VLOOKUP(B398,PRESUPUESTO!$B$17:$C$4607, 2, FALSE))","v":"ABERTURAS PARA SUM"},{"$f":"IF(ISTEXT(B398), VLOOKUP(B398, PRESUPUESTO!$B$14:$J$4207, 9, FALSE),\"\")","v":0},null,0,null,0,null,0,null,0,null,0,null,0,null,0,null,0,null,0,null,0,null,0,null,0,null,0,null,0,null,0,null,0,null,0,null,0,null,0,null,0,null,0,null,0,null,0,null,0,null,0,null,0,null,0,null,0,null,0,null,0,null,0,null,0,null,0,null,0,null,0,null,0,null,0,0]
[null,{"$f":"+PRESUPUESTO!B452","v":"AOA030"},{"$f":"IF(B399=0, \"\",VLOOKUP(B399,PRESUPUESTO!$B$17:$C$4607, 2, FALSE))","v":"CUBIERTA PARA SUM"},{"$f":"IF(ISTEXT(B399), VLOOKUP(B399, PRESUPUESTO!$B$14:$J$4207, 9, FALSE),\"\")","v":0},null,0,null,0,null,0,null,0,null,0,null,0,null,0,null,0,null,0,null,0,null,0,null,0,null,0,null,0,null,0,null,0,null,0,null,0,null,0,null,0,null,0,null,0,null,0,null,0,null,0,null,0,null,0,null,0,null,0,null,0,null,0,null,0,null,0,null,0,null,0,null,0,null,0,0]
[null,{"$f":"+PRESUPUESTO!B455","v":"ANB003"},{"$f":"IF(B400=0, \"\",VLOOKUP(B400,PRESUPUESTO!$B$17:$C$4607, 2, FALSE))","v":"REJAS EXTERIORES"},{"$f":"IF(ISTEXT(B400), VLOOKUP(B400, PRESUPUESTO!$B$14:$J$4207, 9, FALSE),\"\")","v":0},null,{"$f":"IF($D400=\"\",\"\",$D400*E400)","v":0},null,{"$f":"IF($D400=\"\",\"\",$D400*G400)","v":0},null,{"$f":"IF($D400=\"\",\"\",$D400*I400)","v":0},null,{"$f":"IF($D400=\"\",\"\",$D400*K400)","v":0},null,{"$f":"IF($D400=\"\",\"\",$D400*M400)","v":0},null,{"$f":"IF($D400=\"\",\"\",$D400*O400)","v":0},null,{"$f":"IF($D400=\"\",\"\",$D400*Q400)","v":0},null,{"$f":"IF($D400=\"\",\"\",$D400*S400)","v":0},null,{"$f":"IF($D400=\"\",\"\",$D400*U400)","v":0},null,{"$f":"IF($D400=\"\",\"\",$D400*W400)","v":0},null,{"$f":"IF($D400=\"\",\"\",$D400*Y400)","v":0},null,{"$f":"IF($D400=\"\",\"\",$D400*AA400)","v":0},null,{"$f":"IF($D400=\"\",\"\",$D400*AC400)","v":0},null,{"$f":"IF($D400=\"\",\"\",$D400*AE400)","v":0},null,{"$f":"IF($D400=\"\",\"\",$D400*AG400)","v":0},null,{"$f":"IF($D400=\"\",\"\",$D400*AI400)","v":0},null,{"$f":"IF($D400=\"\",\"\",$D400*AK400)","v":0},null,{"$f":"IF($D400=\"\",\"\",$D400*AM400)","v":0},null,{"$f":"IF($D400=\"\",\"\",$D400*AO400)","v":0},null,{"$f":"IF($D400=\"\",\"\",$D400*AQ400)","v":0},null,{"$f":"IF($D400=\"\",\"\",$D400*AS400)","v":0},null,{"$f":"IF($D400=\"\",\"\",$D400*AU400)","v":0},null,{"$f":"IF($D400=\"\",\"\",$D400*AW400)","v":0},null,{"$f":"IF($D400=\"\",\"\",$D400*AY400)","v":0},null,{"$f":"IF($D400=\"\",\"\",$D400*BA400)","v":0},null,{"$f":"IF($D400=\"\",\"\",$D400*BC400)","v":0},null,{"$f":"IF($D400=\"\",\"\",$D400*BE400)","v":0},null,{"$f":"IF($D400=\"\",\"\",$D400*BG400)","v":0},null,{"$f":"IF($D400=\"\",\"\",$D400*BI400)","v":0},null,{"$f":"IF($D400=\"\",\"\",$D400*BK400)","v":0},null,{"$f":"IF($D400=\"\",\"\",$D400*BM400)","v":0},null,{"$f":"IF($D400=\"\",\"\",$D400*BO400)","v":0},null,{"$f":"IF($D400=\"\",\"\",$D400*BQ400)","v":0},null,{"$f":"IF($D400=\"\",\"\",$D400*BS400)","v":0},null,{"$f":"IF($D400=\"\",\"\",$D400*BU400)","v":0},null,{"$f":"IF($D400=\"\",\"\",$D400*BW400)","v":0},null,{"$f":"+E400+G400+I400+K400+M400+O400+Q400+S400+U400+W400+Y400+AA400+AC400+AE400+AG400+AI400+AK400+AM400+AO400+AQ400+AS400+AU400+AW400+AY400+BA400+BC400+BE400+BG400+BI400+BK400+BM400+BO400+BQ400+BS400+BU400+BW400","v":0},{"$f":"IF(D400=\"\",\"\",ROUND(F400+H400+J400+L400+N400+P400+R400+T400+V400+X400+Z400+AB400+AD400+AF400+AH400+AJ400+AL400+AN400+AP400+AR400+AT400+AV400+AX400+AZ400+BB400+BD400+BF400+BH400+BJ400+BL400+BN400+BP400+BR400+BT400+BV400+BX400,2))","v":0}]
[null,{"$f":"+PRESUPUESTO!B456","v":"ANB004"},{"$f":"IF(B401=0, \"\",VLOOKUP(B401,PRESUPUESTO!$B$17:$C$4607, 2, FALSE))","v":"PLANTACIÓN DE ÁRBOLES"},{"$f":"IF(ISTEXT(B401), VLOOKUP(B401, PRESUPUESTO!$B$14:$J$4207, 9, FALSE),\"\")","v":0},null,0,null,0,null,0,null,0,null,0,null,0,null,0,null,0,null,0,null,0,null,0,null,0,null,0,null,0,null,0,null,0,null,0,null,0,null,0,null,0,null,0,null,0,null,0,null,0,null,0,null,0,null,0,null,0,null,0,null,0,null,0,null,0,null,0,null,0,null,0,null,0,null,0,0]
[null,{"$f":"+PRESUPUESTO!B457","v":"ANB006"},{"$f":"IF(B402=0, \"\",VLOOKUP(B402,PRESUPUESTO!$B$17:$C$4607, 2, FALSE))","v":"SUELO PASTO"},{"$f":"IF(ISTEXT(B402), VLOOKUP(B402, PRESUPUESTO!$B$14:$J$4207, 9, FALSE),\"\")","v":0},null,0,null,0,null,0,null,0,null,0,null,0,null,0,null,0,null,0,null,0,null,0,null,0,null,0,null,0,null,0,null,0,null,0,null,0,null,0,null,0,null,0,null,0,null,0,null,0,null,0,null,0,null,0,null,0,null,0,null,0,null,0,null,0,null,0,null,0,null,0,null,0,null,0,0]
[null,{"$f":"+PRESUPUESTO!B458","v":"ANB007"},{"$f":"IF(B403=0, \"\",VLOOKUP(B403,PRESUPUESTO!$B$17:$C$4607, 2, FALSE))","v":"CERCOS METALICOS/MADERA"},{"$f":"IF(ISTEXT(B403), VLOOKUP(B403, PRESUPUESTO!$B$14:$J$4207, 9, FALSE),\"\")","v":0},null,0,null,0,null,0,null,0,null,0,null,0,null,0,null,0,null,0,null,0,null,0,null,0,null,0,null,0,null,0,null,0,null,0,null,0,null,0,null,0,null,0,null,0,null,0,null,0,null,0,null,0,null,0,null,0,null,0,null,0,null,0,null,0,null,0,null,0,null,0,null,0,null,0,0]
[null,{"$f":"+PRESUPUESTO!B459","v":"ANB008"},{"$f":"IF(B404=0, \"\",VLOOKUP(B404,PRESUPUESTO!$B$17:$C$4607, 2, FALSE))","v":"CIMENTACIÓN,BANCOS Y MURETES"},{"$f":"IF(ISTEXT(B404), VLOOKUP(B404, PRESUPUESTO!$B$14:$J$4207, 9, FALSE),\"\")","v":0},null,0,null,0,null,0,null,0,null,0,null,0,null,0,null,0,null,0,null,0,null,0,null,0,null,0,null,0,null,0,null,0,null,0,null,0,null,0,null,0,null,0,null,0,null,0,null,0,null,0,null,0,null,0,null,0,null,0,null,0,null,0,null,0,null,0,null,0,null,0,null,0,null,0,0]
[null,{"$f":"+PRESUPUESTO!B460","v":"ANB009"},{"$f":"IF(B405=0, \"\",VLOOKUP(B405,PRESUPUESTO!$B$17:$C$4607, 2, FALSE))","v":"MUROS/MURETES ALBAÑILERIA"},{"$f":"IF(ISTEXT(B405), VLOOKUP(B405, PRESUPUESTO!$B$14:$J$4207, 9, FALSE),\"\")","v":0},null,0,null,0,null,0,null,0,null,0,null,0,null,0,null,0,null,0,null,0,null,0,null,0,null,0,null,0,null,0,null,0,null,0,null,0,null,0,null,0,null,0,null,0,null,0,null,0,null,0,null,0,null,0,null,0,null,0,null,0,null,0,null,0,null,0,null,0,null,0,null,0,null,0,0]
[null,{"$f":"+PRESUPUESTO!B461","v":"ANB013"},{"$f":"IF(B406=0, \"\",VLOOKUP(B406,PRESUPUESTO!$B$17:$C$4607, 2, FALSE))","v":"OBRAS EXTERIORES VARIAS (PARRILLERO, ESPACIO MEDIDORES, OTRAS)"},{"$f":"IF(ISTEXT(B406), VLOOKUP(B406, PRESUPUESTO!$B$14:$J$4207, 9, FALSE),\"\")","v":0},null,0,null,0,null,0,null,0,null,0,null,0,null,0,null,0,null,0,null,0,null,0,null,0,null,0,null,0,null,0,null,0,null,0,null,0,null,0,null,0,null,0,null,0,null,0,null,0,null,0,null,0,null,0,null,0,null,0,null,0,null,0,null,0,null,0,null,0,null,0,null,0,null,0,0]
[null,{"$f":"+PRESUPUESTO!B462","v":"ANB014"},{"$f":"IF(B407=0, \"\",VLOOKUP(B407,PRESUPUESTO!$B$17:$C$4607, 2, FALSE))","v":"CANTO RODADO, PIEDRA PARTIDA, SOBRE BASE COMPACTADA"},{"$f":"IF(ISTEXT(B407), VLOOKUP(B407, PRESUPUESTO!$B$14:$J$4207, 9, FALSE),\"\")","v":0},null,0,null,0,null,0,null,0,null,0,null,0,null,0,null,0,null,0,null,0,null,0,null,0,null,0,null,0,null,0,null,0,null,0,null,0,null,0,null,0,null,0,null,0,null,0,null,0,null,0,null,0,null,0,null,0,null,0,null,0,null,0,null,0,null,0,null,0,null,0,null,0,null,0,0]
[null,{"$f":"+PRESUPUESTO!B463","v":"BAA001"},{"$f":"IF(B408=0, \"\",VLOOKUP(B408,PRESUPUESTO!$B$17:$C$4607, 2, FALSE))","v":"DESMONTE A TERRAPLÉN"},{"$f":"IF(ISTEXT(B408), VLOOKUP(B408, PRESUPUESTO!$B$14:$J$4207, 9, FALSE),\"\")","v":0},null,{"$f":"IF($D408=\"\",\"\",$D408*E408)","v":0},null,{"$f":"IF($D408=\"\",\"\",$D408*G408)","v":0},null,{"$f":"IF($D408=\"\",\"\",$D408*I408)","v":0},null,{"$f":"IF($D408=\"\",\"\",$D408*K408)","v":0},null,{"$f":"IF($D408=\"\",\"\",$D408*M408)","v":0},null,{"$f":"IF($D408=\"\",\"\",$D408*O408)","v":0},null,{"$f":"IF($D408=\"\",\"\",$D408*Q408)","v":0},null,{"$f":"IF($D408=\"\",\"\",$D408*S408)","v":0},null,{"$f":"IF($D408=\"\",\"\",$D408*U408)","v":0},null,{"$f":"IF($D408=\"\",\"\",$D408*W408)","v":0},null,{"$f":"IF($D408=\"\",\"\",$D408*Y408)","v":0},null,{"$f":"IF($D408=\"\",\"\",$D408*AA408)","v":0},null,{"$f":"IF($D408=\"\",\"\",$D408*AC408)","v":0},null,{"$f":"IF($D408=\"\",\"\",$D408*AE408)","v":0},null,{"$f":"IF($D408=\"\",\"\",$D408*AG408)","v":0},null,{"$f":"IF($D408=\"\",\"\",$D408*AI408)","v":0},null,{"$f":"IF($D408=\"\",\"\",$D408*AK408)","v":0},null,{"$f":"IF($D408=\"\",\"\",$D408*AM408)","v":0},null,{"$f":"IF($D408=\"\",\"\",$D408*AO408)","v":0},null,{"$f":"IF($D408=\"\",\"\",$D408*AQ408)","v":0},null,{"$f":"IF($D408=\"\",\"\",$D408*AS408)","v":0},null,{"$f":"IF($D408=\"\",\"\",$D408*AU408)","v":0},null,{"$f":"IF($D408=\"\",\"\",$D408*AW408)","v":0},null,{"$f":"IF($D408=\"\",\"\",$D408*AY408)","v":0},null,{"$f":"IF($D408=\"\",\"\",$D408*BA408)","v":0},null,{"$f":"IF($D408=\"\",\"\",$D408*BC408)","v":0},null,{"$f":"IF($D408=\"\",\"\",$D408*BE408)","v":0},null,{"$f":"IF($D408=\"\",\"\",$D408*BG408)","v":0},null,{"$f":"IF($D408=\"\",\"\",$D408*BI408)","v":0},null,{"$f":"IF($D408=\"\",\"\",$D408*BK408)","v":0},null,{"$f":"IF($D408=\"\",\"\",$D408*BM408)","v":0},null,{"$f":"IF($D408=\"\",\"\",$D408*BO408)","v":0},null,{"$f":"IF($D408=\"\",\"\",$D408*BQ408)","v":0},null,{"$f":"IF($D408=\"\",\"\",$D408*BS408)","v":0},null,{"$f":"IF($D408=\"\",\"\",$D408*BU408)","v":0},null,{"$f":"IF($D408=\"\",\"\",$D408*BW408)","v":0},null,{"$f":"+E408+G408+I408+K408+M408+O408+Q408+S408+U408+W408+Y408+AA408+AC408+AE408+AG408+AI408+AK408+AM408+AO408+AQ408+AS408+AU408+AW408+AY408+BA408+BC408+BE408+BG408+BI408+BK408+BM408+BO408+BQ408+BS408+BU408+BW408","v":0},{"$f":"IF(D408=\"\",\"\",ROUND(F408+H408+J408+L408+N408+P408+R408+T408+V408+X408+Z408+AB408+AD408+AF408+AH408+AJ408+AL408+AN408+AP408+AR408+AT408+AV408+AX408+AZ408+BB408+BD408+BF408+BH408+BJ408+BL408+BN408+BP408+BR408+BT408+BV408+BX408,2))","v":0}]
[null,{"$f":"+PRESUPUESTO!B464","v":"BAA002"},{"$f":"IF(B409=0, \"\",VLOOKUP(B409,PRESUPUESTO!$B$17:$C$4607, 2, FALSE))","v":"DESMONTE A RETIRO"},{"$f":"IF(ISTEXT(B409), VLOOKUP(B409, PRESUPUESTO!$B$14:$J$4207, 9, FALSE),\"\")","v":0},null,0,null,0,null,0,null,0,null,0,null,0,null,0,null,0,null,0,null,0,null,0,null,0,null,0,null,0,null,0,null,0,null,0,null,0,null,0,null,0,null,0,null,0,null,0,null,0,null,0,null,0,null,0,null,0,null,0,null,0,null,0,null,0,null,0,null,0,null,0,null,0,null,0,0]
[null,{"$f":"+PRESUPUESTO!B465","v":"ABA005"},{"$f":"IF(B410=0, \"\",VLOOKUP(B410,PRESUPUESTO!$B$17:$C$4607, 2, FALSE))","v":"RELLENOS CON APORTES"},{"$f":"IF(ISTEXT(B410), VLOOKUP(B410, PRESUPUESTO!$B$14:$J$4207, 9, FALSE),\"\")","v":0},null,0,null,0,null,0,null,0,null,0,null,0,null,0,null,0,null,0,null,0,null,0,null,0,null,0,null,0,null,0,null,0,null,0,null,0,null,0,null,0,null,0,null,0,null,0,null,0,null,0,null,0,null,0,null,0,null,0,null,0,null,0,null,0,null,0,null,0,null,0,null,0,null,0,0]
[null,{"$f":"+PRESUPUESTO!B466","v":"ANB017"},{"$f":"IF(B411=0, \"\",VLOOKUP(B411,PRESUPUESTO!$B$17:$C$4607, 2, FALSE))","v":"MUROS DE CONTENCION HA (C/CIMIENTO)"},{"$f":"IF(ISTEXT(B411), VLOOKUP(B411, PRESUPUESTO!$B$14:$J$4207, 9, FALSE),\"\")","v":0},null,0,null,0,null,0,null,0,null,0,null,0,null,0,null,0,null,0,null,0,null,0,null,0,null,0,null,0,null,0,null,0,null,0,null,0,null,0,null,0,null,0,null,0,null,0,null,0,null,0,null,0,null,0,null,0,null,0,null,0,null,0,null,0,null,0,null,0,null,0,null,0,null,0,0]
[null,{"$f":"+PRESUPUESTO!B467","v":"ANB018"},{"$f":"IF(B412=0, \"\",VLOOKUP(B412,PRESUPUESTO!$B$17:$C$4607, 2, FALSE))","v":"MUROS DE CONTENCION BLOQUE ARMADO (C/CIMIENTO)"},{"$f":"IF(ISTEXT(B412), VLOOKUP(B412, PRESUPUESTO!$B$14:$J$4207, 9, FALSE),\"\")","v":0},null,0,null,0,null,0,null,0,null,0,null,0,null,0,null,0,null,0,null,0,null,0,null,0,null,0,null,0,null,0,null,0,null,0,null,0,null,0,null,0,null,0,null,0,null,0,null,0,null,0,null,0,null,0,null,0,null,0,null,0,null,0,null,0,null,0,null,0,null,0,null,0,null,0,0]
[null,{"$f":"+PRESUPUESTO!B469","v":"AND017"},{"$f":"IF(B413=0, \"\",VLOOKUP(B413,PRESUPUESTO!$B$17:$C$4607, 2, FALSE))","v":"SUMINISTRO DE COLUMNAS DE ALUMBRADOS PREFABRICADAS"},{"$f":"IF(ISTEXT(B413), VLOOKUP(B413, PRESUPUESTO!$B$14:$J$4207, 9, FALSE),\"\")","v":0},null,0,null,0,null,0,null,0,null,0,null,0,null,0,null,0,null,0,null,0,null,0,null,0,null,0,null,0,null,0,null,0,null,0,null,0,null,0,null,0,null,0,null,0,null,0,null,0,null,0,null,0,null,0,null,0,null,0,null,0,null,0,null,0,null,0,null,0,null,0,null,0,null,0,0]
[null,{"$f":"+PRESUPUESTO!B470","v":"AND018"},{"$f":"IF(B414=0, \"\",VLOOKUP(B414,PRESUPUESTO!$B$17:$C$4607, 2, FALSE))","v":"COLOCACION DE COLUMNAS DE ALUMBRADOS PREFABRICADAS"},{"$f":"IF(ISTEXT(B414), VLOOKUP(B414, PRESUPUESTO!$B$14:$J$4207, 9, FALSE),\"\")","v":0},null,0,null,0,null,0,null,0,null,0,null,0,null,0,null,0,null,0,null,0,null,0,null,0,null,0,null,0,null,0,null,0,null,0,null,0,null,0,null,0,null,0,null,0,null,0,null,0,null,0,null,0,null,0,null,0,null,0,null,0,null,0,null,0,null,0,null,0,null,0,null,0,null,0,0]
[null,{"$f":"+PRESUPUESTO!B471","v":"BCA003"},{"$f":"IF(B415=0, \"\",VLOOKUP(B415,PRESUPUESTO!$B$17:$C$4607, 2, FALSE))","v":"DUCTOS (BT SUBTERRÁNEA)"},{"$f":"IF(ISTEXT(B415), VLOOKUP(B415, PRESUPUESTO!$B$14:$J$4207, 9, FALSE),\"\")","v":0},null,0,null,0,null,0,null,0,null,0,null,0,null,0,null,0,null,0,null,0,null,0,null,0,null,0,null,0,null,0,null,0,null,0,null,0,null,0,null,0,null,0,null,0,null,0,null,0,null,0,null,0,null,0,null,0,null,0,null,0,null,0,null,0,null,0,null,0,null,0,null,0,null,0,0]
[null,{"$f":"+PRESUPUESTO!B472","v":"BCA005"},{"$f":"IF(B416=0, \"\",VLOOKUP(B416,PRESUPUESTO!$B$17:$C$4607, 2, FALSE))","v":"CAÑOS DE HORMIGÓN (BT SUBTERRÁNEA)"},{"$f":"IF(ISTEXT(B416), VLOOKUP(B416, PRESUPUESTO!$B$14:$J$4207, 9, FALSE),\"\")","v":0},null,0,null,0,null,0,null,0,null,0,null,0,null,0,null,0,null,0,null,0,null,0,null,0,null,0,null,0,null,0,null,0,null,0,null,0,null,0,null,0,null,0,null,0,null,0,null,0,null,0,null,0,null,0,null,0,null,0,null,0,null,0,null,0,null,0,null,0,null,0,null,0,null,0,0]
[null,{"$f":"+PRESUPUESTO!B473","v":"BCA006"},{"$f":"IF(B417=0, \"\",VLOOKUP(B417,PRESUPUESTO!$B$17:$C$4607, 2, FALSE))","v":"CÁMARAS (BT SUBTERRÁNEA)"},{"$f":"IF(ISTEXT(B417), VLOOKUP(B417, PRESUPUESTO!$B$14:$J$4207, 9, FALSE),\"\")","v":0},null,0,null,0,null,0,null,0,null,0,null,0,null,0,null,0,null,0,null,0,null,0,null,0,null,0,null,0,null,0,null,0,null,0,null,0,null,0,null,0,null,0,null,0,null,0,null,0,null,0,null,0,null,0,null,0,null,0,null,0,null,0,null,0,null,0,null,0,null,0,null,0,null,0,0]
[null,{"$f":"+PRESUPUESTO!B474","v":"BCA007"},{"$f":"IF(B418=0, \"\",VLOOKUP(B418,PRESUPUESTO!$B$17:$C$4607, 2, FALSE))","v":"CABLEADO (RED BT)"},{"$f":"IF(ISTEXT(B418), VLOOKUP(B418, PRESUPUESTO!$B$14:$J$4207, 9, FALSE),\"\")","v":0},null,0,null,0,null,0,null,0,null,0,null,0,null,0,null,0,null,0,null,0,null,0,null,0,null,0,null,0,null,0,null,0,null,0,null,0,null,0,null,0,null,0,null,0,null,0,null,0,null,0,null,0,null,0,null,0,null,0,null,0,null,0,null,0,null,0,null,0,null,0,null,0,null,0,0]
[null,{"$f":"+PRESUPUESTO!B475","v":"BCB001"},{"$f":"IF(B419=0, \"\",VLOOKUP(B419,PRESUPUESTO!$B$17:$C$4607, 2, FALSE))","v":"SUMINISTRO Y MONTAJE DE COLUMNAS (RED BT)"},{"$f":"IF(ISTEXT(B419), VLOOKUP(B419, PRESUPUESTO!$B$14:$J$4207, 9, FALSE),\"\")","v":0},null,0,null,0,null,0,null,0,null,0,null,0,null,0,null,0,null,0,null,0,null,0,null,0,null,0,null,0,null,0,null,0,null,0,null,0,null,0,null,0,null,0,null,0,null,0,null,0,null,0,null,0,null,0,null,0,null,0,null,0,null,0,null,0,null,0,null,0,null,0,null,0,null,0,0]
[null,{"$f":"+PRESUPUESTO!B476","v":"BCB003"},{"$f":"IF(B420=0, \"\",VLOOKUP(B420,PRESUPUESTO!$B$17:$C$4607, 2, FALSE))","v":"CABLEADO (RED BT)"},{"$f":"IF(ISTEXT(B420), VLOOKUP(B420, PRESUPUESTO!$B$14:$J$4207, 9, FALSE),\"\")","v":0},null,0,null,0,null,0,null,0,null,0,null,0,null,0,null,0,null,0,null,0,null,0,null,0,null,0,null,0,null,0,null,0,null,0,null,0,null,0,null,0,null,0,null,0,null,0,null,0,null,0,null,0,null,0,null,0,null,0,null,0,null,0,null,0,null,0,null,0,null,0,null,0,null,0,0]
[null,{"$f":"+PRESUPUESTO!B477","v":"BCC002"},{"$f":"IF(B421=0, \"\",VLOOKUP(B421,PRESUPUESTO!$B$17:$C$4607, 2, FALSE))","v":"SUMINISTRO Y MONTAJE DE COLUMNAS (RED ALUMBRADO)"},{"$f":"IF(ISTEXT(B421), VLOOKUP(B421, PRESUPUESTO!$B$14:$J$4207, 9, FALSE),\"\")","v":0},null,0,null,0,null,0,null,0,null,0,null,0,null,0,null,0,null,0,null,0,null,0,null,0,null,0,null,0,null,0,null,0,null,0,null,0,null,0,null,0,null,0,null,0,null,0,null,0,null,0,null,0,null,0,null,0,null,0,null,0,null,0,null,0,null,0,null,0,null,0,null,0,null,0,0]
[null,{"$f":"+PRESUPUESTO!B478","v":"BCC004"},{"$f":"IF(B422=0, \"\",VLOOKUP(B422,PRESUPUESTO!$B$17:$C$4607, 2, FALSE))","v":"CÁMARAS (RED ALUMBRADO)"},{"$f":"IF(ISTEXT(B422), VLOOKUP(B422, PRESUPUESTO!$B$14:$J$4207, 9, FALSE),\"\")","v":0},null,0,null,0,null,0,null,0,null,0,null,0,null,0,null,0,null,0,null,0,null,0,null,0,null,0,null,0,null,0,null,0,null,0,null,0,null,0,null,0,null,0,null,0,null,0,null,0,null,0,null,0,null,0,null,0,null,0,null,0,null,0,null,0,null,0,null,0,null,0,null,0,null,0,0]
[null,{"$f":"+PRESUPUESTO!B479","v":"BCC005"},{"$f":"IF(B423=0, \"\",VLOOKUP(B423,PRESUPUESTO!$B$17:$C$4607, 2, FALSE))","v":"CAÑOS P.V.C (RED ALUMBRADO)"},{"$f":"IF(ISTEXT(B423), VLOOKUP(B423, PRESUPUESTO!$B$14:$J$4207, 9, FALSE),\"\")","v":0},null,0,null,0,null,0,null,0,null,0,null,0,null,0,null,0,null,0,null,0,null,0,null,0,null,0,null,0,null,0,null,0,null,0,null,0,null,0,null,0,null,0,null,0,null,0,null,0,null,0,null,0,null,0,null,0,null,0,null,0,null,0,null,0,null,0,null,0,null,0,null,0,null,0,0]
[null,{"$f":"+PRESUPUESTO!B480","v":"BCC006"},{"$f":"IF(B424=0, \"\",VLOOKUP(B424,PRESUPUESTO!$B$17:$C$4607, 2, FALSE))","v":"CONDUCTORES (RED ALUMBRADO)"},{"$f":"IF(ISTEXT(B424), VLOOKUP(B424, PRESUPUESTO!$B$14:$J$4207, 9, FALSE),\"\")","v":0},null,0,null,0,null,0,null,0,null,0,null,0,null,0,null,0,null,0,null,0,null,0,null,0,null,0,null,0,null,0,null,0,null,0,null,0,null,0,null,0,null,0,null,0,null,0,null,0,null,0,null,0,null,0,null,0,null,0,null,0,null,0,null,0,null,0,null,0,null,0,null,0,null,0,0]
[null,{"$f":"+PRESUPUESTO!B481","v":"BCC007"},{"$f":"IF(B425=0, \"\",VLOOKUP(B425,PRESUPUESTO!$B$17:$C$4607, 2, FALSE))","v":"ARTEFACTOS ILUMINACIÓN COMPLETOS"},{"$f":"IF(ISTEXT(B425), VLOOKUP(B425, PRESUPUESTO!$B$14:$J$4207, 9, FALSE),\"\")","v":0},null,0,null,0,null,0,null,0,null,0,null,0,null,0,null,0,null,0,null,0,null,0,null,0,null,0,null,0,null,0,null,0,null,0,null,0,null,0,null,0,null,0,null,0,null,0,null,0,null,0,null,0,null,0,null,0,null,0,null,0,null,0,null,0,null,0,null,0,null,0,null,0,null,0,0]
[null,{"$f":"+PRESUPUESTO!B482","v":"BCC008"},{"$f":"IF(B426=0, \"\",VLOOKUP(B426,PRESUPUESTO!$B$17:$C$4607, 2, FALSE))","v":"TABLERO DE ILUMINACIÓN EXTERIOR"},{"$f":"IF(ISTEXT(B426), VLOOKUP(B426, PRESUPUESTO!$B$14:$J$4207, 9, FALSE),\"\")","v":0},null,0,null,0,null,0,null,0,null,0,null,0,null,0,null,0,null,0,null,0,null,0,null,0,null,0,null,0,null,0,null,0,null,0,null,0,null,0,null,0,null,0,null,0,null,0,null,0,null,0,null,0,null,0,null,0,null,0,null,0,null,0,null,0,null,0,null,0,null,0,null,0,null,0,0]
[null,{"$f":"+PRESUPUESTO!B483","v":"BDA002"},{"$f":"IF(B427=0, \"\",VLOOKUP(B427,PRESUPUESTO!$B$17:$C$4607, 2, FALSE))","v":"DUCTOS (RED TELEFÓNICA)"},{"$f":"IF(ISTEXT(B427), VLOOKUP(B427, PRESUPUESTO!$B$14:$J$4207, 9, FALSE),\"\")","v":0},null,0,null,0,null,0,null,0,null,0,null,0,null,0,null,0,null,0,null,0,null,0,null,0,null,0,null,0,null,0,null,0,null,0,null,0,null,0,null,0,null,0,null,0,null,0,null,0,null,0,null,0,null,0,null,0,null,0,null,0,null,0,null,0,null,0,null,0,null,0,null,0,null,0,0]
[null,{"$f":"+PRESUPUESTO!B484","v":"BDA003"},{"$f":"IF(B428=0, \"\",VLOOKUP(B428,PRESUPUESTO!$B$17:$C$4607, 2, FALSE))","v":"CÁMARAS (RED TELEFÓNICA)"},{"$f":"IF(ISTEXT(B428), VLOOKUP(B428, PRESUPUESTO!$B$14:$J$4207, 9, FALSE),\"\")","v":0},null,0,null,0,null,0,null,0,null,0,null,0,null,0,null,0,null,0,null,0,null,0,null,0,null,0,null,0,null,0,null,0,null,0,null,0,null,0,null,0,null,0,null,0,null,0,null,0,null,0,null,0,null,0,null,0,null,0,null,0,null,0,null,0,null,0,null,0,null,0,null,0,null,0,0]
[null,{"$f":"+PRESUPUESTO!B485","v":"BDA004"},{"$f":"IF(B429=0, \"\",VLOOKUP(B429,PRESUPUESTO!$B$17:$C$4607, 2, FALSE))","v":"CAÑOS P.V.C (RED TELEFÓNICA)"},{"$f":"IF(ISTEXT(B429), VLOOKUP(B429, PRESUPUESTO!$B$14:$J$4207, 9, FALSE),\"\")","v":0},null,0,null,0,null,0,null,0,null,0,null,0,null,0,null,0,null,0,null,0,null,0,null,0,null,0,null,0,null,0,null,0,null,0,null,0,null,0,null,0,null,0,null,0,null,0,null,0,null,0,null,0,null,0,null,0,null,0,null,0,null,0,null,0,null,0,null,0,null,0,null,0,null,0,0]
[null,{"$f":"+PRESUPUESTO!B486","v":"BDA005"},{"$f":"IF(B430=0, \"\",VLOOKUP(B430,PRESUPUESTO!$B$17:$C$4607, 2, FALSE))","v":"COLUMNAS (RED TELEFÓNICA)"},{"$f":"IF(ISTEXT(B430), VLOOKUP(B430, PRESUPUESTO!$B$14:$J$4207, 9, FALSE),\"\")","v":0},null,0,null,0,null,0,null,0,null,0,null,0,null,0,null,0,null,0,null,0,null,0,null,0,null,0,null,0,null,0,null,0,null,0,null,0,null,0,null,0,null,0,null,0,null,0,null,0,null,0,null,0,null,0,null,0,null,0,null,0,null,0,null,0,null,0,null,0,null,0,null,0,null,0,0]
[null,{"$f":"+PRESUPUESTO!B488","v":"BAB001"},{"$f":"IF(B431=0, \"\",VLOOKUP(B431,PRESUPUESTO!$B$17:$C$4607, 2, FALSE))","v":"ALCANTARILLAS HORMIGÓN"},{"$f":"IF(ISTEXT(B431), VLOOKUP(B431, PRESUPUESTO!$B$14:$J$4207, 9, FALSE),\"\")","v":0},null,0,null,0,null,0,null,0,null,0,null,0,null,0,null,0,null,0,null,0,null,0,null,0,null,0,null,0,null,0,null,0,null,0,null,0,null,0,null,0,null,0,null,0,null,0,null,0,null,0,null,0,null,0,null,0,null,0,null,0,null,0,null,0,null,0,null,0,null,0,null,0,null,0,0]
[null,{"$f":"+PRESUPUESTO!B489","v":"BAB002"},{"$f":"IF(B432=0, \"\",VLOOKUP(B432,PRESUPUESTO!$B$17:$C$4607, 2, FALSE))","v":"BADENES HORMIGÓN"},{"$f":"IF(ISTEXT(B432), VLOOKUP(B432, PRESUPUESTO!$B$14:$J$4207, 9, FALSE),\"\")","v":0},null,0,null,0,null,0,null,0,null,0,null,0,null,0,null,0,null,0,null,0,null,0,null,0,null,0,null,0,null,0,null,0,null,0,null,0,null,0,null,0,null,0,null,0,null,0,null,0,null,0,null,0,null,0,null,0,null,0,null,0,null,0,null,0,null,0,null,0,null,0,null,0,null,0,0]
[null,{"$f":"+PRESUPUESTO!B490","v":"BAB003"},{"$f":"IF(B433=0, \"\",VLOOKUP(B433,PRESUPUESTO!$B$17:$C$4607, 2, FALSE))","v":"CUNETA LADRILLO"},{"$f":"IF(ISTEXT(B433), VLOOKUP(B433, PRESUPUESTO!$B$14:$J$4207, 9, FALSE),\"\")","v":0},null,0,null,0,null,0,null,0,null,0,null,0,null,0,null,0,null,0,null,0,null,0,null,0,null,0,null,0,null,0,null,0,null,0,null,0,null,0,null,0,null,0,null,0,null,0,null,0,null,0,null,0,null,0,null,0,null,0,null,0,null,0,null,0,null,0,null,0,null,0,null,0,null,0,0]
[null,{"$f":"+PRESUPUESTO!B491","v":"BAB004"},{"$f":"IF(B434=0, \"\",VLOOKUP(B434,PRESUPUESTO!$B$17:$C$4607, 2, FALSE))","v":"CUNETA HORMIGON"},{"$f":"IF(ISTEXT(B434), VLOOKUP(B434, PRESUPUESTO!$B$14:$J$4207, 9, FALSE),\"\")","v":0},null,0,null,0,null,0,null,0,null,0,null,0,null,0,null,0,null,0,null,0,null,0,null,0,null,0,null,0,null,0,null,0,null,0,null,0,null,0,null,0,null,0,null,0,null,0,null,0,null,0,null,0,null,0,null,0,null,0,null,0,null,0,null,0,null,0,null,0,null,0,null,0,null,0,0]
[null,{"$f":"+PRESUPUESTO!B492","v":"BAB005"},{"$f":"IF(B435=0, \"\",VLOOKUP(B435,PRESUPUESTO!$B$17:$C$4607, 2, FALSE))","v":"CORDON CUNETA"},{"$f":"IF(ISTEXT(B435), VLOOKUP(B435, PRESUPUESTO!$B$14:$J$4207, 9, FALSE),\"\")","v":0},null,0,null,0,null,0,null,0,null,0,null,0,null,0,null,0,null,0,null,0,null,0,null,0,null,0,null,0,null,0,null,0,null,0,null,0,null,0,null,0,null,0,null,0,null,0,null,0,null,0,null,0,null,0,null,0,null,0,null,0,null,0,null,0,null,0,null,0,null,0,null,0,null,0,0]
[null,{"$f":"+PRESUPUESTO!B493","v":"BAB006"},{"$f":"IF(B436=0, \"\",VLOOKUP(B436,PRESUPUESTO!$B$17:$C$4607, 2, FALSE))","v":"ENTUBAMIENTO DE HORMIGÓN"},{"$f":"IF(ISTEXT(B436), VLOOKUP(B436, PRESUPUESTO!$B$14:$J$4207, 9, FALSE),\"\")","v":0},null,0,null,0,null,0,null,0,null,0,null,0,null,0,null,0,null,0,null,0,null,0,null,0,null,0,null,0,null,0,null,0,null,0,null,0,null,0,null,0,null,0,null,0,null,0,null,0,null,0,null,0,null,0,null,0,null,0,null,0,null,0,null,0,null,0,null,0,null,0,null,0,null,0,0]
[null,{"$f":"+PRESUPUESTO!B494","v":"BBA001"},{"$f":"IF(B437=0, \"\",VLOOKUP(B437,PRESUPUESTO!$B$17:$C$4607, 2, FALSE))","v":"SUMINISTRO Y COLOCACIÓN PVC 110 MM"},{"$f":"IF(ISTEXT(B437), VLOOKUP(B437, PRESUPUESTO!$B$14:$J$4207, 9, FALSE),\"\")","v":0},null,0,null,0,null,0,null,0,null,0,null,0,null,0,null,0,null,0,null,0,null,0,null,0,null,0,null,0,null,0,null,0,null,0,null,0,null,0,null,0,null,0,null,0,null,0,null,0,null,0,null,0,null,0,null,0,null,0,null,0,null,0,null,0,null,0,null,0,null,0,null,0,null,0,0]
[null,{"$f":"+PRESUPUESTO!B495","v":"BBA002"},{"$f":"IF(B438=0, \"\",VLOOKUP(B438,PRESUPUESTO!$B$17:$C$4607, 2, FALSE))","v":"SUMINISTRO Y COLOCACIÓN PVC 160 MM"},{"$f":"IF(ISTEXT(B438), VLOOKUP(B438, PRESUPUESTO!$B$14:$J$4207, 9, FALSE),\"\")","v":0},null,0,null,0,null,0,null,0,null,0,null,0,null,0,null,0,null,0,null,0,null,0,null,0,null,0,null,0,null,0,null,0,null,0,null,0,null,0,null,0,null,0,null,0,null,0,null,0,null,0,null,0,null,0,null,0,null,0,null,0,null,0,null,0,null,0,null,0,null,0,null,0,null,0,0]
[null,{"$f":"+PRESUPUESTO!B496","v":"BBA003"},{"$f":"IF(B439=0, \"\",VLOOKUP(B439,PRESUPUESTO!$B$17:$C$4607, 2, FALSE))","v":"SUMINISTRO Y COLOCACIÓN PVC 200 MM"},{"$f":"IF(ISTEXT(B439), VLOOKUP(B439, PRESUPUESTO!$B$14:$J$4207, 9, FALSE),\"\")","v":0},null,0,null,0,null,0,null,0,null,0,null,0,null,0,null,0,null,0,null,0,null,0,null,0,null,0,null,0,null,0,null,0,null,0,null,0,null,0,null,0,null,0,null,0,null,0,null,0,null,0,null,0,null,0,null,0,null,0,null,0,null,0,null,0,null,0,null,0,null,0,null,0,null,0,0]
[null,{"$f":"+PRESUPUESTO!B497","v":"BBA004"},{"$f":"IF(B440=0, \"\",VLOOKUP(B440,PRESUPUESTO!$B$17:$C$4607, 2, FALSE))","v":"CÁMARAS DE INSPECCIÓN 60X60"},{"$f":"IF(ISTEXT(B440), VLOOKUP(B440, PRESUPUESTO!$B$14:$J$4207, 9, FALSE),\"\")","v":0},null,0,null,0,null,0,null,0,null,0,null,0,null,0,null,0,null,0,null,0,null,0,null,0,null,0,null,0,null,0,null,0,null,0,null,0,null,0,null,0,null,0,null,0,null,0,null,0,null,0,null,0,null,0,null,0,null,0,null,0,null,0,null,0,null,0,null,0,null,0,null,0,null,0,0]
[null,{"$f":"+PRESUPUESTO!B498","v":"BBA005"},{"$f":"IF(B441=0, \"\",VLOOKUP(B441,PRESUPUESTO!$B$17:$C$4607, 2, FALSE))","v":"CÁMARAS DE INSPECCIÓN 60X110"},{"$f":"IF(ISTEXT(B441), VLOOKUP(B441, PRESUPUESTO!$B$14:$J$4207, 9, FALSE),\"\")","v":0},null,0,null,0,null,0,null,0,null,0,null,0,null,0,null,0,null,0,null,0,null,0,null,0,null,0,null,0,null,0,null,0,null,0,null,0,null,0,null,0,null,0,null,0,null,0,null,0,null,0,null,0,null,0,null,0,null,0,null,0,null,0,null,0,null,0,null,0,null,0,null,0,null,0,0]
[null,{"$f":"+PRESUPUESTO!B499","v":"BBA006"},{"$f":"IF(B442=0, \"\",VLOOKUP(B442,PRESUPUESTO!$B$17:$C$4607, 2, FALSE))","v":"CÁMARAS TERMINALES"},{"$f":"IF(ISTEXT(B442), VLOOKUP(B442, PRESUPUESTO!$B$14:$J$4207, 9, FALSE),\"\")","v":0},null,0,null,0,null,0,null,0,null,0,null,0,null,0,null,0,null,0,null,0,null,0,null,0,null,0,null,0,null,0,null,0,null,0,null,0,null,0,null,0,null,0,null,0,null,0,null,0,null,0,null,0,null,0,null,0,null,0,null,0,null,0,null,0,null,0,null,0,null,0,null,0,null,0,0]
[null,{"$f":"+PRESUPUESTO!B500","v":"BBA009"},{"$f":"IF(B443=0, \"\",VLOOKUP(B443,PRESUPUESTO!$B$17:$C$4607, 2, FALSE))","v":"CAMARAS DE LIMPIA (SANEAMIENTO)"},{"$f":"IF(ISTEXT(B443), VLOOKUP(B443, PRESUPUESTO!$B$14:$J$4207, 9, FALSE),\"\")","v":0},null,0,null,0,null,0,null,0,null,0,null,0,null,0,null,0,null,0,null,0,null,0,null,0,null,0,null,0,null,0,null,0,null,0,null,0,null,0,null,0,null,0,null,0,null,0,null,0,null,0,null,0,null,0,null,0,null,0,null,0,null,0,null,0,null,0,null,0,null,0,null,0,null,0,0]
[null,{"$f":"+PRESUPUESTO!B501","v":"BBA010"},{"$f":"IF(B444=0, \"\",VLOOKUP(B444,PRESUPUESTO!$B$17:$C$4607, 2, FALSE))","v":"EXCAVACION Y TAPADO ZANJAS (SANEAMIENTO INTERNO)"},{"$f":"IF(ISTEXT(B444), VLOOKUP(B444, PRESUPUESTO!$B$14:$J$4207, 9, FALSE),\"\")","v":0},null,0,null,0,null,0,null,0,null,0,null,0,null,0,null,0,null,0,null,0,null,0,null,0,null,0,null,0,null,0,null,0,null,0,null,0,null,0,null,0,null,0,null,0,null,0,null,0,null,0,null,0,null,0,null,0,null,0,null,0,null,0,null,0,null,0,null,0,null,0,null,0,null,0,0]
[null,{"$f":"+PRESUPUESTO!B502","v":"BBA011"},{"$f":"IF(B445=0, \"\",VLOOKUP(B445,PRESUPUESTO!$B$17:$C$4607, 2, FALSE))","v":"POZO DE BOMBEO"},{"$f":"IF(ISTEXT(B445), VLOOKUP(B445, PRESUPUESTO!$B$14:$J$4207, 9, FALSE),\"\")","v":0},null,0,null,0,null,0,null,0,null,0,null,0,null,0,null,0,null,0,null,0,null,0,null,0,null,0,null,0,null,0,null,0,null,0,null,0,null,0,null,0,null,0,null,0,null,0,null,0,null,0,null,0,null,0,null,0,null,0,null,0,null,0,null,0,null,0,null,0,null,0,null,0,null,0,0]
[null,{"$f":"+PRESUPUESTO!B503","v":"BBA014"},{"$f":"IF(B446=0, \"\",VLOOKUP(B446,PRESUPUESTO!$B$17:$C$4607, 2, FALSE))","v":"CONEXION TIPO MONTURA A SANEAMIENTO"},{"$f":"IF(ISTEXT(B446), VLOOKUP(B446, PRESUPUESTO!$B$14:$J$4207, 9, FALSE),\"\")","v":0},null,0,null,0,null,0,null,0,null,0,null,0,null,0,null,0,null,0,null,0,null,0,null,0,null,0,null,0,null,0,null,0,null,0,null,0,null,0,null,0,null,0,null,0,null,0,null,0,null,0,null,0,null,0,null,0,null,0,null,0,null,0,null,0,null,0,null,0,null,0,null,0,null,0,0]
[null,{"$f":"+PRESUPUESTO!B504","v":"BBA015"},{"$f":"IF(B447=0, \"\",VLOOKUP(B447,PRESUPUESTO!$B$17:$C$4607, 2, FALSE))","v":"DEPOSITO IMPERMEABLE INDIVIDUAL"},{"$f":"IF(ISTEXT(B447), VLOOKUP(B447, PRESUPUESTO!$B$14:$J$4207, 9, FALSE),\"\")","v":0},null,0,null,0,null,0,null,0,null,0,null,0,null,0,null,0,null,0,null,0,null,0,null,0,null,0,null,0,null,0,null,0,null,0,null,0,null,0,null,0,null,0,null,0,null,0,null,0,null,0,null,0,null,0,null,0,null,0,null,0,null,0,null,0,null,0,null,0,null,0,null,0,null,0,0]
[null,{"$f":"+PRESUPUESTO!B505","v":"BBA016"},{"$f":"IF(B448=0, \"\",VLOOKUP(B448,PRESUPUESTO!$B$17:$C$4607, 2, FALSE))","v":"DEPOSITO IMPERMEABLE COLECTIVO"},{"$f":"IF(ISTEXT(B448), VLOOKUP(B448, PRESUPUESTO!$B$14:$J$4207, 9, FALSE),\"\")","v":0},null,0,null,0,null,0,null,0,null,0,null,0,null,0,null,0,null,0,null,0,null,0,null,0,null,0,null,0,null,0,null,0,null,0,null,0,null,0,null,0,null,0,null,0,null,0,null,0,null,0,null,0,null,0,null,0,null,0,null,0,null,0,null,0,null,0,null,0,null,0,null,0,null,0,0]
[null,{"$f":"+PRESUPUESTO!B506","v":"BBA017"},{"$f":"IF(B449=0, \"\",VLOOKUP(B449,PRESUPUESTO!$B$17:$C$4607, 2, FALSE))","v":"FOSA SEPTICA INDIVIDUAL"},{"$f":"IF(ISTEXT(B449), VLOOKUP(B449, PRESUPUESTO!$B$14:$J$4207, 9, FALSE),\"\")","v":0},null,0,null,0,null,0,null,0,null,0,null,0,null,0,null,0,null,0,null,0,null,0,null,0,null,0,null,0,null,0,null,0,null,0,null,0,null,0,null,0,null,0,null,0,null,0,null,0,null,0,null,0,null,0,null,0,null,0,null,0,null,0,null,0,null,0,null,0,null,0,null,0,null,0,0]
[null,{"$f":"+PRESUPUESTO!B507","v":"BBA018"},{"$f":"IF(B450=0, \"\",VLOOKUP(B450,PRESUPUESTO!$B$17:$C$4607, 2, FALSE))","v":"FOSA SEPTICA COLECTIVA"},{"$f":"IF(ISTEXT(B450), VLOOKUP(B450, PRESUPUESTO!$B$14:$J$4207, 9, FALSE),\"\")","v":0},null,0,null,0,null,0,null,0,null,0,null,0,null,0,null,0,null,0,null,0,null,0,null,0,null,0,null,0,null,0,null,0,null,0,null,0,null,0,null,0,null,0,null,0,null,0,null,0,null,0,null,0,null,0,null,0,null,0,null,0,null,0,null,0,null,0,null,0,null,0,null,0,null,0,0]
[null,{"$f":"+PRESUPUESTO!B508","v":"BBA019"},{"$f":"IF(B451=0, \"\",VLOOKUP(B451,PRESUPUESTO!$B$17:$C$4607, 2, FALSE))","v":"HUMEDAL"},{"$f":"IF(ISTEXT(B451), VLOOKUP(B451, PRESUPUESTO!$B$14:$J$4207, 9, FALSE),\"\")","v":0},null,0,null,0,null,0,null,0,null,0,null,0,null,0,null,0,null,0,null,0,null,0,null,0,null,0,null,0,null,0,null,0,null,0,null,0,null,0,null,0,null,0,null,0,null,0,null,0,null,0,null,0,null,0,null,0,null,0,null,0,null,0,null,0,null,0,null,0,null,0,null,0,null,0,0]
[null,{"$f":"+PRESUPUESTO!B509","v":"BBB001"},{"$f":"IF(B452=0, \"\",VLOOKUP(B452,PRESUPUESTO!$B$17:$C$4607, 2, FALSE))","v":"SUMINISTRO Y COLOCACIÓN DE PVC DIÁMETRO 63 (AGUA POTABLE)"},{"$f":"IF(ISTEXT(B452), VLOOKUP(B452, PRESUPUESTO!$B$14:$J$4207, 9, FALSE),\"\")","v":0},null,0,null,0,null,0,null,0,null,0,null,0,null,0,null,0,null,0,null,0,null,0,null,0,null,0,null,0,null,0,null,0,null,0,null,0,null,0,null,0,null,0,null,0,null,0,null,0,null,0,null,0,null,0,null,0,null,0,null,0,null,0,null,0,null,0,null,0,null,0,null,0,null,0,0]
[null,{"$f":"+PRESUPUESTO!B510","v":"BBB002"},{"$f":"IF(B453=0, \"\",VLOOKUP(B453,PRESUPUESTO!$B$17:$C$4607, 2, FALSE))","v":"SUMINISTRO Y COLOCACIÓN DE PVC DIÁMETRO 75 (AGUA POTABLE)"},{"$f":"IF(ISTEXT(B453), VLOOKUP(B453, PRESUPUESTO!$B$14:$J$4207, 9, FALSE),\"\")","v":0},null,0,null,0,null,0,null,0,null,0,null,0,null,0,null,0,null,0,null,0,null,0,null,0,null,0,null,0,null,0,null,0,null,0,null,0,null,0,null,0,null,0,null,0,null,0,null,0,null,0,null,0,null,0,null,0,null,0,null,0,null,0,null,0,null,0,null,0,null,0,null,0,null,0,0]
[null,{"$f":"+PRESUPUESTO!B511","v":"BBB007"},{"$f":"IF(B454=0, \"\",VLOOKUP(B454,PRESUPUESTO!$B$17:$C$4607, 2, FALSE))","v":"HIDRANTES"},{"$f":"IF(ISTEXT(B454), VLOOKUP(B454, PRESUPUESTO!$B$14:$J$4207, 9, FALSE),\"\")","v":0},null,0,null,0,null,0,null,0,null,0,null,0,null,0,null,0,null,0,null,0,null,0,null,0,null,0,null,0,null,0,null,0,null,0,null,0,null,0,null,0,null,0,null,0,null,0,null,0,null,0,null,0,null,0,null,0,null,0,null,0,null,0,null,0,null,0,null,0,null,0,null,0,null,0,0]
[null,{"$f":"+PRESUPUESTO!B512","v":"BBB012"},{"$f":"IF(B455=0, \"\",VLOOKUP(B455,PRESUPUESTO!$B$17:$C$4607, 2, FALSE))","v":"EXCAVACION Y TAPADO ZANJAS (RED INTERNA AGUA)"},{"$f":"IF(ISTEXT(B455), VLOOKUP(B455, PRESUPUESTO!$B$14:$J$4207, 9, FALSE),\"\")","v":0},null,0,null,0,null,0,null,0,null,0,null,0,null,0,null,0,null,0,null,0,null,0,null,0,null,0,null,0,null,0,null,0,null,0,null,0,null,0,null,0,null,0,null,0,null,0,null,0,null,0,null,0,null,0,null,0,null,0,null,0,null,0,null,0,null,0,null,0,null,0,null,0,null,0,0]
[null,{"$f":"+PRESUPUESTO!B513","v":"BBC001"},{"$f":"IF(B456=0, \"\",VLOOKUP(B456,PRESUPUESTO!$B$17:$C$4607, 2, FALSE))","v":"DOBLE EQUIPO BOMBEO AGUA"},{"$f":"IF(ISTEXT(B456), VLOOKUP(B456, PRESUPUESTO!$B$14:$J$4207, 9, FALSE),\"\")","v":0},null,0,null,0,null,0,null,0,null,0,null,0,null,0,null,0,null,0,null,0,null,0,null,0,null,0,null,0,null,0,null,0,null,0,null,0,null,0,null,0,null,0,null,0,null,0,null,0,null,0,null,0,null,0,null,0,null,0,null,0,null,0,null,0,null,0,null,0,null,0,null,0,null,0,0]
[null,{"$f":"+PRESUPUESTO!B514","v":"BBC002"},{"$f":"IF(B457=0, \"\",VLOOKUP(B457,PRESUPUESTO!$B$17:$C$4607, 2, FALSE))","v":"LLAVES Y PROTECCIONES ELECTROMAGNÉTICAS"},{"$f":"IF(ISTEXT(B457), VLOOKUP(B457, PRESUPUESTO!$B$14:$J$4207, 9, FALSE),\"\")","v":0},null,0,null,0,null,0,null,0,null,0,null,0,null,0,null,0,null,0,null,0,null,0,null,0,null,0,null,0,null,0,null,0,null,0,null,0,null,0,null,0,null,0,null,0,null,0,null,0,null,0,null,0,null,0,null,0,null,0,null,0,null,0,null,0,null,0,null,0,null,0,null,0,null,0,0]
[null,{"$f":"+PRESUPUESTO!B515","v":"BBC003"},{"$f":"IF(B458=0, \"\",VLOOKUP(B458,PRESUPUESTO!$B$17:$C$4607, 2, FALSE))","v":"CONEXIÓN ELÉCTRICA BOMBAS"},{"$f":"IF(ISTEXT(B458), VLOOKUP(B458, PRESUPUESTO!$B$14:$J$4207, 9, FALSE),\"\")","v":0},null,0,null,0,null,0,null,0,null,0,null,0,null,0,null,0,null,0,null,0,null,0,null,0,null,0,null,0,null,0,null,0,null,0,null,0,null,0,null,0,null,0,null,0,null,0,null,0,null,0,null,0,null,0,null,0,null,0,null,0,null,0,null,0,null,0,null,0,null,0,null,0,null,0,0]
[null,{"$f":"+PRESUPUESTO!B516","v":"BBC004"},{"$f":"IF(B459=0, \"\",VLOOKUP(B459,PRESUPUESTO!$B$17:$C$4607, 2, FALSE))","v":"CAÑERÍA SUBIDA Y BAJADA (A TANQUES DE AGUA)"},{"$f":"IF(ISTEXT(B459), VLOOKUP(B459, PRESUPUESTO!$B$14:$J$4207, 9, FALSE),\"\")","v":0},null,0,null,0,null,0,null,0,null,0,null,0,null,0,null,0,null,0,null,0,null,0,null,0,null,0,null,0,null,0,null,0,null,0,null,0,null,0,null,0,null,0,null,0,null,0,null,0,null,0,null,0,null,0,null,0,null,0,null,0,null,0,null,0,null,0,null,0,null,0,null,0,null,0,0]
[null,{"$f":"+PRESUPUESTO!B517","v":"BBC005"},{"$f":"IF(B460=0, \"\",VLOOKUP(B460,PRESUPUESTO!$B$17:$C$4607, 2, FALSE))","v":"TANQUES ELEVADOS"},{"$f":"IF(ISTEXT(B460), VLOOKUP(B460, PRESUPUESTO!$B$14:$J$4207, 9, FALSE),\"\")","v":0},null,0,null,0,null,0,null,0,null,0,null,0,null,0,null,0,null,0,null,0,null,0,null,0,null,0,null,0,null,0,null,0,null,0,null,0,null,0,null,0,null,0,null,0,null,0,null,0,null,0,null,0,null,0,null,0,null,0,null,0,null,0,null,0,null,0,null,0,null,0,null,0,null,0,0]
[null,{"$f":"+PRESUPUESTO!B518","v":"AND013"},{"$f":"IF(B461=0, \"\",VLOOKUP(B461,PRESUPUESTO!$B$17:$C$4607, 2, FALSE))","v":"SUMINISTRO DE TANQUES DE AGUA DE PVC"},{"$f":"IF(ISTEXT(B461), VLOOKUP(B461, PRESUPUESTO!$B$14:$J$4207, 9, FALSE),\"\")","v":0},null,0,null,0,null,0,null,0,null,0,null,0,null,0,null,0,null,0,null,0,null,0,null,0,null,0,null,0,null,0,null,0,null,0,null,0,null,0,null,0,null,0,null,0,null,0,null,0,null,0,null,0,null,0,null,0,null,0,null,0,null,0,null,0,null,0,null,0,null,0,null,0,null,0,0]
[null,{"$f":"+PRESUPUESTO!B519","v":"AND014"},{"$f":"IF(B462=0, \"\",VLOOKUP(B462,PRESUPUESTO!$B$17:$C$4607, 2, FALSE))","v":"COLOCACION DE TANQUES DE AGUA DE PVC"},{"$f":"IF(ISTEXT(B462), VLOOKUP(B462, PRESUPUESTO!$B$14:$J$4207, 9, FALSE),\"\")","v":0},null,0,null,0,null,0,null,0,null,0,null,0,null,0,null,0,null,0,null,0,null,0,null,0,null,0,null,0,null,0,null,0,null,0,null,0,null,0,null,0,null,0,null,0,null,0,null,0,null,0,null,0,null,0,null,0,null,0,null,0,null,0,null,0,null,0,null,0,null,0,null,0,null,0,0]
[null,{"$f":"+PRESUPUESTO!B521","v":"BAC001"},{"$f":"IF(B463=0, \"\",VLOOKUP(B463,PRESUPUESTO!$B$17:$C$4607, 2, FALSE))","v":"BASE/SUBBASE GRANULAR (P/PAVIMENTO VEH./PEATONAL)"},{"$f":"IF(ISTEXT(B463), VLOOKUP(B463, PRESUPUESTO!$B$14:$J$4207, 9, FALSE),\"\")","v":0},null,{"$f":"IF($D463=\"\",\"\",$D463*E463)","v":0},null,{"$f":"IF($D463=\"\",\"\",$D463*G463)","v":0},null,{"$f":"IF($D463=\"\",\"\",$D463*I463)","v":0},null,{"$f":"IF($D463=\"\",\"\",$D463*K463)","v":0},null,{"$f":"IF($D463=\"\",\"\",$D463*M463)","v":0},null,{"$f":"IF($D463=\"\",\"\",$D463*O463)","v":0},null,{"$f":"IF($D463=\"\",\"\",$D463*Q463)","v":0},null,{"$f":"IF($D463=\"\",\"\",$D463*S463)","v":0},null,{"$f":"IF($D463=\"\",\"\",$D463*U463)","v":0},null,{"$f":"IF($D463=\"\",\"\",$D463*W463)","v":0},null,{"$f":"IF($D463=\"\",\"\",$D463*Y463)","v":0},null,{"$f":"IF($D463=\"\",\"\",$D463*AA463)","v":0},null,{"$f":"IF($D463=\"\",\"\",$D463*AC463)","v":0},null,{"$f":"IF($D463=\"\",\"\",$D463*AE463)","v":0},null,{"$f":"IF($D463=\"\",\"\",$D463*AG463)","v":0},null,{"$f":"IF($D463=\"\",\"\",$D463*AI463)","v":0},null,{"$f":"IF($D463=\"\",\"\",$D463*AK463)","v":0},null,{"$f":"IF($D463=\"\",\"\",$D463*AM463)","v":0},null,{"$f":"IF($D463=\"\",\"\",$D463*AO463)","v":0},null,{"$f":"IF($D463=\"\",\"\",$D463*AQ463)","v":0},null,{"$f":"IF($D463=\"\",\"\",$D463*AS463)","v":0},null,{"$f":"IF($D463=\"\",\"\",$D463*AU463)","v":0},null,{"$f":"IF($D463=\"\",\"\",$D463*AW463)","v":0},null,{"$f":"IF($D463=\"\",\"\",$D463*AY463)","v":0},null,{"$f":"IF($D463=\"\",\"\",$D463*BA463)","v":0},null,{"$f":"IF($D463=\"\",\"\",$D463*BC463)","v":0},null,{"$f":"IF($D463=\"\",\"\",$D463*BE463)","v":0},null,{"$f":"IF($D463=\"\",\"\",$D463*BG463)","v":0},null,{"$f":"IF($D463=\"\",\"\",$D463*BI463)","v":0},null,{"$f":"IF($D463=\"\",\"\",$D463*BK463)","v":0},null,{"$f":"IF($D463=\"\",\"\",$D463*BM463)","v":0},null,{"$f":"IF($D463=\"\",\"\",$D463*BO463)","v":0},null,{"$f":"IF($D463=\"\",\"\",$D463*BQ463)","v":0},null,{"$f":"IF($D463=\"\",\"\",$D463*BS463)","v":0},null,{"$f":"IF($D463=\"\",\"\",$D463*BU463)","v":0},null,{"$f":"IF($D463=\"\",\"\",$D463*BW463)","v":0},null,{"$f":"+E463+G463+I463+K463+M463+O463+Q463+S463+U463+W463+Y463+AA463+AC463+AE463+AG463+AI463+AK463+AM463+AO463+AQ463+AS463+AU463+AW463+AY463+BA463+BC463+BE463+BG463+BI463+BK463+BM463+BO463+BQ463+BS463+BU463+BW463","v":0},{"$f":"IF(D463=\"\",\"\",ROUND(F463+H463+J463+L463+N463+P463+R463+T463+V463+X463+Z463+AB463+AD463+AF463+AH463+AJ463+AL463+AN463+AP463+AR463+AT463+AV463+AX463+AZ463+BB463+BD463+BF463+BH463+BJ463+BL463+BN463+BP463+BR463+BT463+BV463+BX463,2))","v":0}]
[null,{"$f":"+PRESUPUESTO!B522","v":"BAC002"},{"$f":"IF(B464=0, \"\",VLOOKUP(B464,PRESUPUESTO!$B$17:$C$4607, 2, FALSE))","v":"PAVIMENTO HORMIGÓN (VEHICULAR)"},{"$f":"IF(ISTEXT(B464), VLOOKUP(B464, PRESUPUESTO!$B$14:$J$4207, 9, FALSE),\"\")","v":0},null,0,null,0,null,0,null,0,null,0,null,0,null,0,null,0,null,0,null,0,null,0,null,0,null,0,null,0,null,0,null,0,null,0,null,0,null,0,null,0,null,0,null,0,null,0,null,0,null,0,null,0,null,0,null,0,null,0,null,0,null,0,null,0,null,0,null,0,null,0,null,0,null,0,0]
[null,{"$f":"+PRESUPUESTO!B523","v":"BAC003"},{"$f":"IF(B465=0, \"\",VLOOKUP(B465,PRESUPUESTO!$B$17:$C$4607, 2, FALSE))","v":"PAVIMENTO HORMIGÓN (PEATONAL)"},{"$f":"IF(ISTEXT(B465), VLOOKUP(B465, PRESUPUESTO!$B$14:$J$4207, 9, FALSE),\"\")","v":0},null,0,null,0,null,0,null,0,null,0,null,0,null,0,null,0,null,0,null,0,null,0,null,0,null,0,null,0,null,0,null,0,null,0,null,0,null,0,null,0,null,0,null,0,null,0,null,0,null,0,null,0,null,0,null,0,null,0,null,0,null,0,null,0,null,0,null,0,null,0,null,0,null,0,0]
[null,{"$f":"+PRESUPUESTO!B524","v":"BAC004"},{"$f":"IF(B466=0, \"\",VLOOKUP(B466,PRESUPUESTO!$B$17:$C$4607, 2, FALSE))","v":"TRATAMIENTO BITUMINOSO"},{"$f":"IF(ISTEXT(B466), VLOOKUP(B466, PRESUPUESTO!$B$14:$J$4207, 9, FALSE),\"\")","v":0},null,0,null,0,null,0,null,0,null,0,null,0,null,0,null,0,null,0,null,0,null,0,null,0,null,0,null,0,null,0,null,0,null,0,null,0,null,0,null,0,null,0,null,0,null,0,null,0,null,0,null,0,null,0,null,0,null,0,null,0,null,0,null,0,null,0,null,0,null,0,null,0,null,0,0]
[null,{"$f":"+PRESUPUESTO!B525","v":"BAC005"},{"$f":"IF(B467=0, \"\",VLOOKUP(B467,PRESUPUESTO!$B$17:$C$4607, 2, FALSE))","v":"MEZCLA ASFÁLTICA"},{"$f":"IF(ISTEXT(B467), VLOOKUP(B467, PRESUPUESTO!$B$14:$J$4207, 9, FALSE),\"\")","v":0},null,0,null,0,null,0,null,0,null,0,null,0,null,0,null,0,null,0,null,0,null,0,null,0,null,0,null,0,null,0,null,0,null,0,null,0,null,0,null,0,null,0,null,0,null,0,null,0,null,0,null,0,null,0,null,0,null,0,null,0,null,0,null,0,null,0,null,0,null,0,null,0,null,0,0]
[null,{"$f":"+PRESUPUESTO!B526","v":"BAC006"},{"$f":"IF(B468=0, \"\",VLOOKUP(B468,PRESUPUESTO!$B$17:$C$4607, 2, FALSE))","v":"BALDOSONES HORMIGÓN"},{"$f":"IF(ISTEXT(B468), VLOOKUP(B468, PRESUPUESTO!$B$14:$J$4207, 9, FALSE),\"\")","v":0},null,0,null,0,null,0,null,0,null,0,null,0,null,0,null,0,null,0,null,0,null,0,null,0,null,0,null,0,null,0,null,0,null,0,null,0,null,0,null,0,null,0,null,0,null,0,null,0,null,0,null,0,null,0,null,0,null,0,null,0,null,0,null,0,null,0,null,0,null,0,null,0,null,0,0]
[null,{"$f":"+PRESUPUESTO!B527","v":"BAC007"},{"$f":"IF(B469=0, \"\",VLOOKUP(B469,PRESUPUESTO!$B$17:$C$4607, 2, FALSE))","v":"ADOQUINES DE HORMIGÓN"},{"$f":"IF(ISTEXT(B469), VLOOKUP(B469, PRESUPUESTO!$B$14:$J$4207, 9, FALSE),\"\")","v":0},null,0,null,0,null,0,null,0,null,0,null,0,null,0,null,0,null,0,null,0,null,0,null,0,null,0,null,0,null,0,null,0,null,0,null,0,null,0,null,0,null,0,null,0,null,0,null,0,null,0,null,0,null,0,null,0,null,0,null,0,null,0,null,0,null,0,null,0,null,0,null,0,null,0,0]
[null,{"$f":"+PRESUPUESTO!B528","v":"ZZX246"},{"$f":"IF(B470=0, \"\",VLOOKUP(B470,PRESUPUESTO!$B$17:$C$4607, 2, FALSE))","v":"PAVIMENTOS VEHICULARES"},{"$f":"IF(ISTEXT(B470), VLOOKUP(B470, PRESUPUESTO!$B$14:$J$4207, 9, FALSE),\"\")","v":0},null,0,null,0,null,0,null,0,null,0,null,0,null,0,null,0,null,0,null,0,null,0,null,0,null,0,null,0,null,0,null,0,null,0,null,0,null,0,null,0,null,0,null,0,null,0,null,0,null,0,null,0,null,0,null,0,null,0,null,0,null,0,null,0,null,0,null,0,null,0,null,0,null,0,0]
[null,{"$f":"+PRESUPUESTO!B529","v":"ZZX247"},{"$f":"IF(B471=0, \"\",VLOOKUP(B471,PRESUPUESTO!$B$17:$C$4607, 2, FALSE))","v":"CAMINERIA Y JARDINERIA"},{"$f":"IF(ISTEXT(B471), VLOOKUP(B471, PRESUPUESTO!$B$14:$J$4207, 9, FALSE),\"\")","v":0},null,0,null,0,null,0,null,0,null,0,null,0,null,0,null,0,null,0,null,0,null,0,null,0,null,0,null,0,null,0,null,0,null,0,null,0,null,0,null,0,null,0,null,0,null,0,null,0,null,0,null,0,null,0,null,0,null,0,null,0,null,0,null,0,null,0,null,0,null,0,null,0,null,0,0]
[null,{"$f":"+PRESUPUESTO!B531","v":"BCB005"},{"$f":"IF(B472=0, \"\",VLOOKUP(B472,PRESUPUESTO!$B$17:$C$4607, 2, FALSE))","v":"SUBESTACIÓN TRANSFORMADORA"},{"$f":"IF(ISTEXT(B472), VLOOKUP(B472, PRESUPUESTO!$B$14:$J$4207, 9, FALSE),\"\")","v":0},null,0,null,0,null,0,null,0,null,0,null,0,null,0,null,0,null,0,null,0,null,0,null,0,null,0,null,0,null,0,null,0,null,0,null,0,null,0,null,0,null,0,null,0,null,0,null,0,null,0,null,0,null,0,null,0,null,0,null,0,null,0,null,0,null,0,null,0,null,0,null,0,null,0,0]
[]
[null,"PORCENTAJE / INVERSION MENSUAL",null,{"$f":"+SUM(D15:D472)","v":0},{"$f":"IF($D$474=0,\"\",F474/$D$474)","v":""},{"$f":"ROUND(SUM(F15:F472),2)","v":0},{"$f":"IF($D$474=0,\"\",H474/$D$474)","v":""},{"$f":"ROUND(SUM(H15:H472),2)","v":0},{"$f":"IF($D$474=0,\"\",J474/$D$474)","v":""},{"$f":"ROUND(SUM(J15:J472),2)","v":0},{"$f":"IF($D$474=0,\"\",L474/$D$474)","v":""},{"$f":"ROUND(SUM(L15:L472),2)","v":0},{"$f":"IF($D$474=0,\"\",N474/$D$474)","v":""},{"$f":"ROUND(SUM(N15:N472),2)","v":0},{"$f":"IF($D$474=0,\"\",P474/$D$474)","v":""},{"$f":"ROUND(SUM(P15:P472),2)","v":0},{"$f":"IF($D$474=0,\"\",R474/$D$474)","v":""},{"$f":"ROUND(SUM(R15:R472),2)","v":0},{"$f":"IF($D$474=0,\"\",T474/$D$474)","v":""},{"$f":"ROUND(SUM(T15:T472),2)","v":0},{"$f":"IF($D$474=0,\"\",V474/$D$474)","v":""},{"$f":"ROUND(SUM(V15:V472),2)","v":0},{"$f":"IF($D$474=0,\"\",X474/$D$474)","v":""},{"$f":"ROUND(SUM(X15:X472),2)","v":0},{"$f":"IF($D$474=0,\"\",Z474/$D$474)","v":""},{"$f":"ROUND(SUM(Z15:Z472),2)","v":0},{"$f":"IF($D$474=0,\"\",AB474/$D$474)","v":""},{"$f":"ROUND(SUM(AB15:AB472),2)","v":0},{"$f":"IF($D$474=0,\"\",AD474/$D$474)","v":""},{"$f":"ROUND(SUM(AD15:AD472),2)","v":0},{"$f":"IF($D$474=0,\"\",AF474/$D$474)","v":""},{"$f":"ROUND(SUM(AF15:AF472),2)","v":0},{"$f":"IF($D$474=0,\"\",AH474/$D$474)","v":""},{"$f":"ROUND(SUM(AH15:AH472),2)","v":0},{"$f":"IF($D$474=0,\"\",AJ474/$D$474)","v":""},{"$f":"ROUND(SUM(AJ15:AJ472),2)","v":0},{"$f":"IF($D$474=0,\"\",AL474/$D$474)","v":""},{"$f":"ROUND(SUM(AL15:AL472),2)","v":0},{"$f":"IF($D$474=0,\"\",AN474/$D$474)","v":""},{"$f":"ROUND(SUM(AN15:AN472),2)","v":0},{"$f":"IF($D$474=0,\"\",AP474/$D$474)","v":""},{"$f":"ROUND(SUM(AP15:AP472),2)","v":0},{"$f":"IF($D$474=0,\"\",AR474/$D$474)","v":""},{"$f":"ROUND(SUM(AR15:AR472),2)","v":0},{"$f":"IF($D$474=0,\"\",AT474/$D$474)","v":""},{"$f":"ROUND(SUM(AT15:AT472),2)","v":0},{"$f":"IF($D$474=0,\"\",AV474/$D$474)","v":""},{"$f":"ROUND(SUM(AV15:AV472),2)","v":0},{"$f":"IF($D$474=0,\"\",AX474/$D$474)","v":""},{"$f":"ROUND(SUM(AX15:AX472),2)","v":0},{"$f":"IF($D$474=0,\"\",AZ474/$D$474)","v":""},{"$f":"ROUND(SUM(AZ15:AZ472),2)","v":0},{"$f":"IF($D$474=0,\"\",BB474/$D$474)","v":""},{"$f":"ROUND(SUM(BB15:BB472),2)","v":0},{"$f":"IF($D$474=0,\"\",BD474/$D$474)","v":""},{"$f":"ROUND(SUM(BD15:BD472),2)","v":0},{"$f":"IF($D$474=0,\"\",BF474/$D$474)","v":""},{"$f":"ROUND(SUM(BF15:BF472),2)","v":0},{"$f":"IF($D$474=0,\"\",BH474/$D$474)","v":""},{"$f":"ROUND(SUM(BH15:BH472),2)","v":0},{"$f":"IF($D$474=0,\"\",BJ474/$D$474)","v":""},{"$f":"ROUND(SUM(BJ15:BJ472),2)","v":0},{"$f":"IF($D$474=0,\"\",BL474/$D$474)","v":""},{"$f":"ROUND(SUM(BL15:BL472),2)","v":0},{"$f":"IF($D$474=0,\"\",BN474/$D$474)","v":""},{"$f":"ROUND(SUM(BN15:BN472),2)","v":0},{"$f":"IF($D$474=0,\"\",BP474/$D$474)","v":""},{"$f":"ROUND(SUM(BP15:BP472),2)","v":0},{"$f":"IF($D$474=0,\"\",BR474/$D$474)","v":""},{"$f":"ROUND(SUM(BR15:BR472),2)","v":0},{"$f":"IF($D$474=0,\"\",BT474/$D$474)","v":""},{"$f":"ROUND(SUM(BT15:BT472),2)","v":0},{"$f":"IF($D$474=0,\"\",BV474/$D$474)","v":""},{"$f":"ROUND(SUM(BV15:BV472),2)","v":0},{"$f":"IF($D$474=0,\"\",BX474/$D$474)","v":""},{"$f":"ROUND(SUM(BX15:BX472),2)","v":0},null,{"$f":"+E474+G474+I474+K474+M474+O474+Q474+S474+U474+W474+Y474+AA474+AC474+AE474+AG474+AI474+AK474+AM474+AO474+AQ474+AS474+AU474+AW474+AY474+BA474+BC474+BE474+BG474+BI474+BK474+BM474+BO474+BQ474+BS474+BU474+BW474","v":{"$error":"#VALUE!"}},{"$f":"IF(BZ474=0,\"\",(F474+H474+J474+L474+N474+P474+R474+T474+V474+X474+Z474+AB474+AD474+AF474+AH474+AJ474+AL474+AN474+AP474+AR474+AT474+AV474+AX474+AZ474+BB474+BD474+BF474+BH474+BJ474+BL474+BN474+BP474+BR474+BT474+BV474+BX474))","v":{"$error":"#VALUE!"}}]
[null,"PORCENTAJE AVANCE ACUMULADO",{"$f":"IF(ISBLANK(B475), \"\",VLOOKUP(B475,PRESUPUESTO!$B$17:$C$338, 2, FALSE))","v":{"$error":"#N/A"}},null,{"$f":"+E474","v":""},null,{"$f":"+E475+G474","v":{"$error":"#VALUE!"}},null,{"$f":"+G475+I474","v":{"$error":"#VALUE!"}},null,{"$f":"+I475+K474","v":{"$error":"#VALUE!"}},null,{"$f":"+K475+M474","v":{"$error":"#VALUE!"}},null,{"$f":"+M475+O474","v":{"$error":"#VALUE!"}},null,{"$f":"+O475+Q474","v":{"$error":"#VALUE!"}},null,{"$f":"+Q475+S474","v":{"$error":"#VALUE!"}},null,{"$f":"+S475+U474","v":{"$error":"#VALUE!"}},null,{"$f":"+U475+W474","v":{"$error":"#VALUE!"}},null,{"$f":"+W475+Y474","v":{"$error":"#VALUE!"}},null,{"$f":"+Y475+AA474","v":{"$error":"#VALUE!"}},null,{"$f":"+AA475+AC474","v":{"$error":"#VALUE!"}},null,{"$f":"+AC475+AE474","v":{"$error":"#VALUE!"}},null,{"$f":"+AE475+AG474","v":{"$error":"#VALUE!"}},null,{"$f":"+AG475+AI474","v":{"$error":"#VALUE!"}},null,{"$f":"+AI475+AK474","v":{"$error":"#VALUE!"}},null,{"$f":"+AK475+AM474","v":{"$error":"#VALUE!"}},null,{"$f":"+AM475+AO474","v":{"$error":"#VALUE!"}},null,{"$f":"+AO475+AQ474","v":{"$error":"#VALUE!"}},null,{"$f":"+AQ475+AS474","v":{"$error":"#VALUE!"}},null,{"$f":"+AS475+AU474","v":{"$error":"#VALUE!"}},null,{"$f":"+AU475+AW474","v":{"$error":"#VALUE!"}},null,{"$f":"+AW475+AY474","v":{"$error":"#VALUE!"}},null,{"$f":"+AY475+BA474","v":{"$error":"#VALUE!"}},null,{"$f":"+BA475+BC474","v":{"$error":"#VALUE!"}},null,{"$f":"+BC475+BE474","v":{"$error":"#VALUE!"}},null,{"$f":"+BE475+BG474","v":{"$error":"#VALUE!"}},null,{"$f":"+BG475+BI474","v":{"$error":"#VALUE!"}},null,{"$f":"+BI475+BK474","v":{"$error":"#VALUE!"}},null,{"$f":"+BK475+BM474","v":{"$error":"#VALUE!"}},null,{"$f":"+BM475+BO474","v":{"$error":"#VALUE!"}},null,{"$f":"+BO475+BQ474","v":{"$error":"#VALUE!"}},null,{"$f":"+BQ475+BS474","v":{"$error":"#VALUE!"}},null,{"$f":"+BS475+BU474","v":{"$error":"#VALUE!"}},null,{"$f":"+BU475+BW474","v":{"$error":"#VALUE!"}}]
[]
[]
[]
[null,null,null,{"$f":"SUM(D17:D472)","v":0},{"$f":"+F479/$D$479","v":{"$error":"#DIV/0!"}},{"$f":"SUM(F17:F472)","v":0},{"$f":"+H479/$D$479","v":{"$error":"#DIV/0!"}},{"$f":"SUM(H17:H472)","v":0},{"$f":"+J479/$D$479","v":{"$error":"#DIV/0!"}},{"$f":"SUM(J17:J472)","v":0},{"$f":"+L479/$D$479","v":{"$error":"#DIV/0!"}},{"$f":"SUM(L17:L472)","v":0},{"$f":"+N479/$D$479","v":{"$error":"#DIV/0!"}},{"$f":"SUM(N17:N472)","v":0},{"$f":"+P479/$D$479","v":{"$error":"#DIV/0!"}},{"$f":"SUM(P17:P472)","v":0},{"$f":"+R479/$D$479","v":{"$error":"#DIV/0!"}},{"$f":"SUM(R17:R472)","v":0},{"$f":"+T479/$D$479","v":{"$error":"#DIV/0!"}},{"$f":"SUM(T17:T472)","v":0},{"$f":"+V479/$D$479","v":{"$error":"#DIV/0!"}},{"$f":"SUM(V17:V472)","v":0},{"$f":"+X479/$D$479","v":{"$error":"#DIV/0!"}},{"$f":"SUM(X17:X472)","v":0},{"$f":"+Z479/$D$479","v":{"$error":"#DIV/0!"}},{"$f":"SUM(Z17:Z472)","v":0},{"$f":"+AB479/$D$479","v":{"$error":"#DIV/0!"}},{"$f":"SUM(AB17:AB472)","v":0},{"$f":"+AD479/$D$479","v":{"$error":"#DIV/0!"}},{"$f":"SUM(AD17:AD472)","v":0},{"$f":"+AF479/$D$479","v":{"$error":"#DIV/0!"}},{"$f":"SUM(AF17:AF472)","v":0},{"$f":"+AH479/$D$479","v":{"$error":"#DIV/0!"}},{"$f":"SUM(AH17:AH472)","v":0},{"$f":"+AJ479/$D$479","v":{"$error":"#DIV/0!"}},{"$f":"SUM(AJ17:AJ472)","v":0},{"$f":"+AL479/$D$479","v":{"$error":"#DIV/0!"}},{"$f":"SUM(AL17:AL472)","v":0},{"$f":"+AN479/$D$479","v":{"$error":"#DIV/0!"}},{"$f":"SUM(AN17:AN472)","v":0},{"$f":"+AP479/$D$479","v":{"$error":"#DIV/0!"}},{"$f":"SUM(AP17:AP472)","v":0},{"$f":"+AR479/$D$479","v":{"$error":"#DIV/0!"}},{"$f":"SUM(AR17:AR472)","v":0},{"$f":"+AT479/$D$479","v":{"$error":"#DIV/0!"}},{"$f":"SUM(AT17:AT472)","v":0},{"$f":"+AV479/$D$479","v":{"$error":"#DIV/0!"}},{"$f":"SUM(AV17:AV472)","v":0},{"$f":"+AX479/$D$479","v":{"$error":"#DIV/0!"}},{"$f":"SUM(AX17:AX472)","v":0},{"$f":"+AZ479/$D$479","v":{"$error":"#DIV/0!"}},{"$f":"SUM(AZ17:AZ472)","v":0},{"$f":"+BB479/$D$479","v":{"$error":"#DIV/0!"}},{"$f":"SUM(BB17:BB472)","v":0},{"$f":"+BD479/$D$479","v":{"$error":"#DIV/0!"}},{"$f":"SUM(BD17:BD472)","v":0},{"$f":"+BF479/$D$479","v":{"$error":"#DIV/0!"}},{"$f":"SUM(BF17:BF472)","v":0},{"$f":"+BH479/$D$479","v":{"$error":"#DIV/0!"}},{"$f":"SUM(BH17:BH472)","v":0},{"$f":"+BJ479/$D$479","v":{"$error":"#DIV/0!"}},{"$f":"SUM(BJ17:BJ472)","v":0},{"$f":"+BL479/$D$479","v":{"$error":"#DIV/0!"}},{"$f":"SUM(BL17:BL472)","v":0},{"$f":"+BN479/$D$479","v":{"$error":"#DIV/0!"}},{"$f":"SUM(BN17:BN472)","v":0},{"$f":"+BP479/$D$479","v":{"$error":"#DIV/0!"}},{"$f":"SUM(BP17:BP472)","v":0},{"$f":"+BR479/$D$479","v":{"$error":"#DIV/0!"}},{"$f":"SUM(BR17:BR472)","v":0},{"$f":"+BT479/$D$479","v":{"$error":"#DIV/0!"}},{"$f":"SUM(BT17:BT472)","v":0},{"$f":"+BV479/$D$479","v":{"$error":"#DIV/0!"}},{"$f":"SUM(BV17:BV472)","v":0},{"$f":"+BX479/$D$479","v":{"$error":"#DIV/0!"}},{"$f":"SUM(BX17:BX472)","v":0}]

{"sheet":"VERIFICACION","index":4,"n_rows":55,"n_cols":13,"rows_kept":55,"cut":false,"hidden":false,"merged":[[2,1,13,7],[46,1,46,2],[51,1,51,2],[47,10,48,11],[47,12,48,12],[50,1,50,2],[35,1,35,2],[38,1,38,2],[41,1,41,2],[15,2,15,6],[16,2,16,6],[20,1,20,2],[32,1,32,2]]}
[]
[null,"IMPORTANTE"]
[null,"o Esta planilla puede utilizarse como verificación de los cálculos de los valores de tasación final, préstamo, aporte, honorarios, etc. realizados por el IAT. \n\no Esta planilla corresponde a los valores dispuestos por la Resolución Ministerial 40/2025. Deberán atenerse a ella los anteproyectos y declaratorias que se presenten en el período de su vigencia, así como los proyectos ejecutivos cuyo último anteproyecto o declaratoria aprobado lo fue en el período de vigencia de la referida Resolución Ministerial.\n \no Por otro lado, la verificación de honorarios es válida para los honorarios calculados según la modificación de honorarios correspondiente al Decreto N° 222/2023 del MVOT.  \n\n"]
[]
[]
[]
[]
[]
[]
[]
[]
[]
[]
[]
[]
[null,"COOPERATIVA",{"$f":"+CARATULA!E15","v":0}]
[null,{"$f":"+CARATULA!D14","v":"REGISTRO"},{"$f":"CARATULA!E14","v":0}]
[]
[null,"SIST. CONSTRUCTIVO",{"$f":"+CARATULA!D9","v":"TRADICIONAL"}]
[]
[null,"VALOR DE TASACIÓN MÁXIMO"]
[null,"DORMITORIOS","CANTIDAD"]
[null,"2 DORM",{"$f":"+CARATULA!G18","v":0},{"$f":"IF('VERIFICACION INICIAL'!F7=\"\",\"\",(C23*'VERIFICACION INICIAL'!F7))","v":0}]
[null,"3 DORM",{"$f":"+CARATULA!G19","v":0},{"$f":"IF('VERIFICACION INICIAL'!F8=\"\",\"\",(C24*'VERIFICACION INICIAL'!F8))","v":0}]
[null,"4 DORM",{"$f":"+CARATULA!G20","v":0},{"$f":"IF('VERIFICACION INICIAL'!F9=\"\",\"\",(C25*'VERIFICACION INICIAL'!F9))","v":0}]
[null,"S/TOTAL VIV.",{"$f":"SUM(C23:C25)","v":0},{"$f":"SUM(D23:D25)","v":0}]
[]
[null,"S/TOTAL GGES.",{"$f":"+CARATULA!G23","v":0},{"$f":"+C28*'VERIFICACION INICIAL'!R8","v":0}]
[null,"S/TOTAL RECIC",{"$f":"+CARATULA!G24","v":0},{"$f":"+C29*'VERIFICACION INICIAL'!R17","v":0}]
[]
[null,"SUM",{"$f":"+CARATULA!G22","v":0},{"$f":"+IF(C31=0,\"0\",'VERIFICACION INICIAL'!R14)","v":"0"}]
[]
[null,"VALOR DE TASACIÓN MÁXIMO",null,{"$f":"+D26+D28+D31+D41+D29","v":0}]
[]
[]
[null,"VALOR DE TASACION FINAL MAX.",null,{"$f":"D33*0.9+D47","v":0}]
[]
[null,null,null,null,null,"SEGÚN COOP.",null,"VERIFICA",null,null,"VERIF.2 (*)","* Si el valor presentado"]
[null,"PRESTAMO",null,{"$f":"ROUND(D36*0.85,0)-D41","v":0},null,{"$f":"+CARATULA!G26","v":0},null,{"$f":"IF(F39<=D39,\"SI\",\"NO\")","v":"SI"},null,{"$f":"+ROUND(F39/F42,2)","v":{"$error":"#DIV/0!"}},{"$f":"IF(AND(K42=\"SI\", J39<=0.85),\"SI\",\"NO\")","v":{"$error":"#DIV/0!"}},"es menor que el V.T.F."]
[null,"APORTE DE LA COOPERATIVA",null,{"$f":"ROUND(D36*0.15,0)","v":0},null,{"$f":"+CARATULA!G28","v":0},null,{"$f":"IF(F40=D40,\"SI\",\"NO\")","v":"SI"},null,{"$f":"+ROUND(F40/F42,2)","v":{"$error":"#DIV/0!"}},{"$f":"IF(AND(K42=\"SI\", J40=0.15),\"SI\",\"NO\")","v":{"$error":"#DIV/0!"}}]
[null,"SUBSIDIO",{"$f":"+'VERIFICACION INICIAL'!C25","v":"NO"},{"$f":"IF(C41=\"SI\",C26*'VERIFICACION INICIAL'!R11,0)","v":0},null,{"$f":"+CARATULA!G27","v":0},null,{"$f":"IF(D41>=F41,\"SI\",\"NO\")","v":"SI"},null,null,{"$f":"IF(D41>=F41,\"SI\",\"NO\")","v":"SI"}]
[null,"VALOR DE TASACION FINAL",null,{"$f":"SUM(D39:D41)","v":0},null,{"$f":"SUM(F39:F41)","v":0},null,{"$f":"IF(F42=D42,\"SI\",\"NO\")","v":"SI"},null,null,{"$f":"IF(F42<D42,\"SI\",\"NO\")","v":"NO"}]
[]
[]
[]
[null,null,null,null,null,{"$f":"+'VERIFICACION INICIAL'!F28","v":"VERIFICACIONES"}]
[null,{"$f":"+'VERIFICACION INICIAL'!B29:C29","v":"VALOR DE TERRENO"},null,{"$f":"+'VERIFICACION INICIAL'!D29","v":0}]
[null,{"$f":"+'VERIFICACION INICIAL'!B30:C30","v":"HONORARIOS a la escrituración"},null,{"$f":"+'VERIFICACION INICIAL'!D30","v":0},null,{"$f":"+'VERIFICACION INICIAL'!F30","v":0},null,{"$f":"+'VERIFICACION INICIAL'!H30","v":"SI"},null,null,{"$f":"+'VERIFICACION INICIAL'!K30","v":"Honorarios tope IAT"},null,{"$f":"+'VERIFICACION INICIAL'!M30","v":0}]
[null,{"$f":"+'VERIFICACION INICIAL'!B31:C31","v":"HONORARIOS DIRECCIÓN DE OBRA"},null,{"$f":"+'VERIFICACION INICIAL'!D31","v":0},null,{"$f":"+'VERIFICACION INICIAL'!F31","v":0},null,{"$f":"+'VERIFICACION INICIAL'!H31","v":"NO"}]
[null,{"$f":"+'VERIFICACION INICIAL'!B32:C32","v":"PERMISO DE CONSTRUCCION"},null,{"$f":"+'VERIFICACION INICIAL'!D32","v":0}]
[null,{"$f":"+'VERIFICACION INICIAL'!B33:C33","v":"TASA CONEXIÓN UTE"},null,{"$f":"+'VERIFICACION INICIAL'!D33","v":0}]
[null,{"$f":"+'VERIFICACION INICIAL'!B34:C34","v":"TASA CONEXIÓN OSE"},null,{"$f":"+'VERIFICACION INICIAL'!D34","v":0}]
[null,{"$f":"+'VERIFICACION INICIAL'!B35:C35","v":"TASAS DE CONEX.SANEAMIENTO"},null,{"$f":"+'VERIFICACION INICIAL'!D35","v":0}]
[]
[null,{"$f":"+'VERIFICACION INICIAL'!B37:C37","v":"MONTO TOTAL DE OBRA (VALOR DE OBRA)"},null,{"$f":"+'VERIFICACION INICIAL'!D37","v":0}]

{"sheet":"VERIFICACION INICIAL","index":5,"n_rows":42,"n_cols":23,"rows_kept":42,"cut":false,"hidden":false,"merged":[[1,6,1,10],[2,6,2,10],[4,1,4,2],[16,1,16,2],[37,1,37,2],[22,1,22,2],[25,1,25,2],[28,1,28,2],[36,1,36,2],[2,17,2,18],[32,1,32,2],[33,1,33,2],[19,1,19,2],[29,10,30,11],[29,12,30,12]]}
[" "]
[null,"ANÁLISIS PRESUPUESTO",null,null,null,"COOPERATIVA",{"$f":"+CARATULA!E15","v":0}]
[null,"Sist. Const.",{"$f":"+CARATULA!D9","v":"TRADICIONAL"},null,null,{"$f":"+CARATULA!D14","v":"REGISTRO"},{"$f":"CARATULA!E14","v":0},null,null,null,null,null,null,null,null,null,null,"RM 40/2025",null,"Sistema constructivo","2 dorm","3 dorm","4 dorm"]
[]
[null,"VALOR DE TASACIÓN MÁXIMO",null,null,null,null,null,null,null,null,null,null,null,null,null,null,null,null,null,"TRADICIONAL",2345,2760,3742]
[null,"DORMITORIOS","CANTIDAD",null,null,"valor por vivienda",null,null,null,null,null,null,null,null,null,null,null,null,null,"DAT"]
[null,"2 DORM",{"$f":"+CARATULA!G18","v":0},{"$f":"IF(F7=\"\",\"\",(C7*F7))","v":0},null,{"$f":"IF(C3=\"--\",0,VLOOKUP($C$3,$T$5:$W$42,2,FALSE))","v":2345},null,null,null,null,null,null,null,null,null,null,null,"Garages",null,"DEFLORENCIA - DOVILAND",1941,2284,3098]
[null,"3 DORM",{"$f":"+CARATULA!G19","v":0},{"$f":"IF(F8=\"\",\"\",(C8*F8))","v":0},null,{"$f":"IF(C4=\"--\",0,VLOOKUP($C$3,$T$5:$W$42,3,FALSE))","v":2760},null,null,null,null,null,null,null,null,null,null,null,270,null,"SPM - MONTFRIO - 1 NIVEL",1955,2301,3121]
[null,"4 DORM",{"$f":"+CARATULA!G20","v":0},0,null,{"$f":"IF(C5=\"--\",0,VLOOKUP($C$3,$T$5:$W$42,4,FALSE))","v":3742},null,null,null,null,null,null,null,null,null,null,null,null,null,"SPM - MONTFRIO - 2 NIVELES",2019,2376,3223]
[null,"S/TOTAL VIV.",{"$f":"SUM(C7:C9)","v":0},{"$f":"SUM(D7:D9)","v":0},null,null,null,null,null,null,null,null,null,null,null,null,null,"Subsidio",null,"GIW - GREEN INTELIGENT WALL",2282,2686,3642]
[null,null,null,null,null,null,null,null,null,null,null,null,null,null,null,null,null,226,null,"RBS - ROYAL BUILDING SYSTEM",2019,2376,3223]
[null,"S/TOTAL GGES.",{"$f":"+CARATULA!G23","v":0},{"$f":"+C12*R8","v":0},null,null,null,null,null,null,null,null,null,null,null,null,null,null,null,"ÑANDE",2225,2619,3552]
[null,"S/TOTAL RECIC",{"$f":"+CARATULA!G24","v":0},{"$f":"+C13*R17","v":0},null,null,null,null,null,null,null,null,null,null,null,null,null,"SUM",null,"EXACTA BUILDING PANEL SYSTEM · EXACTA",1806,2125,2882]
[null,null,null,null,null,null,null,null,null,null,null,null,null,null,null,null,null,2345]
[null,"SUM",{"$f":"+CARATULA!G22","v":0},{"$f":"+IF(C15=0,\"0\",R14)","v":"0"}]
[null,null,null,null,null,null,null,null,null,null,null,null,null,null,null,null,null,"Reciclaje",null,"CIR"]
[null,"VALOR DE TASACIÓN MÁXIMO",null,{"$f":"+D10+D12+D15+D25+D13","v":0},null,null,null,null,null,null,null,null,null,null,null,null,null,270,null,"ETERNOPANEL - COINLAR S.A",2445,2879,3903]
[null,null,null,null,null,null,null,null,null,null,null,null,null,null,null,null,null,null,null,"SISTEMA    CONSTRUCTIVO    VOLFER\n01 - CIGROL S.A",1464,1724,2338]
[null,null,null,null,null,null,null,null,null,null,null,null,null,null,null,null,null,null,null,"EXACTA HOUSING  PAN EL SYSTEM· EXACTA  S.A.S",1607,1891,2564]
[null,"VALOR DE TASACION FINAL MAX.",null,{"$f":"D17*0.9+D29","v":0},null,null,null,null,null,null,null,null,null,null,null,null,null,null,null,"CASA ALVA - KEIMER S.A",2133,2510,3404]
[null,null,null,null,null,null,null,null,null,null,null,null,null,null,null,null,null,null,null,"SINGULAR HOUSING  FRAY  BENTOS\nS.R.L",2303,2711,3677]
[null,null,null,null,null,"SEGÚN COOP.",null,"VERIFICA",null,null,"VERIF.2","* Si el valor presentado",null,null,null,null,null,null,null,"U PANEL S.A.S.",1870,2201,2984]
[null,"PRESTAMO",null,{"$f":"ROUND(D20*0.85,0)-D25","v":0},null,{"$f":"+CARATULA!G26","v":0},null,{"$f":"IF(F23<=D23,\"SI\",\"NO\")","v":"SI"},null,{"$f":"+ROUND(F23/F26,2)","v":{"$error":"#DIV/0!"}},{"$f":"IF(AND(K26=\"SI\", J23<=0.85),\"SI\",\"NO\")","v":{"$error":"#DIV/0!"}},"es menor que el V.T.F.",null,null,null,null,null,null,null,"ENKEL GROUP (INVERCINCO S.A.)",2104,2477,3359]
[null,"APORTE DE LA COOPERATIVA",null,{"$f":"ROUND(D20*0.15,0)","v":0},null,{"$f":"+CARATULA!G28","v":0},null,{"$f":"IF(F24=D24,\"SI\",\"NO\")","v":"SI"},null,{"$f":"+ROUND(F24/F26,2)","v":{"$error":"#DIV/0!"}},{"$f":"IF(AND(K26=\"SI\", J24=0.15),\"SI\",\"NO\")","v":{"$error":"#DIV/0!"}},null,null,null,null,null,null,null,null,"CIGROL S.A. - SC VOLFER SMPIR",1315,1548,2099]
[null,"SUBSIDIO",{"$f":"+IF(CARATULA!G27=0,\"NO\",\"SI\")","v":"NO"},{"$f":"IF(C25=\"SI\",C10*R11,0)","v":0},null,{"$f":"+CARATULA!G27","v":0},null,{"$f":"IF(D25>=F25,\"SI\",\"NO\")","v":"SI"},null,null,{"$f":"IF(D25>=F25,\"SI\",\"NO\")","v":"SI"},null,null,null,null,null,null,null,null,"IMECON  S.C.EFICIENTES  SRL",2182,2569,3484]
[null,"VALOR DE TASACION FINAL",null,{"$f":"SUM(D23:D25)","v":0},null,{"$f":"SUM(F23:F25)","v":0},null,{"$f":"IF(F26=D26,\"SI\",\"NO\")","v":"SI"},null,null,{"$f":"IF(F26<D26,\"SI\",\"NO\")","v":"NO"},null,null,null,null,null,null,null,null,"SPM MONTFRIO LTDA",1884,2217,3007]
[null,null,null,null,null,null,null,null,null,null,null,null,null,null,null,null,null,null,null,"WOOD FRAME FRANK CONSTRUCCIONES",2104,2477,3359]
[null,null,null,null,null,"VERIFICACIONES",null,null,null,null,null,null,null,null,null,null,null,null,null,"STILER S.A. PANEL E URU",2374,2795,3790]
[null,"VALOR DE TERRENO",null,{"$f":"+CARATULA!G36+PRESUPUESTO!G17","v":0},null,null,null,null,null,null,null,null,null,null,null,null,null,null,null,"ICI IMPORT COMPANY SRL",2367,2786,3779]
[null,"HONORARIOS a la escrituración",null,{"$f":"+CARATULA!G37","v":0},null,{"$f":"+ROUND((D37*0.0525*1.22),2)","v":0},null,{"$f":"IF(D30<=F30,\"SI\",\"NO\")","v":"SI"},null,null,"Honorarios tope IAT",null,{"$f":"L38*(D26-D29-D33-D34-D35-D32)","v":0},null,null,null,null,null,null,"HORMIPRE SRL",2133,2510,3404]
[null,"HONORARIOS DIRECCIÓN DE OBRA",null,{"$f":"+PRESUPUESTO!G14","v":0},null,{"$f":"ROUND(D37*0.0475*1.22,2)","v":0},null,{"$f":"IF(F31=J32,\"SI\",\"NO\")","v":"NO"},null,0.6,null,null,null,null,null,null,null,null,null,"SCHMIDT HAUS  PREMOLDEADOS S.A",2047,2410,3268]
[null,"PERMISO DE CONSTRUCCION",null,{"$f":"+CARATULA!G38+PRESUPUESTO!G19","v":0},null,null,null,null,null,0.4,null,null,null,null,null,null,null,null,null,"IBERO STEEL URUGUAY S.A.S.",2303,2711,3677]
[null,"TASA CONEXIÓN UTE",null,{"$f":"+PRESUPUESTO!G432","v":0},null,null,null,null,null,null,null,null,null,null,null,null,null,null,null,"ALVARO ZEDNICEK ALVARO PORCARO",2154,2535,3438]
[null,"TASA CONEXIÓN OSE",null,{"$f":"+PRESUPUESTO!G394","v":0},null,null,null,null,null,null,"Cáluclo de Honorarios tope IAT",null,null,null,null,null,null,null,null,"PANEL BK BUNKRA DOMO",1763,2075,2814]
[null,"TASAS DE CONEX.SANEAMIENTO",null,{"$f":"+PRESUPUESTO!G393","v":0},null,null,null,null,null,null,"Honorario<(VTF-Terreno-tasas de conexión-Honorario)*0,1*1,22",null,null,null,null,null,null,null,null,"CASA SHAMA",1592,1874,2542]
[null,null,null,null,null,null,null,null,null,null,"Honorario(1+0,1*1,22)<0,1*1,22(VTF-Terreno-tasas de conexión)",null,null,null,null,null,null,null,null,"COMOPSITE DECK . SATEC - NASTRA S.A.",2332,2745,3722]
[null,"MONTO TOTAL DE OBRA (VALOR DE OBRA)",null,{"$f":"+F26-D29-D30-D31-D32-D33-D34-D35","v":0},null,null,null,null,null,null,"Honorario<(VTF-Terreno-tasas de conexión)*0,1*1,22/1,12",null,null,null,null,null,null,null,null,"CASACREA",1301,1531,2077]
[null,"MONTO TOTAL PRESUPUESTO",null,{"$f":"+D37+D31+D34+D35+D33","v":0},null,null,null,null,null,null,"Honorario <",{"$f":"+(0.1*1.22)/(1+0.1*1.22)","v":0.10873440285204992},null,null,null,null,null,null,null,"CONCRETO - DIANO CONSTRUCC. S.A.S.",2232,2627,3563]
[null,null,null,null,null,null,null,null,null,null,null,null,null,null,null,null,null,null,null,"STEEL ONE - CIELOBENNETT S.A.S.",2396,2820,3824]
[null,null,null,null,null,null,null,null,null,null,null,null,null,null,null,null,null,null,null,"PRO WALL - SCHMIDT PREMOLDEADOS",1983,2335,3166]
[null,null,null,null,null,null,null,null,null,null,null,null,null,null,null,null,null,null,null,"VELOX - FENEBIL S.A.",2218,2611,3540]
[null,null,null,null,null,null,null,null,null,null,null,null,null,null,null,null,null,null,null,"UR S.A. - NOX",1462,1721,2334]

{"sheet":"COMPARACIÓN INE","index":6,"n_rows":41,"n_cols":17,"rows_kept":41,"cut":false,"hidden":false,"merged":[[1,1,1,3]]}
[]
[null,"Tipología INE asimilable (ver al pie de la tabla)",null,null,"--",null,null,"Tabla de valores INE - ANV  por ítem de obra y tipología de viviendas"]
[]
[null,"Rubros","Sub-total","Incidencia","INE","diferencia",null,"T1","T2","T3","T4","T5","T6","T7","T8","T9","T10"]
[null,"Replanteo",{"$f":"+PRESUPUESTO!G27","v":0},{"$f":"IF(C5=0,\"\",C5/$C$30)","v":""},{"$f":"+IF($E$2=$H$4,H5,IF($E$2=$I$4,I5,IF($E$2=$J$4,J5,IF($E$2=$K$4,K5,IF($E$2=$L$4,L5,IF($E$2=$M$4,M5,IF($E$2=$N$4,N5,IF($E$2=$O$4,O5,IF($E$2=$P$4,P5,IF($E$2=$Q$4,Q5,0))))))))))","v":0},{"$f":"IF(D5=0,\"\",D5-E5)","v":{"$error":"#VALUE!"}},null,2.76,3.78,3.42,2.42,1.49,2.4300000000000002,2.63,1.42,1.56,1.29]
[null,"Movimiento de tierra",{"$f":"+PRESUPUESTO!H35","v":0},{"$f":"IF(C6=0,\"\",C6/$C$30)","v":""},0,{"$f":"+D6-E6","v":{"$error":"#VALUE!"}},null,2.37,1.72,3.93,1.1599999999999999,0.8,1.62,1.81,0.27,0.73,1.0900000000000001]
[null,"Hormigón armado",{"$f":"+PRESUPUESTO!H48","v":0},"",0,{"$error":"#VALUE!"},null,23.27,26.22,22.28,15.24,25.92,29.69,27.27,27.75,30.83,21.81]
[null,"Muros",{"$f":"+PRESUPUESTO!G93","v":0},"",0,{"$error":"#VALUE!"},null,15.18,21.33,15.85,11.11,20.68,13.35,20.2,19.149999999999999,12.3,8.77]
[null,"Revestimiento cielorrasos",{"$f":"+PRESUPUESTO!G138+PRESUPUESTO!G140+PRESUPUESTO!G142+PRESUPUESTO!G143+PRESUPUESTO!G144","v":0},"",0,{"$error":"#VALUE!"},null,1.6,1.5,1.1399999999999999,0.44,1.38,0.83,1.72,1.59,1.31,0.9]
[null,"Revestimiento paramentos",{"$f":"+PRESUPUESTO!G145+PRESUPUESTO!G146+PRESUPUESTO!G147+PRESUPUESTO!G148+PRESUPUESTO!G149+PRESUPUESTO!G150+PRESUPUESTO!G151","v":0},"",0,{"$error":"#VALUE!"},null,4.18,3.92,2.99,1.17,3.6,2.17,4.49,4.1399999999999997,3.53,2.35]
[null,"Revestimiento exteriores",{"$f":"+PRESUPUESTO!G153+PRESUPUESTO!G155+PRESUPUESTO!G156+PRESUPUESTO!G157+PRESUPUESTO!G158+PRESUPUESTO!G159+PRESUPUESTO!G161","v":0},"",0,{"$error":"#VALUE!"},null,2.2400000000000002,2.1,1.6,0.63,1.94,1.1599999999999999,2.41,2.2200000000000002,2.44,1.27]
[null,"Contrapisos",{"$f":"+PRESUPUESTO!G177","v":0},"",0,{"$error":"#VALUE!"},null,2.06,1.92,1.4,4.43,2.08,1.65,1.34,2.12,1.64,1.82]
[null,"Pisos",{"$f":"+PRESUPUESTO!G184","v":0},"",0,{"$error":"#VALUE!"},null,7.38,6.54,5.73,8.19,5.0599999999999996,5.77,5.77,6.65,7.62,8.23]
[null,"Zócalos",{"$f":"+PRESUPUESTO!G215-PRESUPUESTO!G219","v":0},"",0,{"$error":"#VALUE!"},null,0.89,0.67,0.59,0.82,0.61,0.59,0.59,0.68,0.78,0.86]
[null,"Escalones",{"$f":"+PRESUPUESTO!G205-PRESUPUESTO!G214-PRESUPUESTO!G213-PRESUPUESTO!G212","v":0},"",0,{"$error":"#VALUE!"},null,0.71,1.27,1.1100000000000001,1.55,0.49,1.1200000000000001,1.1100000000000001,1.29,1.48,1.6]
[null,"Revestimiento azulejos",{"$f":"+PRESUPUESTO!G169","v":0},"",0,{"$error":"#VALUE!"},null,1.46,1.22,1.82,1.91,1.89,1.94,1.44,1.97,1.53,2.5]
[null,"Azoteas",{"$f":"+PRESUPUESTO!G231","v":0},"",0,{"$error":"#VALUE!"},null,8.0500000000000007,4.6399999999999997,8.98,7.4,7.47,2.91,4.97,1.1200000000000001,1.47,0.54]
[null,"Mármol mesada",{"$f":"+PRESUPUESTO!G220","v":0},"",0,{"$error":"#VALUE!"},null,0.7,0.66,0.97,1.1499999999999999,0.83,0.59,0.92,0.9,0.93,1.6]
[null,"Aberturas exteriores",null,"",0,{"$error":"#VALUE!"},null,3.16,0.08,3.37,17.239999999999998,3.76,8.51,0.08,4.0599999999999996,4.29,5.61]
[null,"Aberturas interiores y placares",null,"",0,{"$error":"#VALUE!"},null,8.14,7.82,11.23,13.11,5.45,7.68,7.53,3.53,7.76,7.53]
[null,"Protección aberturas",{"$f":"+PRESUPUESTO!H384","v":0},"",0,{"$error":"#VALUE!"},null,null,1.22,0.92,1.56,null,1.01,1.22,1.02,1.1399999999999999,1.57]
[null,"Sanitaria",{"$f":"+PRESUPUESTO!H392-PRESUPUESTO!G400","v":0},"",0,{"$error":"#VALUE!"},null,4.07,3.25,3.25,1.76,4.25,5.5,3.84,4.7699999999999996,4.43,6.77]
[null,"Aparatos y griferías",{"$f":"+PRESUPUESTO!G400","v":0},"",0,{"$error":"#VALUE!"},null,2.19,1.74,1.74,0.94,2.2799999999999998,2.96,2.06,4.0599999999999996,3.98,5.77]
[null,"Instalación eléctrica",{"$f":"+PRESUPUESTO!H418","v":0},"",0,{"$error":"#VALUE!"},null,5.17,4.2699999999999996,3.29,1.85,6.61,3.55,4.4400000000000004,5.03,3.99,4.49]
[null,"Vidrios",{"$f":"+PRESUPUESTO!H390","v":0},"",0,{"$error":"#VALUE!"},null,1.26,1.25,1.21,1.05,0.98,1.39,1.1599999999999999,0.85,0.95,2.96]
[null,"Pintura",{"$f":"+PRESUPUESTO!H437","v":0},"",0,{"$error":"#VALUE!"},null,2.95,2.66,2.96,1.83,2.2200000000000002,3.36,2.78,2.0499999999999998,2.0699999999999998,2.08]
[null,"Ascensor",{"$f":"+PRESUPUESTO!H433","v":0},"",0,{"$error":"#VALUE!"},null,null,null,null,null,null,null,null,3.13,3.01,3]
[null,"Calefacción",null,"",0,{"$error":"#VALUE!"},null,null,null,null,2.81,null,null,null,null,null,5.38]
[null,"Limpieza de obra",null,"",0,{"$error":"#VALUE!"},null,0.21,0.22,0.22,0.23,0.21,0.22,0.22,0.23,0.23,0.21]
[null,"TOTAL",{"$f":"SUM(C5:C29)","v":0},{"$f":"SUM(D5:D29)","v":0}]
[null,null,null,null,null,null,null,"--"]
[null,null,null,null,null,-0.1,null,"T1","Vivienda popular de la Intendencia Municipal de Montevideo de 3 dormitorios del tipo(72-12-B). Superficie edificada: 70 m2"]
[null,null,null,null,null,0.1,null,"T2","Vivienda dúplex, categoría II del BHU. Superficie edificada: 84 m2 Aislada"]
[null,null,null,null,null,null,null,"T3","Vivienda categoría III del BHU. Superficie edificada 174 m2 (garage, placares, estufa a leña)"]
[null,null,null,null,null,null,null,"T4","Vivienda individual fuera de las categorías del BHU. Suntuosa, con calefacción, etc. Sup edificada: 457 m2"]
[null,null,null,null,null,null,null,"T5","Vivienda categoría I del BHU, individuales apareadas formando conjuntos, pero sin la existencia de infraestructura propia (caminería, salón comunal, redes internas, etc.)"]
[null,null,null,null,null,null,null,"T6","Vivienda categoría IIA  del BHU. Conjunto de PB y tres niveles sin ascensor, que por su tamaño y disposición no requiere de infraestructura propia"]
[null,null,null,null,null,null,null,"T7","Vivienda categoría II del BHU conjunto de dúplex apareadas, que por su tamaño o disposición no requieren de infraestructura propia"]
[null,null,null,null,null,null,null,"T8","Vivienda categoría II del BHU. Conjunto en altura con un ascensor PPT"]
[null,null,null,null,null,null,null,"T9","Viviendas categoría III del BHU. Conjunto de PB y 10 pisos con garages en subsuelo (100%) Superficie edificada de 3167 m2 con 30 viviendas"]
[null,null,null,null,null,null,null,"T10","Viviendas categoría IV del BHU. Conjunto de subsuelo, PB Y 12 PPAA con calefacción. Superficie edificada 7500 m2 con 51 viviendas"]

{"sheet":"PRECIOS UNITARIOS (PRESTAMO)","index":7,"n_rows":463,"n_cols":18,"rows_kept":463,"cut":false,"hidden":false,"merged":[[4,7,4,8],[4,16,4,17]]}
[null,"TOTAL PRÉSTAMO",null,{"$f":"CARATULA!G26","v":0},null,"FACTOR PARA TRABAJO 2 (PRÉSTAMO)",null,null,null,{"$f":"IF(PRESUPUESTO!J2=0, \"\",+(CARATULA!G26-CARATULA!G34)/PRESUPUESTO!J2)","v":""}]
[null,"VERIFICO MONTO",null,{"$f":"SUM(D5:D463)*100","v":0},null,"FACTOR PARA TRABAJO 3 (SUBSIDIO)",null,null,null,{"$f":"IF(PRESUPUESTO!J2=0, \"\",CARATULA!G27/PRESUPUESTO!J2)","v":""},null,null,{"$f":"IF(CARATULA!$G$27<>0,\"TOTAL PRÉSTAMO\",\"\")","v":""},null,{"$f":"IF(CARATULA!$G$27<>0,CARATULA!G27,\"\")","v":""}]
[null,null,null,null,null,null,null,null,null,null,null,null,{"$f":"IF(CARATULA!$G$27<>0,\"VERIFICO MONTO\",\"\")","v":""},null,{"$f":"IF(CARATULA!$G$27<>0,SUM(O6:O8)*100,\"\")","v":""}]
[null,"CÓDIGO","VERSIÓN","MONTO UNIT"]
["TRABAJO 1",{"$f":"+CARATULA!B36","v":"A00001"},1,{"$f":"ROUND(+E5/100,2)","v":0},{"$f":"VLOOKUP(B5,CARATULA!$B$36:$G$39,6,FALSE)","v":0},null,null,"Correción por redondeo",null,null,null,null,{"$f":"IF(CARATULA!$G$27<>0,'PRECIOS UNITARIOS (PRESTAMO)'!B4,\"\")","v":""},{"$f":"IF(CARATULA!$G$27<>0,'PRECIOS UNITARIOS (PRESTAMO)'!C4,\"\")","v":""},{"$f":"IF(CARATULA!$G$27<>0,'PRECIOS UNITARIOS (PRESTAMO)'!D4,\"\")","v":""},null,{"$f":"IF(CARATULA!$G$27<>0,\"Correción por redondeo\",\"\")","v":""}]
["TRABAJO 1",{"$f":"+CARATULA!B37","v":"CAC001"},1,{"$f":"ROUND(+E6/100,2)","v":0},{"$f":"VLOOKUP(B6,CARATULA!$B$36:$G$39,6,FALSE)","v":0},null,null,"Diferencia",{"$f":"+D1-D2","v":0},null,null,{"$f":"IF(CARATULA!$G$27<>0,\"TRABAJO 3\",\"\")","v":""},{"$f":"IF(CARATULA!$G$27<>0,PRESUPUESTO!B14,\"\")","v":""},null,{"$f":"IF(CARATULA!$G$27<>0,(ROUND(PRESUPUESTO!J14*$J$2/100,2)),\"\")","v":""},null,{"$f":"IF(CARATULA!$G$27<>0,\"Diferencia\",\"\")","v":""},{"$f":"IF(CARATULA!$G$27<>0,O2-O3,\"\")","v":""}]
["TRABAJO 1",{"$f":"+CARATULA!B38","v":"CAG001"},1,{"$f":"ROUND(+E7/100,2)","v":0},{"$f":"VLOOKUP(B7,CARATULA!$B$36:$G$39,6,FALSE)","v":0},null,null,"ZZX241",{"$f":"IF(ISTEXT(H7),VLOOKUP(H7,CRONOGRAMA!$B$15:$D$472,3, FALSE),\"\")*$J$1/100","v":{"$error":"#VALUE!"}},null,null,{"$f":"IF(CARATULA!$G$27<>0,\"TRABAJO 3\",\"\")","v":""},{"$f":"IF(CARATULA!$G$27<>0,PRESUPUESTO!B15,\"\")","v":""},null,{"$f":"IF(CARATULA!$G$27<>0,(ROUND(PRESUPUESTO!J15*$J$2/100,2)),\"\")","v":""},null,{"$f":"IF(CARATULA!$G$27<>0,\"ZZX241\",\"\")","v":""},{"$f":"IF(CARATULA!$G$27<>0,IF(ISTEXT(Q7),VLOOKUP(Q7,CRONOGRAMA!$B$15:$D$472,3, FALSE),\"\")*$J$2/100,\"\")","v":""}]
["TRABAJO 1",{"$f":"+CARATULA!B39","v":"DAA001"},1,{"$f":"ROUND(+E8/100,2)","v":0},{"$f":"VLOOKUP(B8,CARATULA!$B$36:$G$39,6,FALSE)","v":0},null,null,"ZZX241",{"$f":"+I6+I7","v":{"$error":"#VALUE!"}},null,null,{"$f":"IF(CARATULA!$G$27<>0,\"TRABAJO 3\",\"\")","v":""},{"$f":"IF(CARATULA!$G$27<>0,PRESUPUESTO!B20,\"\")","v":""},null,{"$f":"IF(CARATULA!$G$27<>0,(ROUND((SUM(CRONOGRAMA!D17:D472))*$J$2/100,2)),\"\")","v":""},null,{"$f":"IF(CARATULA!$G$27<>0,\"ZZX241\",\"\")","v":""},{"$f":"IF(CARATULA!$G$27<>0,R6+R7,\"\")","v":""}]
["TRABAJO 2",{"$f":"IF(ISTEXT(CRONOGRAMA!B21),CRONOGRAMA!B21,\"\")","v":"AAA001"},1,{"$f":"IF(ISNUMBER(E9), ROUND(E9,2),\"\")","v":""},{"$f":"IF(ISTEXT(B9),VLOOKUP(B9,CRONOGRAMA!$B$15:$D$472,3, FALSE),\"\")*$J$1/100","v":{"$error":"#VALUE!"}}]
["TRABAJO 2",{"$f":"IF(ISTEXT(CRONOGRAMA!B22),CRONOGRAMA!B22,\"\")","v":"AAA002"},1,"",{"$f":"IF(ISTEXT(B10),VLOOKUP(B10,CRONOGRAMA!$B$15:$D$472,3, FALSE),\"\")*$J$1/100","v":{"$error":"#VALUE!"}}]
["TRABAJO 2",{"$f":"IF(ISTEXT(CRONOGRAMA!B23),CRONOGRAMA!B23,\"\")","v":"AAA003"},1,"",{"$f":"IF(ISTEXT(B11),VLOOKUP(B11,CRONOGRAMA!$B$15:$D$472,3, FALSE),\"\")*$J$1/100","v":{"$error":"#VALUE!"}}]
["TRABAJO 2",{"$f":"IF(ISTEXT(CRONOGRAMA!B24),CRONOGRAMA!B24,\"\")","v":"AAA004"},1,"",{"$f":"IF(ISTEXT(B12),VLOOKUP(B12,CRONOGRAMA!$B$15:$D$472,3, FALSE),\"\")*$J$1/100","v":{"$error":"#VALUE!"}}]
["TRABAJO 2",{"$f":"IF(ISTEXT(CRONOGRAMA!B25),CRONOGRAMA!B25,\"\")","v":"AAA005"},1,"",{"$f":"IF(ISTEXT(B13),VLOOKUP(B13,CRONOGRAMA!$B$15:$D$472,3, FALSE),\"\")*$J$1/100","v":{"$error":"#VALUE!"}}]
["TRABAJO 2",{"$f":"IF(ISTEXT(CRONOGRAMA!B26),CRONOGRAMA!B26,\"\")","v":"AAB001"},1,"",{"$f":"IF(ISTEXT(B14),VLOOKUP(B14,CRONOGRAMA!$B$15:$D$472,3, FALSE),\"\")*$J$1/100","v":{"$error":"#VALUE!"}}]
["TRABAJO 2",{"$f":"IF(ISTEXT(CRONOGRAMA!B27),CRONOGRAMA!B27,\"\")","v":"AAB002"},1,"",{"$f":"IF(ISTEXT(B15),VLOOKUP(B15,CRONOGRAMA!$B$15:$D$472,3, FALSE),\"\")*$J$1/100","v":{"$error":"#VALUE!"}}]
["TRABAJO 2",{"$f":"IF(ISTEXT(CRONOGRAMA!B28),CRONOGRAMA!B28,\"\")","v":"AAB003"},1,"",{"$f":"IF(ISTEXT(B16),VLOOKUP(B16,CRONOGRAMA!$B$15:$D$472,3, FALSE),\"\")*$J$1/100","v":{"$error":"#VALUE!"}}]
["TRABAJO 2",{"$f":"IF(ISTEXT(CRONOGRAMA!B29),CRONOGRAMA!B29,\"\")","v":"AAB004"},1,"",{"$f":"IF(ISTEXT(B17),VLOOKUP(B17,CRONOGRAMA!$B$15:$D$472,3, FALSE),\"\")*$J$1/100","v":{"$error":"#VALUE!"}}]
["TRABAJO 2",{"$f":"IF(ISTEXT(CRONOGRAMA!B30),CRONOGRAMA!B30,\"\")","v":"AAC001"},1,"",{"$f":"IF(ISTEXT(B18),VLOOKUP(B18,CRONOGRAMA!$B$15:$D$472,3, FALSE),\"\")*$J$1/100","v":{"$error":"#VALUE!"}}]
["TRABAJO 2",{"$f":"IF(ISTEXT(CRONOGRAMA!B31),CRONOGRAMA!B31,\"\")","v":"AAD001"},1,"",{"$f":"IF(ISTEXT(B19),VLOOKUP(B19,CRONOGRAMA!$B$15:$D$472,3, FALSE),\"\")*$J$1/100","v":{"$error":"#VALUE!"}}]
["TRABAJO 2",{"$f":"IF(ISTEXT(CRONOGRAMA!B410),CRONOGRAMA!B410,\"\")","v":"ABA005"},1,"",{"$f":"IF(ISTEXT(B20),VLOOKUP(B20,CRONOGRAMA!$B$15:$D$472,3, FALSE),\"\")*$J$1/100","v":{"$error":"#VALUE!"}}]
["TRABAJO 2",{"$f":"IF(ISTEXT(CRONOGRAMA!B32),CRONOGRAMA!B32,\"\")","v":"ABA006"},1,"",{"$f":"IF(ISTEXT(B21),VLOOKUP(B21,CRONOGRAMA!$B$15:$D$472,3, FALSE),\"\")*$J$1/100","v":{"$error":"#VALUE!"}}]
["TRABAJO 2",{"$f":"IF(ISTEXT(CRONOGRAMA!B33),CRONOGRAMA!B33,\"\")","v":"ABA007"},1,"",{"$f":"IF(ISTEXT(B22),VLOOKUP(B22,CRONOGRAMA!$B$15:$D$472,3, FALSE),\"\")*$J$1/100","v":{"$error":"#VALUE!"}}]
["TRABAJO 2",{"$f":"IF(ISTEXT(CRONOGRAMA!B37),CRONOGRAMA!B37,\"\")","v":"ABB001"},1,"",{"$f":"IF(ISTEXT(B23),VLOOKUP(B23,CRONOGRAMA!$B$15:$D$472,3, FALSE),\"\")*$J$1/100","v":{"$error":"#VALUE!"}}]
["TRABAJO 2",{"$f":"IF(ISTEXT(CRONOGRAMA!B38),CRONOGRAMA!B38,\"\")","v":"ABB002"},1,"",{"$f":"IF(ISTEXT(B24),VLOOKUP(B24,CRONOGRAMA!$B$15:$D$472,3, FALSE),\"\")*$J$1/100","v":{"$error":"#VALUE!"}}]
["TRABAJO 2",{"$f":"IF(ISTEXT(CRONOGRAMA!B34),CRONOGRAMA!B34,\"\")","v":"ABB005"},1,"",{"$f":"IF(ISTEXT(B25),VLOOKUP(B25,CRONOGRAMA!$B$15:$D$472,3, FALSE),\"\")*$J$1/100","v":{"$error":"#VALUE!"}}]
["TRABAJO 2",{"$f":"IF(ISTEXT(CRONOGRAMA!B35),CRONOGRAMA!B35,\"\")","v":"ABB006"},1,"",{"$f":"IF(ISTEXT(B26),VLOOKUP(B26,CRONOGRAMA!$B$15:$D$472,3, FALSE),\"\")*$J$1/100","v":{"$error":"#VALUE!"}}]
["TRABAJO 2",{"$f":"IF(ISTEXT(CRONOGRAMA!B36),CRONOGRAMA!B36,\"\")","v":"ABB007"},1,"",{"$f":"IF(ISTEXT(B27),VLOOKUP(B27,CRONOGRAMA!$B$15:$D$472,3, FALSE),\"\")*$J$1/100","v":{"$error":"#VALUE!"}}]
["TRABAJO 2",{"$f":"IF(ISTEXT(CRONOGRAMA!B39),CRONOGRAMA!B39,\"\")","v":"ACA001"},1,"",{"$f":"IF(ISTEXT(B28),VLOOKUP(B28,CRONOGRAMA!$B$15:$D$472,3, FALSE),\"\")*$J$1/100","v":{"$error":"#VALUE!"}}]
["TRABAJO 2",{"$f":"IF(ISTEXT(CRONOGRAMA!B40),CRONOGRAMA!B40,\"\")","v":"ACA002"},1,"",{"$f":"IF(ISTEXT(B29),VLOOKUP(B29,CRONOGRAMA!$B$15:$D$472,3, FALSE),\"\")*$J$1/100","v":{"$error":"#VALUE!"}}]
["TRABAJO 2",{"$f":"IF(ISTEXT(CRONOGRAMA!B41),CRONOGRAMA!B41,\"\")","v":"ACA003"},1,"",{"$f":"IF(ISTEXT(B30),VLOOKUP(B30,CRONOGRAMA!$B$15:$D$472,3, FALSE),\"\")*$J$1/100","v":{"$error":"#VALUE!"}}]
["TRABAJO 2",{"$f":"IF(ISTEXT(CRONOGRAMA!B42),CRONOGRAMA!B42,\"\")","v":"ACA004"},1,"",{"$f":"IF(ISTEXT(B31),VLOOKUP(B31,CRONOGRAMA!$B$15:$D$472,3, FALSE),\"\")*$J$1/100","v":{"$error":"#VALUE!"}}]
["TRABAJO 2",{"$f":"IF(ISTEXT(CRONOGRAMA!B43),CRONOGRAMA!B43,\"\")","v":"ACB001"},1,"",{"$f":"IF(ISTEXT(B32),VLOOKUP(B32,CRONOGRAMA!$B$15:$D$472,3, FALSE),\"\")*$J$1/100","v":{"$error":"#VALUE!"}}]
["TRABAJO 2",{"$f":"IF(ISTEXT(CRONOGRAMA!B44),CRONOGRAMA!B44,\"\")","v":"ACB002"},1,"",{"$f":"IF(ISTEXT(B33),VLOOKUP(B33,CRONOGRAMA!$B$15:$D$472,3, FALSE),\"\")*$J$1/100","v":{"$error":"#VALUE!"}}]
["TRABAJO 2",{"$f":"IF(ISTEXT(CRONOGRAMA!B45),CRONOGRAMA!B45,\"\")","v":"ACC001"},1,"",{"$f":"IF(ISTEXT(B34),VLOOKUP(B34,CRONOGRAMA!$B$15:$D$472,3, FALSE),\"\")*$J$1/100","v":{"$error":"#VALUE!"}}]
["TRABAJO 2",{"$f":"IF(ISTEXT(CRONOGRAMA!B46),CRONOGRAMA!B46,\"\")","v":"ACC002"},1,"",{"$f":"IF(ISTEXT(B35),VLOOKUP(B35,CRONOGRAMA!$B$15:$D$472,3, FALSE),\"\")*$J$1/100","v":{"$error":"#VALUE!"}}]
["TRABAJO 2",{"$f":"IF(ISTEXT(CRONOGRAMA!B51),CRONOGRAMA!B51,\"\")","v":"ACC003"},1,"",{"$f":"IF(ISTEXT(B36),VLOOKUP(B36,CRONOGRAMA!$B$15:$D$472,3, FALSE),\"\")*$J$1/100","v":{"$error":"#VALUE!"}}]
["TRABAJO 2",{"$f":"IF(ISTEXT(CRONOGRAMA!B54),CRONOGRAMA!B54,\"\")","v":"ACC004"},1,"",{"$f":"IF(ISTEXT(B37),VLOOKUP(B37,CRONOGRAMA!$B$15:$D$472,3, FALSE),\"\")*$J$1/100","v":{"$error":"#VALUE!"}}]
["TRABAJO 2",{"$f":"IF(ISTEXT(CRONOGRAMA!B55),CRONOGRAMA!B55,\"\")","v":"ACC005"},1,"",{"$f":"IF(ISTEXT(B38),VLOOKUP(B38,CRONOGRAMA!$B$15:$D$472,3, FALSE),\"\")*$J$1/100","v":{"$error":"#VALUE!"}}]
["TRABAJO 2",{"$f":"IF(ISTEXT(CRONOGRAMA!B47),CRONOGRAMA!B47,\"\")","v":"ACC006"},1,"",{"$f":"IF(ISTEXT(B39),VLOOKUP(B39,CRONOGRAMA!$B$15:$D$472,3, FALSE),\"\")*$J$1/100","v":{"$error":"#VALUE!"}}]
["TRABAJO 2",{"$f":"IF(ISTEXT(CRONOGRAMA!B48),CRONOGRAMA!B48,\"\")","v":"ACC007"},1,"",{"$f":"IF(ISTEXT(B40),VLOOKUP(B40,CRONOGRAMA!$B$15:$D$472,3, FALSE),\"\")*$J$1/100","v":{"$error":"#VALUE!"}}]
["TRABAJO 2",{"$f":"IF(ISTEXT(CRONOGRAMA!B53),CRONOGRAMA!B53,\"\")","v":"ADA003"},1,"",{"$f":"IF(ISTEXT(B41),VLOOKUP(B41,CRONOGRAMA!$B$15:$D$472,3, FALSE),\"\")*$J$1/100","v":{"$error":"#VALUE!"}}]
["TRABAJO 2",{"$f":"IF(ISTEXT(CRONOGRAMA!B56),CRONOGRAMA!B56,\"\")","v":"ADA005"},1,"",{"$f":"IF(ISTEXT(B42),VLOOKUP(B42,CRONOGRAMA!$B$15:$D$472,3, FALSE),\"\")*$J$1/100","v":{"$error":"#VALUE!"}}]
["TRABAJO 2",{"$f":"IF(ISTEXT(CRONOGRAMA!B57),CRONOGRAMA!B57,\"\")","v":"ADA006"},1,"",{"$f":"IF(ISTEXT(B43),VLOOKUP(B43,CRONOGRAMA!$B$15:$D$472,3, FALSE),\"\")*$J$1/100","v":{"$error":"#VALUE!"}}]
["TRABAJO 2",{"$f":"IF(ISTEXT(CRONOGRAMA!B58),CRONOGRAMA!B58,\"\")","v":"ADA007"},1,"",{"$f":"IF(ISTEXT(B44),VLOOKUP(B44,CRONOGRAMA!$B$15:$D$472,3, FALSE),\"\")*$J$1/100","v":{"$error":"#VALUE!"}}]
["TRABAJO 2",{"$f":"IF(ISTEXT(CRONOGRAMA!B59),CRONOGRAMA!B59,\"\")","v":"ADA009"},1,"",{"$f":"IF(ISTEXT(B45),VLOOKUP(B45,CRONOGRAMA!$B$15:$D$472,3, FALSE),\"\")*$J$1/100","v":{"$error":"#VALUE!"}}]
["TRABAJO 2",{"$f":"IF(ISTEXT(CRONOGRAMA!B52),CRONOGRAMA!B52,\"\")","v":"ADA012"},1,"",{"$f":"IF(ISTEXT(B46),VLOOKUP(B46,CRONOGRAMA!$B$15:$D$472,3, FALSE),\"\")*$J$1/100","v":{"$error":"#VALUE!"}}]
["TRABAJO 2",{"$f":"IF(ISTEXT(CRONOGRAMA!B49),CRONOGRAMA!B49,\"\")","v":"ADA013"},1,"",{"$f":"IF(ISTEXT(B47),VLOOKUP(B47,CRONOGRAMA!$B$15:$D$472,3, FALSE),\"\")*$J$1/100","v":{"$error":"#VALUE!"}}]
["TRABAJO 2",{"$f":"IF(ISTEXT(CRONOGRAMA!B50),CRONOGRAMA!B50,\"\")","v":"ADA014"},1,"",{"$f":"IF(ISTEXT(B48),VLOOKUP(B48,CRONOGRAMA!$B$15:$D$472,3, FALSE),\"\")*$J$1/100","v":{"$error":"#VALUE!"}}]
["TRABAJO 2",{"$f":"IF(ISTEXT(CRONOGRAMA!B60),CRONOGRAMA!B60,\"\")","v":"ADB001"},1,"",{"$f":"IF(ISTEXT(B49),VLOOKUP(B49,CRONOGRAMA!$B$15:$D$472,3, FALSE),\"\")*$J$1/100","v":{"$error":"#VALUE!"}}]
["TRABAJO 2",{"$f":"IF(ISTEXT(CRONOGRAMA!B61),CRONOGRAMA!B61,\"\")","v":"ADB002"},1,"",{"$f":"IF(ISTEXT(B50),VLOOKUP(B50,CRONOGRAMA!$B$15:$D$472,3, FALSE),\"\")*$J$1/100","v":{"$error":"#VALUE!"}}]
["TRABAJO 2",{"$f":"IF(ISTEXT(CRONOGRAMA!B62),CRONOGRAMA!B62,\"\")","v":"ADB003"},1,"",{"$f":"IF(ISTEXT(B51),VLOOKUP(B51,CRONOGRAMA!$B$15:$D$472,3, FALSE),\"\")*$J$1/100","v":{"$error":"#VALUE!"}}]
["TRABAJO 2",{"$f":"IF(ISTEXT(CRONOGRAMA!B63),CRONOGRAMA!B63,\"\")","v":"ADC001"},1,"",{"$f":"IF(ISTEXT(B52),VLOOKUP(B52,CRONOGRAMA!$B$15:$D$472,3, FALSE),\"\")*$J$1/100","v":{"$error":"#VALUE!"}}]
["TRABAJO 2",{"$f":"IF(ISTEXT(CRONOGRAMA!B64),CRONOGRAMA!B64,\"\")","v":"ADC003"},1,"",{"$f":"IF(ISTEXT(B53),VLOOKUP(B53,CRONOGRAMA!$B$15:$D$472,3, FALSE),\"\")*$J$1/100","v":{"$error":"#VALUE!"}}]
["TRABAJO 2",{"$f":"IF(ISTEXT(CRONOGRAMA!B65),CRONOGRAMA!B65,\"\")","v":"ADC004"},1,"",{"$f":"IF(ISTEXT(B54),VLOOKUP(B54,CRONOGRAMA!$B$15:$D$472,3, FALSE),\"\")*$J$1/100","v":{"$error":"#VALUE!"}}]
["TRABAJO 2",{"$f":"IF(ISTEXT(CRONOGRAMA!B66),CRONOGRAMA!B66,\"\")","v":"ADD001"},1,"",{"$f":"IF(ISTEXT(B55),VLOOKUP(B55,CRONOGRAMA!$B$15:$D$472,3, FALSE),\"\")*$J$1/100","v":{"$error":"#VALUE!"}}]
["TRABAJO 2",{"$f":"IF(ISTEXT(CRONOGRAMA!B237),CRONOGRAMA!B237,\"\")","v":"ADE001"},1,"",{"$f":"IF(ISTEXT(B56),VLOOKUP(B56,CRONOGRAMA!$B$15:$D$472,3, FALSE),\"\")*$J$1/100","v":{"$error":"#VALUE!"}}]
["TRABAJO 2",{"$f":"IF(ISTEXT(CRONOGRAMA!B238),CRONOGRAMA!B238,\"\")","v":"ADE002"},1,"",{"$f":"IF(ISTEXT(B57),VLOOKUP(B57,CRONOGRAMA!$B$15:$D$472,3, FALSE),\"\")*$J$1/100","v":{"$error":"#VALUE!"}}]
["TRABAJO 2",{"$f":"IF(ISTEXT(CRONOGRAMA!B239),CRONOGRAMA!B239,\"\")","v":"ADE003"},1,"",{"$f":"IF(ISTEXT(B58),VLOOKUP(B58,CRONOGRAMA!$B$15:$D$472,3, FALSE),\"\")*$J$1/100","v":{"$error":"#VALUE!"}}]
["TRABAJO 2",{"$f":"IF(ISTEXT(CRONOGRAMA!B240),CRONOGRAMA!B240,\"\")","v":"ADE005"},1,"",{"$f":"IF(ISTEXT(B59),VLOOKUP(B59,CRONOGRAMA!$B$15:$D$472,3, FALSE),\"\")*$J$1/100","v":{"$error":"#VALUE!"}}]
["TRABAJO 2",{"$f":"IF(ISTEXT(CRONOGRAMA!B241),CRONOGRAMA!B241,\"\")","v":"ADE006"},1,"",{"$f":"IF(ISTEXT(B60),VLOOKUP(B60,CRONOGRAMA!$B$15:$D$472,3, FALSE),\"\")*$J$1/100","v":{"$error":"#VALUE!"}}]
["TRABAJO 2",{"$f":"IF(ISTEXT(CRONOGRAMA!B242),CRONOGRAMA!B242,\"\")","v":"ADE007"},1,"",{"$f":"IF(ISTEXT(B61),VLOOKUP(B61,CRONOGRAMA!$B$15:$D$472,3, FALSE),\"\")*$J$1/100","v":{"$error":"#VALUE!"}}]
["TRABAJO 2",{"$f":"IF(ISTEXT(CRONOGRAMA!B243),CRONOGRAMA!B243,\"\")","v":"ADE008"},1,"",{"$f":"IF(ISTEXT(B62),VLOOKUP(B62,CRONOGRAMA!$B$15:$D$472,3, FALSE),\"\")*$J$1/100","v":{"$error":"#VALUE!"}}]
["TRABAJO 2",{"$f":"IF(ISTEXT(CRONOGRAMA!B78),CRONOGRAMA!B78,\"\")","v":"ADF002"},1,"",{"$f":"IF(ISTEXT(B63),VLOOKUP(B63,CRONOGRAMA!$B$15:$D$472,3, FALSE),\"\")*$J$1/100","v":{"$error":"#VALUE!"}}]
["TRABAJO 2",{"$f":"IF(ISTEXT(CRONOGRAMA!B79),CRONOGRAMA!B79,\"\")","v":"ADF003"},1,"",{"$f":"IF(ISTEXT(B64),VLOOKUP(B64,CRONOGRAMA!$B$15:$D$472,3, FALSE),\"\")*$J$1/100","v":{"$error":"#VALUE!"}}]
["TRABAJO 2",{"$f":"IF(ISTEXT(CRONOGRAMA!B67),CRONOGRAMA!B67,\"\")","v":"ADG001"},1,"",{"$f":"IF(ISTEXT(B65),VLOOKUP(B65,CRONOGRAMA!$B$15:$D$472,3, FALSE),\"\")*$J$1/100","v":{"$error":"#VALUE!"}}]
["TRABAJO 2",{"$f":"IF(ISTEXT(CRONOGRAMA!B68),CRONOGRAMA!B68,\"\")","v":"ADG002"},1,"",{"$f":"IF(ISTEXT(B66),VLOOKUP(B66,CRONOGRAMA!$B$15:$D$472,3, FALSE),\"\")*$J$1/100","v":{"$error":"#VALUE!"}}]
["TRABAJO 2",{"$f":"IF(ISTEXT(CRONOGRAMA!B69),CRONOGRAMA!B69,\"\")","v":"ADG003"},1,"",{"$f":"IF(ISTEXT(B67),VLOOKUP(B67,CRONOGRAMA!$B$15:$D$472,3, FALSE),\"\")*$J$1/100","v":{"$error":"#VALUE!"}}]
["TRABAJO 2",{"$f":"IF(ISTEXT(CRONOGRAMA!B70),CRONOGRAMA!B70,\"\")","v":"ADG004"},1,"",{"$f":"IF(ISTEXT(B68),VLOOKUP(B68,CRONOGRAMA!$B$15:$D$472,3, FALSE),\"\")*$J$1/100","v":{"$error":"#VALUE!"}}]
["TRABAJO 2",{"$f":"IF(ISTEXT(CRONOGRAMA!B71),CRONOGRAMA!B71,\"\")","v":"ADG005"},1,"",{"$f":"IF(ISTEXT(B69),VLOOKUP(B69,CRONOGRAMA!$B$15:$D$472,3, FALSE),\"\")*$J$1/100","v":{"$error":"#VALUE!"}}]
["TRABAJO 2",{"$f":"IF(ISTEXT(CRONOGRAMA!B73),CRONOGRAMA!B73,\"\")","v":"ADH001"},1,"",{"$f":"IF(ISTEXT(B70),VLOOKUP(B70,CRONOGRAMA!$B$15:$D$472,3, FALSE),\"\")*$J$1/100","v":{"$error":"#VALUE!"}}]
["TRABAJO 2",{"$f":"IF(ISTEXT(CRONOGRAMA!B74),CRONOGRAMA!B74,\"\")","v":"ADH002"},1,"",{"$f":"IF(ISTEXT(B71),VLOOKUP(B71,CRONOGRAMA!$B$15:$D$472,3, FALSE),\"\")*$J$1/100","v":{"$error":"#VALUE!"}}]
["TRABAJO 2",{"$f":"IF(ISTEXT(CRONOGRAMA!B75),CRONOGRAMA!B75,\"\")","v":"ADH005"},1,"",{"$f":"IF(ISTEXT(B72),VLOOKUP(B72,CRONOGRAMA!$B$15:$D$472,3, FALSE),\"\")*$J$1/100","v":{"$error":"#VALUE!"}}]
["TRABAJO 2",{"$f":"IF(ISTEXT(CRONOGRAMA!B76),CRONOGRAMA!B76,\"\")","v":"ADH007"},1,{"$f":"IF(ISNUMBER(E73), ROUND(E73,2),\"\")","v":""},{"$f":"IF(ISTEXT(B73),VLOOKUP(B73,CRONOGRAMA!$B$15:$D$472,3, FALSE),\"\")*$J$1/100","v":{"$error":"#VALUE!"}}]
["TRABAJO 2",{"$f":"IF(ISTEXT(CRONOGRAMA!B80),CRONOGRAMA!B80,\"\")","v":"AEA001"},1,"",{"$f":"IF(ISTEXT(B74),VLOOKUP(B74,CRONOGRAMA!$B$15:$D$472,3, FALSE),\"\")*$J$1/100","v":{"$error":"#VALUE!"}}]
["TRABAJO 2",{"$f":"IF(ISTEXT(CRONOGRAMA!B81),CRONOGRAMA!B81,\"\")","v":"AEA002"},1,"",{"$f":"IF(ISTEXT(B75),VLOOKUP(B75,CRONOGRAMA!$B$15:$D$472,3, FALSE),\"\")*$J$1/100","v":{"$error":"#VALUE!"}}]
["TRABAJO 2",{"$f":"IF(ISTEXT(CRONOGRAMA!B82),CRONOGRAMA!B82,\"\")","v":"AEA003"},1,"",{"$f":"IF(ISTEXT(B76),VLOOKUP(B76,CRONOGRAMA!$B$15:$D$472,3, FALSE),\"\")*$J$1/100","v":{"$error":"#VALUE!"}}]
["TRABAJO 2",{"$f":"IF(ISTEXT(CRONOGRAMA!B83),CRONOGRAMA!B83,\"\")","v":"AEA004"},1,"",{"$f":"IF(ISTEXT(B77),VLOOKUP(B77,CRONOGRAMA!$B$15:$D$472,3, FALSE),\"\")*$J$1/100","v":{"$error":"#VALUE!"}}]
["TRABAJO 2",{"$f":"IF(ISTEXT(CRONOGRAMA!B84),CRONOGRAMA!B84,\"\")","v":"AEA005"},1,"",{"$f":"IF(ISTEXT(B78),VLOOKUP(B78,CRONOGRAMA!$B$15:$D$472,3, FALSE),\"\")*$J$1/100","v":{"$error":"#VALUE!"}}]
["TRABAJO 2",{"$f":"IF(ISTEXT(CRONOGRAMA!B85),CRONOGRAMA!B85,\"\")","v":"AEA006"},1,"",{"$f":"IF(ISTEXT(B79),VLOOKUP(B79,CRONOGRAMA!$B$15:$D$472,3, FALSE),\"\")*$J$1/100","v":{"$error":"#VALUE!"}}]
["TRABAJO 2",{"$f":"IF(ISTEXT(CRONOGRAMA!B86),CRONOGRAMA!B86,\"\")","v":"AEA007"},1,"",{"$f":"IF(ISTEXT(B80),VLOOKUP(B80,CRONOGRAMA!$B$15:$D$472,3, FALSE),\"\")*$J$1/100","v":{"$error":"#VALUE!"}}]
["TRABAJO 2",{"$f":"IF(ISTEXT(CRONOGRAMA!B87),CRONOGRAMA!B87,\"\")","v":"AEA008"},1,"",{"$f":"IF(ISTEXT(B81),VLOOKUP(B81,CRONOGRAMA!$B$15:$D$472,3, FALSE),\"\")*$J$1/100","v":{"$error":"#VALUE!"}}]
["TRABAJO 2",{"$f":"IF(ISTEXT(CRONOGRAMA!B88),CRONOGRAMA!B88,\"\")","v":"AEA009"},1,"",{"$f":"IF(ISTEXT(B82),VLOOKUP(B82,CRONOGRAMA!$B$15:$D$472,3, FALSE),\"\")*$J$1/100","v":{"$error":"#VALUE!"}}]
["TRABAJO 2",{"$f":"IF(ISTEXT(CRONOGRAMA!B89),CRONOGRAMA!B89,\"\")","v":"AEA010"},1,"",{"$f":"IF(ISTEXT(B83),VLOOKUP(B83,CRONOGRAMA!$B$15:$D$472,3, FALSE),\"\")*$J$1/100","v":{"$error":"#VALUE!"}}]
["TRABAJO 2",{"$f":"IF(ISTEXT(CRONOGRAMA!B90),CRONOGRAMA!B90,\"\")","v":"AEA011"},1,"",{"$f":"IF(ISTEXT(B84),VLOOKUP(B84,CRONOGRAMA!$B$15:$D$472,3, FALSE),\"\")*$J$1/100","v":{"$error":"#VALUE!"}}]
["TRABAJO 2",{"$f":"IF(ISTEXT(CRONOGRAMA!B91),CRONOGRAMA!B91,\"\")","v":"AEA012"},1,"",{"$f":"IF(ISTEXT(B85),VLOOKUP(B85,CRONOGRAMA!$B$15:$D$472,3, FALSE),\"\")*$J$1/100","v":{"$error":"#VALUE!"}}]
["TRABAJO 2",{"$f":"IF(ISTEXT(CRONOGRAMA!B92),CRONOGRAMA!B92,\"\")","v":"AEA013"},1,"",{"$f":"IF(ISTEXT(B86),VLOOKUP(B86,CRONOGRAMA!$B$15:$D$472,3, FALSE),\"\")*$J$1/100","v":{"$error":"#VALUE!"}}]
["TRABAJO 2",{"$f":"IF(ISTEXT(CRONOGRAMA!B93),CRONOGRAMA!B93,\"\")","v":"AEA014"},1,"",{"$f":"IF(ISTEXT(B87),VLOOKUP(B87,CRONOGRAMA!$B$15:$D$472,3, FALSE),\"\")*$J$1/100","v":{"$error":"#VALUE!"}}]
["TRABAJO 2",{"$f":"IF(ISTEXT(CRONOGRAMA!B94),CRONOGRAMA!B94,\"\")","v":"AEA015"},1,"",{"$f":"IF(ISTEXT(B88),VLOOKUP(B88,CRONOGRAMA!$B$15:$D$472,3, FALSE),\"\")*$J$1/100","v":{"$error":"#VALUE!"}}]
["TRABAJO 2",{"$f":"IF(ISTEXT(CRONOGRAMA!B95),CRONOGRAMA!B95,\"\")","v":"AEA016"},1,"",{"$f":"IF(ISTEXT(B89),VLOOKUP(B89,CRONOGRAMA!$B$15:$D$472,3, FALSE),\"\")*$J$1/100","v":{"$error":"#VALUE!"}}]
["TRABAJO 2",{"$f":"IF(ISTEXT(CRONOGRAMA!B96),CRONOGRAMA!B96,\"\")","v":"AEA017"},1,"",{"$f":"IF(ISTEXT(B90),VLOOKUP(B90,CRONOGRAMA!$B$15:$D$472,3, FALSE),\"\")*$J$1/100","v":{"$error":"#VALUE!"}}]
["TRABAJO 2",{"$f":"IF(ISTEXT(CRONOGRAMA!B97),CRONOGRAMA!B97,\"\")","v":"AEA018"},1,"",{"$f":"IF(ISTEXT(B91),VLOOKUP(B91,CRONOGRAMA!$B$15:$D$472,3, FALSE),\"\")*$J$1/100","v":{"$error":"#VALUE!"}}]
["TRABAJO 2",{"$f":"IF(ISTEXT(CRONOGRAMA!B98),CRONOGRAMA!B98,\"\")","v":"AEA019"},1,"",{"$f":"IF(ISTEXT(B92),VLOOKUP(B92,CRONOGRAMA!$B$15:$D$472,3, FALSE),\"\")*$J$1/100","v":{"$error":"#VALUE!"}}]
["TRABAJO 2",{"$f":"IF(ISTEXT(CRONOGRAMA!B99),CRONOGRAMA!B99,\"\")","v":"AEA020"},1,"",{"$f":"IF(ISTEXT(B93),VLOOKUP(B93,CRONOGRAMA!$B$15:$D$472,3, FALSE),\"\")*$J$1/100","v":{"$error":"#VALUE!"}}]
["TRABAJO 2",{"$f":"IF(ISTEXT(CRONOGRAMA!B100),CRONOGRAMA!B100,\"\")","v":"AEA021"},1,"",{"$f":"IF(ISTEXT(B94),VLOOKUP(B94,CRONOGRAMA!$B$15:$D$472,3, FALSE),\"\")*$J$1/100","v":{"$error":"#VALUE!"}}]
["TRABAJO 2",{"$f":"IF(ISTEXT(CRONOGRAMA!B101),CRONOGRAMA!B101,\"\")","v":"AEA022"},1,"",{"$f":"IF(ISTEXT(B95),VLOOKUP(B95,CRONOGRAMA!$B$15:$D$472,3, FALSE),\"\")*$J$1/100","v":{"$error":"#VALUE!"}}]
["TRABAJO 2",{"$f":"IF(ISTEXT(CRONOGRAMA!B102),CRONOGRAMA!B102,\"\")","v":"AEB001"},1,"",{"$f":"IF(ISTEXT(B96),VLOOKUP(B96,CRONOGRAMA!$B$15:$D$472,3, FALSE),\"\")*$J$1/100","v":{"$error":"#VALUE!"}}]
["TRABAJO 2",{"$f":"IF(ISTEXT(CRONOGRAMA!B103),CRONOGRAMA!B103,\"\")","v":"AEB002"},1,"",{"$f":"IF(ISTEXT(B97),VLOOKUP(B97,CRONOGRAMA!$B$15:$D$472,3, FALSE),\"\")*$J$1/100","v":{"$error":"#VALUE!"}}]
["TRABAJO 2",{"$f":"IF(ISTEXT(CRONOGRAMA!B104),CRONOGRAMA!B104,\"\")","v":"AEB003"},1,"",{"$f":"IF(ISTEXT(B98),VLOOKUP(B98,CRONOGRAMA!$B$15:$D$472,3, FALSE),\"\")*$J$1/100","v":{"$error":"#VALUE!"}}]
["TRABAJO 2",{"$f":"IF(ISTEXT(CRONOGRAMA!B105),CRONOGRAMA!B105,\"\")","v":"AEB004"},1,"",{"$f":"IF(ISTEXT(B99),VLOOKUP(B99,CRONOGRAMA!$B$15:$D$472,3, FALSE),\"\")*$J$1/100","v":{"$error":"#VALUE!"}}]
["TRABAJO 2",{"$f":"IF(ISTEXT(CRONOGRAMA!B107),CRONOGRAMA!B107,\"\")","v":"AEC001"},1,"",{"$f":"IF(ISTEXT(B100),VLOOKUP(B100,CRONOGRAMA!$B$15:$D$472,3, FALSE),\"\")*$J$1/100","v":{"$error":"#VALUE!"}}]
["TRABAJO 2",{"$f":"IF(ISTEXT(CRONOGRAMA!B108),CRONOGRAMA!B108,\"\")","v":"AEC002"},1,"",{"$f":"IF(ISTEXT(B101),VLOOKUP(B101,CRONOGRAMA!$B$15:$D$472,3, FALSE),\"\")*$J$1/100","v":{"$error":"#VALUE!"}}]
["TRABAJO 2",{"$f":"IF(ISTEXT(CRONOGRAMA!B109),CRONOGRAMA!B109,\"\")","v":"AEC003"},1,"",{"$f":"IF(ISTEXT(B102),VLOOKUP(B102,CRONOGRAMA!$B$15:$D$472,3, FALSE),\"\")*$J$1/100","v":{"$error":"#VALUE!"}}]
["TRABAJO 2",{"$f":"IF(ISTEXT(CRONOGRAMA!B117),CRONOGRAMA!B117,\"\")","v":"AED001"},1,"",{"$f":"IF(ISTEXT(B103),VLOOKUP(B103,CRONOGRAMA!$B$15:$D$472,3, FALSE),\"\")*$J$1/100","v":{"$error":"#VALUE!"}}]
["TRABAJO 2",{"$f":"IF(ISTEXT(CRONOGRAMA!B118),CRONOGRAMA!B118,\"\")","v":"AED002"},1,"",{"$f":"IF(ISTEXT(B104),VLOOKUP(B104,CRONOGRAMA!$B$15:$D$472,3, FALSE),\"\")*$J$1/100","v":{"$error":"#VALUE!"}}]
["TRABAJO 2",{"$f":"IF(ISTEXT(CRONOGRAMA!B199),CRONOGRAMA!B199,\"\")","v":"AEF002"},1,"",{"$f":"IF(ISTEXT(B105),VLOOKUP(B105,CRONOGRAMA!$B$15:$D$472,3, FALSE),\"\")*$J$1/100","v":{"$error":"#VALUE!"}}]
["TRABAJO 2",{"$f":"IF(ISTEXT(CRONOGRAMA!B230),CRONOGRAMA!B230,\"\")","v":"AEF003"},1,"",{"$f":"IF(ISTEXT(B106),VLOOKUP(B106,CRONOGRAMA!$B$15:$D$472,3, FALSE),\"\")*$J$1/100","v":{"$error":"#VALUE!"}}]
["TRABAJO 2",{"$f":"IF(ISTEXT(CRONOGRAMA!B106),CRONOGRAMA!B106,\"\")","v":"AEF005"},1,"",{"$f":"IF(ISTEXT(B107),VLOOKUP(B107,CRONOGRAMA!$B$15:$D$472,3, FALSE),\"\")*$J$1/100","v":{"$error":"#VALUE!"}}]
["TRABAJO 2",{"$f":"IF(ISTEXT(CRONOGRAMA!B72),CRONOGRAMA!B72,\"\")","v":"AFA001"},1,"",{"$f":"IF(ISTEXT(B108),VLOOKUP(B108,CRONOGRAMA!$B$15:$D$472,3, FALSE),\"\")*$J$1/100","v":{"$error":"#VALUE!"}}]
["TRABAJO 2",{"$f":"IF(ISTEXT(CRONOGRAMA!B77),CRONOGRAMA!B77,\"\")","v":"AFA002"},1,"",{"$f":"IF(ISTEXT(B109),VLOOKUP(B109,CRONOGRAMA!$B$15:$D$472,3, FALSE),\"\")*$J$1/100","v":{"$error":"#VALUE!"}}]
["TRABAJO 2",{"$f":"IF(ISTEXT(CRONOGRAMA!B110),CRONOGRAMA!B110,\"\")","v":"AFA003"},1,"",{"$f":"IF(ISTEXT(B110),VLOOKUP(B110,CRONOGRAMA!$B$15:$D$472,3, FALSE),\"\")*$J$1/100","v":{"$error":"#VALUE!"}}]
["TRABAJO 2",{"$f":"IF(ISTEXT(CRONOGRAMA!B111),CRONOGRAMA!B111,\"\")","v":"AFA004"},1,"",{"$f":"IF(ISTEXT(B111),VLOOKUP(B111,CRONOGRAMA!$B$15:$D$472,3, FALSE),\"\")*$J$1/100","v":{"$error":"#VALUE!"}}]
["TRABAJO 2",{"$f":"IF(ISTEXT(CRONOGRAMA!B112),CRONOGRAMA!B112,\"\")","v":"AFB001"},1,"",{"$f":"IF(ISTEXT(B112),VLOOKUP(B112,CRONOGRAMA!$B$15:$D$472,3, FALSE),\"\")*$J$1/100","v":{"$error":"#VALUE!"}}]
["TRABAJO 2",{"$f":"IF(ISTEXT(CRONOGRAMA!B113),CRONOGRAMA!B113,\"\")","v":"AFB002"},1,"",{"$f":"IF(ISTEXT(B113),VLOOKUP(B113,CRONOGRAMA!$B$15:$D$472,3, FALSE),\"\")*$J$1/100","v":{"$error":"#VALUE!"}}]
["TRABAJO 2",{"$f":"IF(ISTEXT(CRONOGRAMA!B114),CRONOGRAMA!B114,\"\")","v":"AFB003"},1,"",{"$f":"IF(ISTEXT(B114),VLOOKUP(B114,CRONOGRAMA!$B$15:$D$472,3, FALSE),\"\")*$J$1/100","v":{"$error":"#VALUE!"}}]
["TRABAJO 2",{"$f":"IF(ISTEXT(CRONOGRAMA!B115),CRONOGRAMA!B115,\"\")","v":"AFB004"},1,"",{"$f":"IF(ISTEXT(B115),VLOOKUP(B115,CRONOGRAMA!$B$15:$D$472,3, FALSE),\"\")*$J$1/100","v":{"$error":"#VALUE!"}}]
["TRABAJO 2",{"$f":"IF(ISTEXT(CRONOGRAMA!B116),CRONOGRAMA!B116,\"\")","v":"AFB005"},1,"",{"$f":"IF(ISTEXT(B116),VLOOKUP(B116,CRONOGRAMA!$B$15:$D$472,3, FALSE),\"\")*$J$1/100","v":{"$error":"#VALUE!"}}]
["TRABAJO 2",{"$f":"IF(ISTEXT(CRONOGRAMA!B300),CRONOGRAMA!B300,\"\")","v":"AGA008"},1,"",{"$f":"IF(ISTEXT(B117),VLOOKUP(B117,CRONOGRAMA!$B$15:$D$472,3, FALSE),\"\")*$J$1/100","v":{"$error":"#VALUE!"}}]
["TRABAJO 2",{"$f":"IF(ISTEXT(CRONOGRAMA!B301),CRONOGRAMA!B301,\"\")","v":"AGA009"},1,"",{"$f":"IF(ISTEXT(B118),VLOOKUP(B118,CRONOGRAMA!$B$15:$D$472,3, FALSE),\"\")*$J$1/100","v":{"$error":"#VALUE!"}}]
["TRABAJO 2",{"$f":"IF(ISTEXT(CRONOGRAMA!B302),CRONOGRAMA!B302,\"\")","v":"AGA010"},1,"",{"$f":"IF(ISTEXT(B119),VLOOKUP(B119,CRONOGRAMA!$B$15:$D$472,3, FALSE),\"\")*$J$1/100","v":{"$error":"#VALUE!"}}]
["TRABAJO 2",{"$f":"IF(ISTEXT(CRONOGRAMA!B303),CRONOGRAMA!B303,\"\")","v":"AGA011"},1,"",{"$f":"IF(ISTEXT(B120),VLOOKUP(B120,CRONOGRAMA!$B$15:$D$472,3, FALSE),\"\")*$J$1/100","v":{"$error":"#VALUE!"}}]
["TRABAJO 2",{"$f":"IF(ISTEXT(CRONOGRAMA!B304),CRONOGRAMA!B304,\"\")","v":"AGA012"},1,"",{"$f":"IF(ISTEXT(B121),VLOOKUP(B121,CRONOGRAMA!$B$15:$D$472,3, FALSE),\"\")*$J$1/100","v":{"$error":"#VALUE!"}}]
["TRABAJO 2",{"$f":"IF(ISTEXT(CRONOGRAMA!B305),CRONOGRAMA!B305,\"\")","v":"AGA013"},1,"",{"$f":"IF(ISTEXT(B122),VLOOKUP(B122,CRONOGRAMA!$B$15:$D$472,3, FALSE),\"\")*$J$1/100","v":{"$error":"#VALUE!"}}]
["TRABAJO 2",{"$f":"IF(ISTEXT(CRONOGRAMA!B306),CRONOGRAMA!B306,\"\")","v":"AGA014"},1,"",{"$f":"IF(ISTEXT(B123),VLOOKUP(B123,CRONOGRAMA!$B$15:$D$472,3, FALSE),\"\")*$J$1/100","v":{"$error":"#VALUE!"}}]
["TRABAJO 2",{"$f":"IF(ISTEXT(CRONOGRAMA!B307),CRONOGRAMA!B307,\"\")","v":"AGA015"},1,"",{"$f":"IF(ISTEXT(B124),VLOOKUP(B124,CRONOGRAMA!$B$15:$D$472,3, FALSE),\"\")*$J$1/100","v":{"$error":"#VALUE!"}}]
["TRABAJO 2",{"$f":"IF(ISTEXT(CRONOGRAMA!B308),CRONOGRAMA!B308,\"\")","v":"AGA016"},1,"",{"$f":"IF(ISTEXT(B125),VLOOKUP(B125,CRONOGRAMA!$B$15:$D$472,3, FALSE),\"\")*$J$1/100","v":{"$error":"#VALUE!"}}]
["TRABAJO 2",{"$f":"IF(ISTEXT(CRONOGRAMA!B309),CRONOGRAMA!B309,\"\")","v":"AGA017"},1,"",{"$f":"IF(ISTEXT(B126),VLOOKUP(B126,CRONOGRAMA!$B$15:$D$472,3, FALSE),\"\")*$J$1/100","v":{"$error":"#VALUE!"}}]
["TRABAJO 2",{"$f":"IF(ISTEXT(CRONOGRAMA!B310),CRONOGRAMA!B310,\"\")","v":"AGA018"},1,"",{"$f":"IF(ISTEXT(B127),VLOOKUP(B127,CRONOGRAMA!$B$15:$D$472,3, FALSE),\"\")*$J$1/100","v":{"$error":"#VALUE!"}}]
["TRABAJO 2",{"$f":"IF(ISTEXT(CRONOGRAMA!B311),CRONOGRAMA!B311,\"\")","v":"AGA019"},1,"",{"$f":"IF(ISTEXT(B128),VLOOKUP(B128,CRONOGRAMA!$B$15:$D$472,3, FALSE),\"\")*$J$1/100","v":{"$error":"#VALUE!"}}]
["TRABAJO 2",{"$f":"IF(ISTEXT(CRONOGRAMA!B312),CRONOGRAMA!B312,\"\")","v":"AGA020"},1,"",{"$f":"IF(ISTEXT(B129),VLOOKUP(B129,CRONOGRAMA!$B$15:$D$472,3, FALSE),\"\")*$J$1/100","v":{"$error":"#VALUE!"}}]
["TRABAJO 2",{"$f":"IF(ISTEXT(CRONOGRAMA!B313),CRONOGRAMA!B313,\"\")","v":"AGA021"},1,"",{"$f":"IF(ISTEXT(B130),VLOOKUP(B130,CRONOGRAMA!$B$15:$D$472,3, FALSE),\"\")*$J$1/100","v":{"$error":"#VALUE!"}}]
["TRABAJO 2",{"$f":"IF(ISTEXT(CRONOGRAMA!B314),CRONOGRAMA!B314,\"\")","v":"AGA022"},1,"",{"$f":"IF(ISTEXT(B131),VLOOKUP(B131,CRONOGRAMA!$B$15:$D$472,3, FALSE),\"\")*$J$1/100","v":{"$error":"#VALUE!"}}]
["TRABAJO 2",{"$f":"IF(ISTEXT(CRONOGRAMA!B315),CRONOGRAMA!B315,\"\")","v":"AGA023"},1,"",{"$f":"IF(ISTEXT(B132),VLOOKUP(B132,CRONOGRAMA!$B$15:$D$472,3, FALSE),\"\")*$J$1/100","v":{"$error":"#VALUE!"}}]
["TRABAJO 2",{"$f":"IF(ISTEXT(CRONOGRAMA!B316),CRONOGRAMA!B316,\"\")","v":"AGA024"},1,"",{"$f":"IF(ISTEXT(B133),VLOOKUP(B133,CRONOGRAMA!$B$15:$D$472,3, FALSE),\"\")*$J$1/100","v":{"$error":"#VALUE!"}}]
["TRABAJO 2",{"$f":"IF(ISTEXT(CRONOGRAMA!B317),CRONOGRAMA!B317,\"\")","v":"AGA025"},1,"",{"$f":"IF(ISTEXT(B134),VLOOKUP(B134,CRONOGRAMA!$B$15:$D$472,3, FALSE),\"\")*$J$1/100","v":{"$error":"#VALUE!"}}]
["TRABAJO 2",{"$f":"IF(ISTEXT(CRONOGRAMA!B318),CRONOGRAMA!B318,\"\")","v":"AGA026"},1,"",{"$f":"IF(ISTEXT(B135),VLOOKUP(B135,CRONOGRAMA!$B$15:$D$472,3, FALSE),\"\")*$J$1/100","v":{"$error":"#VALUE!"}}]
["TRABAJO 2",{"$f":"IF(ISTEXT(CRONOGRAMA!B319),CRONOGRAMA!B319,\"\")","v":"AGA027"},1,"",{"$f":"IF(ISTEXT(B136),VLOOKUP(B136,CRONOGRAMA!$B$15:$D$472,3, FALSE),\"\")*$J$1/100","v":{"$error":"#VALUE!"}}]
["TRABAJO 2",{"$f":"IF(ISTEXT(CRONOGRAMA!B279),CRONOGRAMA!B279,\"\")","v":"AGB010"},1,{"$f":"IF(ISNUMBER(E137), ROUND(E137,2),\"\")","v":""},{"$f":"IF(ISTEXT(B137),VLOOKUP(B137,CRONOGRAMA!$B$15:$D$472,3, FALSE),\"\")*$J$1/100","v":{"$error":"#VALUE!"}}]
["TRABAJO 2",{"$f":"IF(ISTEXT(CRONOGRAMA!B280),CRONOGRAMA!B280,\"\")","v":"AGB011"},1,"",{"$f":"IF(ISTEXT(B138),VLOOKUP(B138,CRONOGRAMA!$B$15:$D$472,3, FALSE),\"\")*$J$1/100","v":{"$error":"#VALUE!"}}]
["TRABAJO 2",{"$f":"IF(ISTEXT(CRONOGRAMA!B281),CRONOGRAMA!B281,\"\")","v":"AGB012"},1,"",{"$f":"IF(ISTEXT(B139),VLOOKUP(B139,CRONOGRAMA!$B$15:$D$472,3, FALSE),\"\")*$J$1/100","v":{"$error":"#VALUE!"}}]
["TRABAJO 2",{"$f":"IF(ISTEXT(CRONOGRAMA!B282),CRONOGRAMA!B282,\"\")","v":"AGB013"},1,"",{"$f":"IF(ISTEXT(B140),VLOOKUP(B140,CRONOGRAMA!$B$15:$D$472,3, FALSE),\"\")*$J$1/100","v":{"$error":"#VALUE!"}}]
["TRABAJO 2",{"$f":"IF(ISTEXT(CRONOGRAMA!B283),CRONOGRAMA!B283,\"\")","v":"AGB014"},1,"",{"$f":"IF(ISTEXT(B141),VLOOKUP(B141,CRONOGRAMA!$B$15:$D$472,3, FALSE),\"\")*$J$1/100","v":{"$error":"#VALUE!"}}]
["TRABAJO 2",{"$f":"IF(ISTEXT(CRONOGRAMA!B284),CRONOGRAMA!B284,\"\")","v":"AGB015"},1,"",{"$f":"IF(ISTEXT(B142),VLOOKUP(B142,CRONOGRAMA!$B$15:$D$472,3, FALSE),\"\")*$J$1/100","v":{"$error":"#VALUE!"}}]
["TRABAJO 2",{"$f":"IF(ISTEXT(CRONOGRAMA!B285),CRONOGRAMA!B285,\"\")","v":"AGB016"},1,"",{"$f":"IF(ISTEXT(B143),VLOOKUP(B143,CRONOGRAMA!$B$15:$D$472,3, FALSE),\"\")*$J$1/100","v":{"$error":"#VALUE!"}}]
["TRABAJO 2",{"$f":"IF(ISTEXT(CRONOGRAMA!B286),CRONOGRAMA!B286,\"\")","v":"AGB017"},1,"",{"$f":"IF(ISTEXT(B144),VLOOKUP(B144,CRONOGRAMA!$B$15:$D$472,3, FALSE),\"\")*$J$1/100","v":{"$error":"#VALUE!"}}]
["TRABAJO 2",{"$f":"IF(ISTEXT(CRONOGRAMA!B287),CRONOGRAMA!B287,\"\")","v":"AGB018"},1,"",{"$f":"IF(ISTEXT(B145),VLOOKUP(B145,CRONOGRAMA!$B$15:$D$472,3, FALSE),\"\")*$J$1/100","v":{"$error":"#VALUE!"}}]
["TRABAJO 2",{"$f":"IF(ISTEXT(CRONOGRAMA!B288),CRONOGRAMA!B288,\"\")","v":"AGB019"},1,"",{"$f":"IF(ISTEXT(B146),VLOOKUP(B146,CRONOGRAMA!$B$15:$D$472,3, FALSE),\"\")*$J$1/100","v":{"$error":"#VALUE!"}}]
["TRABAJO 2",{"$f":"IF(ISTEXT(CRONOGRAMA!B289),CRONOGRAMA!B289,\"\")","v":"AGB020"},1,"",{"$f":"IF(ISTEXT(B147),VLOOKUP(B147,CRONOGRAMA!$B$15:$D$472,3, FALSE),\"\")*$J$1/100","v":{"$error":"#VALUE!"}}]
["TRABAJO 2",{"$f":"IF(ISTEXT(CRONOGRAMA!B290),CRONOGRAMA!B290,\"\")","v":"AGB021"},1,"",{"$f":"IF(ISTEXT(B148),VLOOKUP(B148,CRONOGRAMA!$B$15:$D$472,3, FALSE),\"\")*$J$1/100","v":{"$error":"#VALUE!"}}]
["TRABAJO 2",{"$f":"IF(ISTEXT(CRONOGRAMA!B291),CRONOGRAMA!B291,\"\")","v":"AGB022"},1,"",{"$f":"IF(ISTEXT(B149),VLOOKUP(B149,CRONOGRAMA!$B$15:$D$472,3, FALSE),\"\")*$J$1/100","v":{"$error":"#VALUE!"}}]
["TRABAJO 2",{"$f":"IF(ISTEXT(CRONOGRAMA!B292),CRONOGRAMA!B292,\"\")","v":"AGB023"},1,"",{"$f":"IF(ISTEXT(B150),VLOOKUP(B150,CRONOGRAMA!$B$15:$D$472,3, FALSE),\"\")*$J$1/100","v":{"$error":"#VALUE!"}}]
["TRABAJO 2",{"$f":"IF(ISTEXT(CRONOGRAMA!B293),CRONOGRAMA!B293,\"\")","v":"AGB024"},1,"",{"$f":"IF(ISTEXT(B151),VLOOKUP(B151,CRONOGRAMA!$B$15:$D$472,3, FALSE),\"\")*$J$1/100","v":{"$error":"#VALUE!"}}]
["TRABAJO 2",{"$f":"IF(ISTEXT(CRONOGRAMA!B294),CRONOGRAMA!B294,\"\")","v":"AGB025"},1,"",{"$f":"IF(ISTEXT(B152),VLOOKUP(B152,CRONOGRAMA!$B$15:$D$472,3, FALSE),\"\")*$J$1/100","v":{"$error":"#VALUE!"}}]
["TRABAJO 2",{"$f":"IF(ISTEXT(CRONOGRAMA!B295),CRONOGRAMA!B295,\"\")","v":"AGB026"},1,"",{"$f":"IF(ISTEXT(B153),VLOOKUP(B153,CRONOGRAMA!$B$15:$D$472,3, FALSE),\"\")*$J$1/100","v":{"$error":"#VALUE!"}}]
["TRABAJO 2",{"$f":"IF(ISTEXT(CRONOGRAMA!B296),CRONOGRAMA!B296,\"\")","v":"AGB027"},1,"",{"$f":"IF(ISTEXT(B154),VLOOKUP(B154,CRONOGRAMA!$B$15:$D$472,3, FALSE),\"\")*$J$1/100","v":{"$error":"#VALUE!"}}]
["TRABAJO 2",{"$f":"IF(ISTEXT(CRONOGRAMA!B297),CRONOGRAMA!B297,\"\")","v":"AGB028"},1,"",{"$f":"IF(ISTEXT(B155),VLOOKUP(B155,CRONOGRAMA!$B$15:$D$472,3, FALSE),\"\")*$J$1/100","v":{"$error":"#VALUE!"}}]
["TRABAJO 2",{"$f":"IF(ISTEXT(CRONOGRAMA!B298),CRONOGRAMA!B298,\"\")","v":"AGB029"},1,"",{"$f":"IF(ISTEXT(B156),VLOOKUP(B156,CRONOGRAMA!$B$15:$D$472,3, FALSE),\"\")*$J$1/100","v":{"$error":"#VALUE!"}}]
["TRABAJO 2",{"$f":"IF(ISTEXT(CRONOGRAMA!B321),CRONOGRAMA!B321,\"\")","v":"AGC011"},1,"",{"$f":"IF(ISTEXT(B157),VLOOKUP(B157,CRONOGRAMA!$B$15:$D$472,3, FALSE),\"\")*$J$1/100","v":{"$error":"#VALUE!"}}]
["TRABAJO 2",{"$f":"IF(ISTEXT(CRONOGRAMA!B322),CRONOGRAMA!B322,\"\")","v":"AGC012"},1,"",{"$f":"IF(ISTEXT(B158),VLOOKUP(B158,CRONOGRAMA!$B$15:$D$472,3, FALSE),\"\")*$J$1/100","v":{"$error":"#VALUE!"}}]
["TRABAJO 2",{"$f":"IF(ISTEXT(CRONOGRAMA!B323),CRONOGRAMA!B323,\"\")","v":"AGC013"},1,"",{"$f":"IF(ISTEXT(B159),VLOOKUP(B159,CRONOGRAMA!$B$15:$D$472,3, FALSE),\"\")*$J$1/100","v":{"$error":"#VALUE!"}}]
["TRABAJO 2",{"$f":"IF(ISTEXT(CRONOGRAMA!B324),CRONOGRAMA!B324,\"\")","v":"AGC014"},1,"",{"$f":"IF(ISTEXT(B160),VLOOKUP(B160,CRONOGRAMA!$B$15:$D$472,3, FALSE),\"\")*$J$1/100","v":{"$error":"#VALUE!"}}]
["TRABAJO 2",{"$f":"IF(ISTEXT(CRONOGRAMA!B325),CRONOGRAMA!B325,\"\")","v":"AGC015"},1,"",{"$f":"IF(ISTEXT(B161),VLOOKUP(B161,CRONOGRAMA!$B$15:$D$472,3, FALSE),\"\")*$J$1/100","v":{"$error":"#VALUE!"}}]
["TRABAJO 2",{"$f":"IF(ISTEXT(CRONOGRAMA!B326),CRONOGRAMA!B326,\"\")","v":"AGC016"},1,"",{"$f":"IF(ISTEXT(B162),VLOOKUP(B162,CRONOGRAMA!$B$15:$D$472,3, FALSE),\"\")*$J$1/100","v":{"$error":"#VALUE!"}}]
["TRABAJO 2",{"$f":"IF(ISTEXT(CRONOGRAMA!B327),CRONOGRAMA!B327,\"\")","v":"AGC017"},1,"",{"$f":"IF(ISTEXT(B163),VLOOKUP(B163,CRONOGRAMA!$B$15:$D$472,3, FALSE),\"\")*$J$1/100","v":{"$error":"#VALUE!"}}]
["TRABAJO 2",{"$f":"IF(ISTEXT(CRONOGRAMA!B328),CRONOGRAMA!B328,\"\")","v":"AGC018"},1,"",{"$f":"IF(ISTEXT(B164),VLOOKUP(B164,CRONOGRAMA!$B$15:$D$472,3, FALSE),\"\")*$J$1/100","v":{"$error":"#VALUE!"}}]
["TRABAJO 2",{"$f":"IF(ISTEXT(CRONOGRAMA!B329),CRONOGRAMA!B329,\"\")","v":"AGC019"},1,"",{"$f":"IF(ISTEXT(B165),VLOOKUP(B165,CRONOGRAMA!$B$15:$D$472,3, FALSE),\"\")*$J$1/100","v":{"$error":"#VALUE!"}}]
["TRABAJO 2",{"$f":"IF(ISTEXT(CRONOGRAMA!B330),CRONOGRAMA!B330,\"\")","v":"AGC020"},1,"",{"$f":"IF(ISTEXT(B166),VLOOKUP(B166,CRONOGRAMA!$B$15:$D$472,3, FALSE),\"\")*$J$1/100","v":{"$error":"#VALUE!"}}]
["TRABAJO 2",{"$f":"IF(ISTEXT(CRONOGRAMA!B331),CRONOGRAMA!B331,\"\")","v":"AGC021"},1,"",{"$f":"IF(ISTEXT(B167),VLOOKUP(B167,CRONOGRAMA!$B$15:$D$472,3, FALSE),\"\")*$J$1/100","v":{"$error":"#VALUE!"}}]
["TRABAJO 2",{"$f":"IF(ISTEXT(CRONOGRAMA!B332),CRONOGRAMA!B332,\"\")","v":"AGC022"},1,"",{"$f":"IF(ISTEXT(B168),VLOOKUP(B168,CRONOGRAMA!$B$15:$D$472,3, FALSE),\"\")*$J$1/100","v":{"$error":"#VALUE!"}}]
["TRABAJO 2",{"$f":"IF(ISTEXT(CRONOGRAMA!B333),CRONOGRAMA!B333,\"\")","v":"AGC023"},1,"",{"$f":"IF(ISTEXT(B169),VLOOKUP(B169,CRONOGRAMA!$B$15:$D$472,3, FALSE),\"\")*$J$1/100","v":{"$error":"#VALUE!"}}]
["TRABAJO 2",{"$f":"IF(ISTEXT(CRONOGRAMA!B334),CRONOGRAMA!B334,\"\")","v":"AGC024"},1,"",{"$f":"IF(ISTEXT(B170),VLOOKUP(B170,CRONOGRAMA!$B$15:$D$472,3, FALSE),\"\")*$J$1/100","v":{"$error":"#VALUE!"}}]
["TRABAJO 2",{"$f":"IF(ISTEXT(CRONOGRAMA!B335),CRONOGRAMA!B335,\"\")","v":"AGC025"},1,"",{"$f":"IF(ISTEXT(B171),VLOOKUP(B171,CRONOGRAMA!$B$15:$D$472,3, FALSE),\"\")*$J$1/100","v":{"$error":"#VALUE!"}}]
["TRABAJO 2",{"$f":"IF(ISTEXT(CRONOGRAMA!B336),CRONOGRAMA!B336,\"\")","v":"AGC026"},1,"",{"$f":"IF(ISTEXT(B172),VLOOKUP(B172,CRONOGRAMA!$B$15:$D$472,3, FALSE),\"\")*$J$1/100","v":{"$error":"#VALUE!"}}]
["TRABAJO 2",{"$f":"IF(ISTEXT(CRONOGRAMA!B337),CRONOGRAMA!B337,\"\")","v":"AGC027"},1,"",{"$f":"IF(ISTEXT(B173),VLOOKUP(B173,CRONOGRAMA!$B$15:$D$472,3, FALSE),\"\")*$J$1/100","v":{"$error":"#VALUE!"}}]
["TRABAJO 2",{"$f":"IF(ISTEXT(CRONOGRAMA!B338),CRONOGRAMA!B338,\"\")","v":"AGC028"},1,"",{"$f":"IF(ISTEXT(B174),VLOOKUP(B174,CRONOGRAMA!$B$15:$D$472,3, FALSE),\"\")*$J$1/100","v":{"$error":"#VALUE!"}}]
["TRABAJO 2",{"$f":"IF(ISTEXT(CRONOGRAMA!B339),CRONOGRAMA!B339,\"\")","v":"AGC029"},1,"",{"$f":"IF(ISTEXT(B175),VLOOKUP(B175,CRONOGRAMA!$B$15:$D$472,3, FALSE),\"\")*$J$1/100","v":{"$error":"#VALUE!"}}]
["TRABAJO 2",{"$f":"IF(ISTEXT(CRONOGRAMA!B340),CRONOGRAMA!B340,\"\")","v":"AGC030"},1,"",{"$f":"IF(ISTEXT(B176),VLOOKUP(B176,CRONOGRAMA!$B$15:$D$472,3, FALSE),\"\")*$J$1/100","v":{"$error":"#VALUE!"}}]
["TRABAJO 2",{"$f":"IF(ISTEXT(CRONOGRAMA!B342),CRONOGRAMA!B342,\"\")","v":"AGD010"},1,"",{"$f":"IF(ISTEXT(B177),VLOOKUP(B177,CRONOGRAMA!$B$15:$D$472,3, FALSE),\"\")*$J$1/100","v":{"$error":"#VALUE!"}}]
["TRABAJO 2",{"$f":"IF(ISTEXT(CRONOGRAMA!B343),CRONOGRAMA!B343,\"\")","v":"AGD011"},1,"",{"$f":"IF(ISTEXT(B178),VLOOKUP(B178,CRONOGRAMA!$B$15:$D$472,3, FALSE),\"\")*$J$1/100","v":{"$error":"#VALUE!"}}]
["TRABAJO 2",{"$f":"IF(ISTEXT(CRONOGRAMA!B344),CRONOGRAMA!B344,\"\")","v":"AGD012"},1,"",{"$f":"IF(ISTEXT(B179),VLOOKUP(B179,CRONOGRAMA!$B$15:$D$472,3, FALSE),\"\")*$J$1/100","v":{"$error":"#VALUE!"}}]
["TRABAJO 2",{"$f":"IF(ISTEXT(CRONOGRAMA!B345),CRONOGRAMA!B345,\"\")","v":"AGD013"},1,"",{"$f":"IF(ISTEXT(B180),VLOOKUP(B180,CRONOGRAMA!$B$15:$D$472,3, FALSE),\"\")*$J$1/100","v":{"$error":"#VALUE!"}}]
["TRABAJO 2",{"$f":"IF(ISTEXT(CRONOGRAMA!B346),CRONOGRAMA!B346,\"\")","v":"AGD014"},1,"",{"$f":"IF(ISTEXT(B181),VLOOKUP(B181,CRONOGRAMA!$B$15:$D$472,3, FALSE),\"\")*$J$1/100","v":{"$error":"#VALUE!"}}]
["TRABAJO 2",{"$f":"IF(ISTEXT(CRONOGRAMA!B347),CRONOGRAMA!B347,\"\")","v":"AGE010"},1,"",{"$f":"IF(ISTEXT(B182),VLOOKUP(B182,CRONOGRAMA!$B$15:$D$472,3, FALSE),\"\")*$J$1/100","v":{"$error":"#VALUE!"}}]
["TRABAJO 2",{"$f":"IF(ISTEXT(CRONOGRAMA!B119),CRONOGRAMA!B119,\"\")","v":"AHA001"},1,"",{"$f":"IF(ISTEXT(B183),VLOOKUP(B183,CRONOGRAMA!$B$15:$D$472,3, FALSE),\"\")*$J$1/100","v":{"$error":"#VALUE!"}}]
["TRABAJO 2",{"$f":"IF(ISTEXT(CRONOGRAMA!B120),CRONOGRAMA!B120,\"\")","v":"AHA002"},1,"",{"$f":"IF(ISTEXT(B184),VLOOKUP(B184,CRONOGRAMA!$B$15:$D$472,3, FALSE),\"\")*$J$1/100","v":{"$error":"#VALUE!"}}]
["TRABAJO 2",{"$f":"IF(ISTEXT(CRONOGRAMA!B121),CRONOGRAMA!B121,\"\")","v":"AHA003"},1,"",{"$f":"IF(ISTEXT(B185),VLOOKUP(B185,CRONOGRAMA!$B$15:$D$472,3, FALSE),\"\")*$J$1/100","v":{"$error":"#VALUE!"}}]
["TRABAJO 2",{"$f":"IF(ISTEXT(CRONOGRAMA!B122),CRONOGRAMA!B122,\"\")","v":"AHA004"},1,"",{"$f":"IF(ISTEXT(B186),VLOOKUP(B186,CRONOGRAMA!$B$15:$D$472,3, FALSE),\"\")*$J$1/100","v":{"$error":"#VALUE!"}}]
["TRABAJO 2",{"$f":"IF(ISTEXT(CRONOGRAMA!B123),CRONOGRAMA!B123,\"\")","v":"AHA005"},1,"",{"$f":"IF(ISTEXT(B187),VLOOKUP(B187,CRONOGRAMA!$B$15:$D$472,3, FALSE),\"\")*$J$1/100","v":{"$error":"#VALUE!"}}]
["TRABAJO 2",{"$f":"IF(ISTEXT(CRONOGRAMA!B124),CRONOGRAMA!B124,\"\")","v":"AHA006"},1,"",{"$f":"IF(ISTEXT(B188),VLOOKUP(B188,CRONOGRAMA!$B$15:$D$472,3, FALSE),\"\")*$J$1/100","v":{"$error":"#VALUE!"}}]
["TRABAJO 2",{"$f":"IF(ISTEXT(CRONOGRAMA!B125),CRONOGRAMA!B125,\"\")","v":"AHA007"},1,"",{"$f":"IF(ISTEXT(B189),VLOOKUP(B189,CRONOGRAMA!$B$15:$D$472,3, FALSE),\"\")*$J$1/100","v":{"$error":"#VALUE!"}}]
["TRABAJO 2",{"$f":"IF(ISTEXT(CRONOGRAMA!B150),CRONOGRAMA!B150,\"\")","v":"AHA008"},1,"",{"$f":"IF(ISTEXT(B190),VLOOKUP(B190,CRONOGRAMA!$B$15:$D$472,3, FALSE),\"\")*$J$1/100","v":{"$error":"#VALUE!"}}]
["TRABAJO 2",{"$f":"IF(ISTEXT(CRONOGRAMA!B126),CRONOGRAMA!B126,\"\")","v":"AHB001"},1,"",{"$f":"IF(ISTEXT(B191),VLOOKUP(B191,CRONOGRAMA!$B$15:$D$472,3, FALSE),\"\")*$J$1/100","v":{"$error":"#VALUE!"}}]
["TRABAJO 2",{"$f":"IF(ISTEXT(CRONOGRAMA!B127),CRONOGRAMA!B127,\"\")","v":"AHB002"},1,"",{"$f":"IF(ISTEXT(B192),VLOOKUP(B192,CRONOGRAMA!$B$15:$D$472,3, FALSE),\"\")*$J$1/100","v":{"$error":"#VALUE!"}}]
["TRABAJO 2",{"$f":"IF(ISTEXT(CRONOGRAMA!B128),CRONOGRAMA!B128,\"\")","v":"AHB003"},1,"",{"$f":"IF(ISTEXT(B193),VLOOKUP(B193,CRONOGRAMA!$B$15:$D$472,3, FALSE),\"\")*$J$1/100","v":{"$error":"#VALUE!"}}]
["TRABAJO 2",{"$f":"IF(ISTEXT(CRONOGRAMA!B129),CRONOGRAMA!B129,\"\")","v":"AHB004"},1,"",{"$f":"IF(ISTEXT(B194),VLOOKUP(B194,CRONOGRAMA!$B$15:$D$472,3, FALSE),\"\")*$J$1/100","v":{"$error":"#VALUE!"}}]
["TRABAJO 2",{"$f":"IF(ISTEXT(CRONOGRAMA!B130),CRONOGRAMA!B130,\"\")","v":"AHB005"},1,"",{"$f":"IF(ISTEXT(B195),VLOOKUP(B195,CRONOGRAMA!$B$15:$D$472,3, FALSE),\"\")*$J$1/100","v":{"$error":"#VALUE!"}}]
["TRABAJO 2",{"$f":"IF(ISTEXT(CRONOGRAMA!B131),CRONOGRAMA!B131,\"\")","v":"AHB006"},1,"",{"$f":"IF(ISTEXT(B196),VLOOKUP(B196,CRONOGRAMA!$B$15:$D$472,3, FALSE),\"\")*$J$1/100","v":{"$error":"#VALUE!"}}]
["TRABAJO 2",{"$f":"IF(ISTEXT(CRONOGRAMA!B132),CRONOGRAMA!B132,\"\")","v":"AHB007"},1,"",{"$f":"IF(ISTEXT(B197),VLOOKUP(B197,CRONOGRAMA!$B$15:$D$472,3, FALSE),\"\")*$J$1/100","v":{"$error":"#VALUE!"}}]
["TRABAJO 2",{"$f":"IF(ISTEXT(CRONOGRAMA!B133),CRONOGRAMA!B133,\"\")","v":"AHB009"},1,"",{"$f":"IF(ISTEXT(B198),VLOOKUP(B198,CRONOGRAMA!$B$15:$D$472,3, FALSE),\"\")*$J$1/100","v":{"$error":"#VALUE!"}}]
["TRABAJO 2",{"$f":"IF(ISTEXT(CRONOGRAMA!B134),CRONOGRAMA!B134,\"\")","v":"AHC001"},1,"",{"$f":"IF(ISTEXT(B199),VLOOKUP(B199,CRONOGRAMA!$B$15:$D$472,3, FALSE),\"\")*$J$1/100","v":{"$error":"#VALUE!"}}]
["TRABAJO 2",{"$f":"IF(ISTEXT(CRONOGRAMA!B135),CRONOGRAMA!B135,\"\")","v":"AHC002"},1,"",{"$f":"IF(ISTEXT(B200),VLOOKUP(B200,CRONOGRAMA!$B$15:$D$472,3, FALSE),\"\")*$J$1/100","v":{"$error":"#VALUE!"}}]
["TRABAJO 2",{"$f":"IF(ISTEXT(CRONOGRAMA!B136),CRONOGRAMA!B136,\"\")","v":"AHD001"},1,{"$f":"IF(ISNUMBER(E201), ROUND(E201,2),\"\")","v":""},{"$f":"IF(ISTEXT(B201),VLOOKUP(B201,CRONOGRAMA!$B$15:$D$472,3, FALSE),\"\")*$J$1/100","v":{"$error":"#VALUE!"}}]
["TRABAJO 2",{"$f":"IF(ISTEXT(CRONOGRAMA!B137),CRONOGRAMA!B137,\"\")","v":"AHD002"},1,"",{"$f":"IF(ISTEXT(B202),VLOOKUP(B202,CRONOGRAMA!$B$15:$D$472,3, FALSE),\"\")*$J$1/100","v":{"$error":"#VALUE!"}}]
["TRABAJO 2",{"$f":"IF(ISTEXT(CRONOGRAMA!B138),CRONOGRAMA!B138,\"\")","v":"AHD003"},1,"",{"$f":"IF(ISTEXT(B203),VLOOKUP(B203,CRONOGRAMA!$B$15:$D$472,3, FALSE),\"\")*$J$1/100","v":{"$error":"#VALUE!"}}]
["TRABAJO 2",{"$f":"IF(ISTEXT(CRONOGRAMA!B139),CRONOGRAMA!B139,\"\")","v":"AHD004"},1,"",{"$f":"IF(ISTEXT(B204),VLOOKUP(B204,CRONOGRAMA!$B$15:$D$472,3, FALSE),\"\")*$J$1/100","v":{"$error":"#VALUE!"}}]
["TRABAJO 2",{"$f":"IF(ISTEXT(CRONOGRAMA!B140),CRONOGRAMA!B140,\"\")","v":"AHD005"},1,"",{"$f":"IF(ISTEXT(B205),VLOOKUP(B205,CRONOGRAMA!$B$15:$D$472,3, FALSE),\"\")*$J$1/100","v":{"$error":"#VALUE!"}}]
["TRABAJO 2",{"$f":"IF(ISTEXT(CRONOGRAMA!B141),CRONOGRAMA!B141,\"\")","v":"AHD006"},1,"",{"$f":"IF(ISTEXT(B206),VLOOKUP(B206,CRONOGRAMA!$B$15:$D$472,3, FALSE),\"\")*$J$1/100","v":{"$error":"#VALUE!"}}]
["TRABAJO 2",{"$f":"IF(ISTEXT(CRONOGRAMA!B142),CRONOGRAMA!B142,\"\")","v":"AHE001"},1,"",{"$f":"IF(ISTEXT(B207),VLOOKUP(B207,CRONOGRAMA!$B$15:$D$472,3, FALSE),\"\")*$J$1/100","v":{"$error":"#VALUE!"}}]
["TRABAJO 2",{"$f":"IF(ISTEXT(CRONOGRAMA!B143),CRONOGRAMA!B143,\"\")","v":"AHE002"},1,"",{"$f":"IF(ISTEXT(B208),VLOOKUP(B208,CRONOGRAMA!$B$15:$D$472,3, FALSE),\"\")*$J$1/100","v":{"$error":"#VALUE!"}}]
["TRABAJO 2",{"$f":"IF(ISTEXT(CRONOGRAMA!B144),CRONOGRAMA!B144,\"\")","v":"AHE003"},1,"",{"$f":"IF(ISTEXT(B209),VLOOKUP(B209,CRONOGRAMA!$B$15:$D$472,3, FALSE),\"\")*$J$1/100","v":{"$error":"#VALUE!"}}]
["TRABAJO 2",{"$f":"IF(ISTEXT(CRONOGRAMA!B146),CRONOGRAMA!B146,\"\")","v":"AHE008"},1,"",{"$f":"IF(ISTEXT(B210),VLOOKUP(B210,CRONOGRAMA!$B$15:$D$472,3, FALSE),\"\")*$J$1/100","v":{"$error":"#VALUE!"}}]
["TRABAJO 2",{"$f":"IF(ISTEXT(CRONOGRAMA!B145),CRONOGRAMA!B145,\"\")","v":"AHE011"},1,"",{"$f":"IF(ISTEXT(B211),VLOOKUP(B211,CRONOGRAMA!$B$15:$D$472,3, FALSE),\"\")*$J$1/100","v":{"$error":"#VALUE!"}}]
["TRABAJO 2",{"$f":"IF(ISTEXT(CRONOGRAMA!B147),CRONOGRAMA!B147,\"\")","v":"AHE013"},1,"",{"$f":"IF(ISTEXT(B212),VLOOKUP(B212,CRONOGRAMA!$B$15:$D$472,3, FALSE),\"\")*$J$1/100","v":{"$error":"#VALUE!"}}]
["TRABAJO 2",{"$f":"IF(ISTEXT(CRONOGRAMA!B148),CRONOGRAMA!B148,\"\")","v":"AHF003"},1,"",{"$f":"IF(ISTEXT(B213),VLOOKUP(B213,CRONOGRAMA!$B$15:$D$472,3, FALSE),\"\")*$J$1/100","v":{"$error":"#VALUE!"}}]
["TRABAJO 2",{"$f":"IF(ISTEXT(CRONOGRAMA!B149),CRONOGRAMA!B149,\"\")","v":"AHF004"},1,"",{"$f":"IF(ISTEXT(B214),VLOOKUP(B214,CRONOGRAMA!$B$15:$D$472,3, FALSE),\"\")*$J$1/100","v":{"$error":"#VALUE!"}}]
["TRABAJO 2",{"$f":"IF(ISTEXT(CRONOGRAMA!B386),CRONOGRAMA!B386,\"\")","v":"AHG001"},1,"",{"$f":"IF(ISTEXT(B215),VLOOKUP(B215,CRONOGRAMA!$B$15:$D$472,3, FALSE),\"\")*$J$1/100","v":{"$error":"#VALUE!"}}]
["TRABAJO 2",{"$f":"IF(ISTEXT(CRONOGRAMA!B387),CRONOGRAMA!B387,\"\")","v":"AHG002"},1,"",{"$f":"IF(ISTEXT(B216),VLOOKUP(B216,CRONOGRAMA!$B$15:$D$472,3, FALSE),\"\")*$J$1/100","v":{"$error":"#VALUE!"}}]
["TRABAJO 2",{"$f":"IF(ISTEXT(CRONOGRAMA!B388),CRONOGRAMA!B388,\"\")","v":"AHG003"},1,"",{"$f":"IF(ISTEXT(B217),VLOOKUP(B217,CRONOGRAMA!$B$15:$D$472,3, FALSE),\"\")*$J$1/100","v":{"$error":"#VALUE!"}}]
["TRABAJO 2",{"$f":"IF(ISTEXT(CRONOGRAMA!B389),CRONOGRAMA!B389,\"\")","v":"AHG004"},1,"",{"$f":"IF(ISTEXT(B218),VLOOKUP(B218,CRONOGRAMA!$B$15:$D$472,3, FALSE),\"\")*$J$1/100","v":{"$error":"#VALUE!"}}]
["TRABAJO 2",{"$f":"IF(ISTEXT(CRONOGRAMA!B390),CRONOGRAMA!B390,\"\")","v":"AHG005"},1,"",{"$f":"IF(ISTEXT(B219),VLOOKUP(B219,CRONOGRAMA!$B$15:$D$472,3, FALSE),\"\")*$J$1/100","v":{"$error":"#VALUE!"}}]
["TRABAJO 2",{"$f":"IF(ISTEXT(CRONOGRAMA!B391),CRONOGRAMA!B391,\"\")","v":"AHG010"},1,"",{"$f":"IF(ISTEXT(B220),VLOOKUP(B220,CRONOGRAMA!$B$15:$D$472,3, FALSE),\"\")*$J$1/100","v":{"$error":"#VALUE!"}}]
["TRABAJO 2",{"$f":"IF(ISTEXT(CRONOGRAMA!B392),CRONOGRAMA!B392,\"\")","v":"AHG011"},1,"",{"$f":"IF(ISTEXT(B221),VLOOKUP(B221,CRONOGRAMA!$B$15:$D$472,3, FALSE),\"\")*$J$1/100","v":{"$error":"#VALUE!"}}]
["TRABAJO 2",{"$f":"IF(ISTEXT(CRONOGRAMA!B151),CRONOGRAMA!B151,\"\")","v":"AHH001"},1,"",{"$f":"IF(ISTEXT(B222),VLOOKUP(B222,CRONOGRAMA!$B$15:$D$472,3, FALSE),\"\")*$J$1/100","v":{"$error":"#VALUE!"}}]
["TRABAJO 2",{"$f":"IF(ISTEXT(CRONOGRAMA!B152),CRONOGRAMA!B152,\"\")","v":"AHH002"},1,"",{"$f":"IF(ISTEXT(B223),VLOOKUP(B223,CRONOGRAMA!$B$15:$D$472,3, FALSE),\"\")*$J$1/100","v":{"$error":"#VALUE!"}}]
["TRABAJO 2",{"$f":"IF(ISTEXT(CRONOGRAMA!B153),CRONOGRAMA!B153,\"\")","v":"AHH003"},1,"",{"$f":"IF(ISTEXT(B224),VLOOKUP(B224,CRONOGRAMA!$B$15:$D$472,3, FALSE),\"\")*$J$1/100","v":{"$error":"#VALUE!"}}]
["TRABAJO 2",{"$f":"IF(ISTEXT(CRONOGRAMA!B154),CRONOGRAMA!B154,\"\")","v":"AIA001"},1,"",{"$f":"IF(ISTEXT(B225),VLOOKUP(B225,CRONOGRAMA!$B$15:$D$472,3, FALSE),\"\")*$J$1/100","v":{"$error":"#VALUE!"}}]
["TRABAJO 2",{"$f":"IF(ISTEXT(CRONOGRAMA!B155),CRONOGRAMA!B155,\"\")","v":"AIA002"},1,"",{"$f":"IF(ISTEXT(B226),VLOOKUP(B226,CRONOGRAMA!$B$15:$D$472,3, FALSE),\"\")*$J$1/100","v":{"$error":"#VALUE!"}}]
["TRABAJO 2",{"$f":"IF(ISTEXT(CRONOGRAMA!B156),CRONOGRAMA!B156,\"\")","v":"AIA003"},1,"",{"$f":"IF(ISTEXT(B227),VLOOKUP(B227,CRONOGRAMA!$B$15:$D$472,3, FALSE),\"\")*$J$1/100","v":{"$error":"#VALUE!"}}]
["TRABAJO 2",{"$f":"IF(ISTEXT(CRONOGRAMA!B157),CRONOGRAMA!B157,\"\")","v":"AIA004"},1,"",{"$f":"IF(ISTEXT(B228),VLOOKUP(B228,CRONOGRAMA!$B$15:$D$472,3, FALSE),\"\")*$J$1/100","v":{"$error":"#VALUE!"}}]
["TRABAJO 2",{"$f":"IF(ISTEXT(CRONOGRAMA!B158),CRONOGRAMA!B158,\"\")","v":"AIA005"},1,"",{"$f":"IF(ISTEXT(B229),VLOOKUP(B229,CRONOGRAMA!$B$15:$D$472,3, FALSE),\"\")*$J$1/100","v":{"$error":"#VALUE!"}}]
["TRABAJO 2",{"$f":"IF(ISTEXT(CRONOGRAMA!B159),CRONOGRAMA!B159,\"\")","v":"AIA006"},1,"",{"$f":"IF(ISTEXT(B230),VLOOKUP(B230,CRONOGRAMA!$B$15:$D$472,3, FALSE),\"\")*$J$1/100","v":{"$error":"#VALUE!"}}]
["TRABAJO 2",{"$f":"IF(ISTEXT(CRONOGRAMA!B160),CRONOGRAMA!B160,\"\")","v":"AIB001"},1,"",{"$f":"IF(ISTEXT(B231),VLOOKUP(B231,CRONOGRAMA!$B$15:$D$472,3, FALSE),\"\")*$J$1/100","v":{"$error":"#VALUE!"}}]
["TRABAJO 2",{"$f":"IF(ISTEXT(CRONOGRAMA!B161),CRONOGRAMA!B161,\"\")","v":"AIB002"},1,"",{"$f":"IF(ISTEXT(B232),VLOOKUP(B232,CRONOGRAMA!$B$15:$D$472,3, FALSE),\"\")*$J$1/100","v":{"$error":"#VALUE!"}}]
["TRABAJO 2",{"$f":"IF(ISTEXT(CRONOGRAMA!B162),CRONOGRAMA!B162,\"\")","v":"AIB003"},1,"",{"$f":"IF(ISTEXT(B233),VLOOKUP(B233,CRONOGRAMA!$B$15:$D$472,3, FALSE),\"\")*$J$1/100","v":{"$error":"#VALUE!"}}]
["TRABAJO 2",{"$f":"IF(ISTEXT(CRONOGRAMA!B163),CRONOGRAMA!B163,\"\")","v":"AIB004"},1,"",{"$f":"IF(ISTEXT(B234),VLOOKUP(B234,CRONOGRAMA!$B$15:$D$472,3, FALSE),\"\")*$J$1/100","v":{"$error":"#VALUE!"}}]
["TRABAJO 2",{"$f":"IF(ISTEXT(CRONOGRAMA!B164),CRONOGRAMA!B164,\"\")","v":"AIB005"},1,"",{"$f":"IF(ISTEXT(B235),VLOOKUP(B235,CRONOGRAMA!$B$15:$D$472,3, FALSE),\"\")*$J$1/100","v":{"$error":"#VALUE!"}}]
["TRABAJO 2",{"$f":"IF(ISTEXT(CRONOGRAMA!B165),CRONOGRAMA!B165,\"\")","v":"AIB006"},1,"",{"$f":"IF(ISTEXT(B236),VLOOKUP(B236,CRONOGRAMA!$B$15:$D$472,3, FALSE),\"\")*$J$1/100","v":{"$error":"#VALUE!"}}]
["TRABAJO 2",{"$f":"IF(ISTEXT(CRONOGRAMA!B166),CRONOGRAMA!B166,\"\")","v":"AIB007"},1,"",{"$f":"IF(ISTEXT(B237),VLOOKUP(B237,CRONOGRAMA!$B$15:$D$472,3, FALSE),\"\")*$J$1/100","v":{"$error":"#VALUE!"}}]
["TRABAJO 2",{"$f":"IF(ISTEXT(CRONOGRAMA!B167),CRONOGRAMA!B167,\"\")","v":"AIC001"},1,"",{"$f":"IF(ISTEXT(B238),VLOOKUP(B238,CRONOGRAMA!$B$15:$D$472,3, FALSE),\"\")*$J$1/100","v":{"$error":"#VALUE!"}}]
["TRABAJO 2",{"$f":"IF(ISTEXT(CRONOGRAMA!B168),CRONOGRAMA!B168,\"\")","v":"AID001"},1,"",{"$f":"IF(ISTEXT(B239),VLOOKUP(B239,CRONOGRAMA!$B$15:$D$472,3, FALSE),\"\")*$J$1/100","v":{"$error":"#VALUE!"}}]
["TRABAJO 2",{"$f":"IF(ISTEXT(CRONOGRAMA!B169),CRONOGRAMA!B169,\"\")","v":"AID002"},1,"",{"$f":"IF(ISTEXT(B240),VLOOKUP(B240,CRONOGRAMA!$B$15:$D$472,3, FALSE),\"\")*$J$1/100","v":{"$error":"#VALUE!"}}]
["TRABAJO 2",{"$f":"IF(ISTEXT(CRONOGRAMA!B170),CRONOGRAMA!B170,\"\")","v":"AID003"},1,"",{"$f":"IF(ISTEXT(B241),VLOOKUP(B241,CRONOGRAMA!$B$15:$D$472,3, FALSE),\"\")*$J$1/100","v":{"$error":"#VALUE!"}}]
["TRABAJO 2",{"$f":"IF(ISTEXT(CRONOGRAMA!B171),CRONOGRAMA!B171,\"\")","v":"AID004"},1,"",{"$f":"IF(ISTEXT(B242),VLOOKUP(B242,CRONOGRAMA!$B$15:$D$472,3, FALSE),\"\")*$J$1/100","v":{"$error":"#VALUE!"}}]
["TRABAJO 2",{"$f":"IF(ISTEXT(CRONOGRAMA!B172),CRONOGRAMA!B172,\"\")","v":"AIE001"},1,"",{"$f":"IF(ISTEXT(B243),VLOOKUP(B243,CRONOGRAMA!$B$15:$D$472,3, FALSE),\"\")*$J$1/100","v":{"$error":"#VALUE!"}}]
["TRABAJO 2",{"$f":"IF(ISTEXT(CRONOGRAMA!B173),CRONOGRAMA!B173,\"\")","v":"AIE004"},1,"",{"$f":"IF(ISTEXT(B244),VLOOKUP(B244,CRONOGRAMA!$B$15:$D$472,3, FALSE),\"\")*$J$1/100","v":{"$error":"#VALUE!"}}]
["TRABAJO 2",{"$f":"IF(ISTEXT(CRONOGRAMA!B174),CRONOGRAMA!B174,\"\")","v":"AIE005"},1,"",{"$f":"IF(ISTEXT(B245),VLOOKUP(B245,CRONOGRAMA!$B$15:$D$472,3, FALSE),\"\")*$J$1/100","v":{"$error":"#VALUE!"}}]
["TRABAJO 2",{"$f":"IF(ISTEXT(CRONOGRAMA!B175),CRONOGRAMA!B175,\"\")","v":"AIE006"},1,"",{"$f":"IF(ISTEXT(B246),VLOOKUP(B246,CRONOGRAMA!$B$15:$D$472,3, FALSE),\"\")*$J$1/100","v":{"$error":"#VALUE!"}}]
["TRABAJO 2",{"$f":"IF(ISTEXT(CRONOGRAMA!B176),CRONOGRAMA!B176,\"\")","v":"AIE007"},1,"",{"$f":"IF(ISTEXT(B247),VLOOKUP(B247,CRONOGRAMA!$B$15:$D$472,3, FALSE),\"\")*$J$1/100","v":{"$error":"#VALUE!"}}]
["TRABAJO 2",{"$f":"IF(ISTEXT(CRONOGRAMA!B177),CRONOGRAMA!B177,\"\")","v":"AIF001"},1,"",{"$f":"IF(ISTEXT(B248),VLOOKUP(B248,CRONOGRAMA!$B$15:$D$472,3, FALSE),\"\")*$J$1/100","v":{"$error":"#VALUE!"}}]
["TRABAJO 2",{"$f":"IF(ISTEXT(CRONOGRAMA!B178),CRONOGRAMA!B178,\"\")","v":"AIF002"},1,"",{"$f":"IF(ISTEXT(B249),VLOOKUP(B249,CRONOGRAMA!$B$15:$D$472,3, FALSE),\"\")*$J$1/100","v":{"$error":"#VALUE!"}}]
["TRABAJO 2",{"$f":"IF(ISTEXT(CRONOGRAMA!B179),CRONOGRAMA!B179,\"\")","v":"AIG001"},1,"",{"$f":"IF(ISTEXT(B250),VLOOKUP(B250,CRONOGRAMA!$B$15:$D$472,3, FALSE),\"\")*$J$1/100","v":{"$error":"#VALUE!"}}]
["TRABAJO 2",{"$f":"IF(ISTEXT(CRONOGRAMA!B180),CRONOGRAMA!B180,\"\")","v":"AIH001"},1,"",{"$f":"IF(ISTEXT(B251),VLOOKUP(B251,CRONOGRAMA!$B$15:$D$472,3, FALSE),\"\")*$J$1/100","v":{"$error":"#VALUE!"}}]
["TRABAJO 2",{"$f":"IF(ISTEXT(CRONOGRAMA!B181),CRONOGRAMA!B181,\"\")","v":"AIH002"},1,"",{"$f":"IF(ISTEXT(B252),VLOOKUP(B252,CRONOGRAMA!$B$15:$D$472,3, FALSE),\"\")*$J$1/100","v":{"$error":"#VALUE!"}}]
["TRABAJO 2",{"$f":"IF(ISTEXT(CRONOGRAMA!B182),CRONOGRAMA!B182,\"\")","v":"AIH006"},1,"",{"$f":"IF(ISTEXT(B253),VLOOKUP(B253,CRONOGRAMA!$B$15:$D$472,3, FALSE),\"\")*$J$1/100","v":{"$error":"#VALUE!"}}]
["TRABAJO 2",{"$f":"IF(ISTEXT(CRONOGRAMA!B183),CRONOGRAMA!B183,\"\")","v":"AIH007"},1,"",{"$f":"IF(ISTEXT(B254),VLOOKUP(B254,CRONOGRAMA!$B$15:$D$472,3, FALSE),\"\")*$J$1/100","v":{"$error":"#VALUE!"}}]
["TRABAJO 2",{"$f":"IF(ISTEXT(CRONOGRAMA!B184),CRONOGRAMA!B184,\"\")","v":"AIH009"},1,"",{"$f":"IF(ISTEXT(B255),VLOOKUP(B255,CRONOGRAMA!$B$15:$D$472,3, FALSE),\"\")*$J$1/100","v":{"$error":"#VALUE!"}}]
["TRABAJO 2",{"$f":"IF(ISTEXT(CRONOGRAMA!B185),CRONOGRAMA!B185,\"\")","v":"AIH011"},1,"",{"$f":"IF(ISTEXT(B256),VLOOKUP(B256,CRONOGRAMA!$B$15:$D$472,3, FALSE),\"\")*$J$1/100","v":{"$error":"#VALUE!"}}]
["TRABAJO 2",{"$f":"IF(ISTEXT(CRONOGRAMA!B186),CRONOGRAMA!B186,\"\")","v":"AIH012"},1,"",{"$f":"IF(ISTEXT(B257),VLOOKUP(B257,CRONOGRAMA!$B$15:$D$472,3, FALSE),\"\")*$J$1/100","v":{"$error":"#VALUE!"}}]
["TRABAJO 2",{"$f":"IF(ISTEXT(CRONOGRAMA!B187),CRONOGRAMA!B187,\"\")","v":"AIH014"},1,"",{"$f":"IF(ISTEXT(B258),VLOOKUP(B258,CRONOGRAMA!$B$15:$D$472,3, FALSE),\"\")*$J$1/100","v":{"$error":"#VALUE!"}}]
["TRABAJO 2",{"$f":"IF(ISTEXT(CRONOGRAMA!B188),CRONOGRAMA!B188,\"\")","v":"AIH015"},1,"",{"$f":"IF(ISTEXT(B259),VLOOKUP(B259,CRONOGRAMA!$B$15:$D$472,3, FALSE),\"\")*$J$1/100","v":{"$error":"#VALUE!"}}]
["TRABAJO 2",{"$f":"IF(ISTEXT(CRONOGRAMA!B189),CRONOGRAMA!B189,\"\")","v":"AII006"},1,"",{"$f":"IF(ISTEXT(B260),VLOOKUP(B260,CRONOGRAMA!$B$15:$D$472,3, FALSE),\"\")*$J$1/100","v":{"$error":"#VALUE!"}}]
["TRABAJO 2",{"$f":"IF(ISTEXT(CRONOGRAMA!B190),CRONOGRAMA!B190,\"\")","v":"AII007"},1,"",{"$f":"IF(ISTEXT(B261),VLOOKUP(B261,CRONOGRAMA!$B$15:$D$472,3, FALSE),\"\")*$J$1/100","v":{"$error":"#VALUE!"}}]
["TRABAJO 2",{"$f":"IF(ISTEXT(CRONOGRAMA!B191),CRONOGRAMA!B191,\"\")","v":"AII008"},1,"",{"$f":"IF(ISTEXT(B262),VLOOKUP(B262,CRONOGRAMA!$B$15:$D$472,3, FALSE),\"\")*$J$1/100","v":{"$error":"#VALUE!"}}]
["TRABAJO 2",{"$f":"IF(ISTEXT(CRONOGRAMA!B192),CRONOGRAMA!B192,\"\")","v":"AIJ002"},1,"",{"$f":"IF(ISTEXT(B263),VLOOKUP(B263,CRONOGRAMA!$B$15:$D$472,3, FALSE),\"\")*$J$1/100","v":{"$error":"#VALUE!"}}]
["TRABAJO 2",{"$f":"IF(ISTEXT(CRONOGRAMA!B200),CRONOGRAMA!B200,\"\")","v":"AIJ003"},1,"",{"$f":"IF(ISTEXT(B264),VLOOKUP(B264,CRONOGRAMA!$B$15:$D$472,3, FALSE),\"\")*$J$1/100","v":{"$error":"#VALUE!"}}]
["TRABAJO 2",{"$f":"IF(ISTEXT(CRONOGRAMA!B193),CRONOGRAMA!B193,\"\")","v":"AJA001"},1,{"$f":"IF(ISNUMBER(E265), ROUND(E265,2),\"\")","v":""},{"$f":"IF(ISTEXT(B265),VLOOKUP(B265,CRONOGRAMA!$B$15:$D$472,3, FALSE),\"\")*$J$1/100","v":{"$error":"#VALUE!"}}]
["TRABAJO 2",{"$f":"IF(ISTEXT(CRONOGRAMA!B194),CRONOGRAMA!B194,\"\")","v":"AJA002"},1,"",{"$f":"IF(ISTEXT(B266),VLOOKUP(B266,CRONOGRAMA!$B$15:$D$472,3, FALSE),\"\")*$J$1/100","v":{"$error":"#VALUE!"}}]
["TRABAJO 2",{"$f":"IF(ISTEXT(CRONOGRAMA!B195),CRONOGRAMA!B195,\"\")","v":"AJA003"},1,"",{"$f":"IF(ISTEXT(B267),VLOOKUP(B267,CRONOGRAMA!$B$15:$D$472,3, FALSE),\"\")*$J$1/100","v":{"$error":"#VALUE!"}}]
["TRABAJO 2",{"$f":"IF(ISTEXT(CRONOGRAMA!B196),CRONOGRAMA!B196,\"\")","v":"AJA004"},1,"",{"$f":"IF(ISTEXT(B268),VLOOKUP(B268,CRONOGRAMA!$B$15:$D$472,3, FALSE),\"\")*$J$1/100","v":{"$error":"#VALUE!"}}]
["TRABAJO 2",{"$f":"IF(ISTEXT(CRONOGRAMA!B236),CRONOGRAMA!B236,\"\")","v":"AJC001"},1,"",{"$f":"IF(ISTEXT(B269),VLOOKUP(B269,CRONOGRAMA!$B$15:$D$472,3, FALSE),\"\")*$J$1/100","v":{"$error":"#VALUE!"}}]
["TRABAJO 2",{"$f":"IF(ISTEXT(CRONOGRAMA!B202),CRONOGRAMA!B202,\"\")","v":"AKA001"},1,"",{"$f":"IF(ISTEXT(B270),VLOOKUP(B270,CRONOGRAMA!$B$15:$D$472,3, FALSE),\"\")*$J$1/100","v":{"$error":"#VALUE!"}}]
["TRABAJO 2",{"$f":"IF(ISTEXT(CRONOGRAMA!B203),CRONOGRAMA!B203,\"\")","v":"AKA002"},1,"",{"$f":"IF(ISTEXT(B271),VLOOKUP(B271,CRONOGRAMA!$B$15:$D$472,3, FALSE),\"\")*$J$1/100","v":{"$error":"#VALUE!"}}]
["TRABAJO 2",{"$f":"IF(ISTEXT(CRONOGRAMA!B204),CRONOGRAMA!B204,\"\")","v":"AKA003"},1,"",{"$f":"IF(ISTEXT(B272),VLOOKUP(B272,CRONOGRAMA!$B$15:$D$472,3, FALSE),\"\")*$J$1/100","v":{"$error":"#VALUE!"}}]
["TRABAJO 2",{"$f":"IF(ISTEXT(CRONOGRAMA!B205),CRONOGRAMA!B205,\"\")","v":"AKA004"},1,"",{"$f":"IF(ISTEXT(B273),VLOOKUP(B273,CRONOGRAMA!$B$15:$D$472,3, FALSE),\"\")*$J$1/100","v":{"$error":"#VALUE!"}}]
["TRABAJO 2",{"$f":"IF(ISTEXT(CRONOGRAMA!B206),CRONOGRAMA!B206,\"\")","v":"AKA005"},1,"",{"$f":"IF(ISTEXT(B274),VLOOKUP(B274,CRONOGRAMA!$B$15:$D$472,3, FALSE),\"\")*$J$1/100","v":{"$error":"#VALUE!"}}]
["TRABAJO 2",{"$f":"IF(ISTEXT(CRONOGRAMA!B246),CRONOGRAMA!B246,\"\")","v":"AKA006"},1,"",{"$f":"IF(ISTEXT(B275),VLOOKUP(B275,CRONOGRAMA!$B$15:$D$472,3, FALSE),\"\")*$J$1/100","v":{"$error":"#VALUE!"}}]
["TRABAJO 2",{"$f":"IF(ISTEXT(CRONOGRAMA!B207),CRONOGRAMA!B207,\"\")","v":"AKA007"},1,"",{"$f":"IF(ISTEXT(B276),VLOOKUP(B276,CRONOGRAMA!$B$15:$D$472,3, FALSE),\"\")*$J$1/100","v":{"$error":"#VALUE!"}}]
["TRABAJO 2",{"$f":"IF(ISTEXT(CRONOGRAMA!B208),CRONOGRAMA!B208,\"\")","v":"AKA008"},1,"",{"$f":"IF(ISTEXT(B277),VLOOKUP(B277,CRONOGRAMA!$B$15:$D$472,3, FALSE),\"\")*$J$1/100","v":{"$error":"#VALUE!"}}]
["TRABAJO 2",{"$f":"IF(ISTEXT(CRONOGRAMA!B201),CRONOGRAMA!B201,\"\")","v":"AKA011"},1,"",{"$f":"IF(ISTEXT(B278),VLOOKUP(B278,CRONOGRAMA!$B$15:$D$472,3, FALSE),\"\")*$J$1/100","v":{"$error":"#VALUE!"}}]
["TRABAJO 2",{"$f":"IF(ISTEXT(CRONOGRAMA!B209),CRONOGRAMA!B209,\"\")","v":"AKA012"},1,"",{"$f":"IF(ISTEXT(B279),VLOOKUP(B279,CRONOGRAMA!$B$15:$D$472,3, FALSE),\"\")*$J$1/100","v":{"$error":"#VALUE!"}}]
["TRABAJO 2",{"$f":"IF(ISTEXT(CRONOGRAMA!B210),CRONOGRAMA!B210,\"\")","v":"AKA013"},1,"",{"$f":"IF(ISTEXT(B280),VLOOKUP(B280,CRONOGRAMA!$B$15:$D$472,3, FALSE),\"\")*$J$1/100","v":{"$error":"#VALUE!"}}]
["TRABAJO 2",{"$f":"IF(ISTEXT(CRONOGRAMA!B211),CRONOGRAMA!B211,\"\")","v":"AKB001"},1,"",{"$f":"IF(ISTEXT(B281),VLOOKUP(B281,CRONOGRAMA!$B$15:$D$472,3, FALSE),\"\")*$J$1/100","v":{"$error":"#VALUE!"}}]
["TRABAJO 2",{"$f":"IF(ISTEXT(CRONOGRAMA!B212),CRONOGRAMA!B212,\"\")","v":"AKB002"},1,"",{"$f":"IF(ISTEXT(B282),VLOOKUP(B282,CRONOGRAMA!$B$15:$D$472,3, FALSE),\"\")*$J$1/100","v":{"$error":"#VALUE!"}}]
["TRABAJO 2",{"$f":"IF(ISTEXT(CRONOGRAMA!B213),CRONOGRAMA!B213,\"\")","v":"AKB003"},1,"",{"$f":"IF(ISTEXT(B283),VLOOKUP(B283,CRONOGRAMA!$B$15:$D$472,3, FALSE),\"\")*$J$1/100","v":{"$error":"#VALUE!"}}]
["TRABAJO 2",{"$f":"IF(ISTEXT(CRONOGRAMA!B214),CRONOGRAMA!B214,\"\")","v":"AKB004"},1,"",{"$f":"IF(ISTEXT(B284),VLOOKUP(B284,CRONOGRAMA!$B$15:$D$472,3, FALSE),\"\")*$J$1/100","v":{"$error":"#VALUE!"}}]
["TRABAJO 2",{"$f":"IF(ISTEXT(CRONOGRAMA!B215),CRONOGRAMA!B215,\"\")","v":"AKB005"},1,"",{"$f":"IF(ISTEXT(B285),VLOOKUP(B285,CRONOGRAMA!$B$15:$D$472,3, FALSE),\"\")*$J$1/100","v":{"$error":"#VALUE!"}}]
["TRABAJO 2",{"$f":"IF(ISTEXT(CRONOGRAMA!B216),CRONOGRAMA!B216,\"\")","v":"AKB007"},1,"",{"$f":"IF(ISTEXT(B286),VLOOKUP(B286,CRONOGRAMA!$B$15:$D$472,3, FALSE),\"\")*$J$1/100","v":{"$error":"#VALUE!"}}]
["TRABAJO 2",{"$f":"IF(ISTEXT(CRONOGRAMA!B217),CRONOGRAMA!B217,\"\")","v":"AKB008"},1,"",{"$f":"IF(ISTEXT(B287),VLOOKUP(B287,CRONOGRAMA!$B$15:$D$472,3, FALSE),\"\")*$J$1/100","v":{"$error":"#VALUE!"}}]
["TRABAJO 2",{"$f":"IF(ISTEXT(CRONOGRAMA!B218),CRONOGRAMA!B218,\"\")","v":"ALA001"},1,"",{"$f":"IF(ISTEXT(B288),VLOOKUP(B288,CRONOGRAMA!$B$15:$D$472,3, FALSE),\"\")*$J$1/100","v":{"$error":"#VALUE!"}}]
["TRABAJO 2",{"$f":"IF(ISTEXT(CRONOGRAMA!B219),CRONOGRAMA!B219,\"\")","v":"ALA002"},1,"",{"$f":"IF(ISTEXT(B289),VLOOKUP(B289,CRONOGRAMA!$B$15:$D$472,3, FALSE),\"\")*$J$1/100","v":{"$error":"#VALUE!"}}]
["TRABAJO 2",{"$f":"IF(ISTEXT(CRONOGRAMA!B220),CRONOGRAMA!B220,\"\")","v":"ALA003"},1,"",{"$f":"IF(ISTEXT(B290),VLOOKUP(B290,CRONOGRAMA!$B$15:$D$472,3, FALSE),\"\")*$J$1/100","v":{"$error":"#VALUE!"}}]
["TRABAJO 2",{"$f":"IF(ISTEXT(CRONOGRAMA!B221),CRONOGRAMA!B221,\"\")","v":"ALA004"},1,"",{"$f":"IF(ISTEXT(B291),VLOOKUP(B291,CRONOGRAMA!$B$15:$D$472,3, FALSE),\"\")*$J$1/100","v":{"$error":"#VALUE!"}}]
["TRABAJO 2",{"$f":"IF(ISTEXT(CRONOGRAMA!B222),CRONOGRAMA!B222,\"\")","v":"ALA005"},1,"",{"$f":"IF(ISTEXT(B292),VLOOKUP(B292,CRONOGRAMA!$B$15:$D$472,3, FALSE),\"\")*$J$1/100","v":{"$error":"#VALUE!"}}]
["TRABAJO 2",{"$f":"IF(ISTEXT(CRONOGRAMA!B223),CRONOGRAMA!B223,\"\")","v":"ALA006"},1,"",{"$f":"IF(ISTEXT(B293),VLOOKUP(B293,CRONOGRAMA!$B$15:$D$472,3, FALSE),\"\")*$J$1/100","v":{"$error":"#VALUE!"}}]
["TRABAJO 2",{"$f":"IF(ISTEXT(CRONOGRAMA!B224),CRONOGRAMA!B224,\"\")","v":"ALA007"},1,"",{"$f":"IF(ISTEXT(B294),VLOOKUP(B294,CRONOGRAMA!$B$15:$D$472,3, FALSE),\"\")*$J$1/100","v":{"$error":"#VALUE!"}}]
["TRABAJO 2",{"$f":"IF(ISTEXT(CRONOGRAMA!B225),CRONOGRAMA!B225,\"\")","v":"ALA008"},1,"",{"$f":"IF(ISTEXT(B295),VLOOKUP(B295,CRONOGRAMA!$B$15:$D$472,3, FALSE),\"\")*$J$1/100","v":{"$error":"#VALUE!"}}]
["TRABAJO 2",{"$f":"IF(ISTEXT(CRONOGRAMA!B226),CRONOGRAMA!B226,\"\")","v":"ALB001"},1,"",{"$f":"IF(ISTEXT(B296),VLOOKUP(B296,CRONOGRAMA!$B$15:$D$472,3, FALSE),\"\")*$J$1/100","v":{"$error":"#VALUE!"}}]
["TRABAJO 2",{"$f":"IF(ISTEXT(CRONOGRAMA!B227),CRONOGRAMA!B227,\"\")","v":"ALB002"},1,"",{"$f":"IF(ISTEXT(B297),VLOOKUP(B297,CRONOGRAMA!$B$15:$D$472,3, FALSE),\"\")*$J$1/100","v":{"$error":"#VALUE!"}}]
["TRABAJO 2",{"$f":"IF(ISTEXT(CRONOGRAMA!B228),CRONOGRAMA!B228,\"\")","v":"ALC001"},1,"",{"$f":"IF(ISTEXT(B298),VLOOKUP(B298,CRONOGRAMA!$B$15:$D$472,3, FALSE),\"\")*$J$1/100","v":{"$error":"#VALUE!"}}]
["TRABAJO 2",{"$f":"IF(ISTEXT(CRONOGRAMA!B229),CRONOGRAMA!B229,\"\")","v":"ALD001"},1,"",{"$f":"IF(ISTEXT(B299),VLOOKUP(B299,CRONOGRAMA!$B$15:$D$472,3, FALSE),\"\")*$J$1/100","v":{"$error":"#VALUE!"}}]
["TRABAJO 2",{"$f":"IF(ISTEXT(CRONOGRAMA!B361),CRONOGRAMA!B361,\"\")","v":"AMA001"},1,"",{"$f":"IF(ISTEXT(B300),VLOOKUP(B300,CRONOGRAMA!$B$15:$D$472,3, FALSE),\"\")*$J$1/100","v":{"$error":"#VALUE!"}}]
["TRABAJO 2",{"$f":"IF(ISTEXT(CRONOGRAMA!B362),CRONOGRAMA!B362,\"\")","v":"AMA002"},1,"",{"$f":"IF(ISTEXT(B301),VLOOKUP(B301,CRONOGRAMA!$B$15:$D$472,3, FALSE),\"\")*$J$1/100","v":{"$error":"#VALUE!"}}]
["TRABAJO 2",{"$f":"IF(ISTEXT(CRONOGRAMA!B363),CRONOGRAMA!B363,\"\")","v":"AMA003"},1,"",{"$f":"IF(ISTEXT(B302),VLOOKUP(B302,CRONOGRAMA!$B$15:$D$472,3, FALSE),\"\")*$J$1/100","v":{"$error":"#VALUE!"}}]
["TRABAJO 2",{"$f":"IF(ISTEXT(CRONOGRAMA!B350),CRONOGRAMA!B350,\"\")","v":"AMA004"},1,"",{"$f":"IF(ISTEXT(B303),VLOOKUP(B303,CRONOGRAMA!$B$15:$D$472,3, FALSE),\"\")*$J$1/100","v":{"$error":"#VALUE!"}}]
["TRABAJO 2",{"$f":"IF(ISTEXT(CRONOGRAMA!B351),CRONOGRAMA!B351,\"\")","v":"AMA005"},1,"",{"$f":"IF(ISTEXT(B304),VLOOKUP(B304,CRONOGRAMA!$B$15:$D$472,3, FALSE),\"\")*$J$1/100","v":{"$error":"#VALUE!"}}]
["TRABAJO 2",{"$f":"IF(ISTEXT(CRONOGRAMA!B354),CRONOGRAMA!B354,\"\")","v":"AMA006"},1,"",{"$f":"IF(ISTEXT(B305),VLOOKUP(B305,CRONOGRAMA!$B$15:$D$472,3, FALSE),\"\")*$J$1/100","v":{"$error":"#VALUE!"}}]
["TRABAJO 2",{"$f":"IF(ISTEXT(CRONOGRAMA!B355),CRONOGRAMA!B355,\"\")","v":"AMA007"},1,"",{"$f":"IF(ISTEXT(B306),VLOOKUP(B306,CRONOGRAMA!$B$15:$D$472,3, FALSE),\"\")*$J$1/100","v":{"$error":"#VALUE!"}}]
["TRABAJO 2",{"$f":"IF(ISTEXT(CRONOGRAMA!B356),CRONOGRAMA!B356,\"\")","v":"AMA008"},1,"",{"$f":"IF(ISTEXT(B307),VLOOKUP(B307,CRONOGRAMA!$B$15:$D$472,3, FALSE),\"\")*$J$1/100","v":{"$error":"#VALUE!"}}]
["TRABAJO 2",{"$f":"IF(ISTEXT(CRONOGRAMA!B352),CRONOGRAMA!B352,\"\")","v":"AMA010"},1,"",{"$f":"IF(ISTEXT(B308),VLOOKUP(B308,CRONOGRAMA!$B$15:$D$472,3, FALSE),\"\")*$J$1/100","v":{"$error":"#VALUE!"}}]
["TRABAJO 2",{"$f":"IF(ISTEXT(CRONOGRAMA!B353),CRONOGRAMA!B353,\"\")","v":"AMA011"},1,"",{"$f":"IF(ISTEXT(B309),VLOOKUP(B309,CRONOGRAMA!$B$15:$D$472,3, FALSE),\"\")*$J$1/100","v":{"$error":"#VALUE!"}}]
["TRABAJO 2",{"$f":"IF(ISTEXT(CRONOGRAMA!B364),CRONOGRAMA!B364,\"\")","v":"AMB001"},1,"",{"$f":"IF(ISTEXT(B310),VLOOKUP(B310,CRONOGRAMA!$B$15:$D$472,3, FALSE),\"\")*$J$1/100","v":{"$error":"#VALUE!"}}]
["TRABAJO 2",{"$f":"IF(ISTEXT(CRONOGRAMA!B365),CRONOGRAMA!B365,\"\")","v":"AMB002"},1,"",{"$f":"IF(ISTEXT(B311),VLOOKUP(B311,CRONOGRAMA!$B$15:$D$472,3, FALSE),\"\")*$J$1/100","v":{"$error":"#VALUE!"}}]
["TRABAJO 2",{"$f":"IF(ISTEXT(CRONOGRAMA!B366),CRONOGRAMA!B366,\"\")","v":"AMB004"},1,"",{"$f":"IF(ISTEXT(B312),VLOOKUP(B312,CRONOGRAMA!$B$15:$D$472,3, FALSE),\"\")*$J$1/100","v":{"$error":"#VALUE!"}}]
["TRABAJO 2",{"$f":"IF(ISTEXT(CRONOGRAMA!B367),CRONOGRAMA!B367,\"\")","v":"AMB005"},1,"",{"$f":"IF(ISTEXT(B313),VLOOKUP(B313,CRONOGRAMA!$B$15:$D$472,3, FALSE),\"\")*$J$1/100","v":{"$error":"#VALUE!"}}]
["TRABAJO 2",{"$f":"IF(ISTEXT(CRONOGRAMA!B368),CRONOGRAMA!B368,\"\")","v":"AMB006"},1,"",{"$f":"IF(ISTEXT(B314),VLOOKUP(B314,CRONOGRAMA!$B$15:$D$472,3, FALSE),\"\")*$J$1/100","v":{"$error":"#VALUE!"}}]
["TRABAJO 2",{"$f":"IF(ISTEXT(CRONOGRAMA!B369),CRONOGRAMA!B369,\"\")","v":"AMC001"},1,"",{"$f":"IF(ISTEXT(B315),VLOOKUP(B315,CRONOGRAMA!$B$15:$D$472,3, FALSE),\"\")*$J$1/100","v":{"$error":"#VALUE!"}}]
["TRABAJO 2",{"$f":"IF(ISTEXT(CRONOGRAMA!B370),CRONOGRAMA!B370,\"\")","v":"AMC002"},1,"",{"$f":"IF(ISTEXT(B316),VLOOKUP(B316,CRONOGRAMA!$B$15:$D$472,3, FALSE),\"\")*$J$1/100","v":{"$error":"#VALUE!"}}]
["TRABAJO 2",{"$f":"IF(ISTEXT(CRONOGRAMA!B371),CRONOGRAMA!B371,\"\")","v":"AMC003"},1,"",{"$f":"IF(ISTEXT(B317),VLOOKUP(B317,CRONOGRAMA!$B$15:$D$472,3, FALSE),\"\")*$J$1/100","v":{"$error":"#VALUE!"}}]
["TRABAJO 2",{"$f":"IF(ISTEXT(CRONOGRAMA!B372),CRONOGRAMA!B372,\"\")","v":"AMC004"},1,"",{"$f":"IF(ISTEXT(B318),VLOOKUP(B318,CRONOGRAMA!$B$15:$D$472,3, FALSE),\"\")*$J$1/100","v":{"$error":"#VALUE!"}}]
["TRABAJO 2",{"$f":"IF(ISTEXT(CRONOGRAMA!B373),CRONOGRAMA!B373,\"\")","v":"AMC005"},1,"",{"$f":"IF(ISTEXT(B319),VLOOKUP(B319,CRONOGRAMA!$B$15:$D$472,3, FALSE),\"\")*$J$1/100","v":{"$error":"#VALUE!"}}]
["TRABAJO 2",{"$f":"IF(ISTEXT(CRONOGRAMA!B374),CRONOGRAMA!B374,\"\")","v":"AMC006"},1,"",{"$f":"IF(ISTEXT(B320),VLOOKUP(B320,CRONOGRAMA!$B$15:$D$472,3, FALSE),\"\")*$J$1/100","v":{"$error":"#VALUE!"}}]
["TRABAJO 2",{"$f":"IF(ISTEXT(CRONOGRAMA!B375),CRONOGRAMA!B375,\"\")","v":"AMC007"},1,"",{"$f":"IF(ISTEXT(B321),VLOOKUP(B321,CRONOGRAMA!$B$15:$D$472,3, FALSE),\"\")*$J$1/100","v":{"$error":"#VALUE!"}}]
["TRABAJO 2",{"$f":"IF(ISTEXT(CRONOGRAMA!B376),CRONOGRAMA!B376,\"\")","v":"AMC008"},1,"",{"$f":"IF(ISTEXT(B322),VLOOKUP(B322,CRONOGRAMA!$B$15:$D$472,3, FALSE),\"\")*$J$1/100","v":{"$error":"#VALUE!"}}]
["TRABAJO 2",{"$f":"IF(ISTEXT(CRONOGRAMA!B377),CRONOGRAMA!B377,\"\")","v":"AMD001"},1,"",{"$f":"IF(ISTEXT(B323),VLOOKUP(B323,CRONOGRAMA!$B$15:$D$472,3, FALSE),\"\")*$J$1/100","v":{"$error":"#VALUE!"}}]
["TRABAJO 2",{"$f":"IF(ISTEXT(CRONOGRAMA!B378),CRONOGRAMA!B378,\"\")","v":"AMD002"},1,"",{"$f":"IF(ISTEXT(B324),VLOOKUP(B324,CRONOGRAMA!$B$15:$D$472,3, FALSE),\"\")*$J$1/100","v":{"$error":"#VALUE!"}}]
["TRABAJO 2",{"$f":"IF(ISTEXT(CRONOGRAMA!B379),CRONOGRAMA!B379,\"\")","v":"AMD003"},1,"",{"$f":"IF(ISTEXT(B325),VLOOKUP(B325,CRONOGRAMA!$B$15:$D$472,3, FALSE),\"\")*$J$1/100","v":{"$error":"#VALUE!"}}]
["TRABAJO 2",{"$f":"IF(ISTEXT(CRONOGRAMA!B380),CRONOGRAMA!B380,\"\")","v":"AMD004"},1,"",{"$f":"IF(ISTEXT(B326),VLOOKUP(B326,CRONOGRAMA!$B$15:$D$472,3, FALSE),\"\")*$J$1/100","v":{"$error":"#VALUE!"}}]
["TRABAJO 2",{"$f":"IF(ISTEXT(CRONOGRAMA!B383),CRONOGRAMA!B383,\"\")","v":"AME001"},1,"",{"$f":"IF(ISTEXT(B327),VLOOKUP(B327,CRONOGRAMA!$B$15:$D$472,3, FALSE),\"\")*$J$1/100","v":{"$error":"#VALUE!"}}]
["TRABAJO 2",{"$f":"IF(ISTEXT(CRONOGRAMA!B384),CRONOGRAMA!B384,\"\")","v":"AME002"},1,"",{"$f":"IF(ISTEXT(B328),VLOOKUP(B328,CRONOGRAMA!$B$15:$D$472,3, FALSE),\"\")*$J$1/100","v":{"$error":"#VALUE!"}}]
["TRABAJO 2",{"$f":"IF(ISTEXT(CRONOGRAMA!B385),CRONOGRAMA!B385,\"\")","v":"AME003"},1,{"$f":"IF(ISNUMBER(E329), ROUND(E329,2),\"\")","v":""},{"$f":"IF(ISTEXT(B329),VLOOKUP(B329,CRONOGRAMA!$B$15:$D$472,3, FALSE),\"\")*$J$1/100","v":{"$error":"#VALUE!"}}]
["TRABAJO 2",{"$f":"IF(ISTEXT(CRONOGRAMA!B381),CRONOGRAMA!B381,\"\")","v":"AMF001"},1,"",{"$f":"IF(ISTEXT(B330),VLOOKUP(B330,CRONOGRAMA!$B$15:$D$472,3, FALSE),\"\")*$J$1/100","v":{"$error":"#VALUE!"}}]
["TRABAJO 2",{"$f":"IF(ISTEXT(CRONOGRAMA!B231),CRONOGRAMA!B231,\"\")","v":"ANA001"},1,"",{"$f":"IF(ISTEXT(B331),VLOOKUP(B331,CRONOGRAMA!$B$15:$D$472,3, FALSE),\"\")*$J$1/100","v":{"$error":"#VALUE!"}}]
["TRABAJO 2",{"$f":"IF(ISTEXT(CRONOGRAMA!B232),CRONOGRAMA!B232,\"\")","v":"ANA002"},1,"",{"$f":"IF(ISTEXT(B332),VLOOKUP(B332,CRONOGRAMA!$B$15:$D$472,3, FALSE),\"\")*$J$1/100","v":{"$error":"#VALUE!"}}]
["TRABAJO 2",{"$f":"IF(ISTEXT(CRONOGRAMA!B233),CRONOGRAMA!B233,\"\")","v":"ANA003"},1,"",{"$f":"IF(ISTEXT(B333),VLOOKUP(B333,CRONOGRAMA!$B$15:$D$472,3, FALSE),\"\")*$J$1/100","v":{"$error":"#VALUE!"}}]
["TRABAJO 2",{"$f":"IF(ISTEXT(CRONOGRAMA!B234),CRONOGRAMA!B234,\"\")","v":"ANB001"},1,"",{"$f":"IF(ISTEXT(B334),VLOOKUP(B334,CRONOGRAMA!$B$15:$D$472,3, FALSE),\"\")*$J$1/100","v":{"$error":"#VALUE!"}}]
["TRABAJO 2",{"$f":"IF(ISTEXT(CRONOGRAMA!B235),CRONOGRAMA!B235,\"\")","v":"ANB002"},1,"",{"$f":"IF(ISTEXT(B335),VLOOKUP(B335,CRONOGRAMA!$B$15:$D$472,3, FALSE),\"\")*$J$1/100","v":{"$error":"#VALUE!"}}]
["TRABAJO 2",{"$f":"IF(ISTEXT(CRONOGRAMA!B400),CRONOGRAMA!B400,\"\")","v":"ANB003"},1,"",{"$f":"IF(ISTEXT(B336),VLOOKUP(B336,CRONOGRAMA!$B$15:$D$472,3, FALSE),\"\")*$J$1/100","v":{"$error":"#VALUE!"}}]
["TRABAJO 2",{"$f":"IF(ISTEXT(CRONOGRAMA!B401),CRONOGRAMA!B401,\"\")","v":"ANB004"},1,"",{"$f":"IF(ISTEXT(B337),VLOOKUP(B337,CRONOGRAMA!$B$15:$D$472,3, FALSE),\"\")*$J$1/100","v":{"$error":"#VALUE!"}}]
["TRABAJO 2",{"$f":"IF(ISTEXT(CRONOGRAMA!B402),CRONOGRAMA!B402,\"\")","v":"ANB006"},1,"",{"$f":"IF(ISTEXT(B338),VLOOKUP(B338,CRONOGRAMA!$B$15:$D$472,3, FALSE),\"\")*$J$1/100","v":{"$error":"#VALUE!"}}]
["TRABAJO 2",{"$f":"IF(ISTEXT(CRONOGRAMA!B403),CRONOGRAMA!B403,\"\")","v":"ANB007"},1,"",{"$f":"IF(ISTEXT(B339),VLOOKUP(B339,CRONOGRAMA!$B$15:$D$472,3, FALSE),\"\")*$J$1/100","v":{"$error":"#VALUE!"}}]
["TRABAJO 2",{"$f":"IF(ISTEXT(CRONOGRAMA!B404),CRONOGRAMA!B404,\"\")","v":"ANB008"},1,"",{"$f":"IF(ISTEXT(B340),VLOOKUP(B340,CRONOGRAMA!$B$15:$D$472,3, FALSE),\"\")*$J$1/100","v":{"$error":"#VALUE!"}}]
["TRABAJO 2",{"$f":"IF(ISTEXT(CRONOGRAMA!B405),CRONOGRAMA!B405,\"\")","v":"ANB009"},1,"",{"$f":"IF(ISTEXT(B341),VLOOKUP(B341,CRONOGRAMA!$B$15:$D$472,3, FALSE),\"\")*$J$1/100","v":{"$error":"#VALUE!"}}]
["TRABAJO 2",{"$f":"IF(ISTEXT(CRONOGRAMA!B406),CRONOGRAMA!B406,\"\")","v":"ANB013"},1,"",{"$f":"IF(ISTEXT(B342),VLOOKUP(B342,CRONOGRAMA!$B$15:$D$472,3, FALSE),\"\")*$J$1/100","v":{"$error":"#VALUE!"}}]
["TRABAJO 2",{"$f":"IF(ISTEXT(CRONOGRAMA!B407),CRONOGRAMA!B407,\"\")","v":"ANB014"},1,"",{"$f":"IF(ISTEXT(B343),VLOOKUP(B343,CRONOGRAMA!$B$15:$D$472,3, FALSE),\"\")*$J$1/100","v":{"$error":"#VALUE!"}}]
["TRABAJO 2",{"$f":"IF(ISTEXT(CRONOGRAMA!B411),CRONOGRAMA!B411,\"\")","v":"ANB017"},1,"",{"$f":"IF(ISTEXT(B344),VLOOKUP(B344,CRONOGRAMA!$B$15:$D$472,3, FALSE),\"\")*$J$1/100","v":{"$error":"#VALUE!"}}]
["TRABAJO 2",{"$f":"IF(ISTEXT(CRONOGRAMA!B412),CRONOGRAMA!B412,\"\")","v":"ANB018"},1,"",{"$f":"IF(ISTEXT(B345),VLOOKUP(B345,CRONOGRAMA!$B$15:$D$472,3, FALSE),\"\")*$J$1/100","v":{"$error":"#VALUE!"}}]
["TRABAJO 2",{"$f":"IF(ISTEXT(CRONOGRAMA!B299),CRONOGRAMA!B299,\"\")","v":"AND002"},1,"",{"$f":"IF(ISTEXT(B346),VLOOKUP(B346,CRONOGRAMA!$B$15:$D$472,3, FALSE),\"\")*$J$1/100","v":{"$error":"#VALUE!"}}]
["TRABAJO 2",{"$f":"IF(ISTEXT(CRONOGRAMA!B320),CRONOGRAMA!B320,\"\")","v":"AND004 "},1,"",{"$f":"IF(ISTEXT(B347),VLOOKUP(B347,CRONOGRAMA!$B$15:$D$472,3, FALSE),\"\")*$J$1/100","v":{"$error":"#VALUE!"}}]
["TRABAJO 2",{"$f":"IF(ISTEXT(CRONOGRAMA!B341),CRONOGRAMA!B341,\"\")","v":"AND006"},1,"",{"$f":"IF(ISTEXT(B348),VLOOKUP(B348,CRONOGRAMA!$B$15:$D$472,3, FALSE),\"\")*$J$1/100","v":{"$error":"#VALUE!"}}]
["TRABAJO 2",{"$f":"IF(ISTEXT(CRONOGRAMA!B357),CRONOGRAMA!B357,\"\")","v":"AND007"},1,"",{"$f":"IF(ISTEXT(B349),VLOOKUP(B349,CRONOGRAMA!$B$15:$D$472,3, FALSE),\"\")*$J$1/100","v":{"$error":"#VALUE!"}}]
["TRABAJO 2",{"$f":"IF(ISTEXT(CRONOGRAMA!B358),CRONOGRAMA!B358,\"\")","v":"AND008"},1,"",{"$f":"IF(ISTEXT(B350),VLOOKUP(B350,CRONOGRAMA!$B$15:$D$472,3, FALSE),\"\")*$J$1/100","v":{"$error":"#VALUE!"}}]
["TRABAJO 2",{"$f":"IF(ISTEXT(CRONOGRAMA!B359),CRONOGRAMA!B359,\"\")","v":"AND009"},1,"",{"$f":"IF(ISTEXT(B351),VLOOKUP(B351,CRONOGRAMA!$B$15:$D$472,3, FALSE),\"\")*$J$1/100","v":{"$error":"#VALUE!"}}]
["TRABAJO 2",{"$f":"IF(ISTEXT(CRONOGRAMA!B360),CRONOGRAMA!B360,\"\")","v":"AND010"},1,"",{"$f":"IF(ISTEXT(B352),VLOOKUP(B352,CRONOGRAMA!$B$15:$D$472,3, FALSE),\"\")*$J$1/100","v":{"$error":"#VALUE!"}}]
["TRABAJO 2",{"$f":"IF(ISTEXT(CRONOGRAMA!B197),CRONOGRAMA!B197,\"\")","v":"AND011"},1,"",{"$f":"IF(ISTEXT(B353),VLOOKUP(B353,CRONOGRAMA!$B$15:$D$472,3, FALSE),\"\")*$J$1/100","v":{"$error":"#VALUE!"}}]
["TRABAJO 2",{"$f":"IF(ISTEXT(CRONOGRAMA!B198),CRONOGRAMA!B198,\"\")","v":"AND012"},1,"",{"$f":"IF(ISTEXT(B354),VLOOKUP(B354,CRONOGRAMA!$B$15:$D$472,3, FALSE),\"\")*$J$1/100","v":{"$error":"#VALUE!"}}]
["TRABAJO 2",{"$f":"IF(ISTEXT(CRONOGRAMA!B461),CRONOGRAMA!B461,\"\")","v":"AND013"},1,"",{"$f":"IF(ISTEXT(B355),VLOOKUP(B355,CRONOGRAMA!$B$15:$D$472,3, FALSE),\"\")*$J$1/100","v":{"$error":"#VALUE!"}}]
["TRABAJO 2",{"$f":"IF(ISTEXT(CRONOGRAMA!B462),CRONOGRAMA!B462,\"\")","v":"AND014"},1,"",{"$f":"IF(ISTEXT(B356),VLOOKUP(B356,CRONOGRAMA!$B$15:$D$472,3, FALSE),\"\")*$J$1/100","v":{"$error":"#VALUE!"}}]
["TRABAJO 2",{"$f":"IF(ISTEXT(CRONOGRAMA!B244),CRONOGRAMA!B244,\"\")","v":"AND015"},1,"",{"$f":"IF(ISTEXT(B357),VLOOKUP(B357,CRONOGRAMA!$B$15:$D$472,3, FALSE),\"\")*$J$1/100","v":{"$error":"#VALUE!"}}]
["TRABAJO 2",{"$f":"IF(ISTEXT(CRONOGRAMA!B245),CRONOGRAMA!B245,\"\")","v":"AND016"},1,"",{"$f":"IF(ISTEXT(B358),VLOOKUP(B358,CRONOGRAMA!$B$15:$D$472,3, FALSE),\"\")*$J$1/100","v":{"$error":"#VALUE!"}}]
["TRABAJO 2",{"$f":"IF(ISTEXT(CRONOGRAMA!B413),CRONOGRAMA!B413,\"\")","v":"AND017"},1,"",{"$f":"IF(ISTEXT(B359),VLOOKUP(B359,CRONOGRAMA!$B$15:$D$472,3, FALSE),\"\")*$J$1/100","v":{"$error":"#VALUE!"}}]
["TRABAJO 2",{"$f":"IF(ISTEXT(CRONOGRAMA!B414),CRONOGRAMA!B414,\"\")","v":"AND018"},1,"",{"$f":"IF(ISTEXT(B360),VLOOKUP(B360,CRONOGRAMA!$B$15:$D$472,3, FALSE),\"\")*$J$1/100","v":{"$error":"#VALUE!"}}]
["TRABAJO 2",{"$f":"IF(ISTEXT(CRONOGRAMA!B393),CRONOGRAMA!B393,\"\")","v":"AOA001"},1,"",{"$f":"IF(ISTEXT(B361),VLOOKUP(B361,CRONOGRAMA!$B$15:$D$472,3, FALSE),\"\")*$J$1/100","v":{"$error":"#VALUE!"}}]
["TRABAJO 2",{"$f":"IF(ISTEXT(CRONOGRAMA!B394),CRONOGRAMA!B394,\"\")","v":"AOA005"},1,"",{"$f":"IF(ISTEXT(B362),VLOOKUP(B362,CRONOGRAMA!$B$15:$D$472,3, FALSE),\"\")*$J$1/100","v":{"$error":"#VALUE!"}}]
["TRABAJO 2",{"$f":"IF(ISTEXT(CRONOGRAMA!B395),CRONOGRAMA!B395,\"\")","v":"AOA010"},1,"",{"$f":"IF(ISTEXT(B363),VLOOKUP(B363,CRONOGRAMA!$B$15:$D$472,3, FALSE),\"\")*$J$1/100","v":{"$error":"#VALUE!"}}]
["TRABAJO 2",{"$f":"IF(ISTEXT(CRONOGRAMA!B396),CRONOGRAMA!B396,\"\")","v":"AOA015"},1,"",{"$f":"IF(ISTEXT(B364),VLOOKUP(B364,CRONOGRAMA!$B$15:$D$472,3, FALSE),\"\")*$J$1/100","v":{"$error":"#VALUE!"}}]
["TRABAJO 2",{"$f":"IF(ISTEXT(CRONOGRAMA!B397),CRONOGRAMA!B397,\"\")","v":"AOA020"},1,"",{"$f":"IF(ISTEXT(B365),VLOOKUP(B365,CRONOGRAMA!$B$15:$D$472,3, FALSE),\"\")*$J$1/100","v":{"$error":"#VALUE!"}}]
["TRABAJO 2",{"$f":"IF(ISTEXT(CRONOGRAMA!B398),CRONOGRAMA!B398,\"\")","v":"AOA025"},1,"",{"$f":"IF(ISTEXT(B366),VLOOKUP(B366,CRONOGRAMA!$B$15:$D$472,3, FALSE),\"\")*$J$1/100","v":{"$error":"#VALUE!"}}]
["TRABAJO 2",{"$f":"IF(ISTEXT(CRONOGRAMA!B399),CRONOGRAMA!B399,\"\")","v":"AOA030"},1,"",{"$f":"IF(ISTEXT(B367),VLOOKUP(B367,CRONOGRAMA!$B$15:$D$472,3, FALSE),\"\")*$J$1/100","v":{"$error":"#VALUE!"}}]
["TRABAJO 2",{"$f":"IF(ISTEXT(CRONOGRAMA!B247),CRONOGRAMA!B247,\"\")","v":"APA001"},1,"",{"$f":"IF(ISTEXT(B368),VLOOKUP(B368,CRONOGRAMA!$B$15:$D$472,3, FALSE),\"\")*$J$1/100","v":{"$error":"#VALUE!"}}]
["TRABAJO 2",{"$f":"IF(ISTEXT(CRONOGRAMA!B248),CRONOGRAMA!B248,\"\")","v":"APA002"},1,"",{"$f":"IF(ISTEXT(B369),VLOOKUP(B369,CRONOGRAMA!$B$15:$D$472,3, FALSE),\"\")*$J$1/100","v":{"$error":"#VALUE!"}}]
["TRABAJO 2",{"$f":"IF(ISTEXT(CRONOGRAMA!B249),CRONOGRAMA!B249,\"\")","v":"APB001"},1,"",{"$f":"IF(ISTEXT(B370),VLOOKUP(B370,CRONOGRAMA!$B$15:$D$472,3, FALSE),\"\")*$J$1/100","v":{"$error":"#VALUE!"}}]
["TRABAJO 2",{"$f":"IF(ISTEXT(CRONOGRAMA!B250),CRONOGRAMA!B250,\"\")","v":"APC001"},1,"",{"$f":"IF(ISTEXT(B371),VLOOKUP(B371,CRONOGRAMA!$B$15:$D$472,3, FALSE),\"\")*$J$1/100","v":{"$error":"#VALUE!"}}]
["TRABAJO 2",{"$f":"IF(ISTEXT(CRONOGRAMA!B251),CRONOGRAMA!B251,\"\")","v":"APC002"},1,"",{"$f":"IF(ISTEXT(B372),VLOOKUP(B372,CRONOGRAMA!$B$15:$D$472,3, FALSE),\"\")*$J$1/100","v":{"$error":"#VALUE!"}}]
["TRABAJO 2",{"$f":"IF(ISTEXT(CRONOGRAMA!B252),CRONOGRAMA!B252,\"\")","v":"APC003"},1,"",{"$f":"IF(ISTEXT(B373),VLOOKUP(B373,CRONOGRAMA!$B$15:$D$472,3, FALSE),\"\")*$J$1/100","v":{"$error":"#VALUE!"}}]
["TRABAJO 2",{"$f":"IF(ISTEXT(CRONOGRAMA!B253),CRONOGRAMA!B253,\"\")","v":"APC004"},1,"",{"$f":"IF(ISTEXT(B374),VLOOKUP(B374,CRONOGRAMA!$B$15:$D$472,3, FALSE),\"\")*$J$1/100","v":{"$error":"#VALUE!"}}]
["TRABAJO 2",{"$f":"IF(ISTEXT(CRONOGRAMA!B254),CRONOGRAMA!B254,\"\")","v":"APD001"},1,"",{"$f":"IF(ISTEXT(B375),VLOOKUP(B375,CRONOGRAMA!$B$15:$D$472,3, FALSE),\"\")*$J$1/100","v":{"$error":"#VALUE!"}}]
["TRABAJO 2",{"$f":"IF(ISTEXT(CRONOGRAMA!B255),CRONOGRAMA!B255,\"\")","v":"AQA001"},1,"",{"$f":"IF(ISTEXT(B376),VLOOKUP(B376,CRONOGRAMA!$B$15:$D$472,3, FALSE),\"\")*$J$1/100","v":{"$error":"#VALUE!"}}]
["TRABAJO 2",{"$f":"IF(ISTEXT(CRONOGRAMA!B256),CRONOGRAMA!B256,\"\")","v":"AQA002"},1,"",{"$f":"IF(ISTEXT(B377),VLOOKUP(B377,CRONOGRAMA!$B$15:$D$472,3, FALSE),\"\")*$J$1/100","v":{"$error":"#VALUE!"}}]
["TRABAJO 2",{"$f":"IF(ISTEXT(CRONOGRAMA!B257),CRONOGRAMA!B257,\"\")","v":"AQA003"},1,"",{"$f":"IF(ISTEXT(B378),VLOOKUP(B378,CRONOGRAMA!$B$15:$D$472,3, FALSE),\"\")*$J$1/100","v":{"$error":"#VALUE!"}}]
["TRABAJO 2",{"$f":"IF(ISTEXT(CRONOGRAMA!B258),CRONOGRAMA!B258,\"\")","v":"AQB001"},1,"",{"$f":"IF(ISTEXT(B379),VLOOKUP(B379,CRONOGRAMA!$B$15:$D$472,3, FALSE),\"\")*$J$1/100","v":{"$error":"#VALUE!"}}]
["TRABAJO 2",{"$f":"IF(ISTEXT(CRONOGRAMA!B259),CRONOGRAMA!B259,\"\")","v":"AQB002"},1,"",{"$f":"IF(ISTEXT(B380),VLOOKUP(B380,CRONOGRAMA!$B$15:$D$472,3, FALSE),\"\")*$J$1/100","v":{"$error":"#VALUE!"}}]
["TRABAJO 2",{"$f":"IF(ISTEXT(CRONOGRAMA!B260),CRONOGRAMA!B260,\"\")","v":"AQB003"},1,"",{"$f":"IF(ISTEXT(B381),VLOOKUP(B381,CRONOGRAMA!$B$15:$D$472,3, FALSE),\"\")*$J$1/100","v":{"$error":"#VALUE!"}}]
["TRABAJO 2",{"$f":"IF(ISTEXT(CRONOGRAMA!B261),CRONOGRAMA!B261,\"\")","v":"AQC001"},1,"",{"$f":"IF(ISTEXT(B382),VLOOKUP(B382,CRONOGRAMA!$B$15:$D$472,3, FALSE),\"\")*$J$1/100","v":{"$error":"#VALUE!"}}]
["TRABAJO 2",{"$f":"IF(ISTEXT(CRONOGRAMA!B262),CRONOGRAMA!B262,\"\")","v":"AQC002"},1,"",{"$f":"IF(ISTEXT(B383),VLOOKUP(B383,CRONOGRAMA!$B$15:$D$472,3, FALSE),\"\")*$J$1/100","v":{"$error":"#VALUE!"}}]
["TRABAJO 2",{"$f":"IF(ISTEXT(CRONOGRAMA!B263),CRONOGRAMA!B263,\"\")","v":"AQC003"},1,"",{"$f":"IF(ISTEXT(B384),VLOOKUP(B384,CRONOGRAMA!$B$15:$D$472,3, FALSE),\"\")*$J$1/100","v":{"$error":"#VALUE!"}}]
["TRABAJO 2",{"$f":"IF(ISTEXT(CRONOGRAMA!B264),CRONOGRAMA!B264,\"\")","v":"AQC004"},1,"",{"$f":"IF(ISTEXT(B385),VLOOKUP(B385,CRONOGRAMA!$B$15:$D$472,3, FALSE),\"\")*$J$1/100","v":{"$error":"#VALUE!"}}]
["TRABAJO 2",{"$f":"IF(ISTEXT(CRONOGRAMA!B265),CRONOGRAMA!B265,\"\")","v":"AQD001"},1,"",{"$f":"IF(ISTEXT(B386),VLOOKUP(B386,CRONOGRAMA!$B$15:$D$472,3, FALSE),\"\")*$J$1/100","v":{"$error":"#VALUE!"}}]
["TRABAJO 2",{"$f":"IF(ISTEXT(CRONOGRAMA!B266),CRONOGRAMA!B266,\"\")","v":"ARA001"},1,"",{"$f":"IF(ISTEXT(B387),VLOOKUP(B387,CRONOGRAMA!$B$15:$D$472,3, FALSE),\"\")*$J$1/100","v":{"$error":"#VALUE!"}}]
["TRABAJO 2",{"$f":"IF(ISTEXT(CRONOGRAMA!B267),CRONOGRAMA!B267,\"\")","v":"ARA002"},1,"",{"$f":"IF(ISTEXT(B388),VLOOKUP(B388,CRONOGRAMA!$B$15:$D$472,3, FALSE),\"\")*$J$1/100","v":{"$error":"#VALUE!"}}]
["TRABAJO 2",{"$f":"IF(ISTEXT(CRONOGRAMA!B268),CRONOGRAMA!B268,\"\")","v":"ASA001"},1,"",{"$f":"IF(ISTEXT(B389),VLOOKUP(B389,CRONOGRAMA!$B$15:$D$472,3, FALSE),\"\")*$J$1/100","v":{"$error":"#VALUE!"}}]
["TRABAJO 2",{"$f":"IF(ISTEXT(CRONOGRAMA!B269),CRONOGRAMA!B269,\"\")","v":"ASA002"},1,"",{"$f":"IF(ISTEXT(B390),VLOOKUP(B390,CRONOGRAMA!$B$15:$D$472,3, FALSE),\"\")*$J$1/100","v":{"$error":"#VALUE!"}}]
["TRABAJO 2",{"$f":"IF(ISTEXT(CRONOGRAMA!B270),CRONOGRAMA!B270,\"\")","v":"ASA003"},1,"",{"$f":"IF(ISTEXT(B391),VLOOKUP(B391,CRONOGRAMA!$B$15:$D$472,3, FALSE),\"\")*$J$1/100","v":{"$error":"#VALUE!"}}]
["TRABAJO 2",{"$f":"IF(ISTEXT(CRONOGRAMA!B271),CRONOGRAMA!B271,\"\")","v":"ASB001"},1,"",{"$f":"IF(ISTEXT(B392),VLOOKUP(B392,CRONOGRAMA!$B$15:$D$472,3, FALSE),\"\")*$J$1/100","v":{"$error":"#VALUE!"}}]
["TRABAJO 2",{"$f":"IF(ISTEXT(CRONOGRAMA!B272),CRONOGRAMA!B272,\"\")","v":"ASB002"},1,{"$f":"IF(ISNUMBER(E393), ROUND(E393,2),\"\")","v":""},{"$f":"IF(ISTEXT(B393),VLOOKUP(B393,CRONOGRAMA!$B$15:$D$472,3, FALSE),\"\")*$J$1/100","v":{"$error":"#VALUE!"}}]
["TRABAJO 2",{"$f":"IF(ISTEXT(CRONOGRAMA!B273),CRONOGRAMA!B273,\"\")","v":"ASB003"},1,"",{"$f":"IF(ISTEXT(B394),VLOOKUP(B394,CRONOGRAMA!$B$15:$D$472,3, FALSE),\"\")*$J$1/100","v":{"$error":"#VALUE!"}}]
["TRABAJO 2",{"$f":"IF(ISTEXT(CRONOGRAMA!B274),CRONOGRAMA!B274,\"\")","v":"ASB004"},1,"",{"$f":"IF(ISTEXT(B395),VLOOKUP(B395,CRONOGRAMA!$B$15:$D$472,3, FALSE),\"\")*$J$1/100","v":{"$error":"#VALUE!"}}]
["TRABAJO 2",{"$f":"IF(ISTEXT(CRONOGRAMA!B275),CRONOGRAMA!B275,\"\")","v":"ASC001"},1,"",{"$f":"IF(ISTEXT(B396),VLOOKUP(B396,CRONOGRAMA!$B$15:$D$472,3, FALSE),\"\")*$J$1/100","v":{"$error":"#VALUE!"}}]
["TRABAJO 2",{"$f":"IF(ISTEXT(CRONOGRAMA!B276),CRONOGRAMA!B276,\"\")","v":"ATA001"},1,"",{"$f":"IF(ISTEXT(B397),VLOOKUP(B397,CRONOGRAMA!$B$15:$D$472,3, FALSE),\"\")*$J$1/100","v":{"$error":"#VALUE!"}}]
["TRABAJO 2",{"$f":"IF(ISTEXT(CRONOGRAMA!B277),CRONOGRAMA!B277,\"\")","v":"ATA002"},1,"",{"$f":"IF(ISTEXT(B398),VLOOKUP(B398,CRONOGRAMA!$B$15:$D$472,3, FALSE),\"\")*$J$1/100","v":{"$error":"#VALUE!"}}]
["TRABAJO 2",{"$f":"IF(ISTEXT(CRONOGRAMA!B278),CRONOGRAMA!B278,\"\")","v":"ATB001"},1,"",{"$f":"IF(ISTEXT(B399),VLOOKUP(B399,CRONOGRAMA!$B$15:$D$472,3, FALSE),\"\")*$J$1/100","v":{"$error":"#VALUE!"}}]
["TRABAJO 2",{"$f":"IF(ISTEXT(CRONOGRAMA!B408),CRONOGRAMA!B408,\"\")","v":"BAA001"},1,"",{"$f":"IF(ISTEXT(B400),VLOOKUP(B400,CRONOGRAMA!$B$15:$D$472,3, FALSE),\"\")*$J$1/100","v":{"$error":"#VALUE!"}}]
["TRABAJO 2",{"$f":"IF(ISTEXT(CRONOGRAMA!B409),CRONOGRAMA!B409,\"\")","v":"BAA002"},1,"",{"$f":"IF(ISTEXT(B401),VLOOKUP(B401,CRONOGRAMA!$B$15:$D$472,3, FALSE),\"\")*$J$1/100","v":{"$error":"#VALUE!"}}]
["TRABAJO 2",{"$f":"IF(ISTEXT(CRONOGRAMA!B431),CRONOGRAMA!B431,\"\")","v":"BAB001"},1,"",{"$f":"IF(ISTEXT(B402),VLOOKUP(B402,CRONOGRAMA!$B$15:$D$472,3, FALSE),\"\")*$J$1/100","v":{"$error":"#VALUE!"}}]
["TRABAJO 2",{"$f":"IF(ISTEXT(CRONOGRAMA!B432),CRONOGRAMA!B432,\"\")","v":"BAB002"},1,"",{"$f":"IF(ISTEXT(B403),VLOOKUP(B403,CRONOGRAMA!$B$15:$D$472,3, FALSE),\"\")*$J$1/100","v":{"$error":"#VALUE!"}}]
["TRABAJO 2",{"$f":"IF(ISTEXT(CRONOGRAMA!B433),CRONOGRAMA!B433,\"\")","v":"BAB003"},1,"",{"$f":"IF(ISTEXT(B404),VLOOKUP(B404,CRONOGRAMA!$B$15:$D$472,3, FALSE),\"\")*$J$1/100","v":{"$error":"#VALUE!"}}]
["TRABAJO 2",{"$f":"IF(ISTEXT(CRONOGRAMA!B434),CRONOGRAMA!B434,\"\")","v":"BAB004"},1,"",{"$f":"IF(ISTEXT(B405),VLOOKUP(B405,CRONOGRAMA!$B$15:$D$472,3, FALSE),\"\")*$J$1/100","v":{"$error":"#VALUE!"}}]
["TRABAJO 2",{"$f":"IF(ISTEXT(CRONOGRAMA!B435),CRONOGRAMA!B435,\"\")","v":"BAB005"},1,"",{"$f":"IF(ISTEXT(B406),VLOOKUP(B406,CRONOGRAMA!$B$15:$D$472,3, FALSE),\"\")*$J$1/100","v":{"$error":"#VALUE!"}}]
["TRABAJO 2",{"$f":"IF(ISTEXT(CRONOGRAMA!B436),CRONOGRAMA!B436,\"\")","v":"BAB006"},1,"",{"$f":"IF(ISTEXT(B407),VLOOKUP(B407,CRONOGRAMA!$B$15:$D$472,3, FALSE),\"\")*$J$1/100","v":{"$error":"#VALUE!"}}]
["TRABAJO 2",{"$f":"IF(ISTEXT(CRONOGRAMA!B463),CRONOGRAMA!B463,\"\")","v":"BAC001"},1,"",{"$f":"IF(ISTEXT(B408),VLOOKUP(B408,CRONOGRAMA!$B$15:$D$472,3, FALSE),\"\")*$J$1/100","v":{"$error":"#VALUE!"}}]
["TRABAJO 2",{"$f":"IF(ISTEXT(CRONOGRAMA!B464),CRONOGRAMA!B464,\"\")","v":"BAC002"},1,"",{"$f":"IF(ISTEXT(B409),VLOOKUP(B409,CRONOGRAMA!$B$15:$D$472,3, FALSE),\"\")*$J$1/100","v":{"$error":"#VALUE!"}}]
["TRABAJO 2",{"$f":"IF(ISTEXT(CRONOGRAMA!B465),CRONOGRAMA!B465,\"\")","v":"BAC003"},1,"",{"$f":"IF(ISTEXT(B410),VLOOKUP(B410,CRONOGRAMA!$B$15:$D$472,3, FALSE),\"\")*$J$1/100","v":{"$error":"#VALUE!"}}]
["TRABAJO 2",{"$f":"IF(ISTEXT(CRONOGRAMA!B466),CRONOGRAMA!B466,\"\")","v":"BAC004"},1,"",{"$f":"IF(ISTEXT(B411),VLOOKUP(B411,CRONOGRAMA!$B$15:$D$472,3, FALSE),\"\")*$J$1/100","v":{"$error":"#VALUE!"}}]
["TRABAJO 2",{"$f":"IF(ISTEXT(CRONOGRAMA!B467),CRONOGRAMA!B467,\"\")","v":"BAC005"},1,"",{"$f":"IF(ISTEXT(B412),VLOOKUP(B412,CRONOGRAMA!$B$15:$D$472,3, FALSE),\"\")*$J$1/100","v":{"$error":"#VALUE!"}}]
["TRABAJO 2",{"$f":"IF(ISTEXT(CRONOGRAMA!B468),CRONOGRAMA!B468,\"\")","v":"BAC006"},1,"",{"$f":"IF(ISTEXT(B413),VLOOKUP(B413,CRONOGRAMA!$B$15:$D$472,3, FALSE),\"\")*$J$1/100","v":{"$error":"#VALUE!"}}]
["TRABAJO 2",{"$f":"IF(ISTEXT(CRONOGRAMA!B469),CRONOGRAMA!B469,\"\")","v":"BAC007"},1,"",{"$f":"IF(ISTEXT(B414),VLOOKUP(B414,CRONOGRAMA!$B$15:$D$472,3, FALSE),\"\")*$J$1/100","v":{"$error":"#VALUE!"}}]
["TRABAJO 2",{"$f":"IF(ISTEXT(CRONOGRAMA!B437),CRONOGRAMA!B437,\"\")","v":"BBA001"},1,"",{"$f":"IF(ISTEXT(B415),VLOOKUP(B415,CRONOGRAMA!$B$15:$D$472,3, FALSE),\"\")*$J$1/100","v":{"$error":"#VALUE!"}}]
["TRABAJO 2",{"$f":"IF(ISTEXT(CRONOGRAMA!B438),CRONOGRAMA!B438,\"\")","v":"BBA002"},1,"",{"$f":"IF(ISTEXT(B416),VLOOKUP(B416,CRONOGRAMA!$B$15:$D$472,3, FALSE),\"\")*$J$1/100","v":{"$error":"#VALUE!"}}]
["TRABAJO 2",{"$f":"IF(ISTEXT(CRONOGRAMA!B439),CRONOGRAMA!B439,\"\")","v":"BBA003"},1,"",{"$f":"IF(ISTEXT(B417),VLOOKUP(B417,CRONOGRAMA!$B$15:$D$472,3, FALSE),\"\")*$J$1/100","v":{"$error":"#VALUE!"}}]
["TRABAJO 2",{"$f":"IF(ISTEXT(CRONOGRAMA!B440),CRONOGRAMA!B440,\"\")","v":"BBA004"},1,"",{"$f":"IF(ISTEXT(B418),VLOOKUP(B418,CRONOGRAMA!$B$15:$D$472,3, FALSE),\"\")*$J$1/100","v":{"$error":"#VALUE!"}}]
["TRABAJO 2",{"$f":"IF(ISTEXT(CRONOGRAMA!B441),CRONOGRAMA!B441,\"\")","v":"BBA005"},1,"",{"$f":"IF(ISTEXT(B419),VLOOKUP(B419,CRONOGRAMA!$B$15:$D$472,3, FALSE),\"\")*$J$1/100","v":{"$error":"#VALUE!"}}]
["TRABAJO 2",{"$f":"IF(ISTEXT(CRONOGRAMA!B442),CRONOGRAMA!B442,\"\")","v":"BBA006"},1,"",{"$f":"IF(ISTEXT(B420),VLOOKUP(B420,CRONOGRAMA!$B$15:$D$472,3, FALSE),\"\")*$J$1/100","v":{"$error":"#VALUE!"}}]
["TRABAJO 2",{"$f":"IF(ISTEXT(CRONOGRAMA!B348),CRONOGRAMA!B348,\"\")","v":"BBA008"},1,"",{"$f":"IF(ISTEXT(B421),VLOOKUP(B421,CRONOGRAMA!$B$15:$D$472,3, FALSE),\"\")*$J$1/100","v":{"$error":"#VALUE!"}}]
["TRABAJO 2",{"$f":"IF(ISTEXT(CRONOGRAMA!B443),CRONOGRAMA!B443,\"\")","v":"BBA009"},1,"",{"$f":"IF(ISTEXT(B422),VLOOKUP(B422,CRONOGRAMA!$B$15:$D$472,3, FALSE),\"\")*$J$1/100","v":{"$error":"#VALUE!"}}]
["TRABAJO 2",{"$f":"IF(ISTEXT(CRONOGRAMA!B444),CRONOGRAMA!B444,\"\")","v":"BBA010"},1,"",{"$f":"IF(ISTEXT(B423),VLOOKUP(B423,CRONOGRAMA!$B$15:$D$472,3, FALSE),\"\")*$J$1/100","v":{"$error":"#VALUE!"}}]
["TRABAJO 2",{"$f":"IF(ISTEXT(CRONOGRAMA!B445),CRONOGRAMA!B445,\"\")","v":"BBA011"},1,"",{"$f":"IF(ISTEXT(B424),VLOOKUP(B424,CRONOGRAMA!$B$15:$D$472,3, FALSE),\"\")*$J$1/100","v":{"$error":"#VALUE!"}}]
["TRABAJO 2",{"$f":"IF(ISTEXT(CRONOGRAMA!B446),CRONOGRAMA!B446,\"\")","v":"BBA014"},1,"",{"$f":"IF(ISTEXT(B425),VLOOKUP(B425,CRONOGRAMA!$B$15:$D$472,3, FALSE),\"\")*$J$1/100","v":{"$error":"#VALUE!"}}]
["TRABAJO 2",{"$f":"IF(ISTEXT(CRONOGRAMA!B447),CRONOGRAMA!B447,\"\")","v":"BBA015"},1,"",{"$f":"IF(ISTEXT(B426),VLOOKUP(B426,CRONOGRAMA!$B$15:$D$472,3, FALSE),\"\")*$J$1/100","v":{"$error":"#VALUE!"}}]
["TRABAJO 2",{"$f":"IF(ISTEXT(CRONOGRAMA!B448),CRONOGRAMA!B448,\"\")","v":"BBA016"},1,"",{"$f":"IF(ISTEXT(B427),VLOOKUP(B427,CRONOGRAMA!$B$15:$D$472,3, FALSE),\"\")*$J$1/100","v":{"$error":"#VALUE!"}}]
["TRABAJO 2",{"$f":"IF(ISTEXT(CRONOGRAMA!B449),CRONOGRAMA!B449,\"\")","v":"BBA017"},1,"",{"$f":"IF(ISTEXT(B428),VLOOKUP(B428,CRONOGRAMA!$B$15:$D$472,3, FALSE),\"\")*$J$1/100","v":{"$error":"#VALUE!"}}]
["TRABAJO 2",{"$f":"IF(ISTEXT(CRONOGRAMA!B450),CRONOGRAMA!B450,\"\")","v":"BBA018"},1,"",{"$f":"IF(ISTEXT(B429),VLOOKUP(B429,CRONOGRAMA!$B$15:$D$472,3, FALSE),\"\")*$J$1/100","v":{"$error":"#VALUE!"}}]
["TRABAJO 2",{"$f":"IF(ISTEXT(CRONOGRAMA!B451),CRONOGRAMA!B451,\"\")","v":"BBA019"},1,"",{"$f":"IF(ISTEXT(B430),VLOOKUP(B430,CRONOGRAMA!$B$15:$D$472,3, FALSE),\"\")*$J$1/100","v":{"$error":"#VALUE!"}}]
["TRABAJO 2",{"$f":"IF(ISTEXT(CRONOGRAMA!B452),CRONOGRAMA!B452,\"\")","v":"BBB001"},1,"",{"$f":"IF(ISTEXT(B431),VLOOKUP(B431,CRONOGRAMA!$B$15:$D$472,3, FALSE),\"\")*$J$1/100","v":{"$error":"#VALUE!"}}]
["TRABAJO 2",{"$f":"IF(ISTEXT(CRONOGRAMA!B453),CRONOGRAMA!B453,\"\")","v":"BBB002"},1,"",{"$f":"IF(ISTEXT(B432),VLOOKUP(B432,CRONOGRAMA!$B$15:$D$472,3, FALSE),\"\")*$J$1/100","v":{"$error":"#VALUE!"}}]
["TRABAJO 2",{"$f":"IF(ISTEXT(CRONOGRAMA!B454),CRONOGRAMA!B454,\"\")","v":"BBB007"},1,"",{"$f":"IF(ISTEXT(B433),VLOOKUP(B433,CRONOGRAMA!$B$15:$D$472,3, FALSE),\"\")*$J$1/100","v":{"$error":"#VALUE!"}}]
["TRABAJO 2",{"$f":"IF(ISTEXT(CRONOGRAMA!B349),CRONOGRAMA!B349,\"\")","v":"BBB009"},1,"",{"$f":"IF(ISTEXT(B434),VLOOKUP(B434,CRONOGRAMA!$B$15:$D$472,3, FALSE),\"\")*$J$1/100","v":{"$error":"#VALUE!"}}]
["TRABAJO 2",{"$f":"IF(ISTEXT(CRONOGRAMA!B455),CRONOGRAMA!B455,\"\")","v":"BBB012"},1,"",{"$f":"IF(ISTEXT(B435),VLOOKUP(B435,CRONOGRAMA!$B$15:$D$472,3, FALSE),\"\")*$J$1/100","v":{"$error":"#VALUE!"}}]
["TRABAJO 2",{"$f":"IF(ISTEXT(CRONOGRAMA!B456),CRONOGRAMA!B456,\"\")","v":"BBC001"},1,"",{"$f":"IF(ISTEXT(B436),VLOOKUP(B436,CRONOGRAMA!$B$15:$D$472,3, FALSE),\"\")*$J$1/100","v":{"$error":"#VALUE!"}}]
["TRABAJO 2",{"$f":"IF(ISTEXT(CRONOGRAMA!B457),CRONOGRAMA!B457,\"\")","v":"BBC002"},1,"",{"$f":"IF(ISTEXT(B437),VLOOKUP(B437,CRONOGRAMA!$B$15:$D$472,3, FALSE),\"\")*$J$1/100","v":{"$error":"#VALUE!"}}]
["TRABAJO 2",{"$f":"IF(ISTEXT(CRONOGRAMA!B458),CRONOGRAMA!B458,\"\")","v":"BBC003"},1,"",{"$f":"IF(ISTEXT(B438),VLOOKUP(B438,CRONOGRAMA!$B$15:$D$472,3, FALSE),\"\")*$J$1/100","v":{"$error":"#VALUE!"}}]
["TRABAJO 2",{"$f":"IF(ISTEXT(CRONOGRAMA!B459),CRONOGRAMA!B459,\"\")","v":"BBC004"},1,"",{"$f":"IF(ISTEXT(B439),VLOOKUP(B439,CRONOGRAMA!$B$15:$D$472,3, FALSE),\"\")*$J$1/100","v":{"$error":"#VALUE!"}}]
["TRABAJO 2",{"$f":"IF(ISTEXT(CRONOGRAMA!B460),CRONOGRAMA!B460,\"\")","v":"BBC005"},1,"",{"$f":"IF(ISTEXT(B440),VLOOKUP(B440,CRONOGRAMA!$B$15:$D$472,3, FALSE),\"\")*$J$1/100","v":{"$error":"#VALUE!"}}]
["TRABAJO 2",{"$f":"IF(ISTEXT(CRONOGRAMA!B415),CRONOGRAMA!B415,\"\")","v":"BCA003"},1,"",{"$f":"IF(ISTEXT(B441),VLOOKUP(B441,CRONOGRAMA!$B$15:$D$472,3, FALSE),\"\")*$J$1/100","v":{"$error":"#VALUE!"}}]
["TRABAJO 2",{"$f":"IF(ISTEXT(CRONOGRAMA!B416),CRONOGRAMA!B416,\"\")","v":"BCA005"},1,"",{"$f":"IF(ISTEXT(B442),VLOOKUP(B442,CRONOGRAMA!$B$15:$D$472,3, FALSE),\"\")*$J$1/100","v":{"$error":"#VALUE!"}}]
["TRABAJO 2",{"$f":"IF(ISTEXT(CRONOGRAMA!B417),CRONOGRAMA!B417,\"\")","v":"BCA006"},1,"",{"$f":"IF(ISTEXT(B443),VLOOKUP(B443,CRONOGRAMA!$B$15:$D$472,3, FALSE),\"\")*$J$1/100","v":{"$error":"#VALUE!"}}]
["TRABAJO 2",{"$f":"IF(ISTEXT(CRONOGRAMA!B418),CRONOGRAMA!B418,\"\")","v":"BCA007"},1,"",{"$f":"IF(ISTEXT(B444),VLOOKUP(B444,CRONOGRAMA!$B$15:$D$472,3, FALSE),\"\")*$J$1/100","v":{"$error":"#VALUE!"}}]
["TRABAJO 2",{"$f":"IF(ISTEXT(CRONOGRAMA!B419),CRONOGRAMA!B419,\"\")","v":"BCB001"},1,"",{"$f":"IF(ISTEXT(B445),VLOOKUP(B445,CRONOGRAMA!$B$15:$D$472,3, FALSE),\"\")*$J$1/100","v":{"$error":"#VALUE!"}}]
["TRABAJO 2",{"$f":"IF(ISTEXT(CRONOGRAMA!B420),CRONOGRAMA!B420,\"\")","v":"BCB003"},1,"",{"$f":"IF(ISTEXT(B446),VLOOKUP(B446,CRONOGRAMA!$B$15:$D$472,3, FALSE),\"\")*$J$1/100","v":{"$error":"#VALUE!"}}]
["TRABAJO 2",{"$f":"IF(ISTEXT(CRONOGRAMA!B472),CRONOGRAMA!B472,\"\")","v":"BCB005"},1,"",{"$f":"IF(ISTEXT(B447),VLOOKUP(B447,CRONOGRAMA!$B$15:$D$472,3, FALSE),\"\")*$J$1/100","v":{"$error":"#VALUE!"}}]
["TRABAJO 2",{"$f":"IF(ISTEXT(CRONOGRAMA!B382),CRONOGRAMA!B382,\"\")","v":"BCB006"},1,"",{"$f":"IF(ISTEXT(B448),VLOOKUP(B448,CRONOGRAMA!$B$15:$D$472,3, FALSE),\"\")*$J$1/100","v":{"$error":"#VALUE!"}}]
["TRABAJO 2",{"$f":"IF(ISTEXT(CRONOGRAMA!B421),CRONOGRAMA!B421,\"\")","v":"BCC002"},1,"",{"$f":"IF(ISTEXT(B449),VLOOKUP(B449,CRONOGRAMA!$B$15:$D$472,3, FALSE),\"\")*$J$1/100","v":{"$error":"#VALUE!"}}]
["TRABAJO 2",{"$f":"IF(ISTEXT(CRONOGRAMA!B422),CRONOGRAMA!B422,\"\")","v":"BCC004"},1,"",{"$f":"IF(ISTEXT(B450),VLOOKUP(B450,CRONOGRAMA!$B$15:$D$472,3, FALSE),\"\")*$J$1/100","v":{"$error":"#VALUE!"}}]
["TRABAJO 2",{"$f":"IF(ISTEXT(CRONOGRAMA!B423),CRONOGRAMA!B423,\"\")","v":"BCC005"},1,"",{"$f":"IF(ISTEXT(B451),VLOOKUP(B451,CRONOGRAMA!$B$15:$D$472,3, FALSE),\"\")*$J$1/100","v":{"$error":"#VALUE!"}}]
["TRABAJO 2",{"$f":"IF(ISTEXT(CRONOGRAMA!B424),CRONOGRAMA!B424,\"\")","v":"BCC006"},1,"",{"$f":"IF(ISTEXT(B452),VLOOKUP(B452,CRONOGRAMA!$B$15:$D$472,3, FALSE),\"\")*$J$1/100","v":{"$error":"#VALUE!"}}]
["TRABAJO 2",{"$f":"IF(ISTEXT(CRONOGRAMA!B425),CRONOGRAMA!B425,\"\")","v":"BCC007"},1,"",{"$f":"IF(ISTEXT(B453),VLOOKUP(B453,CRONOGRAMA!$B$15:$D$472,3, FALSE),\"\")*$J$1/100","v":{"$error":"#VALUE!"}}]
["TRABAJO 2",{"$f":"IF(ISTEXT(CRONOGRAMA!B426),CRONOGRAMA!B426,\"\")","v":"BCC008"},1,"",{"$f":"IF(ISTEXT(B454),VLOOKUP(B454,CRONOGRAMA!$B$15:$D$472,3, FALSE),\"\")*$J$1/100","v":{"$error":"#VALUE!"}}]
["TRABAJO 2",{"$f":"IF(ISTEXT(CRONOGRAMA!B427),CRONOGRAMA!B427,\"\")","v":"BDA002"},1,"",{"$f":"IF(ISTEXT(B455),VLOOKUP(B455,CRONOGRAMA!$B$15:$D$472,3, FALSE),\"\")*$J$1/100","v":{"$error":"#VALUE!"}}]
["TRABAJO 2",{"$f":"IF(ISTEXT(CRONOGRAMA!B428),CRONOGRAMA!B428,\"\")","v":"BDA003"},1,"",{"$f":"IF(ISTEXT(B456),VLOOKUP(B456,CRONOGRAMA!$B$15:$D$472,3, FALSE),\"\")*$J$1/100","v":{"$error":"#VALUE!"}}]
["TRABAJO 2",{"$f":"IF(ISTEXT(CRONOGRAMA!B429),CRONOGRAMA!B429,\"\")","v":"BDA004"},1,{"$f":"IF(ISNUMBER(E457), ROUND(E457,2),\"\")","v":""},{"$f":"IF(ISTEXT(B457),VLOOKUP(B457,CRONOGRAMA!$B$15:$D$472,3, FALSE),\"\")*$J$1/100","v":{"$error":"#VALUE!"}}]
["TRABAJO 2",{"$f":"IF(ISTEXT(CRONOGRAMA!B430),CRONOGRAMA!B430,\"\")","v":"BDA005"},1,"",{"$f":"IF(ISTEXT(B458),VLOOKUP(B458,CRONOGRAMA!$B$15:$D$472,3, FALSE),\"\")*$J$1/100","v":{"$error":"#VALUE!"}}]
["TRABAJO 2",{"$f":"IF(ISTEXT(CRONOGRAMA!B15),CRONOGRAMA!B15,\"\")","v":"CAA002"},1,"",{"$f":"IF(ISTEXT(B459),VLOOKUP(B459,CRONOGRAMA!$B$15:$D$472,3, FALSE),\"\")*$J$1/100","v":{"$error":"#VALUE!"}}]
["TRABAJO 2",{"$f":"IF(ISTEXT(CRONOGRAMA!B16),CRONOGRAMA!B16,\"\")","v":"ZZX241"},1,"",{"$f":"IF(ISTEXT(B460),VLOOKUP(B460,CRONOGRAMA!$B$15:$D$472,3, FALSE),\"\")*$J$1/100","v":{"$error":"#VALUE!"}}]
["TRABAJO 2",{"$f":"IF(ISTEXT(CRONOGRAMA!B470),CRONOGRAMA!B470,\"\")","v":"ZZX246"},1,"",{"$f":"IF(ISTEXT(B461),VLOOKUP(B461,CRONOGRAMA!$B$15:$D$472,3, FALSE),\"\")*$J$1/100","v":{"$error":"#VALUE!"}}]
["TRABAJO 2",{"$f":"IF(ISTEXT(CRONOGRAMA!B471),CRONOGRAMA!B471,\"\")","v":"ZZX247"},1,"",{"$f":"IF(ISTEXT(B462),VLOOKUP(B462,CRONOGRAMA!$B$15:$D$472,3, FALSE),\"\")*$J$1/100","v":{"$error":"#VALUE!"}}]
["TRABAJO 2",{"$f":"IF(ISTEXT(CRONOGRAMA!B20),CRONOGRAMA!B20,\"\")","v":"ZZX249"},1,"",{"$f":"IF(ISTEXT(B463),VLOOKUP(B463,CRONOGRAMA!$B$15:$D$472,3, FALSE),\"\")*$J$1/100","v":{"$error":"#VALUE!"}}]

{"sheet":"PGO ESCRITURA CRONO","index":8,"n_rows":39,"n_cols":3,"rows_kept":39,"cut":false,"hidden":false,"merged":[]}
[]
[]
[null,"Periodo","% de Defasaje"]
[null,1,{"$f":"CRONOGRAMA!E474","v":""}]
[null,2,{"$f":"CRONOGRAMA!G474","v":""}]
[null,3,{"$f":"CRONOGRAMA!I474","v":""}]
[null,4,{"$f":"CRONOGRAMA!K474","v":""}]
[null,5,{"$f":"CRONOGRAMA!M474","v":""}]
[null,6,{"$f":"CRONOGRAMA!O474","v":""}]
[null,7,{"$f":"CRONOGRAMA!Q474","v":""}]
[null,8,{"$f":"CRONOGRAMA!S474","v":""}]
[null,9,{"$f":"CRONOGRAMA!U474","v":""}]
[null,10,{"$f":"CRONOGRAMA!W474","v":""}]
[null,11,{"$f":"CRONOGRAMA!Y474","v":""}]
[null,12,{"$f":"CRONOGRAMA!AA474","v":""}]
[null,13,{"$f":"CRONOGRAMA!AC474","v":""}]
[null,14,{"$f":"CRONOGRAMA!AE474","v":""}]
[null,15,{"$f":"CRONOGRAMA!AG474","v":""}]
[null,16,{"$f":"CRONOGRAMA!AI474","v":""}]
[null,17,{"$f":"CRONOGRAMA!AK474","v":""}]
[null,18,{"$f":"CRONOGRAMA!AM474","v":""}]
[null,19,{"$f":"CRONOGRAMA!AO474","v":""}]
[null,20,{"$f":"CRONOGRAMA!AQ474","v":""}]
[null,21,{"$f":"CRONOGRAMA!AS474","v":""}]
[null,22,{"$f":"CRONOGRAMA!AU474","v":""}]
[null,23,{"$f":"CRONOGRAMA!AW474","v":""}]
[null,24,{"$f":"CRONOGRAMA!AY474","v":""}]
[null,25,{"$f":"CRONOGRAMA!BA474","v":""}]
[null,26,{"$f":"CRONOGRAMA!BC474","v":""}]
[null,27,{"$f":"CRONOGRAMA!BE474","v":""}]
[null,28,{"$f":"CRONOGRAMA!BG474","v":""}]
[null,29,{"$f":"CRONOGRAMA!BI474","v":""}]
[null,30,{"$f":"CRONOGRAMA!BK474","v":""}]
[null,31,{"$f":"CRONOGRAMA!BM474","v":""}]
[null,32,{"$f":"CRONOGRAMA!BO474","v":""}]
[null,33,{"$f":"CRONOGRAMA!BQ474","v":""}]
[null,34,{"$f":"CRONOGRAMA!BS474","v":""}]
[null,35,{"$f":"CRONOGRAMA!BU474","v":""}]
[null,36,{"$f":"CRONOGRAMA!BW474","v":""}]